{"text_format":"1","workbook":"xlsx","n_sheets":3,"sheets":["男子申込書","女子申込書","記録処理氏名データ"],"not_rendered":{"charts":0,"images":0,"macros":0,"external_links":0,"defined_names":2,"comments":0,"pivot_tables":0},"unopened":[],"bounds":{"document_bytes":16777216,"sheet_cells":100000,"rows_first":2000,"rows_last":500,"rows_between":2000,"halvings":0,"cell_chars":16384,"cell_head_chars":4096},"cells_cut":0,"cells_raw":0,"read":"whole","date_system":"1900"}

{"sheet":"男子申込書","index":0,"n_rows":80,"n_cols":25,"rows_kept":80,"cut":false,"hidden":false,"merged":[[2,4,2,8],[29,4,29,8],[56,4,56,8],[1,13,1,14],[4,13,4,14],[30,7,30,9],[57,7,57,9],[73,7,73,10],[77,1,77,10],[67,1,67,2],[67,3,67,8],[67,9,67,10],[68,1,68,2],[68,3,68,8],[68,9,68,10],[65,1,65,2],[65,3,65,8],[65,9,65,10],[66,1,66,2],[66,3,66,8],[66,9,66,10],[63,1,63,2],[63,3,63,8],[63,9,63,10],[79,7,79,9],[75,1,75,10],[79,1,79,5],[69,1,69,2],[69,3,69,8],[69,9,69,10],[70,1,70,2],[70,3,70,8],[70,9,70,10],[64,1,64,2],[64,3,64,8],[64,9,64,10],[59,1,59,2],[59,3,59,10],[61,1,61,2],[61,3,61,8],[61,9,61,10],[62,1,62,2],[62,3,62,8],[62,9,62,10],[46,7,46,10],[50,1,50,10],[52,7,52,9],[54,0,54,11],[56,2,56,3],[48,1,48,10],[52,1,52,5],[42,1,42,2],[42,3,42,8],[42,9,42,10],[43,1,43,2],[43,3,43,8],[43,9,43,10],[40,1,40,2],[40,3,40,8],[40,9,40,10],[41,1,41,2],[41,3,41,8],[41,9,41,10],[38,1,38,2],[38,3,38,8],[38,9,38,10],[39,1,39,2],[39,3,39,8],[39,9,39,10],[36,1,36,2],[36,3,36,8],[36,9,36,10],[37,1,37,2],[37,3,37,8],[37,9,37,10],[32,1,32,2],[32,3,32,10],[34,1,34,2],[34,3,34,8],[34,9,34,10],[35,1,35,2],[35,3,35,8],[35,9,35,10],[5,1,5,2],[25,1,25,5],[27,0,27,11],[29,2,29,3],[12,1,12,2],[11,1,11,2],[10,1,10,2],[9,1,9,2],[8,1,8,2],[7,1,7,2],[8,9,8,10],[9,9,9,10],[7,3,7,8],[8,3,8,8],[9,3,9,8],[10,3,10,8],[11,3,11,8],[2,2,2,3],[21,1,21,10],[0,0,0,11],[23,1,23,10],[25,7,25,9],[16,9,16,10],[15,9,15,10],[19,7,19,10],[10,9,10,10],[11,9,11,10],[12,9,12,10],[13,9,13,10],[16,1,16,2],[15,1,15,2],[14,1,14,2],[13,1,13,2],[12,3,12,8],[13,3,13,8],[14,3,14,8],[15,3,15,8],[16,3,16,8],[5,3,5,10],[14,9,14,10],[7,9,7,10]]}
[{"$f":"\"第\"&Q3&\"回 秋田市中学校秋季駅伝競走大会 参加申込書\"","v":"第22回 秋田市中学校秋季駅伝競走大会 参加申込書"},null,null,null,null,null,null,null,null,null,null,null,null,"学校名略称（リストから選んでください）",null,null,{"$f":"TODAY()","v":"2024-09-05"}]
[null,null,null,null,null,null,null,null,null,null,null,null,null,null,null,null,{"$f":"YEAR(Q1)","v":2024},null,null,null,null,null,"秋大附属",701,"秋田大学教育文化学部附属中学校"]
[null,null,"学校名",null,{"$f":"IF(N2=\"\",\"\",VLOOKUP(N2,W2:Y28,3,FALSE))","v":""},null,null,null,null,null,null,null,null,null,null,null,{"$f":"Q2-2002","v":22},null,null,null,null,null,"秋田東",739,"秋田市立秋田東中学校"]
[null,null,null,null,null,null,null,null,null,null,null,null,null,"男子参加チーム数（正式）",null,null,null,null,null,null,null,null,"秋田南",740,"秋田市立秋田南中学校"]
[null,"【男子】",null,null,null,null,null,null,null,null,null,null,null,null,null,"チーム",null,null,null,null,null,null,"山王",741,"秋田市立山王中学校"]
[null,"監督氏名",null,null,null,null,null,null,null,null,null,null,null,null,null,null,null,null,null,null,null,null,"土崎",742,"秋田市立土崎中学校"]
[null,null,null,null,null,null,null,null,null,null,null,null,null,null,null,null,null,null,null,null,null,null,"将軍野",743,"秋田市立将軍野中学校"]
[null,null,null,"選　　手　　氏　　名",null,null,null,null,null,"学年",null,null,null,null,null,null,null,null,null,null,null,null,"秋田西",744,"秋田市立秋田西中学校"]
[null,1,null,null,null,null,null,null,null,null,null,null,null,null,null,null,{"$f":"IF(J9=\"\",\"\",IF(J9=1,\"①\",IF(J9=2,\"②\",IF(J9=3,\"③\"))))","v":""},null,null,null,null,null,"太平",745,"秋田市立太平中学校"]
[null,2,null,null,null,null,null,null,null,null,null,null,null,null,null,null,{"$f":"IF(J10=\"\",\"\",IF(J10=1,\"①\",IF(J10=2,\"②\",IF(J10=3,\"③\"))))","v":""},null,null,null,null,null,"外旭川",746,"秋田市立外旭川中学校"]
[null,3,null,null,null,null,null,null,null,null,null,null,null,null,null,null,"",null,null,null,null,null,"秋田北",747,"秋田市立秋田北中学校"]
[null,4,null,null,null,null,null,null,null,null,null,null,null,null,null,null,"",null,null,null,null,null,"豊岩",748,"秋田市立豊岩中学校"]
[null,5,null,null,null,null,null,null,null,null,null,null,null,null,null,null,"",null,null,null,null,null,"城南",749,"秋田市立城南中学校"]
[null,6,null,null,null,null,null,null,null,null,null,null,null,null,null,null,"",null,null,null,null,null,"下北手",750,"秋田市立下北手中学校"]
[null,7,null,null,null,null,null,null,null,null,null,null,null,null,null,null,"",null,null,null,null,null,"下浜",751,"秋田市立下浜中学校"]
[null,8,null,null,null,null,null,null,null,null,null,null,null,null,null,null,"",null,null,null,null,null,"城東",752,"秋田市立城東中学校"]
[null,9,null,null,null,null,null,null,null,null,null,null,null,null,null,null,"",null,null,null,null,null,"泉",753,"秋田市立泉中学校"]
[null,null,null,null,null,null,null,null,null,null,null,null,null,null,null,null,null,null,null,null,null,null,"御野場",754,"秋田市立御野場中学校"]
[null,null,null,null,null,null,null,null,null,null,null,null,null,null,null,null,null,null,null,null,null,null,"勝平",755,"秋田市立勝平中学校"]
[null,null,null,null,null,null,null,{"$f":"IF(N2=\"\",\"令和　　年　　月　　日\",TODAY())","v":"令和　　年　　月　　日"},null,null,null,null,null,null,null,null,null,null,null,null,null,null,"勝平千秋",756,"秋田市立勝平千秋分校"]
[null,null,null,null,null,null,null,null,null,null,null,null,null,null,null,null,null,null,null,null,null,null,"飯島",757,"秋田市立飯島中学校"]
[null,"秋田市中学校体育連盟　会　長　　三浦　純也　様",null,null,null,null,null,null,null,null,null,null,null,null,null,null,null,null,null,null,null,null,"桜",758,"秋田市立桜中学校"]
[null,null,null,null,null,null,null,null,null,null,null,null,null,null,null,null,null,null,null,null,null,null,"御所野学院",759,"秋田市立御所野学院中学校"]
[null,"　上記の生徒は要項に照らし適格者であり，学校代表としてもふさわしく，また，保護者の同意を得ておりますので，大会への参加を申し込みいたします。",null,null,null,null,null,null,null,null,null,null,null,null,null,null,null,null,null,null,null,null,"岩見三内",760,"秋田市立岩見三内中学校"]
[null,null,null,null,null,null,null,null,null,null,null,null,null,null,null,null,null,null,null,null,null,null,"河辺",761,"秋田市立河辺中学校"]
[null,{"$f":"$E$3","v":""},null,null,null,null,"校長",null,null,null,null,null,null,null,null,null,null,null,null,null,null,null,"雄和",762,"秋田市立雄和中学校"]
[null,null,null,null,null,null,null,null,null,null,null,null,null,null,null,null,null,null,null,null,null,null,"南高中等部",null,"秋田県立秋田南高等学校中等部"]
[{"$f":"$A$1","v":"第22回 秋田市中学校秋季駅伝競走大会 参加申込書"},null,null,null,null,null,null,null,null,null,null,null,null,null,null,null,null,null,null,null,null,null,"聴覚支援",null,"秋田県立聴覚支援学校"]
[]
[null,null,"学校名",null,{"$f":"$E$3","v":""},null,null,null,null,null,"Ｂ"]
[]
[null,"【男子】"]
[null,"監督氏名",null,{"$f":"IF($D$6=\"\",\"\",$D$6)","v":""}]
[]
[null,"区　間",null,"選　　手　　氏　　名",null,null,null,null,null,"学年"]
[null,1,null,null,null,null,null,null,null,null,null,null,null,null,null,null,{"$f":"IF(J36=\"\",\"\",IF(J36=1,\"①\",IF(J36=2,\"②\",IF(J36=3,\"③\"))))","v":""}]
[null,2,null,null,null,null,null,null,null,null,null,null,null,null,null,null,{"$f":"IF(J37=\"\",\"\",IF(J37=1,\"①\",IF(J37=2,\"②\",IF(J37=3,\"③\"))))","v":""}]
[null,3,null,null,null,null,null,null,null,null,null,null,null,null,null,null,""]
[null,4,null,null,null,null,null,null,null,null,null,null,null,null,null,null,""]
[null,5,null,null,null,null,null,null,null,null,null,null,null,null,null,null,""]
[null,6,null,null,null,null,null,null,null,null,null,null,null,null,null,null,""]
[null,7,null,null,null,null,null,null,null,null,null,null,null,null,null,null,""]
[null,8,null,null,null,null,null,null,null,null,null,null,null,null,null,null,""]
[null,9,null,null,null,null,null,null,null,null,null,null,null,null,null,null,""]
[]
[]
[null,null,null,null,null,null,null,{"$f":"$H$20","v":"令和　　年　　月　　日"}]
[]
[null,{"$f":"$B$22","v":"秋田市中学校体育連盟　会　長　　三浦　純也　様"}]
[]
[null,"　上記の生徒は要項に照らし適格者であり，学校代表としてもふさわしく，また，保護者の同意を得ておりますので，大会への参加を申し込みいたします。"]
[]
[null,{"$f":"$E$3","v":""},null,null,null,null,"校長",{"$f":"IF($H$26=\"\",\"\",$H$26)","v":""}]
[]
[{"$f":"$A$1","v":"第22回 秋田市中学校秋季駅伝競走大会 参加申込書"}]
[]
[null,null,"学校名",null,{"$f":"$E$3","v":""},null,null,null,null,null,"Ｃ"]
[]
[null,"【男子】"]
[null,"監督氏名",null,{"$f":"IF($D$6=\"\",\"\",$D$6)","v":""}]
[]
[null,null,null,"選　　手　　氏　　名",null,null,null,null,null,"学年"]
[null,1,null,null,null,null,null,null,null,null,null,null,null,null,null,null,{"$f":"IF(J63=\"\",\"\",IF(J63=1,\"①\",IF(J63=2,\"②\",IF(J63=3,\"③\"))))","v":""}]
[null,2,null,null,null,null,null,null,null,null,null,null,null,null,null,null,{"$f":"IF(J64=\"\",\"\",IF(J64=1,\"①\",IF(J64=2,\"②\",IF(J64=3,\"③\"))))","v":""}]
[null,3,null,null,null,null,null,null,null,null,null,null,null,null,null,null,""]
[null,4,null,null,null,null,null,null,null,null,null,null,null,null,null,null,""]
[null,5,null,null,null,null,null,null,null,null,null,null,null,null,null,null,""]
[null,6,null,null,null,null,null,null,null,null,null,null,null,null,null,null,""]
[null,7,null,null,null,null,null,null,null,null,null,null,null,null,null,null,""]
[null,8,null,null,null,null,null,null,null,null,null,null,null,null,null,null,""]
[null,9,null,null,null,null,null,null,null,null,null,null,null,null,null,null,""]
[]
[]
[null,null,null,null,null,null,null,{"$f":"$H$20","v":"令和　　年　　月　　日"}]
[]
[null,{"$f":"$B$22","v":"秋田市中学校体育連盟　会　長　　三浦　純也　様"}]
[]
[null,"　上記の生徒は要項に照らし適格者であり，学校代表としてもふさわしく，また，保護者の同意を得ておりますので，大会への参加を申し込みいたします。"]
[]
[null,{"$f":"$E$3","v":""},null,null,null,null,"校長",{"$f":"IF($H$26=\"\",\"\",$H$26)","v":""}]

{"sheet":"女子申込書","index":1,"n_rows":80,"n_cols":25,"rows_kept":80,"cut":false,"hidden":false,"merged":[[2,4,2,8],[29,4,29,8],[56,4,56,8],[25,1,25,5],[52,1,52,5],[79,1,79,5],[73,7,73,10],[77,1,77,10],[79,7,79,9],[69,1,69,2],[69,3,69,8],[69,9,69,10],[70,1,70,2],[70,3,70,8],[70,9,70,10],[67,1,67,2],[67,3,67,8],[67,9,67,10],[68,1,68,2],[68,3,68,8],[68,9,68,10],[65,1,65,2],[65,3,65,8],[65,9,65,10],[66,1,66,2],[66,3,66,8],[66,9,66,10],[63,1,63,2],[63,3,63,8],[63,9,63,10],[64,1,64,2],[64,3,64,8],[64,9,64,10],[61,1,61,2],[61,3,61,8],[61,9,61,10],[62,1,62,2],[62,3,62,8],[62,9,62,10],[54,0,54,11],[56,2,56,3],[57,7,57,9],[59,1,59,2],[59,3,59,10],[43,1,43,2],[43,3,43,8],[43,9,43,10],[46,7,46,10],[50,1,50,10],[52,7,52,9],[41,1,41,2],[41,3,41,8],[41,9,41,10],[42,1,42,2],[42,3,42,8],[42,9,42,10],[39,1,39,2],[39,3,39,8],[39,9,39,10],[40,1,40,2],[40,3,40,8],[40,9,40,10],[37,1,37,2],[37,3,37,8],[37,9,37,10],[38,1,38,2],[38,3,38,8],[38,9,38,10],[35,1,35,2],[35,3,35,8],[35,9,35,10],[36,1,36,2],[36,3,36,8],[36,9,36,10],[30,7,30,9],[32,1,32,2],[32,3,32,10],[34,1,34,2],[34,3,34,8],[34,9,34,10],[19,7,19,10],[23,1,23,10],[25,7,25,9],[27,0,27,11],[29,2,29,3],[15,1,15,2],[15,3,15,8],[15,9,15,10],[16,1,16,2],[16,3,16,8],[16,9,16,10],[14,1,14,2],[14,3,14,8],[14,9,14,10],[11,1,11,2],[11,3,11,8],[11,9,11,10],[12,1,12,2],[12,3,12,8],[12,9,12,10],[0,0,0,11],[1,13,1,14],[2,2,2,3],[4,13,4,14],[21,1,21,10],[48,1,48,10],[75,1,75,10],[9,1,9,2],[9,3,9,8],[9,9,9,10],[10,1,10,2],[10,3,10,8],[10,9,10,10],[5,1,5,2],[5,3,5,10],[7,1,7,2],[7,3,7,8],[7,9,7,10],[8,1,8,2],[8,3,8,8],[8,9,8,10],[13,1,13,2],[13,3,13,8],[13,9,13,10]]}
[{"$f":"\"第\"&Q3&\"回 秋田市中学校総合体育大会駅伝競走大会 参加申込書\"","v":"第73回 秋田市中学校総合体育大会駅伝競走大会 参加申込書"},null,null,null,null,null,null,null,null,null,null,null,null,"学校名略称（リストから選んでください）",null,null,{"$f":"TODAY()","v":"2024-09-05"}]
[null,null,null,null,null,null,null,null,null,null,null,null,null,null,null,null,{"$f":"YEAR(Q1)","v":2024},null,null,null,null,null,"秋大附属",701,"秋田大学教育文化学部附属中学校"]
[null,null,"学校名",null,{"$f":"IF(N2=\"\",\"\",VLOOKUP(N2,W2:Y28,3,FALSE))","v":""},null,null,null,null,null,null,null,null,null,null,null,{"$f":"Q2-1951","v":73},null,null,null,null,null,"秋田東",739,"秋田市立秋田東中学校"]
[null,null,null,null,null,null,null,null,null,null,null,null,null,"女子参加チーム数（正式）",null,null,null,null,null,null,null,null,"秋田南",740,"秋田市立秋田南中学校"]
[null,"【女子】",null,null,null,null,null,null,null,null,null,null,null,null,null,"チーム",null,null,null,null,null,null,"山王",741,"秋田市立山王中学校"]
[null,"監督氏名",null,null,null,null,null,null,null,null,null,null,null,null,null,null,null,null,null,null,null,null,"土崎",742,"秋田市立土崎中学校"]
[null,null,null,null,null,null,null,null,null,null,null,null,null,null,null,null,null,null,null,null,null,null,"将軍野",743,"秋田市立将軍野中学校"]
[null,null,null,"選　　手　　氏　　名",null,null,null,null,null,"学年",null,null,null,null,null,null,null,null,null,null,null,null,"秋田西",744,"秋田市立秋田西中学校"]
[null,1,null,null,null,null,null,null,null,null,null,null,null,null,null,null,{"$f":"IF(J9=\"\",\"\",IF(J9=1,\"①\",IF(J9=2,\"②\",IF(J9=3,\"③\"))))","v":""},null,null,null,null,null,"太平",745,"秋田市立太平中学校"]
[null,2,null,null,null,null,null,null,null,null,null,null,null,null,null,null,{"$f":"IF(J10=\"\",\"\",IF(J10=1,\"①\",IF(J10=2,\"②\",IF(J10=3,\"③\"))))","v":""},null,null,null,null,null,"外旭川",746,"秋田市立外旭川中学校"]
[null,3,null,null,null,null,null,null,null,null,null,null,null,null,null,null,"",null,null,null,null,null,"秋田北",747,"秋田市立秋田北中学校"]
[null,4,null,null,null,null,null,null,null,null,null,null,null,null,null,null,"",null,null,null,null,null,"豊岩",748,"秋田市立豊岩中学校"]
[null,5,null,null,null,null,null,null,null,null,null,null,null,null,null,null,"",null,null,null,null,null,"城南",749,"秋田市立城南中学校"]
[null,6,null,null,null,null,null,null,null,null,null,null,null,null,null,null,"",null,null,null,null,null,"下北手",750,"秋田市立下北手中学校"]
[null,7,null,null,null,null,null,null,null,null,null,null,null,null,null,null,"",null,null,null,null,null,"下浜",751,"秋田市立下浜中学校"]
[null,8,null,null,null,null,null,null,null,null,null,null,null,null,null,null,"",null,null,null,null,null,"城東",752,"秋田市立城東中学校"]
[null,null,null,null,null,null,null,null,null,null,null,null,null,null,null,null,"",null,null,null,null,null,"泉",753,"秋田市立泉中学校"]
[null,null,null,null,null,null,null,null,null,null,null,null,null,null,null,null,null,null,null,null,null,null,"御野場",754,"秋田市立御野場中学校"]
[null,null,null,null,null,null,null,null,null,null,null,null,null,null,null,null,null,null,null,null,null,null,"勝平",755,"秋田市立勝平中学校"]
[null,null,null,null,null,null,null,{"$f":"IF(N2=\"\",\"令和　　年　　月　　日\",TODAY())","v":"令和　　年　　月　　日"},null,null,null,null,null,null,null,null,null,null,null,null,null,null,"勝平千秋",756,"秋田市立勝平千秋分校"]
[null,null,null,null,null,null,null,null,null,null,null,null,null,null,null,null,null,null,null,null,null,null,"飯島",757,"秋田市立飯島中学校"]
[null,{"$f":"男子申込書!$B$22","v":"秋田市中学校体育連盟　会　長　　三浦　純也　様"},null,null,null,null,null,null,null,null,null,null,null,null,null,null,null,null,null,null,null,null,"桜",758,"秋田市立桜中学校"]
[null,null,null,null,null,null,null,null,null,null,null,null,null,null,null,null,null,null,null,null,null,null,"御所野学院",759,"秋田市立御所野学院中学校"]
[null,"　上記の生徒は要項に照らし適格者であり，学校代表としてもふさわしく，また，保護者の同意を得ておりますので，大会への参加を申し込みいたします。",null,null,null,null,null,null,null,null,null,null,null,null,null,null,null,null,null,null,null,null,"岩見三内",760,"秋田市立岩見三内中学校"]
[null,null,null,null,null,null,null,null,null,null,null,null,null,null,null,null,null,null,null,null,null,null,"河辺",761,"秋田市立河辺中学校"]
[null,{"$f":"$E$3","v":""},null,null,null,null,"校長",null,null,null,null,null,null,null,null,null,null,null,null,null,null,null,"雄和",762,"秋田市立雄和中学校"]
[null,null,null,null,null,null,null,null,null,null,null,null,null,null,null,null,null,null,null,null,null,null,"南高中等部",null,"秋田県立秋田南高等学校中等部"]
[{"$f":"$A$1","v":"第73回 秋田市中学校総合体育大会駅伝競走大会 参加申込書"},null,null,null,null,null,null,null,null,null,null,null,null,null,null,null,null,null,null,null,null,null,"聴覚支援",null,"秋田県立聴覚支援学校"]
[]
[null,null,"学校名",null,{"$f":"$E$3","v":""},null,null,null,null,null,"Ｂ"]
[]
[null,"【女子】"]
[null,"監督氏名",null,{"$f":"IF($D$6=\"\",\"\",$D$6)","v":""}]
[]
[null,null,null,"選　　手　　氏　　名",null,null,null,null,null,"学年"]
[null,1,null,null,null,null,null,null,null,null,null,null,null,null,null,null,{"$f":"IF(J36=\"\",\"\",IF(J36=1,\"①\",IF(J36=2,\"②\",IF(J36=3,\"③\"))))","v":""}]
[null,2,null,null,null,null,null,null,null,null,null,null,null,null,null,null,{"$f":"IF(J37=\"\",\"\",IF(J37=1,\"①\",IF(J37=2,\"②\",IF(J37=3,\"③\"))))","v":""}]
[null,3,null,null,null,null,null,null,null,null,null,null,null,null,null,null,""]
[null,4,null,null,null,null,null,null,null,null,null,null,null,null,null,null,""]
[null,5,null,null,null,null,null,null,null,null,null,null,null,null,null,null,""]
[null,6,null,null,null,null,null,null,null,null,null,null,null,null,null,null,""]
[null,7,null,null,null,null,null,null,null,null,null,null,null,null,null,null,""]
[null,8,null,null,null,null,null,null,null,null,null,null,null,null,null,null,""]
[null,null,null,null,null,null,null,null,null,null,null,null,null,null,null,null,""]
[]
[]
[null,null,null,null,null,null,null,{"$f":"$H$20","v":"令和　　年　　月　　日"}]
[]
[null,{"$f":"男子申込書!$B$22","v":"秋田市中学校体育連盟　会　長　　三浦　純也　様"}]
[]
[null,"　上記の生徒は要項に照らし適格者であり，学校代表としてもふさわしく，また，保護者の同意を得ておりますので，大会への参加を申し込みいたします。"]
[]
[null,{"$f":"$E$3","v":""},null,null,null,null,"校長",{"$f":"IF($H$26=\"\",\"\",$H$26)","v":""}]
[]
[{"$f":"$A$1","v":"第73回 秋田市中学校総合体育大会駅伝競走大会 参加申込書"}]
[]
[null,null,"学校名",null,{"$f":"$E$3","v":""},null,null,null,null,null,"Ｃ"]
[]
[null,"【女子】"]
[null,"監督氏名",null,{"$f":"IF($D$6=\"\",\"\",$D$6)","v":""}]
[]
[null,null,null,"選　　手　　氏　　名",null,null,null,null,null,"学年"]
[null,1,null,null,null,null,null,null,null,null,null,null,null,null,null,null,{"$f":"IF(J63=\"\",\"\",IF(J63=1,\"①\",IF(J63=2,\"②\",IF(J63=3,\"③\"))))","v":""}]
[null,2,null,null,null,null,null,null,null,null,null,null,null,null,null,null,{"$f":"IF(J64=\"\",\"\",IF(J64=1,\"①\",IF(J64=2,\"②\",IF(J64=3,\"③\"))))","v":""}]
[null,3,null,null,null,null,null,null,null,null,null,null,null,null,null,null,""]
[null,4,null,null,null,null,null,null,null,null,null,null,null,null,null,null,""]
[null,5,null,null,null,null,null,null,null,null,null,null,null,null,null,null,""]
[null,6,null,null,null,null,null,null,null,null,null,null,null,null,null,null,""]
[null,7,null,null,null,null,null,null,null,null,null,null,null,null,null,null,""]
[null,8,null,null,null,null,null,null,null,null,null,null,null,null,null,null,""]
[null,null,null,null,null,null,null,null,null,null,null,null,null,null,null,null,""]
[]
[]
[null,null,null,null,null,null,null,{"$f":"$H$20","v":"令和　　年　　月　　日"}]
[]
[null,{"$f":"男子申込書!$B$22","v":"秋田市中学校体育連盟　会　長　　三浦　純也　様"}]
[]
[null,"　上記の生徒は要項に照らし適格者であり，学校代表としてもふさわしく，また，保護者の同意を得ておりますので，大会への参加を申し込みいたします。"]
[]
[null,{"$f":"$E$3","v":""},null,null,null,null,"校長",{"$f":"IF($H$26=\"\",\"\",$H$26)","v":""}]

{"sheet":"記録処理氏名データ","index":2,"n_rows":40,"n_cols":33,"rows_kept":40,"cut":false,"hidden":false,"merged":[[14,25,16,25],[8,25,10,25],[30,18,32,18],[33,18,35,18],[36,18,38,18],[39,18,41,18],[2,20,4,20],[8,20,10,20],[11,20,13,20],[14,20,16,20],[17,20,19,20],[39,24,41,24],[39,22,41,22],[2,24,4,24],[8,24,10,24],[11,24,13,24],[14,24,16,24],[17,24,19,24],[24,24,26,24],[36,22,38,22],[39,19,41,19],[39,21,41,21],[39,23,41,23],[33,20,35,20],[33,30,35,30],[36,30,38,30],[39,30,41,30],[2,32,4,32],[8,32,10,32],[11,32,13,32],[14,32,16,32],[17,32,19,32],[30,28,32,28],[33,28,35,28],[36,28,38,28],[39,28,41,28],[2,30,4,30],[8,30,10,30],[11,30,13,30],[14,30,16,30],[17,30,19,30],[24,30,26,30],[14,29,16,29],[14,31,16,31],[8,29,10,29],[8,31,10,31],[14,27,16,27],[8,27,10,27],[30,26,32,26],[33,26,35,26],[39,26,41,26],[36,27,38,27],[36,29,38,29],[30,20,32,20],[30,25,32,25],[30,27,32,27],[30,29,32,29],[24,20,26,20],[24,25,26,25],[24,27,26,27],[24,29,26,29],[24,26,26,26],[24,22,26,22],[24,28,26,28],[30,24,32,24],[33,24,35,24],[36,24,38,24],[36,26,38,26],[30,22,32,22],[33,22,35,22],[36,15,38,15],[36,17,38,17],[36,19,38,19],[36,21,38,21],[36,23,38,23],[33,15,35,15],[33,17,35,17],[33,19,35,19],[33,21,35,21],[33,23,35,23],[39,27,41,27],[39,29,41,29],[39,16,41,16],[36,16,38,16],[33,16,35,16],[36,20,38,20],[36,25,38,25],[39,20,41,20],[39,25,41,25],[33,25,35,25],[33,27,35,27],[33,29,35,29],[30,19,32,19],[30,21,32,21],[30,23,32,23],[17,25,19,25],[17,27,19,27],[17,29,19,29],[17,31,19,31],[24,15,26,15],[24,17,26,17],[24,19,26,19],[24,21,26,21],[24,23,26,23],[17,16,19,16],[30,16,32,16],[24,16,26,16],[17,18,19,18],[24,18,26,18],[17,26,19,26],[17,22,19,22],[17,28,19,28],[30,30,32,30],[17,15,19,15],[17,17,19,17],[17,19,19,19],[17,21,19,21],[17,23,19,23],[11,25,13,25],[11,27,13,27],[11,29,13,29],[11,31,13,31],[14,15,16,15],[14,17,16,17],[14,19,16,19],[14,21,16,21],[14,23,16,23],[11,18,13,18],[14,18,16,18],[11,26,13,26],[14,26,16,26],[11,22,13,22],[14,22,16,22],[11,28,13,28],[14,28,16,28],[11,15,13,15],[11,17,13,17],[11,19,13,19],[11,21,13,21],[11,23,13,23],[2,25,4,25],[2,27,4,27],[2,29,4,29],[2,31,4,31],[8,15,10,15],[8,17,10,17],[8,19,10,19],[8,21,10,21],[8,23,10,23],[2,18,4,18],[8,18,10,18],[2,26,4,26],[8,26,10,26],[2,22,4,22],[8,22,10,22],[2,28,4,28],[8,28,10,28],[2,19,4,19],[2,21,4,21],[2,23,4,23],[14,16,16,16],[11,16,13,16],[8,16,10,16],[2,16,4,16],[8,12,10,12],[2,12,4,12],[11,14,13,14],[8,14,10,14],[2,14,4,14],[14,14,16,14],[24,11,26,11],[2,15,4,15],[2,17,4,17],[30,15,32,15],[30,17,32,17],[39,15,41,15],[39,17,41,17],[24,1,26,1],[24,2,26,2],[24,3,26,3],[24,4,26,4],[24,5,26,5],[24,6,26,6],[24,7,26,7],[39,11,41,11],[39,6,41,6],[39,7,41,7],[39,8,41,8],[39,14,41,14],[24,14,26,14],[30,14,32,14],[33,14,35,14],[17,14,19,14],[36,14,38,14],[39,9,41,9],[39,10,41,10],[36,8,38,8],[36,9,38,9],[36,10,38,10],[36,11,38,11],[36,0,38,0],[36,1,38,1],[36,2,38,2],[36,3,38,3],[36,4,38,4],[36,5,38,5],[36,6,38,6],[36,7,38,7],[39,0,41,0],[39,1,41,1],[39,2,41,2],[39,3,41,3],[39,4,41,4],[39,5,41,5],[33,6,35,6],[33,7,35,7],[30,8,32,8],[30,9,32,9],[30,10,32,10],[30,11,32,11],[33,0,35,0],[33,1,35,1],[33,2,35,2],[33,3,35,3],[33,4,35,4],[33,5,35,5],[30,0,32,0],[30,1,32,1],[30,2,32,2],[30,3,32,3],[30,4,32,4],[30,5,32,5],[30,6,32,6],[30,7,32,7],[33,11,35,11],[33,8,35,8],[33,9,35,9],[33,10,35,10],[24,8,26,8],[24,9,26,9],[24,10,26,10],[17,9,19,9],[17,10,19,10],[17,11,19,11],[17,12,19,12],[14,12,16,12],[17,0,19,0],[17,1,19,1],[17,2,19,2],[17,3,19,3],[17,4,19,4],[17,5,19,5],[17,6,19,6],[17,7,19,7],[17,8,19,8],[14,6,16,6],[14,7,16,7],[14,8,16,8],[14,9,16,9],[14,10,16,10],[14,11,16,11],[24,0,26,0],[11,9,13,9],[11,10,13,10],[11,11,13,11],[11,12,13,12],[14,0,16,0],[14,1,16,1],[14,2,16,2],[14,3,16,3],[14,4,16,4],[14,5,16,5],[11,0,13,0],[11,1,13,1],[11,2,13,2],[11,3,13,3],[11,4,13,4],[11,5,13,5],[11,6,13,6],[11,7,13,7],[11,8,13,8],[8,6,10,6],[8,7,10,7],[8,8,10,8],[8,9,10,9],[8,10,10,10],[8,11,10,11],[8,0,10,0],[8,1,10,1],[8,2,10,2],[8,3,10,3],[8,4,10,4],[8,5,10,5],[2,6,4,6],[2,7,4,7],[2,8,4,8],[2,9,4,9],[2,10,4,10],[2,11,4,11],[2,0,4,0],[2,1,4,1],[2,2,4,2],[2,3,4,3],[2,4,4,4],[2,5,4,5]]}
["男子正式チーム"]
["№","チーム名","最終オーダー","１区","２区","３区","４区","５区","６区","補欠","補欠","補欠",null,null,null,"１区",null,"２区",null,"３区",null,"４区",null,"５区",null,"６区",null,"補欠",null,"補欠",null,"補欠"]
[null,{"$f":"IF(男子申込書!N2=\"\",\"\",男子申込書!N2)","v":""},null,{"$f":"IF(P3=\"\",\"\",P3&\" \"&Q3)","v":""},{"$f":"IF(R3=\"\",\"\",R3&\" \"&S3)","v":""},{"$f":"IF(T3=\"\",\"\",T3&\" \"&U3)","v":""},{"$f":"IF(V3=\"\",\"\",V3&\" \"&W3)","v":""},{"$f":"IF(X3=\"\",\"\",X3&\" \"&Y3)","v":""},{"$f":"IF(Z3=\"\",\"\",Z3&\" \"&AA3)","v":""},{"$f":"IF(AB3=\"\",\"\",AB3&\" \"&AC3)","v":""},{"$f":"IF(AD3=\"\",\"\",AD3&\" \"&AE3)","v":""},{"$f":"IF(AF3=\"\",\"\",AF3&\" \"&AG3)","v":""},null,null,"正式",{"$f":"IF(男子申込書!$D9=\"\",\"\",男子申込書!$D9)","v":""},{"$f":"IF(男子申込書!$Q9=\"\",\"\",男子申込書!$Q9)","v":""},{"$f":"IF(男子申込書!$D10=\"\",\"\",男子申込書!$D10)","v":""},{"$f":"IF(男子申込書!$Q10=\"\",\"\",男子申込書!$Q10)","v":""},{"$f":"IF(男子申込書!$D11=\"\",\"\",男子申込書!$D11)","v":""},{"$f":"IF(男子申込書!$Q11=\"\",\"\",男子申込書!$Q11)","v":""},{"$f":"IF(男子申込書!$D12=\"\",\"\",男子申込書!$D12)","v":""},{"$f":"IF(男子申込書!$Q12=\"\",\"\",男子申込書!$Q12)","v":""},{"$f":"IF(男子申込書!$D13=\"\",\"\",男子申込書!$D13)","v":""},{"$f":"IF(男子申込書!$Q13=\"\",\"\",男子申込書!$Q13)","v":""},{"$f":"IF(男子申込書!$D14=\"\",\"\",男子申込書!$D14)","v":""},{"$f":"IF(男子申込書!$Q14=\"\",\"\",男子申込書!$Q14)","v":""},{"$f":"IF(男子申込書!$D15=\"\",\"\",男子申込書!$D15)","v":""},{"$f":"IF(男子申込書!$Q15=\"\",\"\",男子申込書!$Q15)","v":""},{"$f":"IF(男子申込書!$D16=\"\",\"\",男子申込書!$D16)","v":""},{"$f":"IF(男子申込書!$Q16=\"\",\"\",男子申込書!$Q16)","v":""},{"$f":"IF(男子申込書!$D17=\"\",\"\",男子申込書!$D17)","v":""},{"$f":"IF(男子申込書!$Q17=\"\",\"\",男子申込書!$Q17)","v":""}]
[]
[]
[]
["男子オープンチーム"]
["№","チーム名","最終オーダー","１区","２区","３区","４区","５区","６区","補欠","補欠","補欠",null,null,null,"１区",null,"２区",null,"３区",null,"４区",null,"５区",null,"６区",null,"補欠",null,"補欠",null,"補欠"]
[null,{"$f":"IF(D9=\"\",\"\",$B$3&O9)","v":""},null,{"$f":"IF(P9=\"\",\"\",P9&\" \"&Q9)","v":""},{"$f":"IF(R9=\"\",\"\",R9&\" \"&S9)","v":""},{"$f":"IF(T9=\"\",\"\",T9&\" \"&U9)","v":""},{"$f":"IF(V9=\"\",\"\",V9&\" \"&W9)","v":""},{"$f":"IF(X9=\"\",\"\",X9&\" \"&Y9)","v":""},{"$f":"IF(Z9=\"\",\"\",Z9&\" \"&AA9)","v":""},{"$f":"IF(AB9=\"\",\"\",AB9&\" \"&AC9)","v":""},{"$f":"IF(AD9=\"\",\"\",AD9&\" \"&AE9)","v":""},{"$f":"IF(AF9=\"\",\"\",AF9&\" \"&AG9)","v":""},null,null,"Ｂ",{"$f":"IF(男子申込書!$D36=\"\",\"\",男子申込書!$D36)","v":""},{"$f":"IF(男子申込書!$Q36=\"\",\"\",男子申込書!$Q36)","v":""},{"$f":"IF(男子申込書!$D37=\"\",\"\",男子申込書!$D37)","v":""},{"$f":"IF(男子申込書!$Q37=\"\",\"\",男子申込書!$Q37)","v":""},{"$f":"IF(男子申込書!$D38=\"\",\"\",男子申込書!$D38)","v":""},{"$f":"IF(男子申込書!$Q38=\"\",\"\",男子申込書!$Q38)","v":""},{"$f":"IF(男子申込書!$D39=\"\",\"\",男子申込書!$D39)","v":""},{"$f":"IF(男子申込書!$Q39=\"\",\"\",男子申込書!$Q39)","v":""},{"$f":"IF(男子申込書!$D40=\"\",\"\",男子申込書!$D40)","v":""},{"$f":"IF(男子申込書!$Q40=\"\",\"\",男子申込書!$Q40)","v":""},{"$f":"IF(男子申込書!$D41=\"\",\"\",男子申込書!$D41)","v":""},{"$f":"IF(男子申込書!$Q41=\"\",\"\",男子申込書!$Q41)","v":""},{"$f":"IF(男子申込書!$D42=\"\",\"\",男子申込書!$D42)","v":""},{"$f":"IF(男子申込書!$Q42=\"\",\"\",男子申込書!$Q42)","v":""},{"$f":"IF(男子申込書!$D43=\"\",\"\",男子申込書!$D43)","v":""},{"$f":"IF(男子申込書!$Q43=\"\",\"\",男子申込書!$Q43)","v":""},{"$f":"IF(男子申込書!$D44=\"\",\"\",男子申込書!$D44)","v":""},{"$f":"IF(男子申込書!$Q44=\"\",\"\",男子申込書!$Q44)","v":""}]
[]
[]
[null,{"$f":"IF(D12=\"\",\"\",$B$3&O12)","v":""},null,{"$f":"IF(P12=\"\",\"\",P12&\" \"&Q12)","v":""},{"$f":"IF(R12=\"\",\"\",R12&\" \"&S12)","v":""},{"$f":"IF(T12=\"\",\"\",T12&\" \"&U12)","v":""},{"$f":"IF(V12=\"\",\"\",V12&\" \"&W12)","v":""},{"$f":"IF(X12=\"\",\"\",X12&\" \"&Y12)","v":""},{"$f":"IF(Z12=\"\",\"\",Z12&\" \"&AA12)","v":""},{"$f":"IF(AB12=\"\",\"\",AB12&\" \"&AC12)","v":""},{"$f":"IF(AD12=\"\",\"\",AD12&\" \"&AE12)","v":""},{"$f":"IF(AF12=\"\",\"\",AF12&\" \"&AG12)","v":""},null,null,"Ｃ",{"$f":"IF(男子申込書!$D63=\"\",\"\",男子申込書!$D63)","v":""},{"$f":"IF(男子申込書!$Q63=\"\",\"\",男子申込書!$Q63)","v":""},{"$f":"IF(男子申込書!$D64=\"\",\"\",男子申込書!$D64)","v":""},{"$f":"IF(男子申込書!$Q64=\"\",\"\",男子申込書!$Q64)","v":""},{"$f":"IF(男子申込書!$D65=\"\",\"\",男子申込書!$D65)","v":""},{"$f":"IF(男子申込書!$Q65=\"\",\"\",男子申込書!$Q65)","v":""},{"$f":"IF(男子申込書!$D66=\"\",\"\",男子申込書!$D66)","v":""},{"$f":"IF(男子申込書!$Q66=\"\",\"\",男子申込書!$Q66)","v":""},{"$f":"IF(男子申込書!$D67=\"\",\"\",男子申込書!$D67)","v":""},{"$f":"IF(男子申込書!$Q67=\"\",\"\",男子申込書!$Q67)","v":""},{"$f":"IF(男子申込書!$D68=\"\",\"\",男子申込書!$D68)","v":""},{"$f":"IF(男子申込書!$Q68=\"\",\"\",男子申込書!$Q68)","v":""},{"$f":"IF(男子申込書!$D69=\"\",\"\",男子申込書!$D69)","v":""},{"$f":"IF(男子申込書!$Q69=\"\",\"\",男子申込書!$Q69)","v":""},{"$f":"IF(男子申込書!$D70=\"\",\"\",男子申込書!$D70)","v":""},{"$f":"IF(男子申込書!$Q70=\"\",\"\",男子申込書!$Q70)","v":""},{"$f":"IF(男子申込書!$D71=\"\",\"\",男子申込書!$D71)","v":""},{"$f":"IF(男子申込書!$Q71=\"\",\"\",男子申込書!$Q71)","v":""}]
[]
[]
[null,{"$f":"IF(D15=\"\",\"\",$B$3&O15)","v":{"$error":"#REF!"}},null,{"$f":"IF(P15=\"\",\"\",P15&\" \"&Q15)","v":{"$error":"#REF!"}},{"$f":"IF(R15=\"\",\"\",R15&\" \"&S15)","v":{"$error":"#REF!"}},{"$f":"IF(T15=\"\",\"\",T15&\" \"&U15)","v":{"$error":"#REF!"}},{"$f":"IF(V15=\"\",\"\",V15&\" \"&W15)","v":{"$error":"#REF!"}},{"$f":"IF(X15=\"\",\"\",X15&\" \"&Y15)","v":{"$error":"#REF!"}},{"$f":"IF(Z15=\"\",\"\",Z15&\" \"&AA15)","v":{"$error":"#REF!"}},{"$f":"IF(AB15=\"\",\"\",AB15&\" \"&AC15)","v":{"$error":"#REF!"}},{"$f":"IF(AD15=\"\",\"\",AD15&\" \"&AE15)","v":{"$error":"#REF!"}},{"$f":"IF(AF15=\"\",\"\",AF15&\" \"&AG15)","v":{"$error":"#REF!"}},null,null,"Ｄ",{"$f":"IF(男子申込書!#REF!=\"\",\"\",男子申込書!#REF!)","v":{"$error":"#REF!"}},{"$f":"IF(男子申込書!#REF!=\"\",\"\",男子申込書!#REF!)","v":{"$error":"#REF!"}},{"$f":"IF(男子申込書!#REF!=\"\",\"\",男子申込書!#REF!)","v":{"$error":"#REF!"}},{"$f":"IF(男子申込書!#REF!=\"\",\"\",男子申込書!#REF!)","v":{"$error":"#REF!"}},{"$f":"IF(男子申込書!#REF!=\"\",\"\",男子申込書!#REF!)","v":{"$error":"#REF!"}},{"$f":"IF(男子申込書!#REF!=\"\",\"\",男子申込書!#REF!)","v":{"$error":"#REF!"}},{"$f":"IF(男子申込書!#REF!=\"\",\"\",男子申込書!#REF!)","v":{"$error":"#REF!"}},{"$f":"IF(男子申込書!#REF!=\"\",\"\",男子申込書!#REF!)","v":{"$error":"#REF!"}},{"$f":"IF(男子申込書!#REF!=\"\",\"\",男子申込書!#REF!)","v":{"$error":"#REF!"}},{"$f":"IF(男子申込書!#REF!=\"\",\"\",男子申込書!#REF!)","v":{"$error":"#REF!"}},{"$f":"IF(男子申込書!#REF!=\"\",\"\",男子申込書!#REF!)","v":{"$error":"#REF!"}},{"$f":"IF(男子申込書!#REF!=\"\",\"\",男子申込書!#REF!)","v":{"$error":"#REF!"}},{"$f":"IF(男子申込書!#REF!=\"\",\"\",男子申込書!#REF!)","v":{"$error":"#REF!"}},{"$f":"IF(男子申込書!#REF!=\"\",\"\",男子申込書!#REF!)","v":{"$error":"#REF!"}},{"$f":"IF(男子申込書!#REF!=\"\",\"\",男子申込書!#REF!)","v":{"$error":"#REF!"}},{"$f":"IF(男子申込書!#REF!=\"\",\"\",男子申込書!#REF!)","v":{"$error":"#REF!"}},{"$f":"IF(男子申込書!#REF!=\"\",\"\",男子申込書!#REF!)","v":{"$error":"#REF!"}},{"$f":"IF(男子申込書!#REF!=\"\",\"\",男子申込書!#REF!)","v":{"$error":"#REF!"}}]
[]
[]
[null,{"$f":"IF(D18=\"\",\"\",$B$3&O18)","v":{"$error":"#REF!"}},null,{"$f":"IF(P18=\"\",\"\",P18&\" \"&Q18)","v":{"$error":"#REF!"}},{"$f":"IF(R18=\"\",\"\",R18&\" \"&S18)","v":{"$error":"#REF!"}},{"$f":"IF(T18=\"\",\"\",T18&\" \"&U18)","v":{"$error":"#REF!"}},{"$f":"IF(V18=\"\",\"\",V18&\" \"&W18)","v":{"$error":"#REF!"}},{"$f":"IF(X18=\"\",\"\",X18&\" \"&Y18)","v":{"$error":"#REF!"}},{"$f":"IF(Z18=\"\",\"\",Z18&\" \"&AA18)","v":{"$error":"#REF!"}},{"$f":"IF(AB18=\"\",\"\",AB18&\" \"&AC18)","v":{"$error":"#REF!"}},{"$f":"IF(AD18=\"\",\"\",AD18&\" \"&AE18)","v":{"$error":"#REF!"}},{"$f":"IF(AF18=\"\",\"\",AF18&\" \"&AG18)","v":{"$error":"#REF!"}},null,null,"Ｅ",{"$f":"IF(男子申込書!#REF!=\"\",\"\",男子申込書!#REF!)","v":{"$error":"#REF!"}},{"$f":"IF(男子申込書!#REF!=\"\",\"\",男子申込書!#REF!)","v":{"$error":"#REF!"}},{"$f":"IF(男子申込書!#REF!=\"\",\"\",男子申込書!#REF!)","v":{"$error":"#REF!"}},{"$f":"IF(男子申込書!#REF!=\"\",\"\",男子申込書!#REF!)","v":{"$error":"#REF!"}},{"$f":"IF(男子申込書!#REF!=\"\",\"\",男子申込書!#REF!)","v":{"$error":"#REF!"}},{"$f":"IF(男子申込書!#REF!=\"\",\"\",男子申込書!#REF!)","v":{"$error":"#REF!"}},{"$f":"IF(男子申込書!#REF!=\"\",\"\",男子申込書!#REF!)","v":{"$error":"#REF!"}},{"$f":"IF(男子申込書!#REF!=\"\",\"\",男子申込書!#REF!)","v":{"$error":"#REF!"}},{"$f":"IF(男子申込書!#REF!=\"\",\"\",男子申込書!#REF!)","v":{"$error":"#REF!"}},{"$f":"IF(男子申込書!#REF!=\"\",\"\",男子申込書!#REF!)","v":{"$error":"#REF!"}},{"$f":"IF(男子申込書!#REF!=\"\",\"\",男子申込書!#REF!)","v":{"$error":"#REF!"}},{"$f":"IF(男子申込書!#REF!=\"\",\"\",男子申込書!#REF!)","v":{"$error":"#REF!"}},{"$f":"IF(男子申込書!#REF!=\"\",\"\",男子申込書!#REF!)","v":{"$error":"#REF!"}},{"$f":"IF(男子申込書!#REF!=\"\",\"\",男子申込書!#REF!)","v":{"$error":"#REF!"}},{"$f":"IF(男子申込書!#REF!=\"\",\"\",男子申込書!#REF!)","v":{"$error":"#REF!"}},{"$f":"IF(男子申込書!#REF!=\"\",\"\",男子申込書!#REF!)","v":{"$error":"#REF!"}},{"$f":"IF(男子申込書!#REF!=\"\",\"\",男子申込書!#REF!)","v":{"$error":"#REF!"}},{"$f":"IF(男子申込書!#REF!=\"\",\"\",男子申込書!#REF!)","v":{"$error":"#REF!"}}]
[]
[]
[]
[]
["女子正式チーム"]
["№","チーム名","最終オーダー","１区","２区","３区","４区","５区","補欠","補欠","補欠",null,null,null,null,"１区",null,"２区",null,"３区",null,"４区",null,"５区",null,"補欠",null,"補欠",null,"補欠"]
[null,{"$f":"IF(女子申込書!N2=\"\",\"\",女子申込書!N2)","v":""},null,{"$f":"IF(P25=\"\",\"\",P25&\" \"&Q25)","v":""},{"$f":"IF(R25=\"\",\"\",R25&\" \"&S25)","v":""},{"$f":"IF(T25=\"\",\"\",T25&\" \"&U25)","v":""},{"$f":"IF(V25=\"\",\"\",V25&\" \"&W25)","v":""},{"$f":"IF(X25=\"\",\"\",X25&\" \"&Y25)","v":""},{"$f":"IF(Z25=\"\",\"\",Z25&\" \"&AA25)","v":""},{"$f":"IF(AB25=\"\",\"\",AB25&\" \"&AC25)","v":""},{"$f":"IF(AD25=\"\",\"\",AD25&\" \"&AE25)","v":""},null,null,null,"正式",{"$f":"IF(女子申込書!$D9=\"\",\"\",女子申込書!$D9)","v":""},{"$f":"IF(女子申込書!$Q9=\"\",\"\",女子申込書!$Q9)","v":""},{"$f":"IF(女子申込書!$D10=\"\",\"\",女子申込書!$D10)","v":""},{"$f":"IF(女子申込書!$Q10=\"\",\"\",女子申込書!$Q10)","v":""},{"$f":"IF(女子申込書!$D11=\"\",\"\",女子申込書!$D11)","v":""},{"$f":"IF(女子申込書!$Q11=\"\",\"\",女子申込書!$Q11)","v":""},{"$f":"IF(女子申込書!$D12=\"\",\"\",女子申込書!$D12)","v":""},{"$f":"IF(女子申込書!$Q12=\"\",\"\",女子申込書!$Q12)","v":""},{"$f":"IF(女子申込書!$D13=\"\",\"\",女子申込書!$D13)","v":""},{"$f":"IF(女子申込書!$Q13=\"\",\"\",女子申込書!$Q13)","v":""},{"$f":"IF(女子申込書!$D14=\"\",\"\",女子申込書!$D14)","v":""},{"$f":"IF(女子申込書!$Q14=\"\",\"\",女子申込書!$Q14)","v":""},{"$f":"IF(女子申込書!$D15=\"\",\"\",女子申込書!$D15)","v":""},{"$f":"IF(女子申込書!$Q15=\"\",\"\",女子申込書!$Q15)","v":""},{"$f":"IF(女子申込書!$D16=\"\",\"\",女子申込書!$D16)","v":""},{"$f":"IF(女子申込書!$Q16=\"\",\"\",女子申込書!$Q16)","v":""}]
[]
[]
[]
["女子オープンチーム"]
["№","チーム名","最終オーダー","１区","２区","３区","４区","５区","補欠","補欠","補欠",null,null,null,null,"１区",null,"２区",null,"３区",null,"４区",null,"５区",null,"補欠",null,"補欠",null,"補欠"]
[null,{"$f":"IF(D31=\"\",\"\",$B$25&O31)","v":""},null,{"$f":"IF(P31=\"\",\"\",P31&\" \"&Q31)","v":""},{"$f":"IF(R31=\"\",\"\",R31&\" \"&S31)","v":""},{"$f":"IF(T31=\"\",\"\",T31&\" \"&U31)","v":""},{"$f":"IF(V31=\"\",\"\",V31&\" \"&W31)","v":""},{"$f":"IF(X31=\"\",\"\",X31&\" \"&Y31)","v":""},{"$f":"IF(Z31=\"\",\"\",Z31&\" \"&AA31)","v":""},{"$f":"IF(AB31=\"\",\"\",AB31&\" \"&AC31)","v":""},{"$f":"IF(AD31=\"\",\"\",AD31&\" \"&AE31)","v":""},null,null,null,"Ｂ",{"$f":"IF(女子申込書!$D36=\"\",\"\",女子申込書!$D36)","v":""},{"$f":"IF(女子申込書!$Q36=\"\",\"\",女子申込書!$Q36)","v":""},{"$f":"IF(女子申込書!$D37=\"\",\"\",女子申込書!$D37)","v":""},{"$f":"IF(女子申込書!$Q37=\"\",\"\",女子申込書!$Q37)","v":""},{"$f":"IF(女子申込書!$D38=\"\",\"\",女子申込書!$D38)","v":""},{"$f":"IF(女子申込書!$Q38=\"\",\"\",女子申込書!$Q38)","v":""},{"$f":"IF(女子申込書!$D39=\"\",\"\",女子申込書!$D39)","v":""},{"$f":"IF(女子申込書!$Q39=\"\",\"\",女子申込書!$Q39)","v":""},{"$f":"IF(女子申込書!$D40=\"\",\"\",女子申込書!$D40)","v":""},{"$f":"IF(女子申込書!$Q40=\"\",\"\",女子申込書!$Q40)","v":""},{"$f":"IF(女子申込書!$D41=\"\",\"\",女子申込書!$D41)","v":""},{"$f":"IF(女子申込書!$Q41=\"\",\"\",女子申込書!$Q41)","v":""},{"$f":"IF(女子申込書!$D42=\"\",\"\",女子申込書!$D42)","v":""},{"$f":"IF(女子申込書!$Q42=\"\",\"\",女子申込書!$Q42)","v":""},{"$f":"IF(女子申込書!$D43=\"\",\"\",女子申込書!$D43)","v":""},{"$f":"IF(女子申込書!$Q43=\"\",\"\",女子申込書!$Q43)","v":""}]
[]
[]
[null,{"$f":"IF(D34=\"\",\"\",$B$25&O34)","v":""},null,{"$f":"IF(P34=\"\",\"\",P34&\" \"&Q34)","v":""},{"$f":"IF(R34=\"\",\"\",R34&\" \"&S34)","v":""},{"$f":"IF(T34=\"\",\"\",T34&\" \"&U34)","v":""},{"$f":"IF(V34=\"\",\"\",V34&\" \"&W34)","v":""},{"$f":"IF(X34=\"\",\"\",X34&\" \"&Y34)","v":""},{"$f":"IF(Z34=\"\",\"\",Z34&\" \"&AA34)","v":""},{"$f":"IF(AB34=\"\",\"\",AB34&\" \"&AC34)","v":""},{"$f":"IF(AD34=\"\",\"\",AD34&\" \"&AE34)","v":""},null,null,null,"Ｃ",{"$f":"IF(女子申込書!$D63=\"\",\"\",女子申込書!$D63)","v":""},{"$f":"IF(女子申込書!$Q63=\"\",\"\",女子申込書!$Q63)","v":""},{"$f":"IF(女子申込書!$D64=\"\",\"\",女子申込書!$D64)","v":""},{"$f":"IF(女子申込書!$Q64=\"\",\"\",女子申込書!$Q64)","v":""},{"$f":"IF(女子申込書!$D65=\"\",\"\",女子申込書!$D65)","v":""},{"$f":"IF(女子申込書!$Q65=\"\",\"\",女子申込書!$Q65)","v":""},{"$f":"IF(女子申込書!$D66=\"\",\"\",女子申込書!$D66)","v":""},{"$f":"IF(女子申込書!$Q66=\"\",\"\",女子申込書!$Q66)","v":""},{"$f":"IF(女子申込書!$D67=\"\",\"\",女子申込書!$D67)","v":""},{"$f":"IF(女子申込書!$Q67=\"\",\"\",女子申込書!$Q67)","v":""},{"$f":"IF(女子申込書!$D68=\"\",\"\",女子申込書!$D68)","v":""},{"$f":"IF(女子申込書!$Q68=\"\",\"\",女子申込書!$Q68)","v":""},{"$f":"IF(女子申込書!$D69=\"\",\"\",女子申込書!$D69)","v":""},{"$f":"IF(女子申込書!$Q69=\"\",\"\",女子申込書!$Q69)","v":""},{"$f":"IF(女子申込書!$D70=\"\",\"\",女子申込書!$D70)","v":""},{"$f":"IF(女子申込書!$Q70=\"\",\"\",女子申込書!$Q70)","v":""}]
[]
[]
[null,{"$f":"IF(D37=\"\",\"\",$B$25&O37)","v":{"$error":"#REF!"}},null,{"$f":"IF(P37=\"\",\"\",P37&\" \"&Q37)","v":{"$error":"#REF!"}},{"$f":"IF(R37=\"\",\"\",R37&\" \"&S37)","v":{"$error":"#REF!"}},{"$f":"IF(T37=\"\",\"\",T37&\" \"&U37)","v":{"$error":"#REF!"}},{"$f":"IF(V37=\"\",\"\",V37&\" \"&W37)","v":{"$error":"#REF!"}},{"$f":"IF(X37=\"\",\"\",X37&\" \"&Y37)","v":{"$error":"#REF!"}},{"$f":"IF(Z37=\"\",\"\",Z37&\" \"&AA37)","v":{"$error":"#REF!"}},{"$f":"IF(AB37=\"\",\"\",AB37&\" \"&AC37)","v":{"$error":"#REF!"}},{"$f":"IF(AD37=\"\",\"\",AD37&\" \"&AE37)","v":{"$error":"#REF!"}},null,null,null,"Ｄ",{"$f":"IF(女子申込書!#REF!=\"\",\"\",女子申込書!#REF!)","v":{"$error":"#REF!"}},{"$f":"IF(女子申込書!#REF!=\"\",\"\",女子申込書!#REF!)","v":{"$error":"#REF!"}},{"$f":"IF(女子申込書!#REF!=\"\",\"\",女子申込書!#REF!)","v":{"$error":"#REF!"}},{"$f":"IF(女子申込書!#REF!=\"\",\"\",女子申込書!#REF!)","v":{"$error":"#REF!"}},{"$f":"IF(女子申込書!#REF!=\"\",\"\",女子申込書!#REF!)","v":{"$error":"#REF!"}},{"$f":"IF(女子申込書!#REF!=\"\",\"\",女子申込書!#REF!)","v":{"$error":"#REF!"}},{"$f":"IF(女子申込書!#REF!=\"\",\"\",女子申込書!#REF!)","v":{"$error":"#REF!"}},{"$f":"IF(女子申込書!#REF!=\"\",\"\",女子申込書!#REF!)","v":{"$error":"#REF!"}},{"$f":"IF(女子申込書!#REF!=\"\",\"\",女子申込書!#REF!)","v":{"$error":"#REF!"}},{"$f":"IF(女子申込書!#REF!=\"\",\"\",女子申込書!#REF!)","v":{"$error":"#REF!"}},{"$f":"IF(女子申込書!#REF!=\"\",\"\",女子申込書!#REF!)","v":{"$error":"#REF!"}},{"$f":"IF(女子申込書!#REF!=\"\",\"\",女子申込書!#REF!)","v":{"$error":"#REF!"}},{"$f":"IF(女子申込書!#REF!=\"\",\"\",女子申込書!#REF!)","v":{"$error":"#REF!"}},{"$f":"IF(女子申込書!#REF!=\"\",\"\",女子申込書!#REF!)","v":{"$error":"#REF!"}},{"$f":"IF(女子申込書!#REF!=\"\",\"\",女子申込書!#REF!)","v":{"$error":"#REF!"}},{"$f":"IF(女子申込書!#REF!=\"\",\"\",女子申込書!#REF!)","v":{"$error":"#REF!"}}]
[]
[]
[null,{"$f":"IF(D40=\"\",\"\",$B$25&O40)","v":{"$error":"#REF!"}},null,{"$f":"IF(P40=\"\",\"\",P40&\" \"&Q40)","v":{"$error":"#REF!"}},{"$f":"IF(R40=\"\",\"\",R40&\" \"&S40)","v":{"$error":"#REF!"}},{"$f":"IF(T40=\"\",\"\",T40&\" \"&U40)","v":{"$error":"#REF!"}},{"$f":"IF(V40=\"\",\"\",V40&\" \"&W40)","v":{"$error":"#REF!"}},{"$f":"IF(X40=\"\",\"\",X40&\" \"&Y40)","v":{"$error":"#REF!"}},{"$f":"IF(Z40=\"\",\"\",Z40&\" \"&AA40)","v":{"$error":"#REF!"}},{"$f":"IF(AB40=\"\",\"\",AB40&\" \"&AC40)","v":{"$error":"#REF!"}},{"$f":"IF(AD40=\"\",\"\",AD40&\" \"&AE40)","v":{"$error":"#REF!"}},null,null,null,"Ｅ",{"$f":"IF(女子申込書!#REF!=\"\",\"\",女子申込書!#REF!)","v":{"$error":"#REF!"}},{"$f":"IF(女子申込書!#REF!=\"\",\"\",女子申込書!#REF!)","v":{"$error":"#REF!"}},{"$f":"IF(女子申込書!#REF!=\"\",\"\",女子申込書!#REF!)","v":{"$error":"#REF!"}},{"$f":"IF(女子申込書!#REF!=\"\",\"\",女子申込書!#REF!)","v":{"$error":"#REF!"}},{"$f":"IF(女子申込書!#REF!=\"\",\"\",女子申込書!#REF!)","v":{"$error":"#REF!"}},{"$f":"IF(女子申込書!#REF!=\"\",\"\",女子申込書!#REF!)","v":{"$error":"#REF!"}},{"$f":"IF(女子申込書!#REF!=\"\",\"\",女子申込書!#REF!)","v":{"$error":"#REF!"}},{"$f":"IF(女子申込書!#REF!=\"\",\"\",女子申込書!#REF!)","v":{"$error":"#REF!"}},{"$f":"IF(女子申込書!#REF!=\"\",\"\",女子申込書!#REF!)","v":{"$error":"#REF!"}},{"$f":"IF(女子申込書!#REF!=\"\",\"\",女子申込書!#REF!)","v":{"$error":"#REF!"}},{"$f":"IF(女子申込書!#REF!=\"\",\"\",女子申込書!#REF!)","v":{"$error":"#REF!"}},{"$f":"IF(女子申込書!#REF!=\"\",\"\",女子申込書!#REF!)","v":{"$error":"#REF!"}},{"$f":"IF(女子申込書!#REF!=\"\",\"\",女子申込書!#REF!)","v":{"$error":"#REF!"}},{"$f":"IF(女子申込書!#REF!=\"\",\"\",女子申込書!#REF!)","v":{"$error":"#REF!"}},{"$f":"IF(女子申込書!#REF!=\"\",\"\",女子申込書!#REF!)","v":{"$error":"#REF!"}},{"$f":"IF(女子申込書!#REF!=\"\",\"\",女子申込書!#REF!)","v":{"$error":"#REF!"}}]