{"text_format":"1","workbook":"xlsx","n_sheets":15,"sheets":["必ずお読み下さい","春季入力","男一覧","女一覧","男個票","女個票","ﾘﾚｰ個票","部員名簿","登録データ貼付","競技者マスタ（NANS）","競技者マスタ（上陸）","男子一覧(手書用)","女子一覧(手書用)","個人個票(手書用)","リレー個票(手書用)"],"not_rendered":{"charts":0,"images":0,"macros":1,"external_links":0,"defined_names":13,"comments":0,"pivot_tables":0},"unopened":[],"bounds":{"document_bytes":16777216,"sheet_cells":100000,"rows_first":2000,"rows_last":500,"rows_between":2000,"halvings":0,"cell_chars":16384,"cell_head_chars":4096},"cells_cut":0,"cells_raw":0,"read":"whole","date_system":"1900"}

{"sheet":"必ずお読み下さい","index":0,"n_rows":33,"n_cols":9,"rows_kept":33,"cut":false,"hidden":false,"merged":[[1,0,1,2],[0,0,0,2],[2,0,2,2]]}
[]
["必ず全部読んで下さい！"]
["市春季大会申込書の作成マニュアル"]
[null,"最初に"]
[null,null,"　３年間使用するアスリートビブス番号を導入し、秋田市・秋田県の大会では中学校３年間を同じ番号で競技することになりました。そのため、新２・３年生はすでにアスリートビブス番号を取得していることになります。そこで、春季大会もこの番号を使うことにします。昨年度の登録データを「登録データ貼付」シートに貼り付けて作業を行ってください。担当者が変わった学校は、引き継ぎを確実にお願いします。入力に関しては、この説明書をよく読んで準備を進めてください。\n"]
[null,null,"　作業の手順は以下の通りです。\n　　①「登録データ貼付」に昨年のデータを貼り付ける。（学年を一つ増やす）\n　　②「春季入力」シートで，必要なデータを入力する。\n　　③「一覧表」，「個票」などを印刷（女子はカラー印刷）し，個票は切り離して抽選会に持参する。\n　　④入力完了した「市春季申し込み【学校名】」ファイルの学校名の部分を書き換えて，桜中の伊藤賢悦まで\n　　　送る。（春季大会のプログラム編成会議が締め切りです。事前に送って頂くか，編成会議当日に持参して\n　　　下さい。）\n　年度初めの忙しい時期ではありますが，どうかご協力のほどよろしくお願いします。"]
[]
[]
[null,null,null,null,null,null,null,"一覧表用","個表用"]
[null,null,null,null,null,null,28,{"$f":"IF($G$10=28,\"\",VLOOKUP($G$10,部員名簿!$U$8:$AC$35,6,FALSE))","v":""},{"$f":"IF($G$10=28,\"\",VLOOKUP($G$10,部員名簿!$U$8:$AC$35,8,FALSE))","v":""}]
[null,null,"　　　　　※選択欄に学校名がない（陸上部のない学校）場合は，手書き用シートに入力し\n　　　　　　専門委員長までお問い合わせください。ナンバーを振ります。"]
[null,"１．登録データを貼り付ける"]
[null,null,"・前年度の陸連登録データを「登録データ貼付」シートに貼り付けますが、学年を１つ増やす必要があります。「V列」が学年ですので、「中学２」を「中学３」にして、「中学１」を「中学２」に直してください。卒業した３年生のデータは削除しておくと間違いがないでしょう。データを貼り付けると「部員名簿」シートに名簿ができあがりますので、その一覧を印刷しておくと入力が楽になります。"]
[]
[null,"１．市春季の入力をする（男女それぞれお願いします）"]
[null,null,"・学校名は、一覧表用です。「秋田市立秋田東」のように入力されているはずです。"]
[null,null,"・監督氏名、校長氏名を入力して下さい。"]
[null,null,"・学校名の略称は個票に記載される学校名です。"]
[null,null,"・出場選手のアスリートビブス番号を入力します。番号を入力すると、学校名も自動的に入力されます。"]
[null,null,"・出場選手の出場種目を選択します。個人種目とリレー種目を忘れないで下さい。リストボックス内からの選択ですので表示されたものが間違いないかどうか確認をして下さい。"]
[null,null,"・公式記録をもっている選手には、記録を入力してください。\n　※春季の場合は今年度の公式記録がないので、上位選手の見落としを防ぐためにも昨年度のベスト記録や練習の\n　　際の参考記録などを入れるようにして下さい。"]
[null,null,"・リレーメンバーの抽出をします。男女それぞれ「共通リレー抽出」ボタンを押して下さい。リレーの選手がいない時にボタンを押しても何も起こりません。下の方にリレーメンバーの一覧ができあがります。もし間違いがある場合は出場種目の確認をして下さい。リレー出場についてずれている可能性があります。"]
[]
[]
[null,"２．一覧表の確認"]
[null,null,"・男一覧シートを表示し、入力内容に間違いがないかどうか確認して下さい。用紙サイズはＡ4です。印刷する際には用紙サイズの間違いがないようにご注意下さい。女一覧も同様に確認してください。"]
[]
[null,"３．個票の作成（個人種目・リレー）"]
[null,null,"・入力シートのデータが個票に反映されているはずです。ここでも間違いがないかどうか確認をお願いします。"]
[]
[null,"４．印刷する"]
[null,null,"・一覧表、個票、リレー個票を印刷します。それぞれのシートに印刷ボタンを用意しました。クリックするだけで印刷が可能ですが、今使っているコンピュータで「標準で使うプリンタ」として設定されているプリンタで印刷されます。印刷する際に確認メッセージが出ますので十分ご注意下さい。女子関係とリレー個票はカラー印刷が必要です。"]
[null,null,"・用紙サイズはすべてA4になります。"]

{"sheet":"春季入力","index":1,"n_rows":132,"n_cols":22,"rows_kept":132,"cut":false,"hidden":false,"merged":[[65,1,65,2],[65,11,67,11],[66,1,66,2],[66,5,67,5],[7,5,8,5],[7,1,7,2],[64,1,64,2],[2,10,2,11],[61,1,61,3],[62,1,62,2],[63,1,63,2],[61,10,61,11],[2,1,2,3],[3,1,3,2],[4,1,4,2],[5,1,5,2],[6,1,6,2],[6,10,6,11],[5,10,5,11]]}
[]
["市春季男子"]
[null,"一覧表用データ",null,null,null,null,null,null,null,null,"個表用データ"]
[null,"学校名",null,{"$f":"IF(必ずお読み下さい!H10=\"\",\"\",必ずお読み下さい!H10)","v":""},null,null,null,null,null,null,"学校名（略称）",{"$f":"IF(必ずお読み下さい!I10=\"\",\"\",必ずお読み下さい!I10)","v":""}]
[null,"監督氏名",null,null,"※"]
[null,"校長名",null,null,"※"]
[null,"引率者"]
[null,"代理監督氏名"]
[]
[]
[null,"学校名","ナンバー\nカード","氏　　　名","学年","ﾌ ﾘ ｶﾞ ﾅ","氏名英語表記","個人\n種目","ﾘﾚｰ","個人種目","ベスト記録","リレー種目","ベスト記録","個人情報の\n記載",null,"性別"]
[1,{"$f":"IF(C12=\"\",\"\",$L$4)","v":""},null,{"$f":"IF(C12=\"\",\"\",VLOOKUP(C12,部員名簿!$A$5:$G$103,3,FALSE))","v":""},{"$f":"IF(C12=\"\",\"\",VLOOKUP(C12,部員名簿!$A$5:$F$103,6,FALSE))","v":""},{"$f":"IF(C12=\"\",\"\",VLOOKUP(C12,部員名簿!$A$5:$F$103,4,FALSE))","v":""},{"$f":"IF(C12=\"\",\"\",VLOOKUP(C12,部員名簿!$A$5:$F$103,5,FALSE))","v":""},{"$f":"IF(J12=\"\",\"\",VLOOKUP(J12,$Q$12:$R$30,2,FALSE))","v":""},{"$f":"IF(L12=\"\",\"\",VLOOKUP(L12,$S$12:$T$14,2,FALSE))","v":""},null,null,null,null,null,null,{"$f":"IF(C12=\"\",\"\",1)","v":""},"２年１００ｍ",1,"共通４×１００ｍＲ",18,null,"花輪第一"]
[2,"",null,{"$f":"IF(C13=\"\",\"\",VLOOKUP(C13,部員名簿!$A$5:$G$103,3,FALSE))","v":""},{"$f":"IF(C13=\"\",\"\",VLOOKUP(C13,部員名簿!$A$5:$F$103,6,FALSE))","v":""},{"$f":"IF(C13=\"\",\"\",VLOOKUP(C13,部員名簿!$A$5:$F$103,4,FALSE))","v":""},{"$f":"IF(C13=\"\",\"\",VLOOKUP(C13,部員名簿!$A$5:$F$103,5,FALSE))","v":""},{"$f":"IF(J13=\"\",\"\",VLOOKUP(J13,$Q$12:$R$30,2,FALSE))","v":""},{"$f":"IF(L13=\"\",\"\",VLOOKUP(L13,$S$12:$T$14,2,FALSE))","v":""},null,null,null,null,null,null,{"$f":"IF(C13=\"\",\"\",1)","v":""},"３年１００ｍ",2,null,null,null,"花輪第二"]
[3,"",null,{"$f":"IF(C14=\"\",\"\",VLOOKUP(C14,部員名簿!$A$5:$G$103,3,FALSE))","v":""},{"$f":"IF(C14=\"\",\"\",VLOOKUP(C14,部員名簿!$A$5:$F$103,6,FALSE))","v":""},{"$f":"IF(C14=\"\",\"\",VLOOKUP(C14,部員名簿!$A$5:$F$103,4,FALSE))","v":""},{"$f":"IF(C14=\"\",\"\",VLOOKUP(C14,部員名簿!$A$5:$F$103,5,FALSE))","v":""},"","",null,null,null,null,null,null,"","共通２００ｍ",3,null,null,null,"市立十和田"]
[4,"",null,{"$f":"IF(C15=\"\",\"\",VLOOKUP(C15,部員名簿!$A$5:$G$103,3,FALSE))","v":""},{"$f":"IF(C15=\"\",\"\",VLOOKUP(C15,部員名簿!$A$5:$F$103,6,FALSE))","v":""},{"$f":"IF(C15=\"\",\"\",VLOOKUP(C15,部員名簿!$A$5:$F$103,4,FALSE))","v":""},{"$f":"IF(C15=\"\",\"\",VLOOKUP(C15,部員名簿!$A$5:$F$103,5,FALSE))","v":""},"","",null,null,null,null,null,null,"","共通４００ｍ",4,null,null,null,"尾去沢"]
[5,"",null,{"$f":"IF(C16=\"\",\"\",VLOOKUP(C16,部員名簿!$A$5:$G$103,3,FALSE))","v":""},{"$f":"IF(C16=\"\",\"\",VLOOKUP(C16,部員名簿!$A$5:$F$103,6,FALSE))","v":""},{"$f":"IF(C16=\"\",\"\",VLOOKUP(C16,部員名簿!$A$5:$F$103,4,FALSE))","v":""},{"$f":"IF(C16=\"\",\"\",VLOOKUP(C16,部員名簿!$A$5:$F$103,5,FALSE))","v":""},"","",null,null,null,null,null,null,"","共通８００ｍ",5,"否",null,null,"八幡平"]
[6,"",null,{"$f":"IF(C17=\"\",\"\",VLOOKUP(C17,部員名簿!$A$5:$G$103,3,FALSE))","v":""},{"$f":"IF(C17=\"\",\"\",VLOOKUP(C17,部員名簿!$A$5:$F$103,6,FALSE))","v":""},{"$f":"IF(C17=\"\",\"\",VLOOKUP(C17,部員名簿!$A$5:$F$103,4,FALSE))","v":""},{"$f":"IF(C17=\"\",\"\",VLOOKUP(C17,部員名簿!$A$5:$F$103,5,FALSE))","v":""},"","",null,null,null,null,null,null,"","共通１５００ｍ",6,null,null,null,"小坂"]
[7,"",null,{"$f":"IF(C18=\"\",\"\",VLOOKUP(C18,部員名簿!$A$5:$G$103,3,FALSE))","v":""},{"$f":"IF(C18=\"\",\"\",VLOOKUP(C18,部員名簿!$A$5:$F$103,6,FALSE))","v":""},{"$f":"IF(C18=\"\",\"\",VLOOKUP(C18,部員名簿!$A$5:$F$103,4,FALSE))","v":""},{"$f":"IF(C18=\"\",\"\",VLOOKUP(C18,部員名簿!$A$5:$F$103,5,FALSE))","v":""},"","",null,null,null,null,null,null,"","共通３０００ｍ",7,null,null,null,"町立十和田"]
[8,"",null,{"$f":"IF(C19=\"\",\"\",VLOOKUP(C19,部員名簿!$A$5:$G$103,3,FALSE))","v":""},{"$f":"IF(C19=\"\",\"\",VLOOKUP(C19,部員名簿!$A$5:$F$103,6,FALSE))","v":""},{"$f":"IF(C19=\"\",\"\",VLOOKUP(C19,部員名簿!$A$5:$F$103,4,FALSE))","v":""},{"$f":"IF(C19=\"\",\"\",VLOOKUP(C19,部員名簿!$A$5:$F$103,5,FALSE))","v":""},"","",null,null,null,null,null,null,"","共通１１０ｍＨ",8,null,null,null,"大館第一"]
[9,"",null,{"$f":"IF(C20=\"\",\"\",VLOOKUP(C20,部員名簿!$A$5:$G$103,3,FALSE))","v":""},{"$f":"IF(C20=\"\",\"\",VLOOKUP(C20,部員名簿!$A$5:$F$103,6,FALSE))","v":""},{"$f":"IF(C20=\"\",\"\",VLOOKUP(C20,部員名簿!$A$5:$F$103,4,FALSE))","v":""},{"$f":"IF(C20=\"\",\"\",VLOOKUP(C20,部員名簿!$A$5:$F$103,5,FALSE))","v":""},"","",null,null,null,null,null,null,"","共通走高跳",9,null,null,null,"大館第二"]
[10,"",null,{"$f":"IF(C21=\"\",\"\",VLOOKUP(C21,部員名簿!$A$5:$G$103,3,FALSE))","v":""},{"$f":"IF(C21=\"\",\"\",VLOOKUP(C21,部員名簿!$A$5:$F$103,6,FALSE))","v":""},{"$f":"IF(C21=\"\",\"\",VLOOKUP(C21,部員名簿!$A$5:$F$103,4,FALSE))","v":""},{"$f":"IF(C21=\"\",\"\",VLOOKUP(C21,部員名簿!$A$5:$F$103,5,FALSE))","v":""},"","",null,null,null,null,null,null,"","共通棒高跳",10,null,null,null,"下川沿"]
[11,"",null,{"$f":"IF(C22=\"\",\"\",VLOOKUP(C22,部員名簿!$A$5:$G$103,3,FALSE))","v":""},{"$f":"IF(C22=\"\",\"\",VLOOKUP(C22,部員名簿!$A$5:$F$103,6,FALSE))","v":""},{"$f":"IF(C22=\"\",\"\",VLOOKUP(C22,部員名簿!$A$5:$F$103,4,FALSE))","v":""},{"$f":"IF(C22=\"\",\"\",VLOOKUP(C22,部員名簿!$A$5:$F$103,5,FALSE))","v":""},"","",null,null,null,null,null,null,"","共通走幅跳",11,null,null,null,"大館南"]
[12,"",null,{"$f":"IF(C23=\"\",\"\",VLOOKUP(C23,部員名簿!$A$5:$G$103,3,FALSE))","v":""},{"$f":"IF(C23=\"\",\"\",VLOOKUP(C23,部員名簿!$A$5:$F$103,6,FALSE))","v":""},{"$f":"IF(C23=\"\",\"\",VLOOKUP(C23,部員名簿!$A$5:$F$103,4,FALSE))","v":""},{"$f":"IF(C23=\"\",\"\",VLOOKUP(C23,部員名簿!$A$5:$F$103,5,FALSE))","v":""},"","",null,null,null,null,null,null,"","共通砲丸投",12,null,null,null,"成章"]
[13,"",null,{"$f":"IF(C24=\"\",\"\",VLOOKUP(C24,部員名簿!$A$5:$G$103,3,FALSE))","v":""},{"$f":"IF(C24=\"\",\"\",VLOOKUP(C24,部員名簿!$A$5:$F$103,6,FALSE))","v":""},{"$f":"IF(C24=\"\",\"\",VLOOKUP(C24,部員名簿!$A$5:$F$103,4,FALSE))","v":""},{"$f":"IF(C24=\"\",\"\",VLOOKUP(C24,部員名簿!$A$5:$F$103,5,FALSE))","v":""},"","",null,null,null,null,null,null,"",null,13,null,null,null,"花岡"]
[14,"",null,{"$f":"IF(C25=\"\",\"\",VLOOKUP(C25,部員名簿!$A$5:$G$103,3,FALSE))","v":""},{"$f":"IF(C25=\"\",\"\",VLOOKUP(C25,部員名簿!$A$5:$F$103,6,FALSE))","v":""},{"$f":"IF(C25=\"\",\"\",VLOOKUP(C25,部員名簿!$A$5:$F$103,4,FALSE))","v":""},{"$f":"IF(C25=\"\",\"\",VLOOKUP(C25,部員名簿!$A$5:$F$103,5,FALSE))","v":""},"","",null,null,null,null,null,null,"",null,14,null,null,null,"矢立"]
[15,"",null,{"$f":"IF(C26=\"\",\"\",VLOOKUP(C26,部員名簿!$A$5:$G$103,3,FALSE))","v":""},{"$f":"IF(C26=\"\",\"\",VLOOKUP(C26,部員名簿!$A$5:$F$103,6,FALSE))","v":""},{"$f":"IF(C26=\"\",\"\",VLOOKUP(C26,部員名簿!$A$5:$F$103,4,FALSE))","v":""},{"$f":"IF(C26=\"\",\"\",VLOOKUP(C26,部員名簿!$A$5:$F$103,5,FALSE))","v":""},"","",null,null,null,null,null,null,"",null,15,null,null,null,"大館東"]
[16,"",null,{"$f":"IF(C27=\"\",\"\",VLOOKUP(C27,部員名簿!$A$5:$G$103,3,FALSE))","v":""},{"$f":"IF(C27=\"\",\"\",VLOOKUP(C27,部員名簿!$A$5:$F$103,6,FALSE))","v":""},{"$f":"IF(C27=\"\",\"\",VLOOKUP(C27,部員名簿!$A$5:$F$103,4,FALSE))","v":""},{"$f":"IF(C27=\"\",\"\",VLOOKUP(C27,部員名簿!$A$5:$F$103,5,FALSE))","v":""},"","",null,null,null,null,null,null,"",null,16,null,null,null,"鷹巣"]
[17,"",null,{"$f":"IF(C28=\"\",\"\",VLOOKUP(C28,部員名簿!$A$5:$G$103,3,FALSE))","v":""},{"$f":"IF(C28=\"\",\"\",VLOOKUP(C28,部員名簿!$A$5:$F$103,6,FALSE))","v":""},{"$f":"IF(C28=\"\",\"\",VLOOKUP(C28,部員名簿!$A$5:$F$103,4,FALSE))","v":""},{"$f":"IF(C28=\"\",\"\",VLOOKUP(C28,部員名簿!$A$5:$F$103,5,FALSE))","v":""},"","",null,null,null,null,null,null,"",null,17,null,null,null,"鷹巣南"]
[18,"",null,{"$f":"IF(C29=\"\",\"\",VLOOKUP(C29,部員名簿!$A$5:$G$103,3,FALSE))","v":""},{"$f":"IF(C29=\"\",\"\",VLOOKUP(C29,部員名簿!$A$5:$F$103,6,FALSE))","v":""},{"$f":"IF(C29=\"\",\"\",VLOOKUP(C29,部員名簿!$A$5:$F$103,4,FALSE))","v":""},{"$f":"IF(C29=\"\",\"\",VLOOKUP(C29,部員名簿!$A$5:$F$103,5,FALSE))","v":""},"","",null,null,null,null,null,null,"",null,18,null,null,null,"比内"]
[19,"",null,{"$f":"IF(C30=\"\",\"\",VLOOKUP(C30,部員名簿!$A$5:$G$103,3,FALSE))","v":""},{"$f":"IF(C30=\"\",\"\",VLOOKUP(C30,部員名簿!$A$5:$F$103,6,FALSE))","v":""},{"$f":"IF(C30=\"\",\"\",VLOOKUP(C30,部員名簿!$A$5:$F$103,4,FALSE))","v":""},{"$f":"IF(C30=\"\",\"\",VLOOKUP(C30,部員名簿!$A$5:$F$103,5,FALSE))","v":""},"","",null,null,null,null,null,null,"",null,19,null,null,null,"森吉"]
[20,"",null,{"$f":"IF(C31=\"\",\"\",VLOOKUP(C31,部員名簿!$A$5:$G$103,3,FALSE))","v":""},{"$f":"IF(C31=\"\",\"\",VLOOKUP(C31,部員名簿!$A$5:$F$103,6,FALSE))","v":""},{"$f":"IF(C31=\"\",\"\",VLOOKUP(C31,部員名簿!$A$5:$F$103,4,FALSE))","v":""},{"$f":"IF(C31=\"\",\"\",VLOOKUP(C31,部員名簿!$A$5:$F$103,5,FALSE))","v":""},"","",null,null,null,null,null,null,"",null,null,null,null,null,"阿仁"]
[21,"",null,{"$f":"IF(C32=\"\",\"\",VLOOKUP(C32,部員名簿!$A$5:$G$103,3,FALSE))","v":""},{"$f":"IF(C32=\"\",\"\",VLOOKUP(C32,部員名簿!$A$5:$F$103,6,FALSE))","v":""},{"$f":"IF(C32=\"\",\"\",VLOOKUP(C32,部員名簿!$A$5:$F$103,4,FALSE))","v":""},{"$f":"IF(C32=\"\",\"\",VLOOKUP(C32,部員名簿!$A$5:$F$103,5,FALSE))","v":""},"","",null,null,null,null,null,null,"",null,null,null,null,null,"田代"]
[22,"",null,{"$f":"IF(C33=\"\",\"\",VLOOKUP(C33,部員名簿!$A$5:$G$103,3,FALSE))","v":""},{"$f":"IF(C33=\"\",\"\",VLOOKUP(C33,部員名簿!$A$5:$F$103,6,FALSE))","v":""},{"$f":"IF(C33=\"\",\"\",VLOOKUP(C33,部員名簿!$A$5:$F$103,4,FALSE))","v":""},{"$f":"IF(C33=\"\",\"\",VLOOKUP(C33,部員名簿!$A$5:$F$103,5,FALSE))","v":""},"","",null,null,null,null,null,null,"",null,null,null,null,null,"合川"]
[23,"",null,{"$f":"IF(C34=\"\",\"\",VLOOKUP(C34,部員名簿!$A$5:$G$103,3,FALSE))","v":""},{"$f":"IF(C34=\"\",\"\",VLOOKUP(C34,部員名簿!$A$5:$F$103,6,FALSE))","v":""},{"$f":"IF(C34=\"\",\"\",VLOOKUP(C34,部員名簿!$A$5:$F$103,4,FALSE))","v":""},{"$f":"IF(C34=\"\",\"\",VLOOKUP(C34,部員名簿!$A$5:$F$103,5,FALSE))","v":""},"","",null,null,null,null,null,null,"",null,null,null,null,null,"上小阿仁"]
[24,"",null,{"$f":"IF(C35=\"\",\"\",VLOOKUP(C35,部員名簿!$A$5:$G$103,3,FALSE))","v":""},{"$f":"IF(C35=\"\",\"\",VLOOKUP(C35,部員名簿!$A$5:$F$103,6,FALSE))","v":""},{"$f":"IF(C35=\"\",\"\",VLOOKUP(C35,部員名簿!$A$5:$F$103,4,FALSE))","v":""},{"$f":"IF(C35=\"\",\"\",VLOOKUP(C35,部員名簿!$A$5:$F$103,5,FALSE))","v":""},"","",null,null,null,null,null,null,"",null,null,null,null,null,"能代第一"]
[25,"",null,{"$f":"IF(C36=\"\",\"\",VLOOKUP(C36,部員名簿!$A$5:$G$103,3,FALSE))","v":""},{"$f":"IF(C36=\"\",\"\",VLOOKUP(C36,部員名簿!$A$5:$F$103,6,FALSE))","v":""},{"$f":"IF(C36=\"\",\"\",VLOOKUP(C36,部員名簿!$A$5:$F$103,4,FALSE))","v":""},{"$f":"IF(C36=\"\",\"\",VLOOKUP(C36,部員名簿!$A$5:$F$103,5,FALSE))","v":""},"","",null,null,null,null,null,null,"",null,null,null,null,null,"能代第二"]
[26,"",null,{"$f":"IF(C37=\"\",\"\",VLOOKUP(C37,部員名簿!$A$5:$G$103,3,FALSE))","v":""},{"$f":"IF(C37=\"\",\"\",VLOOKUP(C37,部員名簿!$A$5:$F$103,6,FALSE))","v":""},{"$f":"IF(C37=\"\",\"\",VLOOKUP(C37,部員名簿!$A$5:$F$103,4,FALSE))","v":""},{"$f":"IF(C37=\"\",\"\",VLOOKUP(C37,部員名簿!$A$5:$F$103,5,FALSE))","v":""},"","",null,null,null,null,null,null,"",null,null,null,null,null,"能代東"]
[27,"",null,{"$f":"IF(C38=\"\",\"\",VLOOKUP(C38,部員名簿!$A$5:$G$103,3,FALSE))","v":""},{"$f":"IF(C38=\"\",\"\",VLOOKUP(C38,部員名簿!$A$5:$F$103,6,FALSE))","v":""},{"$f":"IF(C38=\"\",\"\",VLOOKUP(C38,部員名簿!$A$5:$F$103,4,FALSE))","v":""},{"$f":"IF(C38=\"\",\"\",VLOOKUP(C38,部員名簿!$A$5:$F$103,5,FALSE))","v":""},"","",null,null,null,null,null,null,"",null,null,null,null,null,"東雲"]
[28,"",null,{"$f":"IF(C39=\"\",\"\",VLOOKUP(C39,部員名簿!$A$5:$G$103,3,FALSE))","v":""},{"$f":"IF(C39=\"\",\"\",VLOOKUP(C39,部員名簿!$A$5:$F$103,6,FALSE))","v":""},{"$f":"IF(C39=\"\",\"\",VLOOKUP(C39,部員名簿!$A$5:$F$103,4,FALSE))","v":""},{"$f":"IF(C39=\"\",\"\",VLOOKUP(C39,部員名簿!$A$5:$F$103,5,FALSE))","v":""},"","",null,null,null,null,null,null,"",null,null,null,null,null,"能代南"]
[29,"",null,{"$f":"IF(C40=\"\",\"\",VLOOKUP(C40,部員名簿!$A$5:$G$103,3,FALSE))","v":""},{"$f":"IF(C40=\"\",\"\",VLOOKUP(C40,部員名簿!$A$5:$F$103,6,FALSE))","v":""},{"$f":"IF(C40=\"\",\"\",VLOOKUP(C40,部員名簿!$A$5:$F$103,4,FALSE))","v":""},{"$f":"IF(C40=\"\",\"\",VLOOKUP(C40,部員名簿!$A$5:$F$103,5,FALSE))","v":""},"","",null,null,null,null,null,null,"",null,null,null,null,null,"常盤"]
[30,"",null,{"$f":"IF(C41=\"\",\"\",VLOOKUP(C41,部員名簿!$A$5:$G$103,3,FALSE))","v":""},{"$f":"IF(C41=\"\",\"\",VLOOKUP(C41,部員名簿!$A$5:$F$103,6,FALSE))","v":""},{"$f":"IF(C41=\"\",\"\",VLOOKUP(C41,部員名簿!$A$5:$F$103,4,FALSE))","v":""},{"$f":"IF(C41=\"\",\"\",VLOOKUP(C41,部員名簿!$A$5:$F$103,5,FALSE))","v":""},"","",null,null,null,null,null,null,"",null,null,null,null,null,"琴丘"]
[31,"",null,{"$f":"IF(C42=\"\",\"\",VLOOKUP(C42,部員名簿!$A$5:$G$103,3,FALSE))","v":""},{"$f":"IF(C42=\"\",\"\",VLOOKUP(C42,部員名簿!$A$5:$F$103,6,FALSE))","v":""},{"$f":"IF(C42=\"\",\"\",VLOOKUP(C42,部員名簿!$A$5:$F$103,4,FALSE))","v":""},{"$f":"IF(C42=\"\",\"\",VLOOKUP(C42,部員名簿!$A$5:$F$103,5,FALSE))","v":""},"",{"$f":"IF(L42=\"\",\"\",VLOOKUP(L42,$S$12:$T$14,2,FALSE))","v":""},null,null,null,null,null,null,"",null,null,null,null,null,"二ツ井"]
[32,"",null,{"$f":"IF(C43=\"\",\"\",VLOOKUP(C43,部員名簿!$A$5:$G$103,3,FALSE))","v":""},{"$f":"IF(C43=\"\",\"\",VLOOKUP(C43,部員名簿!$A$5:$F$103,6,FALSE))","v":""},{"$f":"IF(C43=\"\",\"\",VLOOKUP(C43,部員名簿!$A$5:$F$103,4,FALSE))","v":""},{"$f":"IF(C43=\"\",\"\",VLOOKUP(C43,部員名簿!$A$5:$F$103,5,FALSE))","v":""},"",{"$f":"IF(L43=\"\",\"\",VLOOKUP(L43,$S$12:$T$14,2,FALSE))","v":""},null,null,null,null,null,null,"",null,null,null,null,null,"八森"]
[33,"",null,{"$f":"IF(C44=\"\",\"\",VLOOKUP(C44,部員名簿!$A$5:$G$103,3,FALSE))","v":""},{"$f":"IF(C44=\"\",\"\",VLOOKUP(C44,部員名簿!$A$5:$F$103,6,FALSE))","v":""},{"$f":"IF(C44=\"\",\"\",VLOOKUP(C44,部員名簿!$A$5:$F$103,4,FALSE))","v":""},{"$f":"IF(C44=\"\",\"\",VLOOKUP(C44,部員名簿!$A$5:$F$103,5,FALSE))","v":""},{"$f":"IF(J44=\"\",\"\",VLOOKUP(J44,$Q$12:$R$30,2,FALSE))","v":""},{"$f":"IF(L44=\"\",\"\",VLOOKUP(L44,$S$12:$T$14,2,FALSE))","v":""},null,null,null,null,null,null,""]
[34,"",null,{"$f":"IF(C45=\"\",\"\",VLOOKUP(C45,部員名簿!$A$5:$G$103,3,FALSE))","v":""},{"$f":"IF(C45=\"\",\"\",VLOOKUP(C45,部員名簿!$A$5:$F$103,6,FALSE))","v":""},{"$f":"IF(C45=\"\",\"\",VLOOKUP(C45,部員名簿!$A$5:$F$103,4,FALSE))","v":""},{"$f":"IF(C45=\"\",\"\",VLOOKUP(C45,部員名簿!$A$5:$F$103,5,FALSE))","v":""},{"$f":"IF(J45=\"\",\"\",VLOOKUP(J45,$Q$12:$R$30,2,FALSE))","v":""},{"$f":"IF(L45=\"\",\"\",VLOOKUP(L45,$S$12:$T$14,2,FALSE))","v":""},null,null,null,null,null,null,"","共通リレー選手数"]
[35,"",null,{"$f":"IF(C46=\"\",\"\",VLOOKUP(C46,部員名簿!$A$5:$G$103,3,FALSE))","v":""},{"$f":"IF(C46=\"\",\"\",VLOOKUP(C46,部員名簿!$A$5:$F$103,6,FALSE))","v":""},{"$f":"IF(C46=\"\",\"\",VLOOKUP(C46,部員名簿!$A$5:$F$103,4,FALSE))","v":""},{"$f":"IF(C46=\"\",\"\",VLOOKUP(C46,部員名簿!$A$5:$F$103,5,FALSE))","v":""},{"$f":"IF(J46=\"\",\"\",VLOOKUP(J46,$Q$12:$R$30,2,FALSE))","v":""},{"$f":"IF(L46=\"\",\"\",VLOOKUP(L46,$S$12:$T$14,2,FALSE))","v":""},null,null,null,null,null,null,"",{"$f":"COUNT(I12:I46)","v":0}]
[null,null,null,null,null,null,null,null,null,null,null,null,null,null,null,null,null,null,null,null,null,"山本"]
[null,null,null,null,null,null,null,null,null,null,null,null,null,null,null,null,null,null,null,null,null,"藤里"]
[null,null,null,null,null,null,null,null,null,null,null,null,null,null,null,null,null,null,null,null,null,"上新城"]
[null,null,null,null,null,null,null,null,null,null,null,null,null,null,null,null,null,null,null,null,null,"豊岩"]
[null,null,null,null,null,null,null,null,null,null,null,null,null,null,null,null,null,null,null,null,null,"城南"]
[null,null,null,null,null,null,null,null,null,null,null,null,null,null,null,null,null,null,null,null,null,"下北手"]
[null,null,null,null,null,null,null,null,null,null,null,null,null,null,null,null,null,null,null,null,null,"下浜"]
[null,null,null,null,null,null,null,null,null,null,null,null,null,null,null,null,null,null,null,null,null,"城東"]
[null,null,null,null,null,null,null,null,null,null,null,null,null,null,null,null,null,null,null,null,null,"泉"]
[null,null,null,null,null,null,null,null,null,null,null,null,null,null,null,null,null,null,null,null,null,"御野場"]
[null,null,null,null,null,null,null,null,null,null,null,null,null,null,null,null,null,null,null,null,null,"勝平"]
[null,null,null,null,null,null,null,null,null,null,null,null,null,null,null,null,null,null,null,null,null,"飯島"]
[null,null,null,null,null,null,null,null,null,null,null,null,null,null,null,null,null,null,null,null,null,"桜"]
[null,null,null,null,null,null,null,null,null,null,null,null,null,null,null,null,null,null,null,null,null,"御所野学院"]
["市春季女子",null,null,null,null,null,null,null,null,null,null,null,null,null,null,null,null,null,null,null,null,"秋田大附属"]
[null,"一覧表用データ",null,null,null,null,null,null,null,null,"個表用データ",null,null,null,null,null,null,null,null,null,null,"聖霊"]
[null,"学校名",null,{"$f":"IF(D4=\"\",\"\",D4)","v":""},null,null,null,null,null,null,"学校名（略称）",{"$f":"IF(L4=\"\",\"\",L4)","v":""},null,null,null,null,null,null,null,null,null,"秋田聾"]
[null,"監督氏名",null,null,"※",null,null,null,null,null,null,null,null,null,null,null,null,null,null,null,null,"男鹿南"]
[null,"校長名",null,{"$f":"IF(D6=\"\",\"\",D6)","v":""},"※",null,null,null,null,null,null,null,null,null,null,null,null,null,null,null,null,"五里合"]
[null,"引率者",null,null,null,null,null,null,null,null,null,null,null,null,null,null,null,null,null,null,null,"男鹿北"]
[null,"代理監督氏名",null,null,null,null,null,null,null,null,null,null,null,null,null,null,null,null,null,null,null,"男鹿東"]
[null,null,null,null,null,null,null,null,null,null,null,null,null,null,null,null,null,null,null,null,null,"五城目第一"]
[null,null,null,null,null,null,null,null,null,null,null,null,null,null,null,null,null,null,null,null,null,"八郎潟"]
[null,"学校名","ナンバー\nカード","氏　　　名","学年","ﾌ ﾘ ｶﾞ ﾅ","氏名英語表記","個人\n種目","リレー","個人種目","ベスト記録","リレー種目","ベスト記録","個人情報の\n記載",null,"性別",null,null,null,null,null,"天王"]
[1,{"$f":"IF(C71=\"\",\"\",$L$63)","v":""},null,{"$f":"IF(C71=\"\",\"\",VLOOKUP(C71,部員名簿!$A$5:$G$103,3,FALSE))","v":""},{"$f":"IF(C71=\"\",\"\",VLOOKUP(C71,部員名簿!$A$5:$G$103,6,FALSE))","v":""},{"$f":"IF(C71=\"\",\"\",VLOOKUP(C71,部員名簿!$A$5:$G$103,4,FALSE))","v":""},{"$f":"IF(C71=\"\",\"\",VLOOKUP(C71,部員名簿!$A$5:$G$103,5,FALSE))","v":""},{"$f":"IF(J71=\"\",\"\",VLOOKUP(J71,$Q$71:$R$86,2,FALSE))","v":""},{"$f":"IF(L71=\"\",\"\",VLOOKUP(L71,$S$71:$T$73,2,FALSE))","v":""},null,null,null,null,null,null,{"$f":"IF(C71=\"\",\"\",2)","v":""},"２年１００ｍ",21,"共通４×１００ｍＲ",38,null,"天王南"]
[2,"",null,{"$f":"IF(C72=\"\",\"\",VLOOKUP(C72,部員名簿!$A$5:$G$103,3,FALSE))","v":""},{"$f":"IF(C72=\"\",\"\",VLOOKUP(C72,部員名簿!$A$5:$G$103,6,FALSE))","v":""},{"$f":"IF(C72=\"\",\"\",VLOOKUP(C72,部員名簿!$A$5:$G$103,4,FALSE))","v":""},{"$f":"IF(C72=\"\",\"\",VLOOKUP(C72,部員名簿!$A$5:$G$103,5,FALSE))","v":""},{"$f":"IF(J72=\"\",\"\",VLOOKUP(J72,$Q$71:$R$86,2,FALSE))","v":""},{"$f":"IF(L72=\"\",\"\",VLOOKUP(L72,$S$71:$T$73,2,FALSE))","v":""},null,null,null,null,null,null,{"$f":"IF(C72=\"\",\"\",2)","v":""},"３年１００ｍ",22,null,null,null,"払戸"]
[3,"",null,{"$f":"IF(C73=\"\",\"\",VLOOKUP(C73,部員名簿!$A$5:$G$103,3,FALSE))","v":""},{"$f":"IF(C73=\"\",\"\",VLOOKUP(C73,部員名簿!$A$5:$G$103,6,FALSE))","v":""},{"$f":"IF(C73=\"\",\"\",VLOOKUP(C73,部員名簿!$A$5:$G$103,4,FALSE))","v":""},{"$f":"IF(C73=\"\",\"\",VLOOKUP(C73,部員名簿!$A$5:$G$103,5,FALSE))","v":""},"","",null,null,null,null,null,null,"","共通２００ｍ",23,null,null,null,"潟西"]
[4,"",null,{"$f":"IF(C74=\"\",\"\",VLOOKUP(C74,部員名簿!$A$5:$G$103,3,FALSE))","v":""},{"$f":"IF(C74=\"\",\"\",VLOOKUP(C74,部員名簿!$A$5:$G$103,6,FALSE))","v":""},{"$f":"IF(C74=\"\",\"\",VLOOKUP(C74,部員名簿!$A$5:$G$103,4,FALSE))","v":""},{"$f":"IF(C74=\"\",\"\",VLOOKUP(C74,部員名簿!$A$5:$G$103,5,FALSE))","v":""},"","",null,null,null,null,null,null,"","共通８００ｍ",24,null,null,null,"井川"]
[5,"",null,{"$f":"IF(C75=\"\",\"\",VLOOKUP(C75,部員名簿!$A$5:$G$103,3,FALSE))","v":""},{"$f":"IF(C75=\"\",\"\",VLOOKUP(C75,部員名簿!$A$5:$G$103,6,FALSE))","v":""},{"$f":"IF(C75=\"\",\"\",VLOOKUP(C75,部員名簿!$A$5:$G$103,4,FALSE))","v":""},{"$f":"IF(C75=\"\",\"\",VLOOKUP(C75,部員名簿!$A$5:$G$103,5,FALSE))","v":""},"","",null,null,null,null,null,null,"","２年１５００ｍ",25,null,null,null,"大潟"]
[6,"",null,{"$f":"IF(C76=\"\",\"\",VLOOKUP(C76,部員名簿!$A$5:$G$103,3,FALSE))","v":""},{"$f":"IF(C76=\"\",\"\",VLOOKUP(C76,部員名簿!$A$5:$G$103,6,FALSE))","v":""},{"$f":"IF(C76=\"\",\"\",VLOOKUP(C76,部員名簿!$A$5:$G$103,4,FALSE))","v":""},{"$f":"IF(C76=\"\",\"\",VLOOKUP(C76,部員名簿!$A$5:$G$103,5,FALSE))","v":""},"","",null,null,null,null,null,null,"","３年１５００ｍ",26,null,null,null,"羽城"]
[7,"",null,{"$f":"IF(C77=\"\",\"\",VLOOKUP(C77,部員名簿!$A$5:$G$103,3,FALSE))","v":""},{"$f":"IF(C77=\"\",\"\",VLOOKUP(C77,部員名簿!$A$5:$G$103,6,FALSE))","v":""},{"$f":"IF(C77=\"\",\"\",VLOOKUP(C77,部員名簿!$A$5:$G$103,4,FALSE))","v":""},{"$f":"IF(C77=\"\",\"\",VLOOKUP(C77,部員名簿!$A$5:$G$103,5,FALSE))","v":""},"","",null,null,null,null,null,null,"","共通１００ｍＨ",27,null,null,null,"岩見三内"]
[8,"",null,{"$f":"IF(C78=\"\",\"\",VLOOKUP(C78,部員名簿!$A$5:$G$103,3,FALSE))","v":""},{"$f":"IF(C78=\"\",\"\",VLOOKUP(C78,部員名簿!$A$5:$G$103,6,FALSE))","v":""},{"$f":"IF(C78=\"\",\"\",VLOOKUP(C78,部員名簿!$A$5:$G$103,4,FALSE))","v":""},{"$f":"IF(C78=\"\",\"\",VLOOKUP(C78,部員名簿!$A$5:$G$103,5,FALSE))","v":""},"","",null,null,null,null,null,null,"","共通走高跳",28,null,null,null,"河辺"]
[9,"",null,{"$f":"IF(C79=\"\",\"\",VLOOKUP(C79,部員名簿!$A$5:$G$103,3,FALSE))","v":""},{"$f":"IF(C79=\"\",\"\",VLOOKUP(C79,部員名簿!$A$5:$G$103,6,FALSE))","v":""},{"$f":"IF(C79=\"\",\"\",VLOOKUP(C79,部員名簿!$A$5:$G$103,4,FALSE))","v":""},{"$f":"IF(C79=\"\",\"\",VLOOKUP(C79,部員名簿!$A$5:$G$103,5,FALSE))","v":""},"","",null,null,null,null,null,null,"","共通走幅跳",29,null,null,null,"雄和"]
[10,"",null,{"$f":"IF(C80=\"\",\"\",VLOOKUP(C80,部員名簿!$A$5:$G$103,3,FALSE))","v":""},{"$f":"IF(C80=\"\",\"\",VLOOKUP(C80,部員名簿!$A$5:$G$103,6,FALSE))","v":""},{"$f":"IF(C80=\"\",\"\",VLOOKUP(C80,部員名簿!$A$5:$G$103,4,FALSE))","v":""},{"$f":"IF(C80=\"\",\"\",VLOOKUP(C80,部員名簿!$A$5:$G$103,5,FALSE))","v":""},"","",null,null,null,null,null,null,"","共通砲丸投",30,null,null,null,"大正寺"]
[11,"",null,{"$f":"IF(C81=\"\",\"\",VLOOKUP(C81,部員名簿!$A$5:$G$103,3,FALSE))","v":""},{"$f":"IF(C81=\"\",\"\",VLOOKUP(C81,部員名簿!$A$5:$G$103,6,FALSE))","v":""},{"$f":"IF(C81=\"\",\"\",VLOOKUP(C81,部員名簿!$A$5:$G$103,4,FALSE))","v":""},{"$f":"IF(C81=\"\",\"\",VLOOKUP(C81,部員名簿!$A$5:$G$103,5,FALSE))","v":""},"","",null,null,null,null,null,null,"",null,31,null,null,null,"本荘北"]
[12,"",null,{"$f":"IF(C82=\"\",\"\",VLOOKUP(C82,部員名簿!$A$5:$G$103,3,FALSE))","v":""},{"$f":"IF(C82=\"\",\"\",VLOOKUP(C82,部員名簿!$A$5:$G$103,6,FALSE))","v":""},{"$f":"IF(C82=\"\",\"\",VLOOKUP(C82,部員名簿!$A$5:$G$103,4,FALSE))","v":""},{"$f":"IF(C82=\"\",\"\",VLOOKUP(C82,部員名簿!$A$5:$G$103,5,FALSE))","v":""},"","",null,null,null,null,null,null,"",null,32,null,null,null,"本荘南"]
[13,"",null,{"$f":"IF(C83=\"\",\"\",VLOOKUP(C83,部員名簿!$A$5:$G$103,3,FALSE))","v":""},{"$f":"IF(C83=\"\",\"\",VLOOKUP(C83,部員名簿!$A$5:$G$103,6,FALSE))","v":""},{"$f":"IF(C83=\"\",\"\",VLOOKUP(C83,部員名簿!$A$5:$G$103,4,FALSE))","v":""},{"$f":"IF(C83=\"\",\"\",VLOOKUP(C83,部員名簿!$A$5:$G$103,5,FALSE))","v":""},"","",null,null,null,null,null,null,"",null,33,null,null,null,"石沢"]
[14,"",null,{"$f":"IF(C84=\"\",\"\",VLOOKUP(C84,部員名簿!$A$5:$G$103,3,FALSE))","v":""},{"$f":"IF(C84=\"\",\"\",VLOOKUP(C84,部員名簿!$A$5:$G$103,6,FALSE))","v":""},{"$f":"IF(C84=\"\",\"\",VLOOKUP(C84,部員名簿!$A$5:$G$103,4,FALSE))","v":""},{"$f":"IF(C84=\"\",\"\",VLOOKUP(C84,部員名簿!$A$5:$G$103,5,FALSE))","v":""},"","",null,null,null,null,null,null,"",null,34,null,null,null,"仁賀保"]
[15,"",null,{"$f":"IF(C85=\"\",\"\",VLOOKUP(C85,部員名簿!$A$5:$G$103,3,FALSE))","v":""},{"$f":"IF(C85=\"\",\"\",VLOOKUP(C85,部員名簿!$A$5:$G$103,6,FALSE))","v":""},{"$f":"IF(C85=\"\",\"\",VLOOKUP(C85,部員名簿!$A$5:$G$103,4,FALSE))","v":""},{"$f":"IF(C85=\"\",\"\",VLOOKUP(C85,部員名簿!$A$5:$G$103,5,FALSE))","v":""},"","",null,null,null,null,null,null,"",null,null,null,null,null,"釜ヶ台"]
[16,"",null,{"$f":"IF(C86=\"\",\"\",VLOOKUP(C86,部員名簿!$A$5:$G$103,3,FALSE))","v":""},{"$f":"IF(C86=\"\",\"\",VLOOKUP(C86,部員名簿!$A$5:$G$103,6,FALSE))","v":""},{"$f":"IF(C86=\"\",\"\",VLOOKUP(C86,部員名簿!$A$5:$G$103,4,FALSE))","v":""},{"$f":"IF(C86=\"\",\"\",VLOOKUP(C86,部員名簿!$A$5:$G$103,5,FALSE))","v":""},"","",null,null,null,null,null,null,"",null,null,null,null,null,"金浦"]
[17,"",null,{"$f":"IF(C87=\"\",\"\",VLOOKUP(C87,部員名簿!$A$5:$G$103,3,FALSE))","v":""},{"$f":"IF(C87=\"\",\"\",VLOOKUP(C87,部員名簿!$A$5:$G$103,6,FALSE))","v":""},{"$f":"IF(C87=\"\",\"\",VLOOKUP(C87,部員名簿!$A$5:$G$103,4,FALSE))","v":""},{"$f":"IF(C87=\"\",\"\",VLOOKUP(C87,部員名簿!$A$5:$G$103,5,FALSE))","v":""},"","",null,null,null,null,null,null,"",null,null,null,null,null,"象潟"]
[18,"",null,{"$f":"IF(C88=\"\",\"\",VLOOKUP(C88,部員名簿!$A$5:$G$103,3,FALSE))","v":""},{"$f":"IF(C88=\"\",\"\",VLOOKUP(C88,部員名簿!$A$5:$G$103,6,FALSE))","v":""},{"$f":"IF(C88=\"\",\"\",VLOOKUP(C88,部員名簿!$A$5:$G$103,4,FALSE))","v":""},{"$f":"IF(C88=\"\",\"\",VLOOKUP(C88,部員名簿!$A$5:$G$103,5,FALSE))","v":""},"","",null,null,null,null,null,null,"",null,null,null,null,null,"矢島"]
[19,"",null,{"$f":"IF(C89=\"\",\"\",VLOOKUP(C89,部員名簿!$A$5:$G$103,3,FALSE))","v":""},{"$f":"IF(C89=\"\",\"\",VLOOKUP(C89,部員名簿!$A$5:$G$103,6,FALSE))","v":""},{"$f":"IF(C89=\"\",\"\",VLOOKUP(C89,部員名簿!$A$5:$G$103,4,FALSE))","v":""},{"$f":"IF(C89=\"\",\"\",VLOOKUP(C89,部員名簿!$A$5:$G$103,5,FALSE))","v":""},"","",null,null,null,null,null,null,"",null,null,null,null,null,"岩城"]
[20,"",null,{"$f":"IF(C90=\"\",\"\",VLOOKUP(C90,部員名簿!$A$5:$G$103,3,FALSE))","v":""},{"$f":"IF(C90=\"\",\"\",VLOOKUP(C90,部員名簿!$A$5:$G$103,6,FALSE))","v":""},{"$f":"IF(C90=\"\",\"\",VLOOKUP(C90,部員名簿!$A$5:$G$103,4,FALSE))","v":""},{"$f":"IF(C90=\"\",\"\",VLOOKUP(C90,部員名簿!$A$5:$G$103,5,FALSE))","v":""},"","",null,null,null,null,null,null,"",null,null,null,null,null,"由利"]
[21,"",null,{"$f":"IF(C91=\"\",\"\",VLOOKUP(C91,部員名簿!$A$5:$G$103,3,FALSE))","v":""},{"$f":"IF(C91=\"\",\"\",VLOOKUP(C91,部員名簿!$A$5:$G$103,6,FALSE))","v":""},{"$f":"IF(C91=\"\",\"\",VLOOKUP(C91,部員名簿!$A$5:$G$103,4,FALSE))","v":""},{"$f":"IF(C91=\"\",\"\",VLOOKUP(C91,部員名簿!$A$5:$G$103,5,FALSE))","v":""},"","",null,null,null,null,null,null,"",null,null,null,null,null,"大内"]
[22,"",null,{"$f":"IF(C92=\"\",\"\",VLOOKUP(C92,部員名簿!$A$5:$G$103,3,FALSE))","v":""},{"$f":"IF(C92=\"\",\"\",VLOOKUP(C92,部員名簿!$A$5:$G$103,6,FALSE))","v":""},{"$f":"IF(C92=\"\",\"\",VLOOKUP(C92,部員名簿!$A$5:$G$103,4,FALSE))","v":""},{"$f":"IF(C92=\"\",\"\",VLOOKUP(C92,部員名簿!$A$5:$G$103,5,FALSE))","v":""},"","",null,null,null,null,null,null,"",null,null,null,null,null,"出羽"]
[23,"",null,{"$f":"IF(C93=\"\",\"\",VLOOKUP(C93,部員名簿!$A$5:$G$103,3,FALSE))","v":""},{"$f":"IF(C93=\"\",\"\",VLOOKUP(C93,部員名簿!$A$5:$G$103,6,FALSE))","v":""},{"$f":"IF(C93=\"\",\"\",VLOOKUP(C93,部員名簿!$A$5:$G$103,4,FALSE))","v":""},{"$f":"IF(C93=\"\",\"\",VLOOKUP(C93,部員名簿!$A$5:$G$103,5,FALSE))","v":""},"","",null,null,null,null,null,null,"",null,null,null,null,null,"西目"]
[24,"",null,{"$f":"IF(C94=\"\",\"\",VLOOKUP(C94,部員名簿!$A$5:$G$103,3,FALSE))","v":""},{"$f":"IF(C94=\"\",\"\",VLOOKUP(C94,部員名簿!$A$5:$G$103,6,FALSE))","v":""},{"$f":"IF(C94=\"\",\"\",VLOOKUP(C94,部員名簿!$A$5:$G$103,4,FALSE))","v":""},{"$f":"IF(C94=\"\",\"\",VLOOKUP(C94,部員名簿!$A$5:$G$103,5,FALSE))","v":""},"","",null,null,null,null,null,null,"",null,null,null,null,null,"鳥海"]
[25,"",null,{"$f":"IF(C95=\"\",\"\",VLOOKUP(C95,部員名簿!$A$5:$G$103,3,FALSE))","v":""},{"$f":"IF(C95=\"\",\"\",VLOOKUP(C95,部員名簿!$A$5:$G$103,6,FALSE))","v":""},{"$f":"IF(C95=\"\",\"\",VLOOKUP(C95,部員名簿!$A$5:$G$103,4,FALSE))","v":""},{"$f":"IF(C95=\"\",\"\",VLOOKUP(C95,部員名簿!$A$5:$G$103,5,FALSE))","v":""},"","",null,null,null,null,null,null,"",null,null,null,null,null,"東由利"]
[26,"",null,{"$f":"IF(C96=\"\",\"\",VLOOKUP(C96,部員名簿!$A$5:$G$103,3,FALSE))","v":""},{"$f":"IF(C96=\"\",\"\",VLOOKUP(C96,部員名簿!$A$5:$G$103,6,FALSE))","v":""},{"$f":"IF(C96=\"\",\"\",VLOOKUP(C96,部員名簿!$A$5:$G$103,4,FALSE))","v":""},{"$f":"IF(C96=\"\",\"\",VLOOKUP(C96,部員名簿!$A$5:$G$103,5,FALSE))","v":""},"","",null,null,null,null,null,null,"",null,null,null,null,null,"大曲"]
[27,"",null,{"$f":"IF(C97=\"\",\"\",VLOOKUP(C97,部員名簿!$A$5:$G$103,3,FALSE))","v":""},{"$f":"IF(C97=\"\",\"\",VLOOKUP(C97,部員名簿!$A$5:$G$103,6,FALSE))","v":""},{"$f":"IF(C97=\"\",\"\",VLOOKUP(C97,部員名簿!$A$5:$G$103,4,FALSE))","v":""},{"$f":"IF(C97=\"\",\"\",VLOOKUP(C97,部員名簿!$A$5:$G$103,5,FALSE))","v":""},"","",null,null,null,null,null,null,"",null,null,null,null,null,"大曲西"]
[28,"",null,{"$f":"IF(C98=\"\",\"\",VLOOKUP(C98,部員名簿!$A$5:$G$103,3,FALSE))","v":""},{"$f":"IF(C98=\"\",\"\",VLOOKUP(C98,部員名簿!$A$5:$G$103,6,FALSE))","v":""},{"$f":"IF(C98=\"\",\"\",VLOOKUP(C98,部員名簿!$A$5:$G$103,4,FALSE))","v":""},{"$f":"IF(C98=\"\",\"\",VLOOKUP(C98,部員名簿!$A$5:$G$103,5,FALSE))","v":""},"","",null,null,null,null,null,null,"",null,null,null,null,null,"大曲南"]
[29,"",null,{"$f":"IF(C99=\"\",\"\",VLOOKUP(C99,部員名簿!$A$5:$G$103,3,FALSE))","v":""},{"$f":"IF(C99=\"\",\"\",VLOOKUP(C99,部員名簿!$A$5:$G$103,6,FALSE))","v":""},{"$f":"IF(C99=\"\",\"\",VLOOKUP(C99,部員名簿!$A$5:$G$103,4,FALSE))","v":""},{"$f":"IF(C99=\"\",\"\",VLOOKUP(C99,部員名簿!$A$5:$G$103,5,FALSE))","v":""},"","",null,null,null,null,null,null,"","共通リレー選手数",null,null,null,null,"平和"]
[30,"",null,{"$f":"IF(C100=\"\",\"\",VLOOKUP(C100,部員名簿!$A$5:$G$103,3,FALSE))","v":""},{"$f":"IF(C100=\"\",\"\",VLOOKUP(C100,部員名簿!$A$5:$G$103,6,FALSE))","v":""},{"$f":"IF(C100=\"\",\"\",VLOOKUP(C100,部員名簿!$A$5:$G$103,4,FALSE))","v":""},{"$f":"IF(C100=\"\",\"\",VLOOKUP(C100,部員名簿!$A$5:$G$103,5,FALSE))","v":""},"","",null,null,null,null,null,null,"",{"$f":"COUNT(I71:I100)","v":0},null,null,null,null,"西仙北東"]
[null,null,null,null,null,null,null,null,null,null,null,null,null,null,null,null,null,null,null,null,null,"六郷"]
[null,null,null,null,null,null,null,null,null,null,null,null,null,null,null,null,null,null,null,null,null,"鳳"]
[null,null,null,null,null,null,null,null,null,null,null,null,null,null,null,null,null,null,null,null,null,"横手西"]
[null,null,null,null,null,null,null,null,null,null,null,null,null,null,null,null,null,null,null,null,null,"金沢"]
[null,null,null,null,null,null,null,null,null,null,null,null,null,null,null,null,null,null,null,null,null,"横手南"]
[null,null,null,null,null,null,null,null,null,null,null,null,null,null,null,null,null,null,null,null,null,"増田"]
[null,null,null,null,null,null,null,null,null,null,null,null,null,null,null,null,null,null,null,null,null,"平鹿"]
[null,null,null,null,null,null,null,null,null,null,null,null,null,null,null,null,null,null,null,null,null,"雄物川"]
[null,"",null,"","","","","","",null,null,null,null,null,null,null,null,null,null,null,null,"大森"]
[null,"",null,"","","","","","",null,null,null,null,null,null,null,null,null,null,null,null,"十文字"]
[null,"",null,"","","","","","",null,null,null,null,null,null,null,null,null,null,null,null,"十文字西"]
[null,"",null,"","","","","","",null,null,null,null,null,null,null,null,null,null,null,null,"山内"]
[null,"",null,"","","","","","",null,null,null,null,null,null,null,null,null,null,null,null,"大雄"]
[null,"",null,"","","","","","",null,null,null,null,null,null,null,null,null,null,null,null,"横手清陵学院"]
[null,"",null,"","","","","","",null,null,null,null,null,null,null,null,null,null,null,null,"湯沢北"]
[null,"",null,"","","","","","",null,null,null,null,null,null,null,null,null,null,null,null,"山田"]
[null,"",null,"","","","","","",null,null,null,null,null,null,null,null,null,null,null,null,"須川"]
[null,"",null,"","","","","","",null,null,null,null,null,null,null,null,null,null,null,null,"湯沢南"]
[null,"",null,"","","","","","",null,null,null,null,null,null,null,null,null,null,null,null,"稲川"]
[null,"",null,"","","","","","",null,null,null,null,null,null,null,null,null,null,null,null,"雄勝"]
[null,"",null,"","","","","","",null,null,null,null,null,null,null,null,null,null,null,null,"三輪"]
[null,"",null,"","","","","","",null,null,null,null,null,null,null,null,null,null,null,null,"高瀬"]
[null,"",null,"","","","","","",null,null,null,null,null,null,null,null,null,null,null,null,"羽後"]
[null,"",null,"","","","","","",null,null,null,null,null,null,null,null,null,null,null,null,"東成瀬"]
[null,"",null,"","","","","","",null,null,null,null,null,null,null,null,null,null,null,null,"皆瀬"]
[null,"",null,"","","","","",""]
[null,"",null,"","","","","",""]
[null,"",null,"","","","","",""]
[null,"",null,"","","","","",""]
[null,"",null,"","","","","",""]
[null,"",null,"","","","","",""]
[null,"",null,"","","","","",""]

{"sheet":"男一覧","index":2,"n_rows":69,"n_cols":45,"rows_kept":69,"cut":false,"hidden":false,"merged":[[51,2,51,4],[51,7,51,11],[51,12,51,16],[1,0,1,17],[2,2,2,9],[3,2,3,9],[3,17,3,18],[2,11,2,14],[3,11,3,14],[42,15,42,17],[55,19,55,23],[56,19,56,21],[6,19,6,23],[5,19,5,23],[7,19,7,23],[8,19,8,23],[16,19,16,23],[17,19,17,23],[18,19,18,23],[15,19,15,23],[22,19,22,23],[23,19,23,23],[32,19,32,23],[33,19,33,23],[34,19,34,23],[27,19,27,23],[4,19,4,23],[55,2,56,3],[1,25,2,25],[9,19,9,23],[10,19,10,23],[11,19,11,23],[12,19,12,23],[13,19,13,23],[14,19,14,23],[3,15,3,16],[24,19,24,23],[19,19,19,23],[25,19,25,23],[26,19,26,23],[20,19,20,23],[21,19,21,23],[28,19,28,23],[29,19,29,23],[30,19,30,23],[31,19,31,23],[47,7,47,8],[35,19,35,23],[45,1,45,17],[36,19,36,23],[43,0,43,11],[37,19,37,23],[38,19,38,23],[39,19,39,23],[47,9,47,15],[47,1,47,5],[42,12,42,13]]}
[]
[{"$f":"CONCATENATE(B68,C68,D68)","v":"令和 7年度　秋田市中学校春季陸上競技大会　参加申込書一覧〔男子〕"}]
[null,"学校名(",{"$f":"IF(B48=\"立　　　　　　　　　\",\"\",B48)","v":""},null,null,null,null,null,null,null,")"]
[null,"監督名(",{"$f":"IF(春季入力!D5=\"\",\"\",春季入力!D5)","v":""},null,null,null,null,null,null,null,")","参加人数(",null,null,null,{"$f":"IF(COUNTA(春季入力!C12:C46)=0,\"\",COUNTA(春季入力!C12:C46))","v":""},null,")名"]
["ナンバー\nカード","氏　　名","フリガナ","学年","２年\n100","３年\n100","共通\n200","共通\n400","共通\n800","共通\n1500","共通\n3000","共通\n110H","共通\n走高","共通\n棒高","共通\n走幅","共通\n砲丸",null,"共通\n400R",null,"個人情報の記載"]
[{"$f":"IF(春季入力!C12=\"\",\"\",春季入力!C12)","v":""},{"$f":"IF(春季入力!D12=\"\",\"\",春季入力!D12)","v":""},{"$f":"IF(春季入力!F12=\"\",\"\",春季入力!F12)","v":""},{"$f":"IF(春季入力!E12=\"\",\"\",春季入力!E12)","v":""},{"$f":"IF(春季入力!$H12=1,\"○\",\"\")","v":""},{"$f":"IF(春季入力!$H12=2,\"○\",\"\")","v":""},{"$f":"IF(春季入力!$H12=3,\"○\",\"\")","v":""},{"$f":"IF(春季入力!$H12=4,\"○\",\"\")","v":""},{"$f":"IF(春季入力!$H12=5,\"○\",\"\")","v":""},{"$f":"IF(春季入力!$H12=6,\"○\",\"\")","v":""},{"$f":"IF(春季入力!$H12=7,\"○\",\"\")","v":""},{"$f":"IF(春季入力!$H12=8,\"○\",\"\")","v":""},{"$f":"IF(春季入力!$H12=9,\"○\",\"\")","v":""},{"$f":"IF(春季入力!$H12=10,\"○\",\"\")","v":""},{"$f":"IF(春季入力!$H12=11,\"○\",\"\")","v":""},{"$f":"IF(春季入力!$H12=12,\"○\",\"\")","v":""},null,{"$f":"IF(春季入力!$I12=18,\"○\",\"\")","v":""},null,{"$f":"IF(春季入力!N12=\"\",\"\",春季入力!N12)","v":""},null,null,null,null,null,null,null,null,null,null,null,null,null,null,null,null,null,null,null,null,null,null,null,null,"○"]
[{"$f":"IF(春季入力!C13=\"\",\"\",春季入力!C13)","v":""},{"$f":"IF(春季入力!D13=\"\",\"\",春季入力!D13)","v":""},{"$f":"IF(春季入力!F13=\"\",\"\",春季入力!F13)","v":""},{"$f":"IF(春季入力!E13=\"\",\"\",春季入力!E13)","v":""},{"$f":"IF(春季入力!$H13=1,\"○\",\"\")","v":""},{"$f":"IF(春季入力!$H13=2,\"○\",\"\")","v":""},{"$f":"IF(春季入力!$H13=3,\"○\",\"\")","v":""},{"$f":"IF(春季入力!$H13=4,\"○\",\"\")","v":""},{"$f":"IF(春季入力!$H13=5,\"○\",\"\")","v":""},{"$f":"IF(春季入力!$H13=6,\"○\",\"\")","v":""},{"$f":"IF(春季入力!$H13=7,\"○\",\"\")","v":""},{"$f":"IF(春季入力!$H13=8,\"○\",\"\")","v":""},{"$f":"IF(春季入力!$H13=9,\"○\",\"\")","v":""},{"$f":"IF(春季入力!$H13=10,\"○\",\"\")","v":""},{"$f":"IF(春季入力!$H13=11,\"○\",\"\")","v":""},{"$f":"IF(春季入力!$H13=12,\"○\",\"\")","v":""},null,{"$f":"IF(春季入力!$I13=18,\"○\",\"\")","v":""},null,{"$f":"IF(春季入力!N13=\"\",\"\",春季入力!N13)","v":""}]
[{"$f":"IF(春季入力!C14=\"\",\"\",春季入力!C14)","v":""},{"$f":"IF(春季入力!D14=\"\",\"\",春季入力!D14)","v":""},{"$f":"IF(春季入力!F14=\"\",\"\",春季入力!F14)","v":""},{"$f":"IF(春季入力!E14=\"\",\"\",春季入力!E14)","v":""},{"$f":"IF(春季入力!$H14=1,\"○\",\"\")","v":""},{"$f":"IF(春季入力!$H14=2,\"○\",\"\")","v":""},{"$f":"IF(春季入力!$H14=3,\"○\",\"\")","v":""},{"$f":"IF(春季入力!$H14=4,\"○\",\"\")","v":""},{"$f":"IF(春季入力!$H14=5,\"○\",\"\")","v":""},{"$f":"IF(春季入力!$H14=6,\"○\",\"\")","v":""},{"$f":"IF(春季入力!$H14=7,\"○\",\"\")","v":""},{"$f":"IF(春季入力!$H14=8,\"○\",\"\")","v":""},{"$f":"IF(春季入力!$H14=9,\"○\",\"\")","v":""},{"$f":"IF(春季入力!$H14=10,\"○\",\"\")","v":""},{"$f":"IF(春季入力!$H14=11,\"○\",\"\")","v":""},{"$f":"IF(春季入力!$H14=12,\"○\",\"\")","v":""},null,{"$f":"IF(春季入力!$I14=18,\"○\",\"\")","v":""},null,{"$f":"IF(春季入力!N14=\"\",\"\",春季入力!N14)","v":""}]
[{"$f":"IF(春季入力!C15=\"\",\"\",春季入力!C15)","v":""},{"$f":"IF(春季入力!D15=\"\",\"\",春季入力!D15)","v":""},{"$f":"IF(春季入力!F15=\"\",\"\",春季入力!F15)","v":""},{"$f":"IF(春季入力!E15=\"\",\"\",春季入力!E15)","v":""},{"$f":"IF(春季入力!$H15=1,\"○\",\"\")","v":""},{"$f":"IF(春季入力!$H15=2,\"○\",\"\")","v":""},{"$f":"IF(春季入力!$H15=3,\"○\",\"\")","v":""},{"$f":"IF(春季入力!$H15=4,\"○\",\"\")","v":""},{"$f":"IF(春季入力!$H15=5,\"○\",\"\")","v":""},{"$f":"IF(春季入力!$H15=6,\"○\",\"\")","v":""},{"$f":"IF(春季入力!$H15=7,\"○\",\"\")","v":""},{"$f":"IF(春季入力!$H15=8,\"○\",\"\")","v":""},{"$f":"IF(春季入力!$H15=9,\"○\",\"\")","v":""},{"$f":"IF(春季入力!$H15=10,\"○\",\"\")","v":""},{"$f":"IF(春季入力!$H15=11,\"○\",\"\")","v":""},{"$f":"IF(春季入力!$H15=12,\"○\",\"\")","v":""},null,{"$f":"IF(春季入力!$I15=18,\"○\",\"\")","v":""},null,{"$f":"IF(春季入力!N15=\"\",\"\",春季入力!N15)","v":""}]
[{"$f":"IF(春季入力!C16=\"\",\"\",春季入力!C16)","v":""},{"$f":"IF(春季入力!D16=\"\",\"\",春季入力!D16)","v":""},{"$f":"IF(春季入力!F16=\"\",\"\",春季入力!F16)","v":""},{"$f":"IF(春季入力!E16=\"\",\"\",春季入力!E16)","v":""},{"$f":"IF(春季入力!$H16=1,\"○\",\"\")","v":""},{"$f":"IF(春季入力!$H16=2,\"○\",\"\")","v":""},{"$f":"IF(春季入力!$H16=3,\"○\",\"\")","v":""},{"$f":"IF(春季入力!$H16=4,\"○\",\"\")","v":""},{"$f":"IF(春季入力!$H16=5,\"○\",\"\")","v":""},{"$f":"IF(春季入力!$H16=6,\"○\",\"\")","v":""},{"$f":"IF(春季入力!$H16=7,\"○\",\"\")","v":""},{"$f":"IF(春季入力!$H16=8,\"○\",\"\")","v":""},{"$f":"IF(春季入力!$H16=9,\"○\",\"\")","v":""},{"$f":"IF(春季入力!$H16=10,\"○\",\"\")","v":""},{"$f":"IF(春季入力!$H16=11,\"○\",\"\")","v":""},{"$f":"IF(春季入力!$H16=12,\"○\",\"\")","v":""},null,{"$f":"IF(春季入力!$I16=18,\"○\",\"\")","v":""},null,{"$f":"IF(春季入力!N16=\"\",\"\",春季入力!N16)","v":""}]
[{"$f":"IF(春季入力!C17=\"\",\"\",春季入力!C17)","v":""},{"$f":"IF(春季入力!D17=\"\",\"\",春季入力!D17)","v":""},{"$f":"IF(春季入力!F17=\"\",\"\",春季入力!F17)","v":""},{"$f":"IF(春季入力!E17=\"\",\"\",春季入力!E17)","v":""},{"$f":"IF(春季入力!$H17=1,\"○\",\"\")","v":""},{"$f":"IF(春季入力!$H17=2,\"○\",\"\")","v":""},{"$f":"IF(春季入力!$H17=3,\"○\",\"\")","v":""},{"$f":"IF(春季入力!$H17=4,\"○\",\"\")","v":""},{"$f":"IF(春季入力!$H17=5,\"○\",\"\")","v":""},{"$f":"IF(春季入力!$H17=6,\"○\",\"\")","v":""},{"$f":"IF(春季入力!$H17=7,\"○\",\"\")","v":""},{"$f":"IF(春季入力!$H17=8,\"○\",\"\")","v":""},{"$f":"IF(春季入力!$H17=9,\"○\",\"\")","v":""},{"$f":"IF(春季入力!$H17=10,\"○\",\"\")","v":""},{"$f":"IF(春季入力!$H17=11,\"○\",\"\")","v":""},{"$f":"IF(春季入力!$H17=12,\"○\",\"\")","v":""},null,{"$f":"IF(春季入力!$I17=18,\"○\",\"\")","v":""},null,{"$f":"IF(春季入力!N17=\"\",\"\",春季入力!N17)","v":""}]
[{"$f":"IF(春季入力!C18=\"\",\"\",春季入力!C18)","v":""},{"$f":"IF(春季入力!D18=\"\",\"\",春季入力!D18)","v":""},{"$f":"IF(春季入力!F18=\"\",\"\",春季入力!F18)","v":""},{"$f":"IF(春季入力!E18=\"\",\"\",春季入力!E18)","v":""},{"$f":"IF(春季入力!$H18=1,\"○\",\"\")","v":""},{"$f":"IF(春季入力!$H18=2,\"○\",\"\")","v":""},{"$f":"IF(春季入力!$H18=3,\"○\",\"\")","v":""},{"$f":"IF(春季入力!$H18=4,\"○\",\"\")","v":""},{"$f":"IF(春季入力!$H18=5,\"○\",\"\")","v":""},{"$f":"IF(春季入力!$H18=6,\"○\",\"\")","v":""},{"$f":"IF(春季入力!$H18=7,\"○\",\"\")","v":""},{"$f":"IF(春季入力!$H18=8,\"○\",\"\")","v":""},{"$f":"IF(春季入力!$H18=9,\"○\",\"\")","v":""},{"$f":"IF(春季入力!$H18=10,\"○\",\"\")","v":""},{"$f":"IF(春季入力!$H18=11,\"○\",\"\")","v":""},{"$f":"IF(春季入力!$H18=12,\"○\",\"\")","v":""},null,{"$f":"IF(春季入力!$I18=18,\"○\",\"\")","v":""},null,{"$f":"IF(春季入力!N18=\"\",\"\",春季入力!N18)","v":""}]
[{"$f":"IF(春季入力!C19=\"\",\"\",春季入力!C19)","v":""},{"$f":"IF(春季入力!D19=\"\",\"\",春季入力!D19)","v":""},{"$f":"IF(春季入力!F19=\"\",\"\",春季入力!F19)","v":""},{"$f":"IF(春季入力!E19=\"\",\"\",春季入力!E19)","v":""},{"$f":"IF(春季入力!$H19=1,\"○\",\"\")","v":""},{"$f":"IF(春季入力!$H19=2,\"○\",\"\")","v":""},{"$f":"IF(春季入力!$H19=3,\"○\",\"\")","v":""},{"$f":"IF(春季入力!$H19=4,\"○\",\"\")","v":""},{"$f":"IF(春季入力!$H19=5,\"○\",\"\")","v":""},{"$f":"IF(春季入力!$H19=6,\"○\",\"\")","v":""},{"$f":"IF(春季入力!$H19=7,\"○\",\"\")","v":""},{"$f":"IF(春季入力!$H19=8,\"○\",\"\")","v":""},{"$f":"IF(春季入力!$H19=9,\"○\",\"\")","v":""},{"$f":"IF(春季入力!$H19=10,\"○\",\"\")","v":""},{"$f":"IF(春季入力!$H19=11,\"○\",\"\")","v":""},{"$f":"IF(春季入力!$H19=12,\"○\",\"\")","v":""},null,{"$f":"IF(春季入力!$I19=18,\"○\",\"\")","v":""},null,{"$f":"IF(春季入力!N19=\"\",\"\",春季入力!N19)","v":""}]
[{"$f":"IF(春季入力!C20=\"\",\"\",春季入力!C20)","v":""},{"$f":"IF(春季入力!D20=\"\",\"\",春季入力!D20)","v":""},{"$f":"IF(春季入力!F20=\"\",\"\",春季入力!F20)","v":""},{"$f":"IF(春季入力!E20=\"\",\"\",春季入力!E20)","v":""},{"$f":"IF(春季入力!$H20=1,\"○\",\"\")","v":""},{"$f":"IF(春季入力!$H20=2,\"○\",\"\")","v":""},{"$f":"IF(春季入力!$H20=3,\"○\",\"\")","v":""},{"$f":"IF(春季入力!$H20=4,\"○\",\"\")","v":""},{"$f":"IF(春季入力!$H20=5,\"○\",\"\")","v":""},{"$f":"IF(春季入力!$H20=6,\"○\",\"\")","v":""},{"$f":"IF(春季入力!$H20=7,\"○\",\"\")","v":""},{"$f":"IF(春季入力!$H20=8,\"○\",\"\")","v":""},{"$f":"IF(春季入力!$H20=9,\"○\",\"\")","v":""},{"$f":"IF(春季入力!$H20=10,\"○\",\"\")","v":""},{"$f":"IF(春季入力!$H20=11,\"○\",\"\")","v":""},{"$f":"IF(春季入力!$H20=12,\"○\",\"\")","v":""},null,{"$f":"IF(春季入力!$I20=18,\"○\",\"\")","v":""},null,{"$f":"IF(春季入力!N20=\"\",\"\",春季入力!N20)","v":""}]
[{"$f":"IF(春季入力!C21=\"\",\"\",春季入力!C21)","v":""},{"$f":"IF(春季入力!D21=\"\",\"\",春季入力!D21)","v":""},{"$f":"IF(春季入力!F21=\"\",\"\",春季入力!F21)","v":""},{"$f":"IF(春季入力!E21=\"\",\"\",春季入力!E21)","v":""},{"$f":"IF(春季入力!$H21=1,\"○\",\"\")","v":""},{"$f":"IF(春季入力!$H21=2,\"○\",\"\")","v":""},{"$f":"IF(春季入力!$H21=3,\"○\",\"\")","v":""},{"$f":"IF(春季入力!$H21=4,\"○\",\"\")","v":""},{"$f":"IF(春季入力!$H21=5,\"○\",\"\")","v":""},{"$f":"IF(春季入力!$H21=6,\"○\",\"\")","v":""},{"$f":"IF(春季入力!$H21=7,\"○\",\"\")","v":""},{"$f":"IF(春季入力!$H21=8,\"○\",\"\")","v":""},{"$f":"IF(春季入力!$H21=9,\"○\",\"\")","v":""},{"$f":"IF(春季入力!$H21=10,\"○\",\"\")","v":""},{"$f":"IF(春季入力!$H21=11,\"○\",\"\")","v":""},{"$f":"IF(春季入力!$H21=12,\"○\",\"\")","v":""},null,{"$f":"IF(春季入力!$I21=18,\"○\",\"\")","v":""},null,{"$f":"IF(春季入力!N21=\"\",\"\",春季入力!N21)","v":""}]
[{"$f":"IF(春季入力!C22=\"\",\"\",春季入力!C22)","v":""},{"$f":"IF(春季入力!D22=\"\",\"\",春季入力!D22)","v":""},{"$f":"IF(春季入力!F22=\"\",\"\",春季入力!F22)","v":""},{"$f":"IF(春季入力!E22=\"\",\"\",春季入力!E22)","v":""},{"$f":"IF(春季入力!$H22=1,\"○\",\"\")","v":""},{"$f":"IF(春季入力!$H22=2,\"○\",\"\")","v":""},{"$f":"IF(春季入力!$H22=3,\"○\",\"\")","v":""},{"$f":"IF(春季入力!$H22=4,\"○\",\"\")","v":""},{"$f":"IF(春季入力!$H22=5,\"○\",\"\")","v":""},{"$f":"IF(春季入力!$H22=6,\"○\",\"\")","v":""},{"$f":"IF(春季入力!$H22=7,\"○\",\"\")","v":""},{"$f":"IF(春季入力!$H22=8,\"○\",\"\")","v":""},{"$f":"IF(春季入力!$H22=9,\"○\",\"\")","v":""},{"$f":"IF(春季入力!$H22=10,\"○\",\"\")","v":""},{"$f":"IF(春季入力!$H22=11,\"○\",\"\")","v":""},{"$f":"IF(春季入力!$H22=12,\"○\",\"\")","v":""},null,{"$f":"IF(春季入力!$I22=18,\"○\",\"\")","v":""},null,{"$f":"IF(春季入力!N22=\"\",\"\",春季入力!N22)","v":""}]
[{"$f":"IF(春季入力!C23=\"\",\"\",春季入力!C23)","v":""},{"$f":"IF(春季入力!D23=\"\",\"\",春季入力!D23)","v":""},{"$f":"IF(春季入力!F23=\"\",\"\",春季入力!F23)","v":""},{"$f":"IF(春季入力!E23=\"\",\"\",春季入力!E23)","v":""},{"$f":"IF(春季入力!$H23=1,\"○\",\"\")","v":""},{"$f":"IF(春季入力!$H23=2,\"○\",\"\")","v":""},{"$f":"IF(春季入力!$H23=3,\"○\",\"\")","v":""},{"$f":"IF(春季入力!$H23=4,\"○\",\"\")","v":""},{"$f":"IF(春季入力!$H23=5,\"○\",\"\")","v":""},{"$f":"IF(春季入力!$H23=6,\"○\",\"\")","v":""},{"$f":"IF(春季入力!$H23=7,\"○\",\"\")","v":""},{"$f":"IF(春季入力!$H23=8,\"○\",\"\")","v":""},{"$f":"IF(春季入力!$H23=9,\"○\",\"\")","v":""},{"$f":"IF(春季入力!$H23=10,\"○\",\"\")","v":""},{"$f":"IF(春季入力!$H23=11,\"○\",\"\")","v":""},{"$f":"IF(春季入力!$H23=12,\"○\",\"\")","v":""},null,{"$f":"IF(春季入力!$I23=18,\"○\",\"\")","v":""},null,{"$f":"IF(春季入力!N23=\"\",\"\",春季入力!N23)","v":""}]
[{"$f":"IF(春季入力!C24=\"\",\"\",春季入力!C24)","v":""},{"$f":"IF(春季入力!D24=\"\",\"\",春季入力!D24)","v":""},{"$f":"IF(春季入力!F24=\"\",\"\",春季入力!F24)","v":""},{"$f":"IF(春季入力!E24=\"\",\"\",春季入力!E24)","v":""},{"$f":"IF(春季入力!$H24=1,\"○\",\"\")","v":""},{"$f":"IF(春季入力!$H24=2,\"○\",\"\")","v":""},{"$f":"IF(春季入力!$H24=3,\"○\",\"\")","v":""},{"$f":"IF(春季入力!$H24=4,\"○\",\"\")","v":""},{"$f":"IF(春季入力!$H24=5,\"○\",\"\")","v":""},{"$f":"IF(春季入力!$H24=6,\"○\",\"\")","v":""},{"$f":"IF(春季入力!$H24=7,\"○\",\"\")","v":""},{"$f":"IF(春季入力!$H24=8,\"○\",\"\")","v":""},{"$f":"IF(春季入力!$H24=9,\"○\",\"\")","v":""},{"$f":"IF(春季入力!$H24=10,\"○\",\"\")","v":""},{"$f":"IF(春季入力!$H24=11,\"○\",\"\")","v":""},{"$f":"IF(春季入力!$H24=12,\"○\",\"\")","v":""},null,{"$f":"IF(春季入力!$I24=18,\"○\",\"\")","v":""},null,{"$f":"IF(春季入力!N24=\"\",\"\",春季入力!N24)","v":""}]
[{"$f":"IF(春季入力!C25=\"\",\"\",春季入力!C25)","v":""},{"$f":"IF(春季入力!D25=\"\",\"\",春季入力!D25)","v":""},{"$f":"IF(春季入力!F25=\"\",\"\",春季入力!F25)","v":""},{"$f":"IF(春季入力!E25=\"\",\"\",春季入力!E25)","v":""},{"$f":"IF(春季入力!$H25=1,\"○\",\"\")","v":""},{"$f":"IF(春季入力!$H25=2,\"○\",\"\")","v":""},{"$f":"IF(春季入力!$H25=3,\"○\",\"\")","v":""},{"$f":"IF(春季入力!$H25=4,\"○\",\"\")","v":""},{"$f":"IF(春季入力!$H25=5,\"○\",\"\")","v":""},{"$f":"IF(春季入力!$H25=6,\"○\",\"\")","v":""},{"$f":"IF(春季入力!$H25=7,\"○\",\"\")","v":""},{"$f":"IF(春季入力!$H25=8,\"○\",\"\")","v":""},{"$f":"IF(春季入力!$H25=9,\"○\",\"\")","v":""},{"$f":"IF(春季入力!$H25=10,\"○\",\"\")","v":""},{"$f":"IF(春季入力!$H25=11,\"○\",\"\")","v":""},{"$f":"IF(春季入力!$H25=12,\"○\",\"\")","v":""},null,{"$f":"IF(春季入力!$I25=18,\"○\",\"\")","v":""},null,{"$f":"IF(春季入力!N25=\"\",\"\",春季入力!N25)","v":""}]
[{"$f":"IF(春季入力!C26=\"\",\"\",春季入力!C26)","v":""},{"$f":"IF(春季入力!D26=\"\",\"\",春季入力!D26)","v":""},{"$f":"IF(春季入力!F26=\"\",\"\",春季入力!F26)","v":""},{"$f":"IF(春季入力!E26=\"\",\"\",春季入力!E26)","v":""},{"$f":"IF(春季入力!$H26=1,\"○\",\"\")","v":""},{"$f":"IF(春季入力!$H26=2,\"○\",\"\")","v":""},{"$f":"IF(春季入力!$H26=3,\"○\",\"\")","v":""},{"$f":"IF(春季入力!$H26=4,\"○\",\"\")","v":""},{"$f":"IF(春季入力!$H26=5,\"○\",\"\")","v":""},{"$f":"IF(春季入力!$H26=6,\"○\",\"\")","v":""},{"$f":"IF(春季入力!$H26=7,\"○\",\"\")","v":""},{"$f":"IF(春季入力!$H26=8,\"○\",\"\")","v":""},{"$f":"IF(春季入力!$H26=9,\"○\",\"\")","v":""},{"$f":"IF(春季入力!$H26=10,\"○\",\"\")","v":""},{"$f":"IF(春季入力!$H26=11,\"○\",\"\")","v":""},{"$f":"IF(春季入力!$H26=12,\"○\",\"\")","v":""},null,{"$f":"IF(春季入力!$I26=18,\"○\",\"\")","v":""},null,{"$f":"IF(春季入力!N26=\"\",\"\",春季入力!N26)","v":""}]
[{"$f":"IF(春季入力!C27=\"\",\"\",春季入力!C27)","v":""},{"$f":"IF(春季入力!D27=\"\",\"\",春季入力!D27)","v":""},{"$f":"IF(春季入力!F27=\"\",\"\",春季入力!F27)","v":""},{"$f":"IF(春季入力!E27=\"\",\"\",春季入力!E27)","v":""},{"$f":"IF(春季入力!$H27=1,\"○\",\"\")","v":""},{"$f":"IF(春季入力!$H27=2,\"○\",\"\")","v":""},{"$f":"IF(春季入力!$H27=3,\"○\",\"\")","v":""},{"$f":"IF(春季入力!$H27=4,\"○\",\"\")","v":""},{"$f":"IF(春季入力!$H27=5,\"○\",\"\")","v":""},{"$f":"IF(春季入力!$H27=6,\"○\",\"\")","v":""},{"$f":"IF(春季入力!$H27=7,\"○\",\"\")","v":""},{"$f":"IF(春季入力!$H27=8,\"○\",\"\")","v":""},{"$f":"IF(春季入力!$H27=9,\"○\",\"\")","v":""},{"$f":"IF(春季入力!$H27=10,\"○\",\"\")","v":""},{"$f":"IF(春季入力!$H27=11,\"○\",\"\")","v":""},{"$f":"IF(春季入力!$H27=12,\"○\",\"\")","v":""},null,{"$f":"IF(春季入力!$I27=18,\"○\",\"\")","v":""},null,{"$f":"IF(春季入力!N27=\"\",\"\",春季入力!N27)","v":""}]
[{"$f":"IF(春季入力!C28=\"\",\"\",春季入力!C28)","v":""},{"$f":"IF(春季入力!D28=\"\",\"\",春季入力!D28)","v":""},{"$f":"IF(春季入力!F28=\"\",\"\",春季入力!F28)","v":""},{"$f":"IF(春季入力!E28=\"\",\"\",春季入力!E28)","v":""},{"$f":"IF(春季入力!$H28=1,\"○\",\"\")","v":""},{"$f":"IF(春季入力!$H28=2,\"○\",\"\")","v":""},{"$f":"IF(春季入力!$H28=3,\"○\",\"\")","v":""},{"$f":"IF(春季入力!$H28=4,\"○\",\"\")","v":""},{"$f":"IF(春季入力!$H28=5,\"○\",\"\")","v":""},{"$f":"IF(春季入力!$H28=6,\"○\",\"\")","v":""},{"$f":"IF(春季入力!$H28=7,\"○\",\"\")","v":""},{"$f":"IF(春季入力!$H28=8,\"○\",\"\")","v":""},{"$f":"IF(春季入力!$H28=9,\"○\",\"\")","v":""},{"$f":"IF(春季入力!$H28=10,\"○\",\"\")","v":""},{"$f":"IF(春季入力!$H28=11,\"○\",\"\")","v":""},{"$f":"IF(春季入力!$H28=12,\"○\",\"\")","v":""},null,{"$f":"IF(春季入力!$I28=18,\"○\",\"\")","v":""},null,{"$f":"IF(春季入力!N28=\"\",\"\",春季入力!N28)","v":""}]
[{"$f":"IF(春季入力!C29=\"\",\"\",春季入力!C29)","v":""},{"$f":"IF(春季入力!D29=\"\",\"\",春季入力!D29)","v":""},{"$f":"IF(春季入力!F29=\"\",\"\",春季入力!F29)","v":""},{"$f":"IF(春季入力!E29=\"\",\"\",春季入力!E29)","v":""},{"$f":"IF(春季入力!$H29=1,\"○\",\"\")","v":""},{"$f":"IF(春季入力!$H29=2,\"○\",\"\")","v":""},{"$f":"IF(春季入力!$H29=3,\"○\",\"\")","v":""},{"$f":"IF(春季入力!$H29=4,\"○\",\"\")","v":""},{"$f":"IF(春季入力!$H29=5,\"○\",\"\")","v":""},{"$f":"IF(春季入力!$H29=6,\"○\",\"\")","v":""},{"$f":"IF(春季入力!$H29=7,\"○\",\"\")","v":""},{"$f":"IF(春季入力!$H29=8,\"○\",\"\")","v":""},{"$f":"IF(春季入力!$H29=9,\"○\",\"\")","v":""},{"$f":"IF(春季入力!$H29=10,\"○\",\"\")","v":""},{"$f":"IF(春季入力!$H29=11,\"○\",\"\")","v":""},{"$f":"IF(春季入力!$H29=12,\"○\",\"\")","v":""},null,{"$f":"IF(春季入力!$I29=18,\"○\",\"\")","v":""},null,{"$f":"IF(春季入力!N29=\"\",\"\",春季入力!N29)","v":""}]
[{"$f":"IF(春季入力!C30=\"\",\"\",春季入力!C30)","v":""},{"$f":"IF(春季入力!D30=\"\",\"\",春季入力!D30)","v":""},{"$f":"IF(春季入力!F30=\"\",\"\",春季入力!F30)","v":""},{"$f":"IF(春季入力!E30=\"\",\"\",春季入力!E30)","v":""},{"$f":"IF(春季入力!$H30=1,\"○\",\"\")","v":""},{"$f":"IF(春季入力!$H30=2,\"○\",\"\")","v":""},{"$f":"IF(春季入力!$H30=3,\"○\",\"\")","v":""},{"$f":"IF(春季入力!$H30=4,\"○\",\"\")","v":""},{"$f":"IF(春季入力!$H30=5,\"○\",\"\")","v":""},{"$f":"IF(春季入力!$H30=6,\"○\",\"\")","v":""},{"$f":"IF(春季入力!$H30=7,\"○\",\"\")","v":""},{"$f":"IF(春季入力!$H30=8,\"○\",\"\")","v":""},{"$f":"IF(春季入力!$H30=9,\"○\",\"\")","v":""},{"$f":"IF(春季入力!$H30=10,\"○\",\"\")","v":""},{"$f":"IF(春季入力!$H30=11,\"○\",\"\")","v":""},{"$f":"IF(春季入力!$H30=12,\"○\",\"\")","v":""},null,{"$f":"IF(春季入力!$I30=18,\"○\",\"\")","v":""},null,{"$f":"IF(春季入力!N30=\"\",\"\",春季入力!N30)","v":""}]
[{"$f":"IF(春季入力!C31=\"\",\"\",春季入力!C31)","v":""},{"$f":"IF(春季入力!D31=\"\",\"\",春季入力!D31)","v":""},{"$f":"IF(春季入力!F31=\"\",\"\",春季入力!F31)","v":""},{"$f":"IF(春季入力!E31=\"\",\"\",春季入力!E31)","v":""},{"$f":"IF(春季入力!$H31=1,\"○\",\"\")","v":""},{"$f":"IF(春季入力!$H31=2,\"○\",\"\")","v":""},{"$f":"IF(春季入力!$H31=3,\"○\",\"\")","v":""},{"$f":"IF(春季入力!$H31=4,\"○\",\"\")","v":""},{"$f":"IF(春季入力!$H31=5,\"○\",\"\")","v":""},{"$f":"IF(春季入力!$H31=6,\"○\",\"\")","v":""},{"$f":"IF(春季入力!$H31=7,\"○\",\"\")","v":""},{"$f":"IF(春季入力!$H31=8,\"○\",\"\")","v":""},{"$f":"IF(春季入力!$H31=9,\"○\",\"\")","v":""},{"$f":"IF(春季入力!$H31=10,\"○\",\"\")","v":""},{"$f":"IF(春季入力!$H31=11,\"○\",\"\")","v":""},{"$f":"IF(春季入力!$H31=12,\"○\",\"\")","v":""},null,{"$f":"IF(春季入力!$I31=18,\"○\",\"\")","v":""},null,{"$f":"IF(春季入力!N31=\"\",\"\",春季入力!N31)","v":""}]
[{"$f":"IF(春季入力!C32=\"\",\"\",春季入力!C32)","v":""},{"$f":"IF(春季入力!D32=\"\",\"\",春季入力!D32)","v":""},{"$f":"IF(春季入力!F32=\"\",\"\",春季入力!F32)","v":""},{"$f":"IF(春季入力!E32=\"\",\"\",春季入力!E32)","v":""},{"$f":"IF(春季入力!$H32=1,\"○\",\"\")","v":""},{"$f":"IF(春季入力!$H32=2,\"○\",\"\")","v":""},{"$f":"IF(春季入力!$H32=3,\"○\",\"\")","v":""},{"$f":"IF(春季入力!$H32=4,\"○\",\"\")","v":""},{"$f":"IF(春季入力!$H32=5,\"○\",\"\")","v":""},{"$f":"IF(春季入力!$H32=6,\"○\",\"\")","v":""},{"$f":"IF(春季入力!$H32=7,\"○\",\"\")","v":""},{"$f":"IF(春季入力!$H32=8,\"○\",\"\")","v":""},{"$f":"IF(春季入力!$H32=9,\"○\",\"\")","v":""},{"$f":"IF(春季入力!$H32=10,\"○\",\"\")","v":""},{"$f":"IF(春季入力!$H32=11,\"○\",\"\")","v":""},{"$f":"IF(春季入力!$H32=12,\"○\",\"\")","v":""},null,{"$f":"IF(春季入力!$I32=18,\"○\",\"\")","v":""},null,{"$f":"IF(春季入力!N32=\"\",\"\",春季入力!N32)","v":""}]
[{"$f":"IF(春季入力!C33=\"\",\"\",春季入力!C33)","v":""},{"$f":"IF(春季入力!D33=\"\",\"\",春季入力!D33)","v":""},{"$f":"IF(春季入力!F33=\"\",\"\",春季入力!F33)","v":""},{"$f":"IF(春季入力!E33=\"\",\"\",春季入力!E33)","v":""},{"$f":"IF(春季入力!$H33=1,\"○\",\"\")","v":""},{"$f":"IF(春季入力!$H33=2,\"○\",\"\")","v":""},{"$f":"IF(春季入力!$H33=3,\"○\",\"\")","v":""},{"$f":"IF(春季入力!$H33=4,\"○\",\"\")","v":""},{"$f":"IF(春季入力!$H33=5,\"○\",\"\")","v":""},{"$f":"IF(春季入力!$H33=6,\"○\",\"\")","v":""},{"$f":"IF(春季入力!$H33=7,\"○\",\"\")","v":""},{"$f":"IF(春季入力!$H33=8,\"○\",\"\")","v":""},{"$f":"IF(春季入力!$H33=9,\"○\",\"\")","v":""},{"$f":"IF(春季入力!$H33=10,\"○\",\"\")","v":""},{"$f":"IF(春季入力!$H33=11,\"○\",\"\")","v":""},{"$f":"IF(春季入力!$H33=12,\"○\",\"\")","v":""},null,{"$f":"IF(春季入力!$I33=18,\"○\",\"\")","v":""},null,{"$f":"IF(春季入力!N33=\"\",\"\",春季入力!N33)","v":""}]
[{"$f":"IF(春季入力!C34=\"\",\"\",春季入力!C34)","v":""},{"$f":"IF(春季入力!D34=\"\",\"\",春季入力!D34)","v":""},{"$f":"IF(春季入力!F34=\"\",\"\",春季入力!F34)","v":""},{"$f":"IF(春季入力!E34=\"\",\"\",春季入力!E34)","v":""},{"$f":"IF(春季入力!$H34=1,\"○\",\"\")","v":""},{"$f":"IF(春季入力!$H34=2,\"○\",\"\")","v":""},{"$f":"IF(春季入力!$H34=3,\"○\",\"\")","v":""},{"$f":"IF(春季入力!$H34=4,\"○\",\"\")","v":""},{"$f":"IF(春季入力!$H34=5,\"○\",\"\")","v":""},{"$f":"IF(春季入力!$H34=6,\"○\",\"\")","v":""},{"$f":"IF(春季入力!$H34=7,\"○\",\"\")","v":""},{"$f":"IF(春季入力!$H34=8,\"○\",\"\")","v":""},{"$f":"IF(春季入力!$H34=9,\"○\",\"\")","v":""},{"$f":"IF(春季入力!$H34=10,\"○\",\"\")","v":""},{"$f":"IF(春季入力!$H34=11,\"○\",\"\")","v":""},{"$f":"IF(春季入力!$H34=12,\"○\",\"\")","v":""},null,{"$f":"IF(春季入力!$I34=18,\"○\",\"\")","v":""},null,{"$f":"IF(春季入力!N34=\"\",\"\",春季入力!N34)","v":""}]
[{"$f":"IF(春季入力!C35=\"\",\"\",春季入力!C35)","v":""},{"$f":"IF(春季入力!D35=\"\",\"\",春季入力!D35)","v":""},{"$f":"IF(春季入力!F35=\"\",\"\",春季入力!F35)","v":""},{"$f":"IF(春季入力!E35=\"\",\"\",春季入力!E35)","v":""},{"$f":"IF(春季入力!$H35=1,\"○\",\"\")","v":""},{"$f":"IF(春季入力!$H35=2,\"○\",\"\")","v":""},{"$f":"IF(春季入力!$H35=3,\"○\",\"\")","v":""},{"$f":"IF(春季入力!$H35=4,\"○\",\"\")","v":""},{"$f":"IF(春季入力!$H35=5,\"○\",\"\")","v":""},{"$f":"IF(春季入力!$H35=6,\"○\",\"\")","v":""},{"$f":"IF(春季入力!$H35=7,\"○\",\"\")","v":""},{"$f":"IF(春季入力!$H35=8,\"○\",\"\")","v":""},{"$f":"IF(春季入力!$H35=9,\"○\",\"\")","v":""},{"$f":"IF(春季入力!$H35=10,\"○\",\"\")","v":""},{"$f":"IF(春季入力!$H35=11,\"○\",\"\")","v":""},{"$f":"IF(春季入力!$H35=12,\"○\",\"\")","v":""},null,{"$f":"IF(春季入力!$I35=18,\"○\",\"\")","v":""},null,{"$f":"IF(春季入力!N35=\"\",\"\",春季入力!N35)","v":""}]
[{"$f":"IF(春季入力!C36=\"\",\"\",春季入力!C36)","v":""},{"$f":"IF(春季入力!D36=\"\",\"\",春季入力!D36)","v":""},{"$f":"IF(春季入力!F36=\"\",\"\",春季入力!F36)","v":""},{"$f":"IF(春季入力!E36=\"\",\"\",春季入力!E36)","v":""},{"$f":"IF(春季入力!$H36=1,\"○\",\"\")","v":""},{"$f":"IF(春季入力!$H36=2,\"○\",\"\")","v":""},{"$f":"IF(春季入力!$H36=3,\"○\",\"\")","v":""},{"$f":"IF(春季入力!$H36=4,\"○\",\"\")","v":""},{"$f":"IF(春季入力!$H36=5,\"○\",\"\")","v":""},{"$f":"IF(春季入力!$H36=6,\"○\",\"\")","v":""},{"$f":"IF(春季入力!$H36=7,\"○\",\"\")","v":""},{"$f":"IF(春季入力!$H36=8,\"○\",\"\")","v":""},{"$f":"IF(春季入力!$H36=9,\"○\",\"\")","v":""},{"$f":"IF(春季入力!$H36=10,\"○\",\"\")","v":""},{"$f":"IF(春季入力!$H36=11,\"○\",\"\")","v":""},{"$f":"IF(春季入力!$H36=12,\"○\",\"\")","v":""},null,{"$f":"IF(春季入力!$I36=18,\"○\",\"\")","v":""},null,{"$f":"IF(春季入力!N36=\"\",\"\",春季入力!N36)","v":""}]
[{"$f":"IF(春季入力!C37=\"\",\"\",春季入力!C37)","v":""},{"$f":"IF(春季入力!D37=\"\",\"\",春季入力!D37)","v":""},{"$f":"IF(春季入力!F37=\"\",\"\",春季入力!F37)","v":""},{"$f":"IF(春季入力!E37=\"\",\"\",春季入力!E37)","v":""},{"$f":"IF(春季入力!$H37=1,\"○\",\"\")","v":""},{"$f":"IF(春季入力!$H37=2,\"○\",\"\")","v":""},{"$f":"IF(春季入力!$H37=3,\"○\",\"\")","v":""},{"$f":"IF(春季入力!$H37=4,\"○\",\"\")","v":""},{"$f":"IF(春季入力!$H37=5,\"○\",\"\")","v":""},{"$f":"IF(春季入力!$H37=6,\"○\",\"\")","v":""},{"$f":"IF(春季入力!$H37=7,\"○\",\"\")","v":""},{"$f":"IF(春季入力!$H37=8,\"○\",\"\")","v":""},{"$f":"IF(春季入力!$H37=9,\"○\",\"\")","v":""},{"$f":"IF(春季入力!$H37=10,\"○\",\"\")","v":""},{"$f":"IF(春季入力!$H37=11,\"○\",\"\")","v":""},{"$f":"IF(春季入力!$H37=12,\"○\",\"\")","v":""},null,{"$f":"IF(春季入力!$I37=18,\"○\",\"\")","v":""},null,{"$f":"IF(春季入力!N37=\"\",\"\",春季入力!N37)","v":""}]
[{"$f":"IF(春季入力!C38=\"\",\"\",春季入力!C38)","v":""},{"$f":"IF(春季入力!D38=\"\",\"\",春季入力!D38)","v":""},{"$f":"IF(春季入力!F38=\"\",\"\",春季入力!F38)","v":""},{"$f":"IF(春季入力!E38=\"\",\"\",春季入力!E38)","v":""},{"$f":"IF(春季入力!$H38=1,\"○\",\"\")","v":""},{"$f":"IF(春季入力!$H38=2,\"○\",\"\")","v":""},{"$f":"IF(春季入力!$H38=3,\"○\",\"\")","v":""},{"$f":"IF(春季入力!$H38=4,\"○\",\"\")","v":""},{"$f":"IF(春季入力!$H38=5,\"○\",\"\")","v":""},{"$f":"IF(春季入力!$H38=6,\"○\",\"\")","v":""},{"$f":"IF(春季入力!$H38=7,\"○\",\"\")","v":""},{"$f":"IF(春季入力!$H38=8,\"○\",\"\")","v":""},{"$f":"IF(春季入力!$H38=9,\"○\",\"\")","v":""},{"$f":"IF(春季入力!$H38=10,\"○\",\"\")","v":""},{"$f":"IF(春季入力!$H38=11,\"○\",\"\")","v":""},{"$f":"IF(春季入力!$H38=12,\"○\",\"\")","v":""},null,{"$f":"IF(春季入力!$I38=18,\"○\",\"\")","v":""},null,{"$f":"IF(春季入力!N38=\"\",\"\",春季入力!N38)","v":""}]
[{"$f":"IF(春季入力!C39=\"\",\"\",春季入力!C39)","v":""},{"$f":"IF(春季入力!D39=\"\",\"\",春季入力!D39)","v":""},{"$f":"IF(春季入力!F39=\"\",\"\",春季入力!F39)","v":""},{"$f":"IF(春季入力!E39=\"\",\"\",春季入力!E39)","v":""},{"$f":"IF(春季入力!$H39=1,\"○\",\"\")","v":""},{"$f":"IF(春季入力!$H39=2,\"○\",\"\")","v":""},{"$f":"IF(春季入力!$H39=3,\"○\",\"\")","v":""},{"$f":"IF(春季入力!$H39=4,\"○\",\"\")","v":""},{"$f":"IF(春季入力!$H39=5,\"○\",\"\")","v":""},{"$f":"IF(春季入力!$H39=6,\"○\",\"\")","v":""},{"$f":"IF(春季入力!$H39=7,\"○\",\"\")","v":""},{"$f":"IF(春季入力!$H39=8,\"○\",\"\")","v":""},{"$f":"IF(春季入力!$H39=9,\"○\",\"\")","v":""},{"$f":"IF(春季入力!$H39=10,\"○\",\"\")","v":""},{"$f":"IF(春季入力!$H39=11,\"○\",\"\")","v":""},{"$f":"IF(春季入力!$H39=12,\"○\",\"\")","v":""},null,{"$f":"IF(春季入力!$I39=18,\"○\",\"\")","v":""},null,{"$f":"IF(春季入力!N39=\"\",\"\",春季入力!N39)","v":""}]
[{"$f":"IF(春季入力!C40=\"\",\"\",春季入力!C40)","v":""},{"$f":"IF(春季入力!D40=\"\",\"\",春季入力!D40)","v":""},{"$f":"IF(春季入力!F40=\"\",\"\",春季入力!F40)","v":""},{"$f":"IF(春季入力!E40=\"\",\"\",春季入力!E40)","v":""},{"$f":"IF(春季入力!$H40=1,\"○\",\"\")","v":""},{"$f":"IF(春季入力!$H40=2,\"○\",\"\")","v":""},{"$f":"IF(春季入力!$H40=3,\"○\",\"\")","v":""},{"$f":"IF(春季入力!$H40=4,\"○\",\"\")","v":""},{"$f":"IF(春季入力!$H40=5,\"○\",\"\")","v":""},{"$f":"IF(春季入力!$H40=6,\"○\",\"\")","v":""},{"$f":"IF(春季入力!$H40=7,\"○\",\"\")","v":""},{"$f":"IF(春季入力!$H40=8,\"○\",\"\")","v":""},{"$f":"IF(春季入力!$H40=9,\"○\",\"\")","v":""},{"$f":"IF(春季入力!$H40=10,\"○\",\"\")","v":""},{"$f":"IF(春季入力!$H40=11,\"○\",\"\")","v":""},{"$f":"IF(春季入力!$H40=12,\"○\",\"\")","v":""},null,{"$f":"IF(春季入力!$I40=18,\"○\",\"\")","v":""},null,{"$f":"IF(春季入力!N40=\"\",\"\",春季入力!N40)","v":""}]
[{"$f":"IF(春季入力!C41=\"\",\"\",春季入力!C41)","v":""},{"$f":"IF(春季入力!D41=\"\",\"\",春季入力!D41)","v":""},{"$f":"IF(春季入力!F41=\"\",\"\",春季入力!F41)","v":""},{"$f":"IF(春季入力!E41=\"\",\"\",春季入力!E41)","v":""},{"$f":"IF(春季入力!$H41=1,\"○\",\"\")","v":""},{"$f":"IF(春季入力!$H41=2,\"○\",\"\")","v":""},{"$f":"IF(春季入力!$H41=3,\"○\",\"\")","v":""},{"$f":"IF(春季入力!$H41=4,\"○\",\"\")","v":""},{"$f":"IF(春季入力!$H41=5,\"○\",\"\")","v":""},{"$f":"IF(春季入力!$H41=6,\"○\",\"\")","v":""},{"$f":"IF(春季入力!$H41=7,\"○\",\"\")","v":""},{"$f":"IF(春季入力!$H41=8,\"○\",\"\")","v":""},{"$f":"IF(春季入力!$H41=9,\"○\",\"\")","v":""},{"$f":"IF(春季入力!$H41=10,\"○\",\"\")","v":""},{"$f":"IF(春季入力!$H41=11,\"○\",\"\")","v":""},{"$f":"IF(春季入力!$H41=12,\"○\",\"\")","v":""},null,{"$f":"IF(春季入力!$I41=18,\"○\",\"\")","v":""},null,{"$f":"IF(春季入力!N41=\"\",\"\",春季入力!N41)","v":""}]
[{"$f":"IF(春季入力!C42=\"\",\"\",春季入力!C42)","v":""},{"$f":"IF(春季入力!D42=\"\",\"\",春季入力!D42)","v":""},{"$f":"IF(春季入力!F42=\"\",\"\",春季入力!F42)","v":""},{"$f":"IF(春季入力!E42=\"\",\"\",春季入力!E42)","v":""},{"$f":"IF(春季入力!$H42=1,\"○\",\"\")","v":""},{"$f":"IF(春季入力!$H42=2,\"○\",\"\")","v":""},{"$f":"IF(春季入力!$H42=3,\"○\",\"\")","v":""},{"$f":"IF(春季入力!$H42=4,\"○\",\"\")","v":""},{"$f":"IF(春季入力!$H42=5,\"○\",\"\")","v":""},{"$f":"IF(春季入力!$H42=6,\"○\",\"\")","v":""},{"$f":"IF(春季入力!$H42=7,\"○\",\"\")","v":""},{"$f":"IF(春季入力!$H42=8,\"○\",\"\")","v":""},{"$f":"IF(春季入力!$H42=9,\"○\",\"\")","v":""},{"$f":"IF(春季入力!$H42=10,\"○\",\"\")","v":""},{"$f":"IF(春季入力!$H42=11,\"○\",\"\")","v":""},{"$f":"IF(春季入力!$H42=12,\"○\",\"\")","v":""},null,{"$f":"IF(春季入力!$I42=18,\"○\",\"\")","v":""},null,{"$f":"IF(春季入力!N42=\"\",\"\",春季入力!N42)","v":""}]
[{"$f":"IF(春季入力!C43=\"\",\"\",春季入力!C43)","v":""},{"$f":"IF(春季入力!D43=\"\",\"\",春季入力!D43)","v":""},{"$f":"IF(春季入力!F43=\"\",\"\",春季入力!F43)","v":""},{"$f":"IF(春季入力!E43=\"\",\"\",春季入力!E43)","v":""},{"$f":"IF(春季入力!$H43=1,\"○\",\"\")","v":""},{"$f":"IF(春季入力!$H43=2,\"○\",\"\")","v":""},{"$f":"IF(春季入力!$H43=3,\"○\",\"\")","v":""},{"$f":"IF(春季入力!$H43=4,\"○\",\"\")","v":""},{"$f":"IF(春季入力!$H43=5,\"○\",\"\")","v":""},{"$f":"IF(春季入力!$H43=6,\"○\",\"\")","v":""},{"$f":"IF(春季入力!$H43=7,\"○\",\"\")","v":""},{"$f":"IF(春季入力!$H43=8,\"○\",\"\")","v":""},{"$f":"IF(春季入力!$H43=9,\"○\",\"\")","v":""},{"$f":"IF(春季入力!$H43=10,\"○\",\"\")","v":""},{"$f":"IF(春季入力!$H43=11,\"○\",\"\")","v":""},{"$f":"IF(春季入力!$H43=12,\"○\",\"\")","v":""},null,{"$f":"IF(春季入力!$I43=18,\"○\",\"\")","v":""},null,{"$f":"IF(春季入力!N43=\"\",\"\",春季入力!N43)","v":""}]
[{"$f":"IF(春季入力!C44=\"\",\"\",春季入力!C44)","v":""},{"$f":"IF(春季入力!D44=\"\",\"\",春季入力!D44)","v":""},{"$f":"IF(春季入力!F44=\"\",\"\",春季入力!F44)","v":""},{"$f":"IF(春季入力!E44=\"\",\"\",春季入力!E44)","v":""},{"$f":"IF(春季入力!$H44=1,\"○\",\"\")","v":""},{"$f":"IF(春季入力!$H44=2,\"○\",\"\")","v":""},{"$f":"IF(春季入力!$H44=3,\"○\",\"\")","v":""},{"$f":"IF(春季入力!$H44=4,\"○\",\"\")","v":""},{"$f":"IF(春季入力!$H44=5,\"○\",\"\")","v":""},{"$f":"IF(春季入力!$H44=6,\"○\",\"\")","v":""},{"$f":"IF(春季入力!$H44=7,\"○\",\"\")","v":""},{"$f":"IF(春季入力!$H44=8,\"○\",\"\")","v":""},{"$f":"IF(春季入力!$H44=9,\"○\",\"\")","v":""},{"$f":"IF(春季入力!$H44=10,\"○\",\"\")","v":""},{"$f":"IF(春季入力!$H44=11,\"○\",\"\")","v":""},{"$f":"IF(春季入力!$H44=12,\"○\",\"\")","v":""},null,{"$f":"IF(春季入力!$I44=18,\"○\",\"\")","v":""},null,{"$f":"IF(春季入力!N44=\"\",\"\",春季入力!N44)","v":""}]
[{"$f":"IF(春季入力!C45=\"\",\"\",春季入力!C45)","v":""},{"$f":"IF(春季入力!D45=\"\",\"\",春季入力!D45)","v":""},{"$f":"IF(春季入力!F45=\"\",\"\",春季入力!F45)","v":""},{"$f":"IF(春季入力!E45=\"\",\"\",春季入力!E45)","v":""},{"$f":"IF(春季入力!$H45=1,\"○\",\"\")","v":""},{"$f":"IF(春季入力!$H45=2,\"○\",\"\")","v":""},{"$f":"IF(春季入力!$H45=3,\"○\",\"\")","v":""},{"$f":"IF(春季入力!$H45=4,\"○\",\"\")","v":""},{"$f":"IF(春季入力!$H45=5,\"○\",\"\")","v":""},{"$f":"IF(春季入力!$H45=6,\"○\",\"\")","v":""},{"$f":"IF(春季入力!$H45=7,\"○\",\"\")","v":""},{"$f":"IF(春季入力!$H45=8,\"○\",\"\")","v":""},{"$f":"IF(春季入力!$H45=9,\"○\",\"\")","v":""},{"$f":"IF(春季入力!$H45=10,\"○\",\"\")","v":""},{"$f":"IF(春季入力!$H45=11,\"○\",\"\")","v":""},{"$f":"IF(春季入力!$H45=12,\"○\",\"\")","v":""},null,{"$f":"IF(春季入力!$I45=18,\"○\",\"\")","v":""},null,{"$f":"IF(春季入力!N45=\"\",\"\",春季入力!N45)","v":""}]
[{"$f":"IF(春季入力!C46=\"\",\"\",春季入力!C46)","v":""},{"$f":"IF(春季入力!D46=\"\",\"\",春季入力!D46)","v":""},{"$f":"IF(春季入力!F46=\"\",\"\",春季入力!F46)","v":""},{"$f":"IF(春季入力!E46=\"\",\"\",春季入力!E46)","v":""},{"$f":"IF(春季入力!$H46=1,\"○\",\"\")","v":""},{"$f":"IF(春季入力!$H46=2,\"○\",\"\")","v":""},{"$f":"IF(春季入力!$H46=3,\"○\",\"\")","v":""},{"$f":"IF(春季入力!$H46=4,\"○\",\"\")","v":""},{"$f":"IF(春季入力!$H46=5,\"○\",\"\")","v":""},{"$f":"IF(春季入力!$H46=6,\"○\",\"\")","v":""},{"$f":"IF(春季入力!$H46=7,\"○\",\"\")","v":""},{"$f":"IF(春季入力!$H46=8,\"○\",\"\")","v":""},{"$f":"IF(春季入力!$H46=9,\"○\",\"\")","v":""},{"$f":"IF(春季入力!$H46=10,\"○\",\"\")","v":""},{"$f":"IF(春季入力!$H46=11,\"○\",\"\")","v":""},{"$f":"IF(春季入力!$H46=12,\"○\",\"\")","v":""},null,{"$f":"IF(春季入力!$I46=18,\"○\",\"\")","v":""},null,{"$f":"IF(春季入力!N46=\"\",\"\",春季入力!N46)","v":""}]
[]
[]
[null,null,null,null,null,null,null,null,null,null,null,null,"令和",null,{"$f":"C68&\"年\"","v":"7年"},{"$f":"TODAY()","v":"2025-02-19"}]
["　秋田市中学校体育連盟　会長　様"]
[]
[null,"　上記の生徒は要項に照らし適格者であり，学校代表としてもふさわしく，また，保護者の同意を得ておりますので，大会への参加を申し込みいたします。"]
[]
[null,{"$f":"IF(春季入力!D4=\"\",\"立　　　　　　　　　\",春季入力!D4)","v":"立　　　　　　　　　"},null,null,null,null,null,"校長",null,{"$f":"IF(春季入力!D6=\"\",\"\",春季入力!D6)","v":""},null,null,null,null,null,null,"公印"]
[]
[null,"※引率・監督者の特例を適用する場合は氏名を記入"]
[]
[null,"（引率者氏名",{"$f":"IF(春季入力!D7=\"\",\"\",春季入力!D7)","v":""},null,null,"）",null,"（代理監督者氏名",null,null,null,null,{"$f":"IF(春季入力!D8=\"\",\"\",春季入力!D8)","v":""},null,null,null,null,"）"]
[]
[]
["※　男子は黒，女子は赤で記入すること。"]
[null,null,"エラーチェック",null,{"$f":"E5","v":"２年\n100"},{"$f":"F5","v":"３年\n100"},"共通\n200","共通\n400","共通\n800","共通\n1500","共通\n3000","共通\n110H","共通\n走高","共通\n棒高","共通\n走幅","共通\n砲丸",null,"共通\n400R",null,"個人情報の掲載"]
[null,null,null,null,{"$f":"IF(E60>2,\"×\",\"○\")","v":"○"},{"$f":"IF(F60>2,\"×\",\"○\")","v":"○"},"○","○","○","○","○","○","○","○","○","○",null,{"$f":"IF(R60>6,\"×\",\"○\")","v":"○"},null,"否の人数",null,null,{"$f":"COUNTIF(T6:X40,\"否\")","v":0},"人"]
[null,null,null,null,"各種目○ならok。×の場合は人数が超過している。"]
[]
[null,null,null,null,{"$f":"COUNTIF(E$6:E$40,\"○\")","v":0},0,0,0,0,0,0,0,0,0,0,0,0,0,0,0,0,0,0,0]
[]
[]
[]
[]
[]
[null,{"$f":"TODAY()","v":"2025-02-19"}]
[null,{"$f":"YEAR(B66)","v":2025}]
[null,"令和 ",{"$f":"B67-2018","v":7},"年度　秋田市中学校春季陸上競技大会　参加申込書一覧〔男子〕"]
[null,null,null,"年度　秋田市中学校春季陸上競技大会　参加申込書一覧〔女子〕"]

{"sheet":"女一覧","index":3,"n_rows":59,"n_cols":45,"rows_kept":59,"cut":false,"hidden":false,"merged":[[3,15,3,16],[1,0,1,16],[40,1,40,15],[2,2,2,7],[3,2,3,7],[3,9,3,12],[3,13,3,14],[50,17,50,20],[38,0,38,9],[4,17,4,20],[5,17,5,20],[50,2,51,3],[51,17,51,18],[6,17,6,20],[7,17,7,20],[8,17,8,20],[9,17,9,20],[14,17,14,20],[15,17,15,20],[16,17,16,20],[17,17,17,20],[10,17,10,20],[11,17,11,20],[12,17,12,20],[13,17,13,20],[22,17,22,20],[23,17,23,20],[24,17,24,20],[25,17,25,20],[18,17,18,20],[19,17,19,20],[20,17,20,20],[21,17,21,20],[30,17,30,20],[31,17,31,20],[32,17,32,20],[33,17,33,20],[26,17,26,20],[27,17,27,20],[28,17,28,20],[29,17,29,20],[49,0,49,16],[46,2,46,3],[46,5,46,9],[34,17,34,20],[46,10,46,14],[42,7,42,8],[42,9,42,14],[42,1,42,5],[37,10,37,11],[37,13,37,15]]}
[]
[{"$f":"CONCATENATE(男一覧!B68,男一覧!C68,男一覧!D69)","v":"令和 7年度　秋田市中学校春季陸上競技大会　参加申込書一覧〔女子〕"}]
[null,"学校名(",{"$f":"IF(B43=\"立　　　　　　　　　　\",\"\",B43)","v":""},null,null,null,null,null,")"]
[null,"監督名(",{"$f":"IF(春季入力!D64=\"\",\"\",春季入力!D64)","v":""},null,null,null,null,null,")","参加人数(",null,null,null,{"$f":"IF(COUNTA(春季入力!C71:C100)=0,\"\",COUNTA(春季入力!C71:C100))","v":""},null,")名"]
["ナンバー\nカード","氏    名","フリガナ","学年","２年\n100","３年\n100","共通\n200","共通\n800","２年\n1500","３年\n1500","共通\n100H","共通\n走高","共通\n走幅","共通\n砲丸",null,"共通\n400R",null,"個人情報の記載"]
[{"$f":"IF(春季入力!C71=\"\",\"\",春季入力!C71)","v":""},{"$f":"IF(春季入力!D71=\"\",\"\",春季入力!D71)","v":""},{"$f":"IF(春季入力!F71=\"\",\"\",春季入力!F71)","v":""},{"$f":"IF(春季入力!E71=\"\",\"\",春季入力!E71)","v":""},{"$f":"IF(春季入力!$H71=21,\"○\",\"\")","v":""},{"$f":"IF(春季入力!$H71=22,\"○\",\"\")","v":""},{"$f":"IF(春季入力!$H71=23,\"○\",\"\")","v":""},{"$f":"IF(春季入力!$H71=24,\"○\",\"\")","v":""},{"$f":"IF(春季入力!$H71=25,\"○\",\"\")","v":""},{"$f":"IF(春季入力!$H71=26,\"○\",\"\")","v":""},{"$f":"IF(春季入力!$H71=27,\"○\",\"\")","v":""},{"$f":"IF(春季入力!$H71=28,\"○\",\"\")","v":""},{"$f":"IF(春季入力!$H71=29,\"○\",\"\")","v":""},{"$f":"IF(春季入力!$H71=30,\"○\",\"\")","v":""},null,{"$f":"IF(春季入力!$I71=38,\"○\",\"\")","v":""},null,{"$f":"IF(春季入力!N71=\"\",\"\",春季入力!N71)","v":""},null,null,null,null,null,null,null,null,null,null,null,null,null,null,null,null,null,null,null,null,null,null,null,null,null,null,"○"]
[{"$f":"IF(春季入力!C72=\"\",\"\",春季入力!C72)","v":""},{"$f":"IF(春季入力!D72=\"\",\"\",春季入力!D72)","v":""},{"$f":"IF(春季入力!F72=\"\",\"\",春季入力!F72)","v":""},{"$f":"IF(春季入力!E72=\"\",\"\",春季入力!E72)","v":""},{"$f":"IF(春季入力!$H72=21,\"○\",\"\")","v":""},{"$f":"IF(春季入力!$H72=22,\"○\",\"\")","v":""},{"$f":"IF(春季入力!$H72=23,\"○\",\"\")","v":""},{"$f":"IF(春季入力!$H72=24,\"○\",\"\")","v":""},{"$f":"IF(春季入力!$H72=25,\"○\",\"\")","v":""},{"$f":"IF(春季入力!$H72=26,\"○\",\"\")","v":""},{"$f":"IF(春季入力!$H72=27,\"○\",\"\")","v":""},{"$f":"IF(春季入力!$H72=28,\"○\",\"\")","v":""},{"$f":"IF(春季入力!$H72=29,\"○\",\"\")","v":""},{"$f":"IF(春季入力!$H72=30,\"○\",\"\")","v":""},null,{"$f":"IF(春季入力!$I72=38,\"○\",\"\")","v":""},null,{"$f":"IF(春季入力!N72=\"\",\"\",春季入力!N72)","v":""}]
[{"$f":"IF(春季入力!C73=\"\",\"\",春季入力!C73)","v":""},{"$f":"IF(春季入力!D73=\"\",\"\",春季入力!D73)","v":""},{"$f":"IF(春季入力!F73=\"\",\"\",春季入力!F73)","v":""},{"$f":"IF(春季入力!E73=\"\",\"\",春季入力!E73)","v":""},{"$f":"IF(春季入力!$H73=21,\"○\",\"\")","v":""},{"$f":"IF(春季入力!$H73=22,\"○\",\"\")","v":""},{"$f":"IF(春季入力!$H73=23,\"○\",\"\")","v":""},{"$f":"IF(春季入力!$H73=24,\"○\",\"\")","v":""},{"$f":"IF(春季入力!$H73=25,\"○\",\"\")","v":""},{"$f":"IF(春季入力!$H73=26,\"○\",\"\")","v":""},{"$f":"IF(春季入力!$H73=27,\"○\",\"\")","v":""},{"$f":"IF(春季入力!$H73=28,\"○\",\"\")","v":""},{"$f":"IF(春季入力!$H73=29,\"○\",\"\")","v":""},{"$f":"IF(春季入力!$H73=30,\"○\",\"\")","v":""},null,{"$f":"IF(春季入力!$I73=38,\"○\",\"\")","v":""},null,{"$f":"IF(春季入力!N73=\"\",\"\",春季入力!N73)","v":""}]
[{"$f":"IF(春季入力!C74=\"\",\"\",春季入力!C74)","v":""},{"$f":"IF(春季入力!D74=\"\",\"\",春季入力!D74)","v":""},{"$f":"IF(春季入力!F74=\"\",\"\",春季入力!F74)","v":""},{"$f":"IF(春季入力!E74=\"\",\"\",春季入力!E74)","v":""},{"$f":"IF(春季入力!$H74=21,\"○\",\"\")","v":""},{"$f":"IF(春季入力!$H74=22,\"○\",\"\")","v":""},{"$f":"IF(春季入力!$H74=23,\"○\",\"\")","v":""},{"$f":"IF(春季入力!$H74=24,\"○\",\"\")","v":""},{"$f":"IF(春季入力!$H74=25,\"○\",\"\")","v":""},{"$f":"IF(春季入力!$H74=26,\"○\",\"\")","v":""},{"$f":"IF(春季入力!$H74=27,\"○\",\"\")","v":""},{"$f":"IF(春季入力!$H74=28,\"○\",\"\")","v":""},{"$f":"IF(春季入力!$H74=29,\"○\",\"\")","v":""},{"$f":"IF(春季入力!$H74=30,\"○\",\"\")","v":""},null,{"$f":"IF(春季入力!$I74=38,\"○\",\"\")","v":""},null,{"$f":"IF(春季入力!N74=\"\",\"\",春季入力!N74)","v":""}]
[{"$f":"IF(春季入力!C75=\"\",\"\",春季入力!C75)","v":""},{"$f":"IF(春季入力!D75=\"\",\"\",春季入力!D75)","v":""},{"$f":"IF(春季入力!F75=\"\",\"\",春季入力!F75)","v":""},{"$f":"IF(春季入力!E75=\"\",\"\",春季入力!E75)","v":""},{"$f":"IF(春季入力!$H75=21,\"○\",\"\")","v":""},{"$f":"IF(春季入力!$H75=22,\"○\",\"\")","v":""},{"$f":"IF(春季入力!$H75=23,\"○\",\"\")","v":""},{"$f":"IF(春季入力!$H75=24,\"○\",\"\")","v":""},{"$f":"IF(春季入力!$H75=25,\"○\",\"\")","v":""},{"$f":"IF(春季入力!$H75=26,\"○\",\"\")","v":""},{"$f":"IF(春季入力!$H75=27,\"○\",\"\")","v":""},{"$f":"IF(春季入力!$H75=28,\"○\",\"\")","v":""},{"$f":"IF(春季入力!$H75=29,\"○\",\"\")","v":""},{"$f":"IF(春季入力!$H75=30,\"○\",\"\")","v":""},null,{"$f":"IF(春季入力!$I75=38,\"○\",\"\")","v":""},null,{"$f":"IF(春季入力!N75=\"\",\"\",春季入力!N75)","v":""}]
[{"$f":"IF(春季入力!C76=\"\",\"\",春季入力!C76)","v":""},{"$f":"IF(春季入力!D76=\"\",\"\",春季入力!D76)","v":""},{"$f":"IF(春季入力!F76=\"\",\"\",春季入力!F76)","v":""},{"$f":"IF(春季入力!E76=\"\",\"\",春季入力!E76)","v":""},{"$f":"IF(春季入力!$H76=21,\"○\",\"\")","v":""},{"$f":"IF(春季入力!$H76=22,\"○\",\"\")","v":""},{"$f":"IF(春季入力!$H76=23,\"○\",\"\")","v":""},{"$f":"IF(春季入力!$H76=24,\"○\",\"\")","v":""},{"$f":"IF(春季入力!$H76=25,\"○\",\"\")","v":""},{"$f":"IF(春季入力!$H76=26,\"○\",\"\")","v":""},{"$f":"IF(春季入力!$H76=27,\"○\",\"\")","v":""},{"$f":"IF(春季入力!$H76=28,\"○\",\"\")","v":""},{"$f":"IF(春季入力!$H76=29,\"○\",\"\")","v":""},{"$f":"IF(春季入力!$H76=30,\"○\",\"\")","v":""},null,{"$f":"IF(春季入力!$I76=38,\"○\",\"\")","v":""},null,{"$f":"IF(春季入力!N76=\"\",\"\",春季入力!N76)","v":""}]
[{"$f":"IF(春季入力!C77=\"\",\"\",春季入力!C77)","v":""},{"$f":"IF(春季入力!D77=\"\",\"\",春季入力!D77)","v":""},{"$f":"IF(春季入力!F77=\"\",\"\",春季入力!F77)","v":""},{"$f":"IF(春季入力!E77=\"\",\"\",春季入力!E77)","v":""},{"$f":"IF(春季入力!$H77=21,\"○\",\"\")","v":""},{"$f":"IF(春季入力!$H77=22,\"○\",\"\")","v":""},{"$f":"IF(春季入力!$H77=23,\"○\",\"\")","v":""},{"$f":"IF(春季入力!$H77=24,\"○\",\"\")","v":""},{"$f":"IF(春季入力!$H77=25,\"○\",\"\")","v":""},{"$f":"IF(春季入力!$H77=26,\"○\",\"\")","v":""},{"$f":"IF(春季入力!$H77=27,\"○\",\"\")","v":""},{"$f":"IF(春季入力!$H77=28,\"○\",\"\")","v":""},{"$f":"IF(春季入力!$H77=29,\"○\",\"\")","v":""},{"$f":"IF(春季入力!$H77=30,\"○\",\"\")","v":""},null,{"$f":"IF(春季入力!$I77=38,\"○\",\"\")","v":""},null,{"$f":"IF(春季入力!N77=\"\",\"\",春季入力!N77)","v":""}]
[{"$f":"IF(春季入力!C78=\"\",\"\",春季入力!C78)","v":""},{"$f":"IF(春季入力!D78=\"\",\"\",春季入力!D78)","v":""},{"$f":"IF(春季入力!F78=\"\",\"\",春季入力!F78)","v":""},{"$f":"IF(春季入力!E78=\"\",\"\",春季入力!E78)","v":""},{"$f":"IF(春季入力!$H78=21,\"○\",\"\")","v":""},{"$f":"IF(春季入力!$H78=22,\"○\",\"\")","v":""},{"$f":"IF(春季入力!$H78=23,\"○\",\"\")","v":""},{"$f":"IF(春季入力!$H78=24,\"○\",\"\")","v":""},{"$f":"IF(春季入力!$H78=25,\"○\",\"\")","v":""},{"$f":"IF(春季入力!$H78=26,\"○\",\"\")","v":""},{"$f":"IF(春季入力!$H78=27,\"○\",\"\")","v":""},{"$f":"IF(春季入力!$H78=28,\"○\",\"\")","v":""},{"$f":"IF(春季入力!$H78=29,\"○\",\"\")","v":""},{"$f":"IF(春季入力!$H78=30,\"○\",\"\")","v":""},null,{"$f":"IF(春季入力!$I78=38,\"○\",\"\")","v":""},null,{"$f":"IF(春季入力!N78=\"\",\"\",春季入力!N78)","v":""}]
[{"$f":"IF(春季入力!C79=\"\",\"\",春季入力!C79)","v":""},{"$f":"IF(春季入力!D79=\"\",\"\",春季入力!D79)","v":""},{"$f":"IF(春季入力!F79=\"\",\"\",春季入力!F79)","v":""},{"$f":"IF(春季入力!E79=\"\",\"\",春季入力!E79)","v":""},{"$f":"IF(春季入力!$H79=21,\"○\",\"\")","v":""},{"$f":"IF(春季入力!$H79=22,\"○\",\"\")","v":""},{"$f":"IF(春季入力!$H79=23,\"○\",\"\")","v":""},{"$f":"IF(春季入力!$H79=24,\"○\",\"\")","v":""},{"$f":"IF(春季入力!$H79=25,\"○\",\"\")","v":""},{"$f":"IF(春季入力!$H79=26,\"○\",\"\")","v":""},{"$f":"IF(春季入力!$H79=27,\"○\",\"\")","v":""},{"$f":"IF(春季入力!$H79=28,\"○\",\"\")","v":""},{"$f":"IF(春季入力!$H79=29,\"○\",\"\")","v":""},{"$f":"IF(春季入力!$H79=30,\"○\",\"\")","v":""},null,{"$f":"IF(春季入力!$I79=38,\"○\",\"\")","v":""},null,{"$f":"IF(春季入力!N79=\"\",\"\",春季入力!N79)","v":""}]
[{"$f":"IF(春季入力!C80=\"\",\"\",春季入力!C80)","v":""},{"$f":"IF(春季入力!D80=\"\",\"\",春季入力!D80)","v":""},{"$f":"IF(春季入力!F80=\"\",\"\",春季入力!F80)","v":""},{"$f":"IF(春季入力!E80=\"\",\"\",春季入力!E80)","v":""},{"$f":"IF(春季入力!$H80=21,\"○\",\"\")","v":""},{"$f":"IF(春季入力!$H80=22,\"○\",\"\")","v":""},{"$f":"IF(春季入力!$H80=23,\"○\",\"\")","v":""},{"$f":"IF(春季入力!$H80=24,\"○\",\"\")","v":""},{"$f":"IF(春季入力!$H80=25,\"○\",\"\")","v":""},{"$f":"IF(春季入力!$H80=26,\"○\",\"\")","v":""},{"$f":"IF(春季入力!$H80=27,\"○\",\"\")","v":""},{"$f":"IF(春季入力!$H80=28,\"○\",\"\")","v":""},{"$f":"IF(春季入力!$H80=29,\"○\",\"\")","v":""},{"$f":"IF(春季入力!$H80=30,\"○\",\"\")","v":""},null,{"$f":"IF(春季入力!$I80=38,\"○\",\"\")","v":""},null,{"$f":"IF(春季入力!N80=\"\",\"\",春季入力!N80)","v":""}]
[{"$f":"IF(春季入力!C81=\"\",\"\",春季入力!C81)","v":""},{"$f":"IF(春季入力!D81=\"\",\"\",春季入力!D81)","v":""},{"$f":"IF(春季入力!F81=\"\",\"\",春季入力!F81)","v":""},{"$f":"IF(春季入力!E81=\"\",\"\",春季入力!E81)","v":""},{"$f":"IF(春季入力!$H81=21,\"○\",\"\")","v":""},{"$f":"IF(春季入力!$H81=22,\"○\",\"\")","v":""},{"$f":"IF(春季入力!$H81=23,\"○\",\"\")","v":""},{"$f":"IF(春季入力!$H81=24,\"○\",\"\")","v":""},{"$f":"IF(春季入力!$H81=25,\"○\",\"\")","v":""},{"$f":"IF(春季入力!$H81=26,\"○\",\"\")","v":""},{"$f":"IF(春季入力!$H81=27,\"○\",\"\")","v":""},{"$f":"IF(春季入力!$H81=28,\"○\",\"\")","v":""},{"$f":"IF(春季入力!$H81=29,\"○\",\"\")","v":""},{"$f":"IF(春季入力!$H81=30,\"○\",\"\")","v":""},null,{"$f":"IF(春季入力!$I81=38,\"○\",\"\")","v":""},null,{"$f":"IF(春季入力!N81=\"\",\"\",春季入力!N81)","v":""}]
[{"$f":"IF(春季入力!C82=\"\",\"\",春季入力!C82)","v":""},{"$f":"IF(春季入力!D82=\"\",\"\",春季入力!D82)","v":""},{"$f":"IF(春季入力!F82=\"\",\"\",春季入力!F82)","v":""},{"$f":"IF(春季入力!E82=\"\",\"\",春季入力!E82)","v":""},{"$f":"IF(春季入力!$H82=21,\"○\",\"\")","v":""},{"$f":"IF(春季入力!$H82=22,\"○\",\"\")","v":""},{"$f":"IF(春季入力!$H82=23,\"○\",\"\")","v":""},{"$f":"IF(春季入力!$H82=24,\"○\",\"\")","v":""},{"$f":"IF(春季入力!$H82=25,\"○\",\"\")","v":""},{"$f":"IF(春季入力!$H82=26,\"○\",\"\")","v":""},{"$f":"IF(春季入力!$H82=27,\"○\",\"\")","v":""},{"$f":"IF(春季入力!$H82=28,\"○\",\"\")","v":""},{"$f":"IF(春季入力!$H82=29,\"○\",\"\")","v":""},{"$f":"IF(春季入力!$H82=30,\"○\",\"\")","v":""},null,{"$f":"IF(春季入力!$I82=38,\"○\",\"\")","v":""},null,{"$f":"IF(春季入力!N82=\"\",\"\",春季入力!N82)","v":""}]
[{"$f":"IF(春季入力!C83=\"\",\"\",春季入力!C83)","v":""},{"$f":"IF(春季入力!D83=\"\",\"\",春季入力!D83)","v":""},{"$f":"IF(春季入力!F83=\"\",\"\",春季入力!F83)","v":""},{"$f":"IF(春季入力!E83=\"\",\"\",春季入力!E83)","v":""},{"$f":"IF(春季入力!$H83=21,\"○\",\"\")","v":""},{"$f":"IF(春季入力!$H83=22,\"○\",\"\")","v":""},{"$f":"IF(春季入力!$H83=23,\"○\",\"\")","v":""},{"$f":"IF(春季入力!$H83=24,\"○\",\"\")","v":""},{"$f":"IF(春季入力!$H83=25,\"○\",\"\")","v":""},{"$f":"IF(春季入力!$H83=26,\"○\",\"\")","v":""},{"$f":"IF(春季入力!$H83=27,\"○\",\"\")","v":""},{"$f":"IF(春季入力!$H83=28,\"○\",\"\")","v":""},{"$f":"IF(春季入力!$H83=29,\"○\",\"\")","v":""},{"$f":"IF(春季入力!$H83=30,\"○\",\"\")","v":""},null,{"$f":"IF(春季入力!$I83=38,\"○\",\"\")","v":""},null,{"$f":"IF(春季入力!N83=\"\",\"\",春季入力!N83)","v":""}]
[{"$f":"IF(春季入力!C84=\"\",\"\",春季入力!C84)","v":""},{"$f":"IF(春季入力!D84=\"\",\"\",春季入力!D84)","v":""},{"$f":"IF(春季入力!F84=\"\",\"\",春季入力!F84)","v":""},{"$f":"IF(春季入力!E84=\"\",\"\",春季入力!E84)","v":""},{"$f":"IF(春季入力!$H84=21,\"○\",\"\")","v":""},{"$f":"IF(春季入力!$H84=22,\"○\",\"\")","v":""},{"$f":"IF(春季入力!$H84=23,\"○\",\"\")","v":""},{"$f":"IF(春季入力!$H84=24,\"○\",\"\")","v":""},{"$f":"IF(春季入力!$H84=25,\"○\",\"\")","v":""},{"$f":"IF(春季入力!$H84=26,\"○\",\"\")","v":""},{"$f":"IF(春季入力!$H84=27,\"○\",\"\")","v":""},{"$f":"IF(春季入力!$H84=28,\"○\",\"\")","v":""},{"$f":"IF(春季入力!$H84=29,\"○\",\"\")","v":""},{"$f":"IF(春季入力!$H84=30,\"○\",\"\")","v":""},null,{"$f":"IF(春季入力!$I84=38,\"○\",\"\")","v":""},null,{"$f":"IF(春季入力!N84=\"\",\"\",春季入力!N84)","v":""}]
[{"$f":"IF(春季入力!C85=\"\",\"\",春季入力!C85)","v":""},{"$f":"IF(春季入力!D85=\"\",\"\",春季入力!D85)","v":""},{"$f":"IF(春季入力!F85=\"\",\"\",春季入力!F85)","v":""},{"$f":"IF(春季入力!E85=\"\",\"\",春季入力!E85)","v":""},{"$f":"IF(春季入力!$H85=21,\"○\",\"\")","v":""},{"$f":"IF(春季入力!$H85=22,\"○\",\"\")","v":""},{"$f":"IF(春季入力!$H85=23,\"○\",\"\")","v":""},{"$f":"IF(春季入力!$H85=24,\"○\",\"\")","v":""},{"$f":"IF(春季入力!$H85=25,\"○\",\"\")","v":""},{"$f":"IF(春季入力!$H85=26,\"○\",\"\")","v":""},{"$f":"IF(春季入力!$H85=27,\"○\",\"\")","v":""},{"$f":"IF(春季入力!$H85=28,\"○\",\"\")","v":""},{"$f":"IF(春季入力!$H85=29,\"○\",\"\")","v":""},{"$f":"IF(春季入力!$H85=30,\"○\",\"\")","v":""},null,{"$f":"IF(春季入力!$I85=38,\"○\",\"\")","v":""},null,{"$f":"IF(春季入力!N85=\"\",\"\",春季入力!N85)","v":""}]
[{"$f":"IF(春季入力!C86=\"\",\"\",春季入力!C86)","v":""},{"$f":"IF(春季入力!D86=\"\",\"\",春季入力!D86)","v":""},{"$f":"IF(春季入力!F86=\"\",\"\",春季入力!F86)","v":""},{"$f":"IF(春季入力!E86=\"\",\"\",春季入力!E86)","v":""},{"$f":"IF(春季入力!$H86=21,\"○\",\"\")","v":""},{"$f":"IF(春季入力!$H86=22,\"○\",\"\")","v":""},{"$f":"IF(春季入力!$H86=23,\"○\",\"\")","v":""},{"$f":"IF(春季入力!$H86=24,\"○\",\"\")","v":""},{"$f":"IF(春季入力!$H86=25,\"○\",\"\")","v":""},{"$f":"IF(春季入力!$H86=26,\"○\",\"\")","v":""},{"$f":"IF(春季入力!$H86=27,\"○\",\"\")","v":""},{"$f":"IF(春季入力!$H86=28,\"○\",\"\")","v":""},{"$f":"IF(春季入力!$H86=29,\"○\",\"\")","v":""},{"$f":"IF(春季入力!$H86=30,\"○\",\"\")","v":""},null,{"$f":"IF(春季入力!$I86=38,\"○\",\"\")","v":""},null,{"$f":"IF(春季入力!N86=\"\",\"\",春季入力!N86)","v":""}]
[{"$f":"IF(春季入力!C87=\"\",\"\",春季入力!C87)","v":""},{"$f":"IF(春季入力!D87=\"\",\"\",春季入力!D87)","v":""},{"$f":"IF(春季入力!F87=\"\",\"\",春季入力!F87)","v":""},{"$f":"IF(春季入力!E87=\"\",\"\",春季入力!E87)","v":""},{"$f":"IF(春季入力!$H87=21,\"○\",\"\")","v":""},{"$f":"IF(春季入力!$H87=22,\"○\",\"\")","v":""},{"$f":"IF(春季入力!$H87=23,\"○\",\"\")","v":""},{"$f":"IF(春季入力!$H87=24,\"○\",\"\")","v":""},{"$f":"IF(春季入力!$H87=25,\"○\",\"\")","v":""},{"$f":"IF(春季入力!$H87=26,\"○\",\"\")","v":""},{"$f":"IF(春季入力!$H87=27,\"○\",\"\")","v":""},{"$f":"IF(春季入力!$H87=28,\"○\",\"\")","v":""},{"$f":"IF(春季入力!$H87=29,\"○\",\"\")","v":""},{"$f":"IF(春季入力!$H87=30,\"○\",\"\")","v":""},null,{"$f":"IF(春季入力!$I87=38,\"○\",\"\")","v":""},null,{"$f":"IF(春季入力!N87=\"\",\"\",春季入力!N87)","v":""}]
[{"$f":"IF(春季入力!C88=\"\",\"\",春季入力!C88)","v":""},{"$f":"IF(春季入力!D88=\"\",\"\",春季入力!D88)","v":""},{"$f":"IF(春季入力!F88=\"\",\"\",春季入力!F88)","v":""},{"$f":"IF(春季入力!E88=\"\",\"\",春季入力!E88)","v":""},{"$f":"IF(春季入力!$H88=21,\"○\",\"\")","v":""},{"$f":"IF(春季入力!$H88=22,\"○\",\"\")","v":""},{"$f":"IF(春季入力!$H88=23,\"○\",\"\")","v":""},{"$f":"IF(春季入力!$H88=24,\"○\",\"\")","v":""},{"$f":"IF(春季入力!$H88=25,\"○\",\"\")","v":""},{"$f":"IF(春季入力!$H88=26,\"○\",\"\")","v":""},{"$f":"IF(春季入力!$H88=27,\"○\",\"\")","v":""},{"$f":"IF(春季入力!$H88=28,\"○\",\"\")","v":""},{"$f":"IF(春季入力!$H88=29,\"○\",\"\")","v":""},{"$f":"IF(春季入力!$H88=30,\"○\",\"\")","v":""},null,{"$f":"IF(春季入力!$I88=38,\"○\",\"\")","v":""},null,{"$f":"IF(春季入力!N88=\"\",\"\",春季入力!N88)","v":""}]
[{"$f":"IF(春季入力!C89=\"\",\"\",春季入力!C89)","v":""},{"$f":"IF(春季入力!D89=\"\",\"\",春季入力!D89)","v":""},{"$f":"IF(春季入力!F89=\"\",\"\",春季入力!F89)","v":""},{"$f":"IF(春季入力!E89=\"\",\"\",春季入力!E89)","v":""},{"$f":"IF(春季入力!$H89=21,\"○\",\"\")","v":""},{"$f":"IF(春季入力!$H89=22,\"○\",\"\")","v":""},{"$f":"IF(春季入力!$H89=23,\"○\",\"\")","v":""},{"$f":"IF(春季入力!$H89=24,\"○\",\"\")","v":""},{"$f":"IF(春季入力!$H89=25,\"○\",\"\")","v":""},{"$f":"IF(春季入力!$H89=26,\"○\",\"\")","v":""},{"$f":"IF(春季入力!$H89=27,\"○\",\"\")","v":""},{"$f":"IF(春季入力!$H89=28,\"○\",\"\")","v":""},{"$f":"IF(春季入力!$H89=29,\"○\",\"\")","v":""},{"$f":"IF(春季入力!$H89=30,\"○\",\"\")","v":""},null,{"$f":"IF(春季入力!$I89=38,\"○\",\"\")","v":""},null,{"$f":"IF(春季入力!N89=\"\",\"\",春季入力!N89)","v":""}]
[{"$f":"IF(春季入力!C90=\"\",\"\",春季入力!C90)","v":""},{"$f":"IF(春季入力!D90=\"\",\"\",春季入力!D90)","v":""},{"$f":"IF(春季入力!F90=\"\",\"\",春季入力!F90)","v":""},{"$f":"IF(春季入力!E90=\"\",\"\",春季入力!E90)","v":""},{"$f":"IF(春季入力!$H90=21,\"○\",\"\")","v":""},{"$f":"IF(春季入力!$H90=22,\"○\",\"\")","v":""},{"$f":"IF(春季入力!$H90=23,\"○\",\"\")","v":""},{"$f":"IF(春季入力!$H90=24,\"○\",\"\")","v":""},{"$f":"IF(春季入力!$H90=25,\"○\",\"\")","v":""},{"$f":"IF(春季入力!$H90=26,\"○\",\"\")","v":""},{"$f":"IF(春季入力!$H90=27,\"○\",\"\")","v":""},{"$f":"IF(春季入力!$H90=28,\"○\",\"\")","v":""},{"$f":"IF(春季入力!$H90=29,\"○\",\"\")","v":""},{"$f":"IF(春季入力!$H90=30,\"○\",\"\")","v":""},null,{"$f":"IF(春季入力!$I90=38,\"○\",\"\")","v":""},null,{"$f":"IF(春季入力!N90=\"\",\"\",春季入力!N90)","v":""}]
[{"$f":"IF(春季入力!C91=\"\",\"\",春季入力!C91)","v":""},{"$f":"IF(春季入力!D91=\"\",\"\",春季入力!D91)","v":""},{"$f":"IF(春季入力!F91=\"\",\"\",春季入力!F91)","v":""},{"$f":"IF(春季入力!E91=\"\",\"\",春季入力!E91)","v":""},{"$f":"IF(春季入力!$H91=21,\"○\",\"\")","v":""},{"$f":"IF(春季入力!$H91=22,\"○\",\"\")","v":""},{"$f":"IF(春季入力!$H91=23,\"○\",\"\")","v":""},{"$f":"IF(春季入力!$H91=24,\"○\",\"\")","v":""},{"$f":"IF(春季入力!$H91=25,\"○\",\"\")","v":""},{"$f":"IF(春季入力!$H91=26,\"○\",\"\")","v":""},{"$f":"IF(春季入力!$H91=27,\"○\",\"\")","v":""},{"$f":"IF(春季入力!$H91=28,\"○\",\"\")","v":""},{"$f":"IF(春季入力!$H91=29,\"○\",\"\")","v":""},{"$f":"IF(春季入力!$H91=30,\"○\",\"\")","v":""},null,{"$f":"IF(春季入力!$I91=38,\"○\",\"\")","v":""},null,{"$f":"IF(春季入力!N91=\"\",\"\",春季入力!N91)","v":""}]
[{"$f":"IF(春季入力!C92=\"\",\"\",春季入力!C92)","v":""},{"$f":"IF(春季入力!D92=\"\",\"\",春季入力!D92)","v":""},{"$f":"IF(春季入力!F92=\"\",\"\",春季入力!F92)","v":""},{"$f":"IF(春季入力!E92=\"\",\"\",春季入力!E92)","v":""},{"$f":"IF(春季入力!$H92=21,\"○\",\"\")","v":""},{"$f":"IF(春季入力!$H92=22,\"○\",\"\")","v":""},{"$f":"IF(春季入力!$H92=23,\"○\",\"\")","v":""},{"$f":"IF(春季入力!$H92=24,\"○\",\"\")","v":""},{"$f":"IF(春季入力!$H92=25,\"○\",\"\")","v":""},{"$f":"IF(春季入力!$H92=26,\"○\",\"\")","v":""},{"$f":"IF(春季入力!$H92=27,\"○\",\"\")","v":""},{"$f":"IF(春季入力!$H92=28,\"○\",\"\")","v":""},{"$f":"IF(春季入力!$H92=29,\"○\",\"\")","v":""},{"$f":"IF(春季入力!$H92=30,\"○\",\"\")","v":""},null,{"$f":"IF(春季入力!$I92=38,\"○\",\"\")","v":""},null,{"$f":"IF(春季入力!N92=\"\",\"\",春季入力!N92)","v":""}]
[{"$f":"IF(春季入力!C93=\"\",\"\",春季入力!C93)","v":""},{"$f":"IF(春季入力!D93=\"\",\"\",春季入力!D93)","v":""},{"$f":"IF(春季入力!F93=\"\",\"\",春季入力!F93)","v":""},{"$f":"IF(春季入力!E93=\"\",\"\",春季入力!E93)","v":""},{"$f":"IF(春季入力!$H93=21,\"○\",\"\")","v":""},{"$f":"IF(春季入力!$H93=22,\"○\",\"\")","v":""},{"$f":"IF(春季入力!$H93=23,\"○\",\"\")","v":""},{"$f":"IF(春季入力!$H93=24,\"○\",\"\")","v":""},{"$f":"IF(春季入力!$H93=25,\"○\",\"\")","v":""},{"$f":"IF(春季入力!$H93=26,\"○\",\"\")","v":""},{"$f":"IF(春季入力!$H93=27,\"○\",\"\")","v":""},{"$f":"IF(春季入力!$H93=28,\"○\",\"\")","v":""},{"$f":"IF(春季入力!$H93=29,\"○\",\"\")","v":""},{"$f":"IF(春季入力!$H93=30,\"○\",\"\")","v":""},null,{"$f":"IF(春季入力!$I93=38,\"○\",\"\")","v":""},null,{"$f":"IF(春季入力!N93=\"\",\"\",春季入力!N93)","v":""}]
[{"$f":"IF(春季入力!C94=\"\",\"\",春季入力!C94)","v":""},{"$f":"IF(春季入力!D94=\"\",\"\",春季入力!D94)","v":""},{"$f":"IF(春季入力!F94=\"\",\"\",春季入力!F94)","v":""},{"$f":"IF(春季入力!E94=\"\",\"\",春季入力!E94)","v":""},{"$f":"IF(春季入力!$H94=21,\"○\",\"\")","v":""},{"$f":"IF(春季入力!$H94=22,\"○\",\"\")","v":""},{"$f":"IF(春季入力!$H94=23,\"○\",\"\")","v":""},{"$f":"IF(春季入力!$H94=24,\"○\",\"\")","v":""},{"$f":"IF(春季入力!$H94=25,\"○\",\"\")","v":""},{"$f":"IF(春季入力!$H94=26,\"○\",\"\")","v":""},{"$f":"IF(春季入力!$H94=27,\"○\",\"\")","v":""},{"$f":"IF(春季入力!$H94=28,\"○\",\"\")","v":""},{"$f":"IF(春季入力!$H94=29,\"○\",\"\")","v":""},{"$f":"IF(春季入力!$H94=30,\"○\",\"\")","v":""},null,{"$f":"IF(春季入力!$I94=38,\"○\",\"\")","v":""},null,{"$f":"IF(春季入力!N94=\"\",\"\",春季入力!N94)","v":""}]
[{"$f":"IF(春季入力!C95=\"\",\"\",春季入力!C95)","v":""},{"$f":"IF(春季入力!D95=\"\",\"\",春季入力!D95)","v":""},{"$f":"IF(春季入力!F95=\"\",\"\",春季入力!F95)","v":""},{"$f":"IF(春季入力!E95=\"\",\"\",春季入力!E95)","v":""},{"$f":"IF(春季入力!$H95=21,\"○\",\"\")","v":""},{"$f":"IF(春季入力!$H95=22,\"○\",\"\")","v":""},{"$f":"IF(春季入力!$H95=23,\"○\",\"\")","v":""},{"$f":"IF(春季入力!$H95=24,\"○\",\"\")","v":""},{"$f":"IF(春季入力!$H95=25,\"○\",\"\")","v":""},{"$f":"IF(春季入力!$H95=26,\"○\",\"\")","v":""},{"$f":"IF(春季入力!$H95=27,\"○\",\"\")","v":""},{"$f":"IF(春季入力!$H95=28,\"○\",\"\")","v":""},{"$f":"IF(春季入力!$H95=29,\"○\",\"\")","v":""},{"$f":"IF(春季入力!$H95=30,\"○\",\"\")","v":""},null,{"$f":"IF(春季入力!$I95=38,\"○\",\"\")","v":""},null,{"$f":"IF(春季入力!N95=\"\",\"\",春季入力!N95)","v":""}]
[{"$f":"IF(春季入力!C96=\"\",\"\",春季入力!C96)","v":""},{"$f":"IF(春季入力!D96=\"\",\"\",春季入力!D96)","v":""},{"$f":"IF(春季入力!F96=\"\",\"\",春季入力!F96)","v":""},{"$f":"IF(春季入力!E96=\"\",\"\",春季入力!E96)","v":""},{"$f":"IF(春季入力!$H96=21,\"○\",\"\")","v":""},{"$f":"IF(春季入力!$H96=22,\"○\",\"\")","v":""},{"$f":"IF(春季入力!$H96=23,\"○\",\"\")","v":""},{"$f":"IF(春季入力!$H96=24,\"○\",\"\")","v":""},{"$f":"IF(春季入力!$H96=25,\"○\",\"\")","v":""},{"$f":"IF(春季入力!$H96=26,\"○\",\"\")","v":""},{"$f":"IF(春季入力!$H96=27,\"○\",\"\")","v":""},{"$f":"IF(春季入力!$H96=28,\"○\",\"\")","v":""},{"$f":"IF(春季入力!$H96=29,\"○\",\"\")","v":""},{"$f":"IF(春季入力!$H96=30,\"○\",\"\")","v":""},null,{"$f":"IF(春季入力!$I96=38,\"○\",\"\")","v":""},null,{"$f":"IF(春季入力!N96=\"\",\"\",春季入力!N96)","v":""}]
[{"$f":"IF(春季入力!C97=\"\",\"\",春季入力!C97)","v":""},{"$f":"IF(春季入力!D97=\"\",\"\",春季入力!D97)","v":""},{"$f":"IF(春季入力!F97=\"\",\"\",春季入力!F97)","v":""},{"$f":"IF(春季入力!E97=\"\",\"\",春季入力!E97)","v":""},{"$f":"IF(春季入力!$H97=21,\"○\",\"\")","v":""},{"$f":"IF(春季入力!$H97=22,\"○\",\"\")","v":""},{"$f":"IF(春季入力!$H97=23,\"○\",\"\")","v":""},{"$f":"IF(春季入力!$H97=24,\"○\",\"\")","v":""},{"$f":"IF(春季入力!$H97=25,\"○\",\"\")","v":""},{"$f":"IF(春季入力!$H97=26,\"○\",\"\")","v":""},{"$f":"IF(春季入力!$H97=27,\"○\",\"\")","v":""},{"$f":"IF(春季入力!$H97=28,\"○\",\"\")","v":""},{"$f":"IF(春季入力!$H97=29,\"○\",\"\")","v":""},{"$f":"IF(春季入力!$H97=30,\"○\",\"\")","v":""},null,{"$f":"IF(春季入力!$I97=38,\"○\",\"\")","v":""},null,{"$f":"IF(春季入力!N97=\"\",\"\",春季入力!N97)","v":""}]
[{"$f":"IF(春季入力!C98=\"\",\"\",春季入力!C98)","v":""},{"$f":"IF(春季入力!D98=\"\",\"\",春季入力!D98)","v":""},{"$f":"IF(春季入力!F98=\"\",\"\",春季入力!F98)","v":""},{"$f":"IF(春季入力!E98=\"\",\"\",春季入力!E98)","v":""},{"$f":"IF(春季入力!$H98=21,\"○\",\"\")","v":""},{"$f":"IF(春季入力!$H98=22,\"○\",\"\")","v":""},{"$f":"IF(春季入力!$H98=23,\"○\",\"\")","v":""},{"$f":"IF(春季入力!$H98=24,\"○\",\"\")","v":""},{"$f":"IF(春季入力!$H98=25,\"○\",\"\")","v":""},{"$f":"IF(春季入力!$H98=26,\"○\",\"\")","v":""},{"$f":"IF(春季入力!$H98=27,\"○\",\"\")","v":""},{"$f":"IF(春季入力!$H98=28,\"○\",\"\")","v":""},{"$f":"IF(春季入力!$H98=29,\"○\",\"\")","v":""},{"$f":"IF(春季入力!$H98=30,\"○\",\"\")","v":""},null,{"$f":"IF(春季入力!$I98=38,\"○\",\"\")","v":""},null,{"$f":"IF(春季入力!N98=\"\",\"\",春季入力!N98)","v":""}]
[{"$f":"IF(春季入力!C99=\"\",\"\",春季入力!C99)","v":""},{"$f":"IF(春季入力!D99=\"\",\"\",春季入力!D99)","v":""},{"$f":"IF(春季入力!F99=\"\",\"\",春季入力!F99)","v":""},{"$f":"IF(春季入力!E99=\"\",\"\",春季入力!E99)","v":""},{"$f":"IF(春季入力!$H99=21,\"○\",\"\")","v":""},{"$f":"IF(春季入力!$H99=22,\"○\",\"\")","v":""},{"$f":"IF(春季入力!$H99=23,\"○\",\"\")","v":""},{"$f":"IF(春季入力!$H99=24,\"○\",\"\")","v":""},{"$f":"IF(春季入力!$H99=25,\"○\",\"\")","v":""},{"$f":"IF(春季入力!$H99=26,\"○\",\"\")","v":""},{"$f":"IF(春季入力!$H99=27,\"○\",\"\")","v":""},{"$f":"IF(春季入力!$H99=28,\"○\",\"\")","v":""},{"$f":"IF(春季入力!$H99=29,\"○\",\"\")","v":""},{"$f":"IF(春季入力!$H99=30,\"○\",\"\")","v":""},null,{"$f":"IF(春季入力!$I99=38,\"○\",\"\")","v":""},null,{"$f":"IF(春季入力!N99=\"\",\"\",春季入力!N99)","v":""}]
[{"$f":"IF(春季入力!C100=\"\",\"\",春季入力!C100)","v":""},{"$f":"IF(春季入力!D100=\"\",\"\",春季入力!D100)","v":""},{"$f":"IF(春季入力!F100=\"\",\"\",春季入力!F100)","v":""},{"$f":"IF(春季入力!E100=\"\",\"\",春季入力!E100)","v":""},{"$f":"IF(春季入力!$H100=21,\"○\",\"\")","v":""},{"$f":"IF(春季入力!$H100=22,\"○\",\"\")","v":""},{"$f":"IF(春季入力!$H100=23,\"○\",\"\")","v":""},{"$f":"IF(春季入力!$H100=24,\"○\",\"\")","v":""},{"$f":"IF(春季入力!$H100=25,\"○\",\"\")","v":""},{"$f":"IF(春季入力!$H100=26,\"○\",\"\")","v":""},{"$f":"IF(春季入力!$H100=27,\"○\",\"\")","v":""},{"$f":"IF(春季入力!$H100=28,\"○\",\"\")","v":""},{"$f":"IF(春季入力!$H100=29,\"○\",\"\")","v":""},{"$f":"IF(春季入力!$H100=30,\"○\",\"\")","v":""},null,{"$f":"IF(春季入力!$I100=38,\"○\",\"\")","v":""},null,{"$f":"IF(春季入力!N100=\"\",\"\",春季入力!N100)","v":""}]
[]
[]
[null,null,null,null,null,null,null,null,null,null,{"$f":"男一覧!M43","v":"令和"},null,{"$f":"男一覧!O43","v":"7年"},{"$f":"男一覧!P43","v":"2025-02-19"}]
[" 秋田市中学校体育連盟　会長　様"]
[]
[null,"　上記の生徒は要項に照らし適格者であり，学校代表としてもふさわしく，また，保護者の同意を得ておりますので，大会への参加を申し込みいたします。"]
[]
[null,{"$f":"IF(春季入力!D63=\"\",\"立　　　　　　　　　　\",春季入力!D63)","v":"立　　　　　　　　　　"},null,null,null,null,null,"校長",null,{"$f":"IF(春季入力!D65=\"\",\"\",春季入力!D65)","v":""},null,null,null,null,null,"公印"]
[]
[null,"※引率・監督者の特例を適用する場合は氏名を記入"]
[]
[null,"（引率者氏名",{"$f":"IF(春季入力!D66=\"\",\"\",春季入力!D66)","v":""},null,"）","（代理監督者氏名",null,null,null,null,{"$f":"IF(春季入力!D67=\"\",\"\",春季入力!D67)","v":""},null,null,null,null,"）"]
[]
[]
["※男子は黒，女子は赤で記入すること。"]
[null,null,"エラーチェック",null,{"$f":"E5","v":"２年\n100"},{"$f":"F5","v":"３年\n100"},"共通\n200","共通\n800","２年\n1500","３年\n1500","共通\n100H","共通\n走高","共通\n走幅","共通\n砲丸",null,"共通\n400R",null,"個人情報の掲載"]
[null,null,null,null,{"$f":"IF(E59>2,\"×\",\"○\")","v":"○"},{"$f":"IF(F59>2,\"×\",\"○\")","v":"○"},"○","○","○","○","○","○","○","○",null,{"$f":"IF(P59>6,\"×\",\"○\")","v":"○"},null,"否の人数",null,{"$f":"COUNTIF(R6:U35,\"否\")","v":0},"人"]
[null,null,null,null,"各種目○ならok。×の場合は人数が超過している。"]
[]
[]
[]
[]
[]
[null,null,null,null,{"$f":"COUNTIF(E$6:E$35,\"○\")","v":0},0,0,0,0,0,0,0,0,0,0,0,0,0,0,0,0]

{"sheet":"男個票","index":4,"n_rows":73,"n_cols":33,"rows_kept":73,"cut":false,"hidden":false,"merged":[[1,0,2,1],[5,0,5,1],[7,0,7,1],[3,0,3,1],[47,0,47,1],[37,0,37,1],[29,0,29,1],[31,0,31,1],[25,0,25,1],[27,0,27,1],[17,0,17,1],[19,0,19,1],[69,11,72,11],[47,11,68,11],[25,11,46,11],[67,0,67,1],[69,0,69,1],[71,0,71,1],[51,0,51,1],[45,0,45,1],[53,0,53,1],[55,0,55,1],[49,0,49,1],[39,0,39,1],[33,0,33,1],[35,0,35,1],[65,0,65,1],[61,0,61,1],[3,11,24,11],[13,0,13,1],[15,0,15,1],[9,0,9,1],[11,0,11,1],[21,0,21,1],[23,0,23,1],[63,0,63,1],[57,0,57,1],[59,0,59,1],[41,0,41,1],[43,0,43,1]]}
[]
["個人種目個票"]
[]
["種　　　目",null,"組","ﾚｰﾝ・順","ナンバーカード","名　　　　前","学　　校","学年","ベスト記録","個人情報の掲載",null,"1ページ目",null,"個人種目１",null,1,2,3,4,5,6,7,8,9,10,11,12,13,14,15,16,17,18]
["男",{"$f":"IF(N5=\"\",\"\",HLOOKUP(N5,$P$4:$AG$5,2,FALSE))","v":""},null,null,{"$f":"IF(男一覧!A6=\"\",\"\",男一覧!A6)","v":""},{"$f":"IF(男一覧!B6=\"\",\"\",男一覧!B6)","v":""},{"$f":"IF(F5=\"\",\"\",春季入力!$L$4)","v":""},{"$f":"IF(男一覧!D6=\"\",\"\",男一覧!D6)","v":""},{"$f":"IF(春季入力!K12=\"\",\"\",春季入力!K12)","v":""},{"$f":"IF(男一覧!T6=\"\",\"\",男一覧!T6)","v":""},1,null,1,{"$f":"IF(春季入力!H12=\"\",\"\",春季入力!H12)","v":""},null,{"$f":"男一覧!E5","v":"２年\n100"},{"$f":"男一覧!F5","v":"３年\n100"},{"$f":"男一覧!G5","v":"共通\n200"},{"$f":"男一覧!H5","v":"共通\n400"},{"$f":"男一覧!I5","v":"共通\n800"},{"$f":"男一覧!J5","v":"共通\n1500"},{"$f":"男一覧!K5","v":"共通\n3000"},{"$f":"男一覧!L5","v":"共通\n110H"},{"$f":"男一覧!M5","v":"共通\n走高"},{"$f":"男一覧!N5","v":"共通\n棒高"},{"$f":"男一覧!O5","v":"共通\n走幅"},{"$f":"男一覧!P5","v":"共通\n砲丸"},{"$f":"男一覧!Q5","v":0},{"$f":"男一覧!R5","v":"共通\n400R"},{"$f":"男一覧!S5","v":0},{"$f":"男一覧!T5","v":"個人情報の記載"},{"$f":"男一覧!U5","v":0},{"$f":"男一覧!V5","v":0}]
["種　　　目",null,"組","ﾚｰﾝ・順","ナンバーカード","名　　　　前","学　　校","学年","ベスト記録","個人情報の掲載"]
["男",{"$f":"IF(N7=\"\",\"\",HLOOKUP(N7,$P$4:$AG$5,2,FALSE))","v":""},null,null,{"$f":"IF(男一覧!A7=\"\",\"\",男一覧!A7)","v":""},{"$f":"IF(男一覧!B7=\"\",\"\",男一覧!B7)","v":""},{"$f":"IF(F7=\"\",\"\",春季入力!$L$4)","v":""},{"$f":"IF(男一覧!D7=\"\",\"\",男一覧!D7)","v":""},{"$f":"IF(春季入力!K13=\"\",\"\",春季入力!K13)","v":""},{"$f":"IF(男一覧!T7=\"\",\"\",男一覧!T7)","v":""},2,null,2,{"$f":"IF(春季入力!H13=\"\",\"\",春季入力!H13)","v":""}]
["種　　　目",null,"組","ﾚｰﾝ・順","ナンバーカード","名　　　　前","学　　校","学年","ベスト記録","個人情報の掲載"]
["男",{"$f":"IF(N9=\"\",\"\",HLOOKUP(N9,$P$4:$AG$5,2,FALSE))","v":""},null,null,{"$f":"IF(男一覧!A8=\"\",\"\",男一覧!A8)","v":""},{"$f":"IF(男一覧!B8=\"\",\"\",男一覧!B8)","v":""},{"$f":"IF(F9=\"\",\"\",春季入力!$L$4)","v":""},{"$f":"IF(男一覧!D8=\"\",\"\",男一覧!D8)","v":""},{"$f":"IF(春季入力!K14=\"\",\"\",春季入力!K14)","v":""},{"$f":"IF(男一覧!T8=\"\",\"\",男一覧!T8)","v":""},3,null,3,{"$f":"IF(春季入力!H14=\"\",\"\",春季入力!H14)","v":""}]
["種　　　目",null,"組","ﾚｰﾝ・順","ナンバーカード","名　　　　前","学　　校","学年","ベスト記録","個人情報の掲載"]
["男",{"$f":"IF(N11=\"\",\"\",HLOOKUP(N11,$P$4:$AG$5,2,FALSE))","v":""},null,null,{"$f":"IF(男一覧!A9=\"\",\"\",男一覧!A9)","v":""},{"$f":"IF(男一覧!B9=\"\",\"\",男一覧!B9)","v":""},{"$f":"IF(F11=\"\",\"\",春季入力!$L$4)","v":""},{"$f":"IF(男一覧!D9=\"\",\"\",男一覧!D9)","v":""},{"$f":"IF(春季入力!K15=\"\",\"\",春季入力!K15)","v":""},{"$f":"IF(男一覧!T9=\"\",\"\",男一覧!T9)","v":""},4,null,4,{"$f":"IF(春季入力!H15=\"\",\"\",春季入力!H15)","v":""}]
["種　　　目",null,"組","ﾚｰﾝ・順","ナンバーカード","名　　　　前","学　　校","学年","ベスト記録","個人情報の掲載"]
["男",{"$f":"IF(N13=\"\",\"\",HLOOKUP(N13,$P$4:$AG$5,2,FALSE))","v":""},null,null,{"$f":"IF(男一覧!A10=\"\",\"\",男一覧!A10)","v":""},{"$f":"IF(男一覧!B10=\"\",\"\",男一覧!B10)","v":""},{"$f":"IF(F13=\"\",\"\",春季入力!$L$4)","v":""},{"$f":"IF(男一覧!D10=\"\",\"\",男一覧!D10)","v":""},{"$f":"IF(春季入力!K16=\"\",\"\",春季入力!K16)","v":""},{"$f":"IF(男一覧!T10=\"\",\"\",男一覧!T10)","v":""},5,null,5,{"$f":"IF(春季入力!H16=\"\",\"\",春季入力!H16)","v":""}]
["種　　　目",null,"組","ﾚｰﾝ・順","ナンバーカード","名　　　　前","学　　校","学年","ベスト記録","個人情報の掲載"]
["男",{"$f":"IF(N15=\"\",\"\",HLOOKUP(N15,$P$4:$AG$5,2,FALSE))","v":""},null,null,{"$f":"IF(男一覧!A11=\"\",\"\",男一覧!A11)","v":""},{"$f":"IF(男一覧!B11=\"\",\"\",男一覧!B11)","v":""},{"$f":"IF(F15=\"\",\"\",春季入力!$L$4)","v":""},{"$f":"IF(男一覧!D11=\"\",\"\",男一覧!D11)","v":""},{"$f":"IF(春季入力!K17=\"\",\"\",春季入力!K17)","v":""},{"$f":"IF(男一覧!T11=\"\",\"\",男一覧!T11)","v":""},6,null,6,{"$f":"IF(春季入力!H17=\"\",\"\",春季入力!H17)","v":""}]
["種　　　目",null,"組","ﾚｰﾝ・順","ナンバーカード","名　　　　前","学　　校","学年","ベスト記録","個人情報の掲載"]
["男",{"$f":"IF(N17=\"\",\"\",HLOOKUP(N17,$P$4:$AG$5,2,FALSE))","v":""},null,null,{"$f":"IF(男一覧!A12=\"\",\"\",男一覧!A12)","v":""},{"$f":"IF(男一覧!B12=\"\",\"\",男一覧!B12)","v":""},{"$f":"IF(F17=\"\",\"\",春季入力!$L$4)","v":""},{"$f":"IF(男一覧!D12=\"\",\"\",男一覧!D12)","v":""},{"$f":"IF(春季入力!K18=\"\",\"\",春季入力!K18)","v":""},{"$f":"IF(男一覧!T12=\"\",\"\",男一覧!T12)","v":""},7,null,7,{"$f":"IF(春季入力!H18=\"\",\"\",春季入力!H18)","v":""}]
["種　　　目",null,"組","ﾚｰﾝ・順","ナンバーカード","名　　　　前","学　　校","学年","ベスト記録","個人情報の掲載"]
["男",{"$f":"IF(N19=\"\",\"\",HLOOKUP(N19,$P$4:$AG$5,2,FALSE))","v":""},null,null,{"$f":"IF(男一覧!A13=\"\",\"\",男一覧!A13)","v":""},{"$f":"IF(男一覧!B13=\"\",\"\",男一覧!B13)","v":""},{"$f":"IF(F19=\"\",\"\",春季入力!$L$4)","v":""},{"$f":"IF(男一覧!D13=\"\",\"\",男一覧!D13)","v":""},{"$f":"IF(春季入力!K19=\"\",\"\",春季入力!K19)","v":""},{"$f":"IF(男一覧!T13=\"\",\"\",男一覧!T13)","v":""},8,null,8,{"$f":"IF(春季入力!H19=\"\",\"\",春季入力!H19)","v":""}]
["種　　　目",null,"組","ﾚｰﾝ・順","ナンバーカード","名　　　　前","学　　校","学年","ベスト記録","個人情報の掲載"]
["男",{"$f":"IF(N21=\"\",\"\",HLOOKUP(N21,$P$4:$AG$5,2,FALSE))","v":""},null,null,{"$f":"IF(男一覧!A14=\"\",\"\",男一覧!A14)","v":""},{"$f":"IF(男一覧!B14=\"\",\"\",男一覧!B14)","v":""},{"$f":"IF(F21=\"\",\"\",春季入力!$L$4)","v":""},{"$f":"IF(男一覧!D14=\"\",\"\",男一覧!D14)","v":""},{"$f":"IF(春季入力!K20=\"\",\"\",春季入力!K20)","v":""},{"$f":"IF(男一覧!T14=\"\",\"\",男一覧!T14)","v":""},9,null,9,{"$f":"IF(春季入力!H20=\"\",\"\",春季入力!H20)","v":""}]
["種　　　目",null,"組","ﾚｰﾝ・順","ナンバーカード","名　　　　前","学　　校","学年","ベスト記録","個人情報の掲載"]
["男",{"$f":"IF(N23=\"\",\"\",HLOOKUP(N23,$P$4:$AG$5,2,FALSE))","v":""},null,null,{"$f":"IF(男一覧!A15=\"\",\"\",男一覧!A15)","v":""},{"$f":"IF(男一覧!B15=\"\",\"\",男一覧!B15)","v":""},{"$f":"IF(F23=\"\",\"\",春季入力!$L$4)","v":""},{"$f":"IF(男一覧!D15=\"\",\"\",男一覧!D15)","v":""},{"$f":"IF(春季入力!K21=\"\",\"\",春季入力!K21)","v":""},{"$f":"IF(男一覧!T15=\"\",\"\",男一覧!T15)","v":""},10,null,10,{"$f":"IF(春季入力!H21=\"\",\"\",春季入力!H21)","v":""}]
["種　　　目",null,"組","ﾚｰﾝ・順","ナンバーカード","名　　　　前","学　　校","学年","ベスト記録","個人情報の掲載"]
["男",{"$f":"IF(N25=\"\",\"\",HLOOKUP(N25,$P$4:$AG$5,2,FALSE))","v":""},null,null,{"$f":"IF(男一覧!A16=\"\",\"\",男一覧!A16)","v":""},{"$f":"IF(男一覧!B16=\"\",\"\",男一覧!B16)","v":""},{"$f":"IF(F25=\"\",\"\",春季入力!$L$4)","v":""},{"$f":"IF(男一覧!D16=\"\",\"\",男一覧!D16)","v":""},{"$f":"IF(春季入力!K22=\"\",\"\",春季入力!K22)","v":""},{"$f":"IF(男一覧!T16=\"\",\"\",男一覧!T16)","v":""},11,null,11,{"$f":"IF(春季入力!H22=\"\",\"\",春季入力!H22)","v":""}]
["種　　　目",null,"組","ﾚｰﾝ・順","ナンバーカード","名　　　　前","学　　校","学年","ベスト記録","個人情報の掲載",null,"２ページ目"]
["男",{"$f":"IF(N27=\"\",\"\",HLOOKUP(N27,$P$4:$AG$5,2,FALSE))","v":""},null,null,{"$f":"IF(男一覧!A17=\"\",\"\",男一覧!A17)","v":""},{"$f":"IF(男一覧!B17=\"\",\"\",男一覧!B17)","v":""},{"$f":"IF(F27=\"\",\"\",春季入力!$L$4)","v":""},{"$f":"IF(男一覧!D17=\"\",\"\",男一覧!D17)","v":""},{"$f":"IF(春季入力!K23=\"\",\"\",春季入力!K23)","v":""},{"$f":"IF(男一覧!T17=\"\",\"\",男一覧!T17)","v":""},12,null,12,{"$f":"IF(春季入力!H23=\"\",\"\",春季入力!H23)","v":""}]
["種　　　目",null,"組","ﾚｰﾝ・順","ナンバーカード","名　　　　前","学　　校","学年","ベスト記録","個人情報の掲載"]
["男",{"$f":"IF(N29=\"\",\"\",HLOOKUP(N29,$P$4:$AG$5,2,FALSE))","v":""},null,null,{"$f":"IF(男一覧!A18=\"\",\"\",男一覧!A18)","v":""},{"$f":"IF(男一覧!B18=\"\",\"\",男一覧!B18)","v":""},{"$f":"IF(F29=\"\",\"\",春季入力!$L$4)","v":""},{"$f":"IF(男一覧!D18=\"\",\"\",男一覧!D18)","v":""},{"$f":"IF(春季入力!K24=\"\",\"\",春季入力!K24)","v":""},{"$f":"IF(男一覧!T18=\"\",\"\",男一覧!T18)","v":""},13,null,13,{"$f":"IF(春季入力!H24=\"\",\"\",春季入力!H24)","v":""}]
["種　　　目",null,"組","ﾚｰﾝ・順","ナンバーカード","名　　　　前","学　　校","学年","ベスト記録","個人情報の掲載"]
["男",{"$f":"IF(N31=\"\",\"\",HLOOKUP(N31,$P$4:$AG$5,2,FALSE))","v":""},null,null,{"$f":"IF(男一覧!A19=\"\",\"\",男一覧!A19)","v":""},{"$f":"IF(男一覧!B19=\"\",\"\",男一覧!B19)","v":""},{"$f":"IF(F31=\"\",\"\",春季入力!$L$4)","v":""},{"$f":"IF(男一覧!D19=\"\",\"\",男一覧!D19)","v":""},{"$f":"IF(春季入力!K25=\"\",\"\",春季入力!K25)","v":""},{"$f":"IF(男一覧!T19=\"\",\"\",男一覧!T19)","v":""},14,null,14,{"$f":"IF(春季入力!H25=\"\",\"\",春季入力!H25)","v":""}]
["種　　　目",null,"組","ﾚｰﾝ・順","ナンバーカード","名　　　　前","学　　校","学年","ベスト記録","個人情報の掲載"]
["男",{"$f":"IF(N33=\"\",\"\",HLOOKUP(N33,$P$4:$AG$5,2,FALSE))","v":""},null,null,{"$f":"IF(男一覧!A20=\"\",\"\",男一覧!A20)","v":""},{"$f":"IF(男一覧!B20=\"\",\"\",男一覧!B20)","v":""},{"$f":"IF(F33=\"\",\"\",春季入力!$L$4)","v":""},{"$f":"IF(男一覧!D20=\"\",\"\",男一覧!D20)","v":""},{"$f":"IF(春季入力!K26=\"\",\"\",春季入力!K26)","v":""},{"$f":"IF(男一覧!T20=\"\",\"\",男一覧!T20)","v":""},15,null,15,{"$f":"IF(春季入力!H26=\"\",\"\",春季入力!H26)","v":""}]
["種　　　目",null,"組","ﾚｰﾝ・順","ナンバーカード","名　　　　前","学　　校","学年","ベスト記録","個人情報の掲載"]
["男",{"$f":"IF(N35=\"\",\"\",HLOOKUP(N35,$P$4:$AG$5,2,FALSE))","v":""},null,null,{"$f":"IF(男一覧!A21=\"\",\"\",男一覧!A21)","v":""},{"$f":"IF(男一覧!B21=\"\",\"\",男一覧!B21)","v":""},{"$f":"IF(F35=\"\",\"\",春季入力!$L$4)","v":""},{"$f":"IF(男一覧!D21=\"\",\"\",男一覧!D21)","v":""},{"$f":"IF(春季入力!K27=\"\",\"\",春季入力!K27)","v":""},{"$f":"IF(男一覧!T21=\"\",\"\",男一覧!T21)","v":""},16,null,16,{"$f":"IF(春季入力!H27=\"\",\"\",春季入力!H27)","v":""}]
["種　　　目",null,"組","ﾚｰﾝ・順","ナンバーカード","名　　　　前","学　　校","学年","ベスト記録","個人情報の掲載"]
["男",{"$f":"IF(N37=\"\",\"\",HLOOKUP(N37,$P$4:$AG$5,2,FALSE))","v":""},null,null,{"$f":"IF(男一覧!A22=\"\",\"\",男一覧!A22)","v":""},{"$f":"IF(男一覧!B22=\"\",\"\",男一覧!B22)","v":""},{"$f":"IF(F37=\"\",\"\",春季入力!$L$4)","v":""},{"$f":"IF(男一覧!D22=\"\",\"\",男一覧!D22)","v":""},{"$f":"IF(春季入力!K28=\"\",\"\",春季入力!K28)","v":""},{"$f":"IF(男一覧!T22=\"\",\"\",男一覧!T22)","v":""},17,null,17,{"$f":"IF(春季入力!H28=\"\",\"\",春季入力!H28)","v":""}]
["種　　　目",null,"組","ﾚｰﾝ・順","ナンバーカード","名　　　　前","学　　校","学年","ベスト記録","個人情報の掲載"]
["男",{"$f":"IF(N39=\"\",\"\",HLOOKUP(N39,$P$4:$AG$5,2,FALSE))","v":""},null,null,{"$f":"IF(男一覧!A23=\"\",\"\",男一覧!A23)","v":""},{"$f":"IF(男一覧!B23=\"\",\"\",男一覧!B23)","v":""},{"$f":"IF(F39=\"\",\"\",春季入力!$L$4)","v":""},{"$f":"IF(男一覧!D23=\"\",\"\",男一覧!D23)","v":""},{"$f":"IF(春季入力!K29=\"\",\"\",春季入力!K29)","v":""},{"$f":"IF(男一覧!T23=\"\",\"\",男一覧!T23)","v":""},18,null,18,{"$f":"IF(春季入力!H29=\"\",\"\",春季入力!H29)","v":""}]
["種　　　目",null,"組","ﾚｰﾝ・順","ナンバーカード","名　　　　前","学　　校","学年","ベスト記録","個人情報の掲載"]
["男",{"$f":"IF(N41=\"\",\"\",HLOOKUP(N41,$P$4:$AG$5,2,FALSE))","v":""},null,null,{"$f":"IF(男一覧!A24=\"\",\"\",男一覧!A24)","v":""},{"$f":"IF(男一覧!B24=\"\",\"\",男一覧!B24)","v":""},{"$f":"IF(F41=\"\",\"\",春季入力!$L$4)","v":""},{"$f":"IF(男一覧!D24=\"\",\"\",男一覧!D24)","v":""},{"$f":"IF(春季入力!K30=\"\",\"\",春季入力!K30)","v":""},{"$f":"IF(男一覧!T24=\"\",\"\",男一覧!T24)","v":""},19,null,19,{"$f":"IF(春季入力!H30=\"\",\"\",春季入力!H30)","v":""}]
["種　　　目",null,"組","ﾚｰﾝ・順","ナンバーカード","名　　　　前","学　　校","学年","ベスト記録","個人情報の掲載"]
["男",{"$f":"IF(N43=\"\",\"\",HLOOKUP(N43,$P$4:$AG$5,2,FALSE))","v":""},null,null,{"$f":"IF(男一覧!A25=\"\",\"\",男一覧!A25)","v":""},{"$f":"IF(男一覧!B25=\"\",\"\",男一覧!B25)","v":""},{"$f":"IF(F43=\"\",\"\",春季入力!$L$4)","v":""},{"$f":"IF(男一覧!D25=\"\",\"\",男一覧!D25)","v":""},{"$f":"IF(春季入力!K31=\"\",\"\",春季入力!K31)","v":""},{"$f":"IF(男一覧!T25=\"\",\"\",男一覧!T25)","v":""},20,null,20,{"$f":"IF(春季入力!H31=\"\",\"\",春季入力!H31)","v":""}]
["種　　　目",null,"組","ﾚｰﾝ・順","ナンバーカード","名　　　　前","学　　校","学年","ベスト記録","個人情報の掲載"]
["男",{"$f":"IF(N45=\"\",\"\",HLOOKUP(N45,$P$4:$AG$5,2,FALSE))","v":""},null,null,{"$f":"IF(男一覧!A26=\"\",\"\",男一覧!A26)","v":""},{"$f":"IF(男一覧!B26=\"\",\"\",男一覧!B26)","v":""},{"$f":"IF(F45=\"\",\"\",春季入力!$L$4)","v":""},{"$f":"IF(男一覧!D26=\"\",\"\",男一覧!D26)","v":""},{"$f":"IF(春季入力!K32=\"\",\"\",春季入力!K32)","v":""},{"$f":"IF(男一覧!T26=\"\",\"\",男一覧!T26)","v":""},21,null,21,{"$f":"IF(春季入力!H32=\"\",\"\",春季入力!H32)","v":""}]
["種　　　目",null,"組","ﾚｰﾝ・順","ナンバーカード","名　　　　前","学　　校","学年","ベスト記録","個人情報の掲載"]
["男",{"$f":"IF(N47=\"\",\"\",HLOOKUP(N47,$P$4:$AG$5,2,FALSE))","v":""},null,null,{"$f":"IF(男一覧!A27=\"\",\"\",男一覧!A27)","v":""},{"$f":"IF(男一覧!B27=\"\",\"\",男一覧!B27)","v":""},{"$f":"IF(F47=\"\",\"\",春季入力!$L$4)","v":""},{"$f":"IF(男一覧!D27=\"\",\"\",男一覧!D27)","v":""},{"$f":"IF(春季入力!K33=\"\",\"\",春季入力!K33)","v":""},{"$f":"IF(男一覧!T27=\"\",\"\",男一覧!T27)","v":""},22,null,22,{"$f":"IF(春季入力!H33=\"\",\"\",春季入力!H33)","v":""}]
["種　　　目",null,"組","ﾚｰﾝ・順","ナンバーカード","名　　　　前","学　　校","学年","ベスト記録","個人情報の掲載",null,"３ページ目"]
["男",{"$f":"IF(N49=\"\",\"\",HLOOKUP(N49,$P$4:$AG$5,2,FALSE))","v":""},null,null,{"$f":"IF(男一覧!A28=\"\",\"\",男一覧!A28)","v":""},{"$f":"IF(男一覧!B28=\"\",\"\",男一覧!B28)","v":""},{"$f":"IF(F49=\"\",\"\",春季入力!$L$4)","v":""},{"$f":"IF(男一覧!D28=\"\",\"\",男一覧!D28)","v":""},{"$f":"IF(春季入力!K34=\"\",\"\",春季入力!K34)","v":""},{"$f":"IF(男一覧!T28=\"\",\"\",男一覧!T28)","v":""},23,null,23,{"$f":"IF(春季入力!H34=\"\",\"\",春季入力!H34)","v":""}]
["種　　　目",null,"組","ﾚｰﾝ・順","ナンバーカード","名　　　　前","学　　校","学年","ベスト記録","個人情報の掲載"]
["男",{"$f":"IF(N51=\"\",\"\",HLOOKUP(N51,$P$4:$AG$5,2,FALSE))","v":""},null,null,{"$f":"IF(男一覧!A29=\"\",\"\",男一覧!A29)","v":""},{"$f":"IF(男一覧!B29=\"\",\"\",男一覧!B29)","v":""},{"$f":"IF(F51=\"\",\"\",春季入力!$L$4)","v":""},{"$f":"IF(男一覧!D29=\"\",\"\",男一覧!D29)","v":""},{"$f":"IF(春季入力!K35=\"\",\"\",春季入力!K35)","v":""},{"$f":"IF(男一覧!T29=\"\",\"\",男一覧!T29)","v":""},24,null,24,{"$f":"IF(春季入力!H35=\"\",\"\",春季入力!H35)","v":""}]
["種　　　目",null,"組","ﾚｰﾝ・順","ナンバーカード","名　　　　前","学　　校","学年","ベスト記録","個人情報の掲載"]
["男",{"$f":"IF(N53=\"\",\"\",HLOOKUP(N53,$P$4:$AG$5,2,FALSE))","v":""},null,null,{"$f":"IF(男一覧!A30=\"\",\"\",男一覧!A30)","v":""},{"$f":"IF(男一覧!B30=\"\",\"\",男一覧!B30)","v":""},{"$f":"IF(F53=\"\",\"\",春季入力!$L$4)","v":""},{"$f":"IF(男一覧!D30=\"\",\"\",男一覧!D30)","v":""},{"$f":"IF(春季入力!K36=\"\",\"\",春季入力!K36)","v":""},{"$f":"IF(男一覧!T30=\"\",\"\",男一覧!T30)","v":""},25,null,25,{"$f":"IF(春季入力!H36=\"\",\"\",春季入力!H36)","v":""}]
["種　　　目",null,"組","ﾚｰﾝ・順","ナンバーカード","名　　　　前","学　　校","学年","ベスト記録","個人情報の掲載"]
["男",{"$f":"IF(N55=\"\",\"\",HLOOKUP(N55,$P$4:$AG$5,2,FALSE))","v":""},null,null,{"$f":"IF(男一覧!A31=\"\",\"\",男一覧!A31)","v":""},{"$f":"IF(男一覧!B31=\"\",\"\",男一覧!B31)","v":""},{"$f":"IF(F55=\"\",\"\",春季入力!$L$4)","v":""},{"$f":"IF(男一覧!D31=\"\",\"\",男一覧!D31)","v":""},{"$f":"IF(春季入力!K37=\"\",\"\",春季入力!K37)","v":""},{"$f":"IF(男一覧!T31=\"\",\"\",男一覧!T31)","v":""},26,null,26,{"$f":"IF(春季入力!H37=\"\",\"\",春季入力!H37)","v":""}]
["種　　　目",null,"組","ﾚｰﾝ・順","ナンバーカード","名　　　　前","学　　校","学年","ベスト記録","個人情報の掲載"]
["男",{"$f":"IF(N57=\"\",\"\",HLOOKUP(N57,$P$4:$AG$5,2,FALSE))","v":""},null,null,{"$f":"IF(男一覧!A32=\"\",\"\",男一覧!A32)","v":""},{"$f":"IF(男一覧!B32=\"\",\"\",男一覧!B32)","v":""},{"$f":"IF(F57=\"\",\"\",春季入力!$L$4)","v":""},{"$f":"IF(男一覧!D32=\"\",\"\",男一覧!D32)","v":""},{"$f":"IF(春季入力!K38=\"\",\"\",春季入力!K38)","v":""},{"$f":"IF(男一覧!T32=\"\",\"\",男一覧!T32)","v":""},27,null,27,{"$f":"IF(春季入力!H38=\"\",\"\",春季入力!H38)","v":""}]
["種　　　目",null,"組","ﾚｰﾝ・順","ナンバーカード","名　　　　前","学　　校","学年","ベスト記録","個人情報の掲載"]
["男",{"$f":"IF(N59=\"\",\"\",HLOOKUP(N59,$P$4:$AG$5,2,FALSE))","v":""},null,null,{"$f":"IF(男一覧!A33=\"\",\"\",男一覧!A33)","v":""},{"$f":"IF(男一覧!B33=\"\",\"\",男一覧!B33)","v":""},{"$f":"IF(F59=\"\",\"\",春季入力!$L$4)","v":""},{"$f":"IF(男一覧!D33=\"\",\"\",男一覧!D33)","v":""},{"$f":"IF(春季入力!K39=\"\",\"\",春季入力!K39)","v":""},{"$f":"IF(男一覧!T33=\"\",\"\",男一覧!T33)","v":""},28,null,28,{"$f":"IF(春季入力!H39=\"\",\"\",春季入力!H39)","v":""}]
["種　　　目",null,"組","ﾚｰﾝ・順","ナンバーカード","名　　　　前","学　　校","学年","ベスト記録","個人情報の掲載"]
["男",{"$f":"IF(N61=\"\",\"\",HLOOKUP(N61,$P$4:$AG$5,2,FALSE))","v":""},null,null,{"$f":"IF(男一覧!A34=\"\",\"\",男一覧!A34)","v":""},{"$f":"IF(男一覧!B34=\"\",\"\",男一覧!B34)","v":""},{"$f":"IF(F61=\"\",\"\",春季入力!$L$4)","v":""},{"$f":"IF(男一覧!D34=\"\",\"\",男一覧!D34)","v":""},{"$f":"IF(春季入力!K40=\"\",\"\",春季入力!K40)","v":""},{"$f":"IF(男一覧!T34=\"\",\"\",男一覧!T34)","v":""},29,null,29,{"$f":"IF(春季入力!H40=\"\",\"\",春季入力!H40)","v":""}]
["種　　　目",null,"組","ﾚｰﾝ・順","ナンバーカード","名　　　　前","学　　校","学年","ベスト記録","個人情報の掲載"]
["男",{"$f":"IF(N63=\"\",\"\",HLOOKUP(N63,$P$4:$AG$5,2,FALSE))","v":""},null,null,{"$f":"IF(男一覧!A35=\"\",\"\",男一覧!A35)","v":""},{"$f":"IF(男一覧!B35=\"\",\"\",男一覧!B35)","v":""},{"$f":"IF(F63=\"\",\"\",春季入力!$L$4)","v":""},{"$f":"IF(男一覧!D35=\"\",\"\",男一覧!D35)","v":""},{"$f":"IF(春季入力!K41=\"\",\"\",春季入力!K41)","v":""},{"$f":"IF(男一覧!T35=\"\",\"\",男一覧!T35)","v":""},30,null,30,{"$f":"IF(春季入力!H41=\"\",\"\",春季入力!H41)","v":""}]
["種　　　目",null,"組","ﾚｰﾝ・順","ナンバーカード","名　　　　前","学　　校","学年","ベスト記録","個人情報の掲載"]
["男",{"$f":"IF(N65=\"\",\"\",HLOOKUP(N65,$P$4:$AG$5,2,FALSE))","v":""},null,null,{"$f":"IF(男一覧!A36=\"\",\"\",男一覧!A36)","v":""},{"$f":"IF(男一覧!B36=\"\",\"\",男一覧!B36)","v":""},{"$f":"IF(F65=\"\",\"\",春季入力!$L$4)","v":""},{"$f":"IF(男一覧!D36=\"\",\"\",男一覧!D36)","v":""},{"$f":"IF(春季入力!K42=\"\",\"\",春季入力!K42)","v":""},{"$f":"IF(男一覧!T36=\"\",\"\",男一覧!T36)","v":""},31,null,31,{"$f":"IF(春季入力!H42=\"\",\"\",春季入力!H42)","v":""}]
["種　　　目",null,"組","ﾚｰﾝ・順","ナンバーカード","名　　　　前","学　　校","学年","ベスト記録","個人情報の掲載"]
["男",{"$f":"IF(N67=\"\",\"\",HLOOKUP(N67,$P$4:$AG$5,2,FALSE))","v":""},null,null,{"$f":"IF(男一覧!A37=\"\",\"\",男一覧!A37)","v":""},{"$f":"IF(男一覧!B37=\"\",\"\",男一覧!B37)","v":""},{"$f":"IF(F67=\"\",\"\",春季入力!$L$4)","v":""},{"$f":"IF(男一覧!D37=\"\",\"\",男一覧!D37)","v":""},{"$f":"IF(春季入力!K43=\"\",\"\",春季入力!K43)","v":""},{"$f":"IF(男一覧!T37=\"\",\"\",男一覧!T37)","v":""},32,null,32,{"$f":"IF(春季入力!H43=\"\",\"\",春季入力!H43)","v":""}]
["種　　　目",null,"組","ﾚｰﾝ・順","ナンバーカード","名　　　　前","学　　校","学年","ベスト記録","個人情報の掲載"]
["男",{"$f":"IF(N69=\"\",\"\",HLOOKUP(N69,$P$4:$AG$5,2,FALSE))","v":""},null,null,{"$f":"IF(男一覧!A38=\"\",\"\",男一覧!A38)","v":""},{"$f":"IF(男一覧!B38=\"\",\"\",男一覧!B38)","v":""},{"$f":"IF(F69=\"\",\"\",春季入力!$L$4)","v":""},{"$f":"IF(男一覧!D38=\"\",\"\",男一覧!D38)","v":""},{"$f":"IF(春季入力!K44=\"\",\"\",春季入力!K44)","v":""},{"$f":"IF(男一覧!T38=\"\",\"\",男一覧!T38)","v":""},33,null,33,{"$f":"IF(春季入力!H44=\"\",\"\",春季入力!H44)","v":""}]
["種　　　目",null,"組","ﾚｰﾝ・順","ナンバーカード","名　　　　前","学　　校","学年","ベスト記録","個人情報の掲載",null,"４ページ目"]
["男",{"$f":"IF(N71=\"\",\"\",HLOOKUP(N71,$P$4:$AG$5,2,FALSE))","v":""},null,null,{"$f":"IF(男一覧!A39=\"\",\"\",男一覧!A39)","v":""},{"$f":"IF(男一覧!B39=\"\",\"\",男一覧!B39)","v":""},{"$f":"IF(F71=\"\",\"\",春季入力!$L$4)","v":""},{"$f":"IF(男一覧!D39=\"\",\"\",男一覧!D39)","v":""},{"$f":"IF(春季入力!K45=\"\",\"\",春季入力!K45)","v":""},{"$f":"IF(男一覧!T39=\"\",\"\",男一覧!T39)","v":""},34,null,34,{"$f":"IF(春季入力!H45=\"\",\"\",春季入力!H45)","v":""}]
["種　　　目",null,"組","ﾚｰﾝ・順","ナンバーカード","名　　　　前","学　　校","学年","ベスト記録","個人情報の掲載"]
["男",{"$f":"IF(N73=\"\",\"\",HLOOKUP(N73,$P$4:$AG$5,2,FALSE))","v":""},null,null,{"$f":"IF(男一覧!A40=\"\",\"\",男一覧!A40)","v":""},{"$f":"IF(男一覧!B40=\"\",\"\",男一覧!B40)","v":""},{"$f":"IF(F73=\"\",\"\",春季入力!$L$4)","v":""},{"$f":"IF(男一覧!D40=\"\",\"\",男一覧!D40)","v":""},{"$f":"IF(春季入力!K46=\"\",\"\",春季入力!K46)","v":""},{"$f":"IF(男一覧!T40=\"\",\"\",男一覧!T40)","v":""},35,null,35,{"$f":"IF(春季入力!H46=\"\",\"\",春季入力!H46)","v":""}]

{"sheet":"女個票","index":5,"n_rows":63,"n_cols":33,"rows_kept":63,"cut":false,"hidden":false,"merged":[[47,11,62,11],[25,11,46,11],[3,11,24,11],[9,0,9,1],[11,0,11,1],[5,0,5,1],[7,0,7,1],[17,0,17,1],[27,0,27,1],[21,0,21,1],[23,0,23,1],[33,0,33,1],[19,0,19,1],[13,0,13,1],[43,0,43,1],[37,0,37,1],[3,0,3,1],[1,0,2,1],[35,0,35,1],[29,0,29,1],[31,0,31,1],[41,0,41,1],[15,0,15,1],[25,0,25,1],[51,0,51,1],[45,0,45,1],[47,0,47,1],[49,0,49,1],[39,0,39,1],[61,0,61,1],[57,0,57,1],[59,0,59,1],[53,0,53,1],[55,0,55,1]]}
[]
["個人種目個票"]
[]
["種　　　目",null,"組","ﾚｰﾝ・順","ナンバーカード","名　　　　前","学　　校","学年","ベスト記録","個人情報の掲載",null,"１ページ目",null,"個人種目１",null,21,22,23,24,25,26,27,28,29,30,11,38,13,14,15]
["女",{"$f":"IF(N5=\"\",\"\",HLOOKUP(N5,$P$4:$AG$5,2,FALSE))","v":""},null,null,{"$f":"IF(女一覧!A6=\"\",\"\",女一覧!A6)","v":""},{"$f":"IF(女一覧!B6=\"\",\"\",女一覧!B6)","v":""},{"$f":"IF(F5=\"\",\"\",春季入力!$L$4)","v":""},{"$f":"IF(女一覧!D6=\"\",\"\",女一覧!D6)","v":""},{"$f":"IF(春季入力!K71=\"\",\"\",春季入力!K71)","v":""},{"$f":"IF(女一覧!R6=\"\",\"\",女一覧!R6)","v":""},1,null,1,{"$f":"IF(春季入力!H71=\"\",\"\",春季入力!H71)","v":""},null,{"$f":"女一覧!E5","v":"２年\n100"},{"$f":"女一覧!F5","v":"３年\n100"},{"$f":"女一覧!G5","v":"共通\n200"},{"$f":"女一覧!H5","v":"共通\n800"},{"$f":"女一覧!I5","v":"２年\n1500"},{"$f":"女一覧!J5","v":"３年\n1500"},{"$f":"女一覧!K5","v":"共通\n100H"},{"$f":"女一覧!L5","v":"共通\n走高"},{"$f":"女一覧!M5","v":"共通\n走幅"},{"$f":"女一覧!N5","v":"共通\n砲丸"},{"$f":"女一覧!O5","v":0},{"$f":"女一覧!P5","v":"共通\n400R"},{"$f":"女一覧!Q5","v":0},{"$f":"女一覧!R5","v":"個人情報の記載"},{"$f":"女一覧!S5","v":0},{"$f":"女一覧!T5","v":0},{"$f":"女一覧!U5","v":0},{"$f":"女一覧!V5","v":0}]
["種　　　目",null,"組","ﾚｰﾝ・順","ナンバーカード","名　　　　前","学　　校","学年","ベスト記録","個人情報の掲載"]
["女",{"$f":"IF(N7=\"\",\"\",HLOOKUP(N7,$P$4:$AG$5,2,FALSE))","v":""},null,null,{"$f":"IF(女一覧!A7=\"\",\"\",女一覧!A7)","v":""},{"$f":"IF(女一覧!B7=\"\",\"\",女一覧!B7)","v":""},{"$f":"IF(F7=\"\",\"\",春季入力!$L$4)","v":""},{"$f":"IF(女一覧!D7=\"\",\"\",女一覧!D7)","v":""},{"$f":"IF(春季入力!K72=\"\",\"\",春季入力!K72)","v":""},{"$f":"IF(女一覧!R7=\"\",\"\",女一覧!R7)","v":""},2,null,2,{"$f":"IF(春季入力!H72=\"\",\"\",春季入力!H72)","v":""}]
["種　　　目",null,"組","ﾚｰﾝ・順","ナンバーカード","名　　　　前","学　　校","学年","ベスト記録","個人情報の掲載"]
["女",{"$f":"IF(N9=\"\",\"\",HLOOKUP(N9,$P$4:$AG$5,2,FALSE))","v":""},null,null,{"$f":"IF(女一覧!A8=\"\",\"\",女一覧!A8)","v":""},{"$f":"IF(女一覧!B8=\"\",\"\",女一覧!B8)","v":""},{"$f":"IF(F9=\"\",\"\",春季入力!$L$4)","v":""},{"$f":"IF(女一覧!D8=\"\",\"\",女一覧!D8)","v":""},{"$f":"IF(春季入力!K73=\"\",\"\",春季入力!K73)","v":""},{"$f":"IF(女一覧!R8=\"\",\"\",女一覧!R8)","v":""},3,null,3,{"$f":"IF(春季入力!H73=\"\",\"\",春季入力!H73)","v":""}]
["種　　　目",null,"組","ﾚｰﾝ・順","ナンバーカード","名　　　　前","学　　校","学年","ベスト記録","個人情報の掲載"]
["女",{"$f":"IF(N11=\"\",\"\",HLOOKUP(N11,$P$4:$AG$5,2,FALSE))","v":""},null,null,{"$f":"IF(女一覧!A9=\"\",\"\",女一覧!A9)","v":""},{"$f":"IF(女一覧!B9=\"\",\"\",女一覧!B9)","v":""},{"$f":"IF(F11=\"\",\"\",春季入力!$L$4)","v":""},{"$f":"IF(女一覧!D9=\"\",\"\",女一覧!D9)","v":""},{"$f":"IF(春季入力!K74=\"\",\"\",春季入力!K74)","v":""},{"$f":"IF(女一覧!R9=\"\",\"\",女一覧!R9)","v":""},4,null,4,{"$f":"IF(春季入力!H74=\"\",\"\",春季入力!H74)","v":""}]
["種　　　目",null,"組","ﾚｰﾝ・順","ナンバーカード","名　　　　前","学　　校","学年","ベスト記録","個人情報の掲載"]
["女",{"$f":"IF(N13=\"\",\"\",HLOOKUP(N13,$P$4:$AG$5,2,FALSE))","v":""},null,null,{"$f":"IF(女一覧!A10=\"\",\"\",女一覧!A10)","v":""},{"$f":"IF(女一覧!B10=\"\",\"\",女一覧!B10)","v":""},{"$f":"IF(F13=\"\",\"\",春季入力!$L$4)","v":""},{"$f":"IF(女一覧!D10=\"\",\"\",女一覧!D10)","v":""},{"$f":"IF(春季入力!K75=\"\",\"\",春季入力!K75)","v":""},{"$f":"IF(女一覧!R10=\"\",\"\",女一覧!R10)","v":""},5,null,5,{"$f":"IF(春季入力!H75=\"\",\"\",春季入力!H75)","v":""}]
["種　　　目",null,"組","ﾚｰﾝ・順","ナンバーカード","名　　　　前","学　　校","学年","ベスト記録","個人情報の掲載"]
["女",{"$f":"IF(N15=\"\",\"\",HLOOKUP(N15,$P$4:$AG$5,2,FALSE))","v":""},null,null,{"$f":"IF(女一覧!A11=\"\",\"\",女一覧!A11)","v":""},{"$f":"IF(女一覧!B11=\"\",\"\",女一覧!B11)","v":""},{"$f":"IF(F15=\"\",\"\",春季入力!$L$4)","v":""},{"$f":"IF(女一覧!D11=\"\",\"\",女一覧!D11)","v":""},{"$f":"IF(春季入力!K76=\"\",\"\",春季入力!K76)","v":""},{"$f":"IF(女一覧!R11=\"\",\"\",女一覧!R11)","v":""},6,null,6,{"$f":"IF(春季入力!H76=\"\",\"\",春季入力!H76)","v":""}]
["種　　　目",null,"組","ﾚｰﾝ・順","ナンバーカード","名　　　　前","学　　校","学年","ベスト記録","個人情報の掲載"]
["女",{"$f":"IF(N17=\"\",\"\",HLOOKUP(N17,$P$4:$AG$5,2,FALSE))","v":""},null,null,{"$f":"IF(女一覧!A12=\"\",\"\",女一覧!A12)","v":""},{"$f":"IF(女一覧!B12=\"\",\"\",女一覧!B12)","v":""},{"$f":"IF(F17=\"\",\"\",春季入力!$L$4)","v":""},{"$f":"IF(女一覧!D12=\"\",\"\",女一覧!D12)","v":""},{"$f":"IF(春季入力!K77=\"\",\"\",春季入力!K77)","v":""},{"$f":"IF(女一覧!R12=\"\",\"\",女一覧!R12)","v":""},7,null,7,{"$f":"IF(春季入力!H77=\"\",\"\",春季入力!H77)","v":""}]
["種　　　目",null,"組","ﾚｰﾝ・順","ナンバーカード","名　　　　前","学　　校","学年","ベスト記録","個人情報の掲載"]
["女",{"$f":"IF(N19=\"\",\"\",HLOOKUP(N19,$P$4:$AG$5,2,FALSE))","v":""},null,null,{"$f":"IF(女一覧!A13=\"\",\"\",女一覧!A13)","v":""},{"$f":"IF(女一覧!B13=\"\",\"\",女一覧!B13)","v":""},{"$f":"IF(F19=\"\",\"\",春季入力!$L$4)","v":""},{"$f":"IF(女一覧!D13=\"\",\"\",女一覧!D13)","v":""},{"$f":"IF(春季入力!K78=\"\",\"\",春季入力!K78)","v":""},{"$f":"IF(女一覧!R13=\"\",\"\",女一覧!R13)","v":""},8,null,8,{"$f":"IF(春季入力!H78=\"\",\"\",春季入力!H78)","v":""}]
["種　　　目",null,"組","ﾚｰﾝ・順","ナンバーカード","名　　　　前","学　　校","学年","ベスト記録","個人情報の掲載"]
["女",{"$f":"IF(N21=\"\",\"\",HLOOKUP(N21,$P$4:$AG$5,2,FALSE))","v":""},null,null,{"$f":"IF(女一覧!A14=\"\",\"\",女一覧!A14)","v":""},{"$f":"IF(女一覧!B14=\"\",\"\",女一覧!B14)","v":""},{"$f":"IF(F21=\"\",\"\",春季入力!$L$4)","v":""},{"$f":"IF(女一覧!D14=\"\",\"\",女一覧!D14)","v":""},{"$f":"IF(春季入力!K79=\"\",\"\",春季入力!K79)","v":""},{"$f":"IF(女一覧!R14=\"\",\"\",女一覧!R14)","v":""},9,null,9,{"$f":"IF(春季入力!H79=\"\",\"\",春季入力!H79)","v":""}]
["種　　　目",null,"組","ﾚｰﾝ・順","ナンバーカード","名　　　　前","学　　校","学年","ベスト記録","個人情報の掲載"]
["女",{"$f":"IF(N23=\"\",\"\",HLOOKUP(N23,$P$4:$AG$5,2,FALSE))","v":""},null,null,{"$f":"IF(女一覧!A15=\"\",\"\",女一覧!A15)","v":""},{"$f":"IF(女一覧!B15=\"\",\"\",女一覧!B15)","v":""},{"$f":"IF(F23=\"\",\"\",春季入力!$L$4)","v":""},{"$f":"IF(女一覧!D15=\"\",\"\",女一覧!D15)","v":""},{"$f":"IF(春季入力!K80=\"\",\"\",春季入力!K80)","v":""},{"$f":"IF(女一覧!R15=\"\",\"\",女一覧!R15)","v":""},10,null,10,{"$f":"IF(春季入力!H80=\"\",\"\",春季入力!H80)","v":""}]
["種　　　目",null,"組","ﾚｰﾝ・順","ナンバーカード","名　　　　前","学　　校","学年","ベスト記録","個人情報の掲載"]
["女",{"$f":"IF(N25=\"\",\"\",HLOOKUP(N25,$P$4:$AG$5,2,FALSE))","v":""},null,null,{"$f":"IF(女一覧!A16=\"\",\"\",女一覧!A16)","v":""},{"$f":"IF(女一覧!B16=\"\",\"\",女一覧!B16)","v":""},{"$f":"IF(F25=\"\",\"\",春季入力!$L$4)","v":""},{"$f":"IF(女一覧!D16=\"\",\"\",女一覧!D16)","v":""},{"$f":"IF(春季入力!K81=\"\",\"\",春季入力!K81)","v":""},{"$f":"IF(女一覧!R16=\"\",\"\",女一覧!R16)","v":""},11,null,11,{"$f":"IF(春季入力!H81=\"\",\"\",春季入力!H81)","v":""}]
["種　　　目",null,"組","ﾚｰﾝ・順","ナンバーカード","名　　　　前","学　　校","学年","ベスト記録","個人情報の掲載",null,"２ページ目"]
["女",{"$f":"IF(N27=\"\",\"\",HLOOKUP(N27,$P$4:$AG$5,2,FALSE))","v":""},null,null,{"$f":"IF(女一覧!A17=\"\",\"\",女一覧!A17)","v":""},{"$f":"IF(女一覧!B17=\"\",\"\",女一覧!B17)","v":""},{"$f":"IF(F27=\"\",\"\",春季入力!$L$4)","v":""},{"$f":"IF(女一覧!D17=\"\",\"\",女一覧!D17)","v":""},{"$f":"IF(春季入力!K82=\"\",\"\",春季入力!K82)","v":""},{"$f":"IF(女一覧!R17=\"\",\"\",女一覧!R17)","v":""},12,null,12,{"$f":"IF(春季入力!H82=\"\",\"\",春季入力!H82)","v":""}]
["種　　　目",null,"組","ﾚｰﾝ・順","ナンバーカード","名　　　　前","学　　校","学年","ベスト記録","個人情報の掲載"]
["女",{"$f":"IF(N29=\"\",\"\",HLOOKUP(N29,$P$4:$AG$5,2,FALSE))","v":""},null,null,{"$f":"IF(女一覧!A18=\"\",\"\",女一覧!A18)","v":""},{"$f":"IF(女一覧!B18=\"\",\"\",女一覧!B18)","v":""},{"$f":"IF(F29=\"\",\"\",春季入力!$L$4)","v":""},{"$f":"IF(女一覧!D18=\"\",\"\",女一覧!D18)","v":""},{"$f":"IF(春季入力!K83=\"\",\"\",春季入力!K83)","v":""},{"$f":"IF(女一覧!R18=\"\",\"\",女一覧!R18)","v":""},13,null,13,{"$f":"IF(春季入力!H83=\"\",\"\",春季入力!H83)","v":""}]
["種　　　目",null,"組","ﾚｰﾝ・順","ナンバーカード","名　　　　前","学　　校","学年","ベスト記録","個人情報の掲載"]
["女",{"$f":"IF(N31=\"\",\"\",HLOOKUP(N31,$P$4:$AG$5,2,FALSE))","v":""},null,null,{"$f":"IF(女一覧!A19=\"\",\"\",女一覧!A19)","v":""},{"$f":"IF(女一覧!B19=\"\",\"\",女一覧!B19)","v":""},{"$f":"IF(F31=\"\",\"\",春季入力!$L$4)","v":""},{"$f":"IF(女一覧!D19=\"\",\"\",女一覧!D19)","v":""},{"$f":"IF(春季入力!K84=\"\",\"\",春季入力!K84)","v":""},{"$f":"IF(女一覧!R19=\"\",\"\",女一覧!R19)","v":""},14,null,14,{"$f":"IF(春季入力!H84=\"\",\"\",春季入力!H84)","v":""}]
["種　　　目",null,"組","ﾚｰﾝ・順","ナンバーカード","名　　　　前","学　　校","学年","ベスト記録","個人情報の掲載"]
["女",{"$f":"IF(N33=\"\",\"\",HLOOKUP(N33,$P$4:$AG$5,2,FALSE))","v":""},null,null,{"$f":"IF(女一覧!A20=\"\",\"\",女一覧!A20)","v":""},{"$f":"IF(女一覧!B20=\"\",\"\",女一覧!B20)","v":""},{"$f":"IF(F33=\"\",\"\",春季入力!$L$4)","v":""},{"$f":"IF(女一覧!D20=\"\",\"\",女一覧!D20)","v":""},{"$f":"IF(春季入力!K85=\"\",\"\",春季入力!K85)","v":""},{"$f":"IF(女一覧!R20=\"\",\"\",女一覧!R20)","v":""},15,null,15,{"$f":"IF(春季入力!H85=\"\",\"\",春季入力!H85)","v":""}]
["種　　　目",null,"組","ﾚｰﾝ・順","ナンバーカード","名　　　　前","学　　校","学年","ベスト記録","個人情報の掲載"]
["女",{"$f":"IF(N35=\"\",\"\",HLOOKUP(N35,$P$4:$AG$5,2,FALSE))","v":""},null,null,{"$f":"IF(女一覧!A21=\"\",\"\",女一覧!A21)","v":""},{"$f":"IF(女一覧!B21=\"\",\"\",女一覧!B21)","v":""},{"$f":"IF(F35=\"\",\"\",春季入力!$L$4)","v":""},{"$f":"IF(女一覧!D21=\"\",\"\",女一覧!D21)","v":""},{"$f":"IF(春季入力!K86=\"\",\"\",春季入力!K86)","v":""},{"$f":"IF(女一覧!R21=\"\",\"\",女一覧!R21)","v":""},16,null,16,{"$f":"IF(春季入力!H86=\"\",\"\",春季入力!H86)","v":""}]
["種　　　目",null,"組","ﾚｰﾝ・順","ナンバーカード","名　　　　前","学　　校","学年","ベスト記録","個人情報の掲載"]
["女",{"$f":"IF(N37=\"\",\"\",HLOOKUP(N37,$P$4:$AG$5,2,FALSE))","v":""},null,null,{"$f":"IF(女一覧!A22=\"\",\"\",女一覧!A22)","v":""},{"$f":"IF(女一覧!B22=\"\",\"\",女一覧!B22)","v":""},{"$f":"IF(F37=\"\",\"\",春季入力!$L$4)","v":""},{"$f":"IF(女一覧!D22=\"\",\"\",女一覧!D22)","v":""},{"$f":"IF(春季入力!K87=\"\",\"\",春季入力!K87)","v":""},{"$f":"IF(女一覧!R22=\"\",\"\",女一覧!R22)","v":""},17,null,17,{"$f":"IF(春季入力!H87=\"\",\"\",春季入力!H87)","v":""}]
["種　　　目",null,"組","ﾚｰﾝ・順","ナンバーカード","名　　　　前","学　　校","学年","ベスト記録","個人情報の掲載"]
["女",{"$f":"IF(N39=\"\",\"\",HLOOKUP(N39,$P$4:$AG$5,2,FALSE))","v":""},null,null,{"$f":"IF(女一覧!A23=\"\",\"\",女一覧!A23)","v":""},{"$f":"IF(女一覧!B23=\"\",\"\",女一覧!B23)","v":""},{"$f":"IF(F39=\"\",\"\",春季入力!$L$4)","v":""},{"$f":"IF(女一覧!D23=\"\",\"\",女一覧!D23)","v":""},{"$f":"IF(春季入力!K88=\"\",\"\",春季入力!K88)","v":""},{"$f":"IF(女一覧!R23=\"\",\"\",女一覧!R23)","v":""},18,null,18,{"$f":"IF(春季入力!H88=\"\",\"\",春季入力!H88)","v":""}]
["種　　　目",null,"組","ﾚｰﾝ・順","ナンバーカード","名　　　　前","学　　校","学年","ベスト記録","個人情報の掲載"]
["女",{"$f":"IF(N41=\"\",\"\",HLOOKUP(N41,$P$4:$AG$5,2,FALSE))","v":""},null,null,{"$f":"IF(女一覧!A24=\"\",\"\",女一覧!A24)","v":""},{"$f":"IF(女一覧!B24=\"\",\"\",女一覧!B24)","v":""},{"$f":"IF(F41=\"\",\"\",春季入力!$L$4)","v":""},{"$f":"IF(女一覧!D24=\"\",\"\",女一覧!D24)","v":""},{"$f":"IF(春季入力!K89=\"\",\"\",春季入力!K89)","v":""},{"$f":"IF(女一覧!R24=\"\",\"\",女一覧!R24)","v":""},19,null,19,{"$f":"IF(春季入力!H89=\"\",\"\",春季入力!H89)","v":""}]
["種　　　目",null,"組","ﾚｰﾝ・順","ナンバーカード","名　　　　前","学　　校","学年","ベスト記録","個人情報の掲載"]
["女",{"$f":"IF(N43=\"\",\"\",HLOOKUP(N43,$P$4:$AG$5,2,FALSE))","v":""},null,null,{"$f":"IF(女一覧!A25=\"\",\"\",女一覧!A25)","v":""},{"$f":"IF(女一覧!B25=\"\",\"\",女一覧!B25)","v":""},{"$f":"IF(F43=\"\",\"\",春季入力!$L$4)","v":""},{"$f":"IF(女一覧!D25=\"\",\"\",女一覧!D25)","v":""},{"$f":"IF(春季入力!K90=\"\",\"\",春季入力!K90)","v":""},{"$f":"IF(女一覧!R25=\"\",\"\",女一覧!R25)","v":""},20,null,20,{"$f":"IF(春季入力!H90=\"\",\"\",春季入力!H90)","v":""}]
["種　　　目",null,"組","ﾚｰﾝ・順","ナンバーカード","名　　　　前","学　　校","学年","ベスト記録","個人情報の掲載"]
["女",{"$f":"IF(N45=\"\",\"\",HLOOKUP(N45,$P$4:$AG$5,2,FALSE))","v":""},null,null,{"$f":"IF(女一覧!A26=\"\",\"\",女一覧!A26)","v":""},{"$f":"IF(女一覧!B26=\"\",\"\",女一覧!B26)","v":""},{"$f":"IF(F45=\"\",\"\",春季入力!$L$4)","v":""},{"$f":"IF(女一覧!D26=\"\",\"\",女一覧!D26)","v":""},{"$f":"IF(春季入力!K91=\"\",\"\",春季入力!K91)","v":""},{"$f":"IF(女一覧!R26=\"\",\"\",女一覧!R26)","v":""},21,null,21,{"$f":"IF(春季入力!H91=\"\",\"\",春季入力!H91)","v":""}]
["種　　　目",null,"組","ﾚｰﾝ・順","ナンバーカード","名　　　　前","学　　校","学年","ベスト記録","個人情報の掲載"]
["女",{"$f":"IF(N47=\"\",\"\",HLOOKUP(N47,$P$4:$AG$5,2,FALSE))","v":""},null,null,{"$f":"IF(女一覧!A27=\"\",\"\",女一覧!A27)","v":""},{"$f":"IF(女一覧!B27=\"\",\"\",女一覧!B27)","v":""},{"$f":"IF(F47=\"\",\"\",春季入力!$L$4)","v":""},{"$f":"IF(女一覧!D27=\"\",\"\",女一覧!D27)","v":""},{"$f":"IF(春季入力!K92=\"\",\"\",春季入力!K92)","v":""},{"$f":"IF(女一覧!R27=\"\",\"\",女一覧!R27)","v":""},22,null,22,{"$f":"IF(春季入力!H92=\"\",\"\",春季入力!H92)","v":""}]
["種　　　目",null,"組","ﾚｰﾝ・順","ナンバーカード","名　　　　前","学　　校","学年","ベスト記録","個人情報の掲載",null,"３ページ目"]
["女",{"$f":"IF(N49=\"\",\"\",HLOOKUP(N49,$P$4:$AG$5,2,FALSE))","v":""},null,null,{"$f":"IF(女一覧!A28=\"\",\"\",女一覧!A28)","v":""},{"$f":"IF(女一覧!B28=\"\",\"\",女一覧!B28)","v":""},{"$f":"IF(F49=\"\",\"\",春季入力!$L$4)","v":""},{"$f":"IF(女一覧!D28=\"\",\"\",女一覧!D28)","v":""},{"$f":"IF(春季入力!K93=\"\",\"\",春季入力!K93)","v":""},{"$f":"IF(女一覧!R28=\"\",\"\",女一覧!R28)","v":""},23,null,23,{"$f":"IF(春季入力!H93=\"\",\"\",春季入力!H93)","v":""}]
["種　　　目",null,"組","ﾚｰﾝ・順","ナンバーカード","名　　　　前","学　　校","学年","ベスト記録","個人情報の掲載"]
["女",{"$f":"IF(N51=\"\",\"\",HLOOKUP(N51,$P$4:$AG$5,2,FALSE))","v":""},null,null,{"$f":"IF(女一覧!A29=\"\",\"\",女一覧!A29)","v":""},{"$f":"IF(女一覧!B29=\"\",\"\",女一覧!B29)","v":""},{"$f":"IF(F51=\"\",\"\",春季入力!$L$4)","v":""},{"$f":"IF(女一覧!D29=\"\",\"\",女一覧!D29)","v":""},{"$f":"IF(春季入力!K94=\"\",\"\",春季入力!K94)","v":""},{"$f":"IF(女一覧!R29=\"\",\"\",女一覧!R29)","v":""},24,null,24,{"$f":"IF(春季入力!H94=\"\",\"\",春季入力!H94)","v":""}]
["種　　　目",null,"組","ﾚｰﾝ・順","ナンバーカード","名　　　　前","学　　校","学年","ベスト記録","個人情報の掲載"]
["女",{"$f":"IF(N53=\"\",\"\",HLOOKUP(N53,$P$4:$AG$5,2,FALSE))","v":""},null,null,{"$f":"IF(女一覧!A30=\"\",\"\",女一覧!A30)","v":""},{"$f":"IF(女一覧!B30=\"\",\"\",女一覧!B30)","v":""},{"$f":"IF(F53=\"\",\"\",春季入力!$L$4)","v":""},{"$f":"IF(女一覧!D30=\"\",\"\",女一覧!D30)","v":""},{"$f":"IF(春季入力!K95=\"\",\"\",春季入力!K95)","v":""},{"$f":"IF(女一覧!R30=\"\",\"\",女一覧!R30)","v":""},25,null,25,{"$f":"IF(春季入力!H95=\"\",\"\",春季入力!H95)","v":""}]
["種　　　目",null,"組","ﾚｰﾝ・順","ナンバーカード","名　　　　前","学　　校","学年","ベスト記録","個人情報の掲載"]
["女",{"$f":"IF(N55=\"\",\"\",HLOOKUP(N55,$P$4:$AG$5,2,FALSE))","v":""},null,null,{"$f":"IF(女一覧!A31=\"\",\"\",女一覧!A31)","v":""},{"$f":"IF(女一覧!B31=\"\",\"\",女一覧!B31)","v":""},{"$f":"IF(F55=\"\",\"\",春季入力!$L$4)","v":""},{"$f":"IF(女一覧!D31=\"\",\"\",女一覧!D31)","v":""},{"$f":"IF(春季入力!K96=\"\",\"\",春季入力!K96)","v":""},{"$f":"IF(女一覧!R31=\"\",\"\",女一覧!R31)","v":""},26,null,26,{"$f":"IF(春季入力!H96=\"\",\"\",春季入力!H96)","v":""}]
["種　　　目",null,"組","ﾚｰﾝ・順","ナンバーカード","名　　　　前","学　　校","学年","ベスト記録","個人情報の掲載"]
["女",{"$f":"IF(N57=\"\",\"\",HLOOKUP(N57,$P$4:$AG$5,2,FALSE))","v":""},null,null,{"$f":"IF(女一覧!A32=\"\",\"\",女一覧!A32)","v":""},{"$f":"IF(女一覧!B32=\"\",\"\",女一覧!B32)","v":""},{"$f":"IF(F57=\"\",\"\",春季入力!$L$4)","v":""},{"$f":"IF(女一覧!D32=\"\",\"\",女一覧!D32)","v":""},{"$f":"IF(春季入力!K97=\"\",\"\",春季入力!K97)","v":""},{"$f":"IF(女一覧!R32=\"\",\"\",女一覧!R32)","v":""},27,null,27,{"$f":"IF(春季入力!H97=\"\",\"\",春季入力!H97)","v":""}]
["種　　　目",null,"組","ﾚｰﾝ・順","ナンバーカード","名　　　　前","学　　校","学年","ベスト記録","個人情報の掲載"]
["女",{"$f":"IF(N59=\"\",\"\",HLOOKUP(N59,$P$4:$AG$5,2,FALSE))","v":""},null,null,{"$f":"IF(女一覧!A33=\"\",\"\",女一覧!A33)","v":""},{"$f":"IF(女一覧!B33=\"\",\"\",女一覧!B33)","v":""},{"$f":"IF(F59=\"\",\"\",春季入力!$L$4)","v":""},{"$f":"IF(女一覧!D33=\"\",\"\",女一覧!D33)","v":""},{"$f":"IF(春季入力!K98=\"\",\"\",春季入力!K98)","v":""},{"$f":"IF(女一覧!R33=\"\",\"\",女一覧!R33)","v":""},28,null,28,{"$f":"IF(春季入力!H98=\"\",\"\",春季入力!H98)","v":""}]
["種　　　目",null,"組","ﾚｰﾝ・順","ナンバーカード","名　　　　前","学　　校","学年","ベスト記録","個人情報の掲載"]
["女",{"$f":"IF(N61=\"\",\"\",HLOOKUP(N61,$P$4:$AG$5,2,FALSE))","v":""},null,null,{"$f":"IF(女一覧!A34=\"\",\"\",女一覧!A34)","v":""},{"$f":"IF(女一覧!B34=\"\",\"\",女一覧!B34)","v":""},{"$f":"IF(F61=\"\",\"\",春季入力!$L$4)","v":""},{"$f":"IF(女一覧!D34=\"\",\"\",女一覧!D34)","v":""},{"$f":"IF(春季入力!K99=\"\",\"\",春季入力!K99)","v":""},{"$f":"IF(女一覧!R34=\"\",\"\",女一覧!R34)","v":""},29,null,29,{"$f":"IF(春季入力!H99=\"\",\"\",春季入力!H99)","v":""}]
["種　　　目",null,"組","ﾚｰﾝ・順","ナンバーカード","名　　　　前","学　　校","学年","ベスト記録","個人情報の掲載"]
["女",{"$f":"IF(N63=\"\",\"\",HLOOKUP(N63,$P$4:$AG$5,2,FALSE))","v":""},null,null,{"$f":"IF(女一覧!A35=\"\",\"\",女一覧!A35)","v":""},{"$f":"IF(女一覧!B35=\"\",\"\",女一覧!B35)","v":""},{"$f":"IF(F63=\"\",\"\",春季入力!$L$4)","v":""},{"$f":"IF(女一覧!D35=\"\",\"\",女一覧!D35)","v":""},{"$f":"IF(春季入力!K100=\"\",\"\",春季入力!K100)","v":""},{"$f":"IF(女一覧!R35=\"\",\"\",女一覧!R35)","v":""},30,null,30,{"$f":"IF(春季入力!H100=\"\",\"\",春季入力!H100)","v":""}]

{"sheet":"ﾘﾚｰ個票","index":6,"n_rows":26,"n_cols":9,"rows_kept":26,"cut":false,"hidden":false,"merged":[[22,0,23,0],[8,0,9,0],[1,0,2,0],[15,0,16,0],[20,8,25,8],[20,1,25,1],[20,2,25,2],[20,3,25,3],[6,8,11,8],[6,1,11,1],[6,2,11,2],[6,3,11,3]]}
[]
["男子"]
[]
[]
[]
["種　　　目","組","レーン","学校名","ナンバーカード","名　　　前","学年","個人情報の\n掲載","ベスト記録"]
[null,null,null,{"$f":"IF(必ずお読み下さい!I10=\"\",\"\",必ずお読み下さい!I10)","v":""},{"$f":"IF(春季入力!C50=\"\",\"\",春季入力!C50)","v":""},{"$f":"IF(春季入力!D50=\"\",\"\",春季入力!D50)","v":""},{"$f":"IF(春季入力!E50=\"\",\"\",春季入力!E50)","v":""},{"$f":"IF(春季入力!N50=\"\",\"\",春季入力!N50)","v":""},{"$f":"IF(春季入力!M50=\"\",\"\",春季入力!M50)","v":""}]
["男",null,null,null,{"$f":"IF(春季入力!C51=\"\",\"\",春季入力!C51)","v":""},{"$f":"IF(春季入力!D51=\"\",\"\",春季入力!D51)","v":""},{"$f":"IF(春季入力!E51=\"\",\"\",春季入力!E51)","v":""},{"$f":"IF(春季入力!N51=\"\",\"\",春季入力!N51)","v":""}]
["共　通\n\n４×１００ｍＲ",null,null,null,{"$f":"IF(春季入力!C52=\"\",\"\",春季入力!C52)","v":""},{"$f":"IF(春季入力!D52=\"\",\"\",春季入力!D52)","v":""},{"$f":"IF(春季入力!E52=\"\",\"\",春季入力!E52)","v":""},{"$f":"IF(春季入力!N52=\"\",\"\",春季入力!N52)","v":""}]
[null,null,null,null,{"$f":"IF(春季入力!C53=\"\",\"\",春季入力!C53)","v":""},{"$f":"IF(春季入力!D53=\"\",\"\",春季入力!D53)","v":""},{"$f":"IF(春季入力!E53=\"\",\"\",春季入力!E53)","v":""},{"$f":"IF(春季入力!N53=\"\",\"\",春季入力!N53)","v":""}]
[null,null,null,null,{"$f":"IF(春季入力!C54=\"\",\"\",春季入力!C54)","v":""},{"$f":"IF(春季入力!D54=\"\",\"\",春季入力!D54)","v":""},{"$f":"IF(春季入力!E54=\"\",\"\",春季入力!E54)","v":""},{"$f":"IF(春季入力!N54=\"\",\"\",春季入力!N54)","v":""}]
[null,null,null,null,{"$f":"IF(春季入力!C55=\"\",\"\",春季入力!C55)","v":""},{"$f":"IF(春季入力!D55=\"\",\"\",春季入力!D55)","v":""},{"$f":"IF(春季入力!E55=\"\",\"\",春季入力!E55)","v":""},{"$f":"IF(春季入力!N55=\"\",\"\",春季入力!N55)","v":""}]
[]
[]
[]
["女子"]
[]
[]
[]
["種　　　目","組","レーン","学校名","ナンバーカード","名　　　前","学年","個人情報の\n掲載","ベスト記録"]
[null,null,null,{"$f":"IF(必ずお読み下さい!I10=\"\",\"\",必ずお読み下さい!I10)","v":""},{"$f":"IF(春季入力!C103=\"\",\"\",春季入力!C103)","v":""},{"$f":"IF(春季入力!D103=\"\",\"\",春季入力!D103)","v":""},{"$f":"IF(春季入力!E103=\"\",\"\",春季入力!E103)","v":""},{"$f":"IF(春季入力!N103=\"\",\"\",春季入力!N103)","v":""},{"$f":"IF(春季入力!M103=\"\",\"\",春季入力!M103)","v":""}]
["女",null,null,null,{"$f":"IF(春季入力!C104=\"\",\"\",春季入力!C104)","v":""},{"$f":"IF(春季入力!D104=\"\",\"\",春季入力!D104)","v":""},{"$f":"IF(春季入力!E104=\"\",\"\",春季入力!E104)","v":""},{"$f":"IF(春季入力!N104=\"\",\"\",春季入力!N104)","v":""}]
["共　通\n\n４×１００ｍＲ",null,null,null,{"$f":"IF(春季入力!C105=\"\",\"\",春季入力!C105)","v":""},{"$f":"IF(春季入力!D105=\"\",\"\",春季入力!D105)","v":""},{"$f":"IF(春季入力!E105=\"\",\"\",春季入力!E105)","v":""},{"$f":"IF(春季入力!N105=\"\",\"\",春季入力!N105)","v":""}]
[null,null,null,null,{"$f":"IF(春季入力!C106=\"\",\"\",春季入力!C106)","v":""},{"$f":"IF(春季入力!D106=\"\",\"\",春季入力!D106)","v":""},{"$f":"IF(春季入力!E106=\"\",\"\",春季入力!E106)","v":""},{"$f":"IF(春季入力!N106=\"\",\"\",春季入力!N106)","v":""}]
[null,null,null,null,{"$f":"IF(春季入力!C107=\"\",\"\",春季入力!C107)","v":""},{"$f":"IF(春季入力!D107=\"\",\"\",春季入力!D107)","v":""},{"$f":"IF(春季入力!E107=\"\",\"\",春季入力!E107)","v":""},{"$f":"IF(春季入力!N107=\"\",\"\",春季入力!N107)","v":""}]
[null,null,null,null,{"$f":"IF(春季入力!C108=\"\",\"\",春季入力!C108)","v":""},{"$f":"IF(春季入力!D108=\"\",\"\",春季入力!D108)","v":""},{"$f":"IF(春季入力!E108=\"\",\"\",春季入力!E108)","v":""},{"$f":"IF(春季入力!N108=\"\",\"\",春季入力!N108)","v":""}]

{"sheet":"部員名簿","index":7,"n_rows":103,"n_cols":29,"rows_kept":103,"cut":false,"hidden":false,"merged":[[4,24,4,25]]}
["部員名簿（通年ナンバー）一覧"]
[{"$f":"VLOOKUP(W5,U8:AA34,6,FALSE)","v":{"$error":"#N/A"}}]
[]
["通年ナンバー","JAAF ID","氏　名","フリガナ","氏名英語表記","学年","性別",null,null,null,"氏名","フリガナ","ﾌﾘｶﾞﾅ","英字","学年","性別","生年月日"]
[{"$f":"IF(登録データ貼付!E2=\"\",\"\",登録データ貼付!E2)","v":""},{"$f":"IF(登録データ貼付!B2=\"\",\"\",登録データ貼付!B2)","v":""},{"$f":"IF(K5=\"\",\"\",K5)","v":""},{"$f":"IF(M5=\"\",\"\",M5)","v":""},{"$f":"IF(N5=\"\",\"\",N5)","v":""},{"$f":"IF(O5=\"\",\"\",O5)","v":""},{"$f":"IF(P5=\"\",\"\",P5)","v":""},null,null,null,{"$f":"IF(登録データ貼付!C2=\"\",\"\",登録データ貼付!C2&\"　\"&登録データ貼付!D2)","v":""},{"$f":"IF(登録データ貼付!F2=\"\",\"\",登録データ貼付!F2&\"　\"&登録データ貼付!G2)","v":""},{"$f":"ASC(L5)","v":""},{"$f":"IF(登録データ貼付!H2=\"\",\"\",登録データ貼付!H2&\" \"&登録データ貼付!I2)","v":""},{"$f":"IF(登録データ貼付!V2=\"\",\"\",RIGHT(登録データ貼付!V2,1))","v":""},{"$f":"IF(登録データ貼付!K2=\"\",\"\",LEFT(登録データ貼付!K2,1))","v":""},{"$f":"IF(登録データ貼付!S2=\"\",\"\",登録データ貼付!S2)","v":""},null,null,"01",null,"学校名",{"$f":"IF(必ずお読み下さい!G10=\"\",\"\",必ずお読み下さい!G10)","v":28}]
[{"$f":"IF(登録データ貼付!E3=\"\",\"\",登録データ貼付!E3)","v":""},{"$f":"IF(登録データ貼付!B3=\"\",\"\",登録データ貼付!B3)","v":""},{"$f":"IF(K6=\"\",\"\",K6)","v":""},{"$f":"IF(M6=\"\",\"\",M6)","v":""},{"$f":"IF(N6=\"\",\"\",N6)","v":""},{"$f":"IF(O6=\"\",\"\",O6)","v":""},{"$f":"IF(P6=\"\",\"\",P6)","v":""},null,null,null,{"$f":"IF(登録データ貼付!C3=\"\",\"\",登録データ貼付!C3&\"　\"&登録データ貼付!D3)","v":""},{"$f":"IF(登録データ貼付!F3=\"\",\"\",登録データ貼付!F3&\"　\"&登録データ貼付!G3)","v":""},{"$f":"ASC(L6)","v":""},{"$f":"IF(登録データ貼付!H3=\"\",\"\",登録データ貼付!H3&\" \"&登録データ貼付!I3)","v":""},{"$f":"IF(登録データ貼付!V3=\"\",\"\",RIGHT(登録データ貼付!V3,1))","v":""},{"$f":"IF(登録データ貼付!K3=\"\",\"\",LEFT(登録データ貼付!K3,1))","v":""},{"$f":"IF(登録データ貼付!S3=\"\",\"\",登録データ貼付!S3)","v":""},null,null,"02",null,"学校コード",{"$f":"IF(W5=\"\",\"\",VLOOKUP(W5,U8:Y103,5,FALSE))","v":{"$error":"#N/A"}}]
[{"$f":"IF(登録データ貼付!E4=\"\",\"\",登録データ貼付!E4)","v":""},{"$f":"IF(登録データ貼付!B4=\"\",\"\",登録データ貼付!B4)","v":""},"","","","","",null,null,null,{"$f":"IF(登録データ貼付!C4=\"\",\"\",登録データ貼付!C4&\"　\"&登録データ貼付!D4)","v":""},{"$f":"IF(登録データ貼付!F4=\"\",\"\",登録データ貼付!F4&\"　\"&登録データ貼付!G4)","v":""},"",{"$f":"IF(登録データ貼付!H4=\"\",\"\",登録データ貼付!H4&\" \"&登録データ貼付!I4)","v":""},{"$f":"IF(登録データ貼付!V4=\"\",\"\",RIGHT(登録データ貼付!V4,1))","v":""},{"$f":"IF(登録データ貼付!K4=\"\",\"\",LEFT(登録データ貼付!K4,1))","v":""},{"$f":"IF(登録データ貼付!S4=\"\",\"\",登録データ貼付!S4)","v":""},null,null,"03"]
[{"$f":"IF(登録データ貼付!E5=\"\",\"\",登録データ貼付!E5)","v":""},{"$f":"IF(登録データ貼付!B5=\"\",\"\",登録データ貼付!B5)","v":""},"","","","","",null,null,null,{"$f":"IF(登録データ貼付!C5=\"\",\"\",登録データ貼付!C5&\"　\"&登録データ貼付!D5)","v":""},{"$f":"IF(登録データ貼付!F5=\"\",\"\",登録データ貼付!F5&\"　\"&登録データ貼付!G5)","v":""},"",{"$f":"IF(登録データ貼付!H5=\"\",\"\",登録データ貼付!H5&\" \"&登録データ貼付!I5)","v":""},{"$f":"IF(登録データ貼付!V5=\"\",\"\",RIGHT(登録データ貼付!V5,1))","v":""},{"$f":"IF(登録データ貼付!K5=\"\",\"\",LEFT(登録データ貼付!K5,1))","v":""},{"$f":"IF(登録データ貼付!S5=\"\",\"\",登録データ貼付!S5)","v":""},null,null,"04",1,"秋田東",null,null,1,"秋田市立秋田東中学校",null,"東",1]
[{"$f":"IF(登録データ貼付!E6=\"\",\"\",登録データ貼付!E6)","v":""},{"$f":"IF(登録データ貼付!B6=\"\",\"\",登録データ貼付!B6)","v":""},"","","","","",null,null,null,{"$f":"IF(登録データ貼付!C6=\"\",\"\",登録データ貼付!C6&\"　\"&登録データ貼付!D6)","v":""},{"$f":"IF(登録データ貼付!F6=\"\",\"\",登録データ貼付!F6&\"　\"&登録データ貼付!G6)","v":""},"",{"$f":"IF(登録データ貼付!H6=\"\",\"\",登録データ貼付!H6&\" \"&登録データ貼付!I6)","v":""},{"$f":"IF(登録データ貼付!V6=\"\",\"\",RIGHT(登録データ貼付!V6,1))","v":""},{"$f":"IF(登録データ貼付!K6=\"\",\"\",LEFT(登録データ貼付!K6,1))","v":""},{"$f":"IF(登録データ貼付!S6=\"\",\"\",登録データ貼付!S6)","v":""},null,null,"05",2,"秋田南",null,null,101,"秋田市立秋田南中学校",null,"南",101]
[{"$f":"IF(登録データ貼付!E7=\"\",\"\",登録データ貼付!E7)","v":""},{"$f":"IF(登録データ貼付!B7=\"\",\"\",登録データ貼付!B7)","v":""},"","","","","",null,null,null,{"$f":"IF(登録データ貼付!C7=\"\",\"\",登録データ貼付!C7&\"　\"&登録データ貼付!D7)","v":""},{"$f":"IF(登録データ貼付!F7=\"\",\"\",登録データ貼付!F7&\"　\"&登録データ貼付!G7)","v":""},"",{"$f":"IF(登録データ貼付!H7=\"\",\"\",登録データ貼付!H7&\" \"&登録データ貼付!I7)","v":""},{"$f":"IF(登録データ貼付!V7=\"\",\"\",RIGHT(登録データ貼付!V7,1))","v":""},{"$f":"IF(登録データ貼付!K7=\"\",\"\",LEFT(登録データ貼付!K7,1))","v":""},{"$f":"IF(登録データ貼付!S7=\"\",\"\",登録データ貼付!S7)","v":""},null,null,"06",3,"山王",null,null,201,"秋田市立山王中学校",null,"山王",201]
[{"$f":"IF(登録データ貼付!E8=\"\",\"\",登録データ貼付!E8)","v":""},{"$f":"IF(登録データ貼付!B8=\"\",\"\",登録データ貼付!B8)","v":""},"","","","","",null,null,null,{"$f":"IF(登録データ貼付!C8=\"\",\"\",登録データ貼付!C8&\"　\"&登録データ貼付!D8)","v":""},{"$f":"IF(登録データ貼付!F8=\"\",\"\",登録データ貼付!F8&\"　\"&登録データ貼付!G8)","v":""},"",{"$f":"IF(登録データ貼付!H8=\"\",\"\",登録データ貼付!H8&\" \"&登録データ貼付!I8)","v":""},{"$f":"IF(登録データ貼付!V8=\"\",\"\",RIGHT(登録データ貼付!V8,1))","v":""},{"$f":"IF(登録データ貼付!K8=\"\",\"\",LEFT(登録データ貼付!K8,1))","v":""},{"$f":"IF(登録データ貼付!S8=\"\",\"\",登録データ貼付!S8)","v":""},null,null,"07",4,"土崎",null,null,301,"秋田市立土崎中学校",null,"土崎",301]
[{"$f":"IF(登録データ貼付!E9=\"\",\"\",登録データ貼付!E9)","v":""},{"$f":"IF(登録データ貼付!B9=\"\",\"\",登録データ貼付!B9)","v":""},"","","","","",null,null,null,{"$f":"IF(登録データ貼付!C9=\"\",\"\",登録データ貼付!C9&\"　\"&登録データ貼付!D9)","v":""},{"$f":"IF(登録データ貼付!F9=\"\",\"\",登録データ貼付!F9&\"　\"&登録データ貼付!G9)","v":""},"",{"$f":"IF(登録データ貼付!H9=\"\",\"\",登録データ貼付!H9&\" \"&登録データ貼付!I9)","v":""},{"$f":"IF(登録データ貼付!V9=\"\",\"\",RIGHT(登録データ貼付!V9,1))","v":""},{"$f":"IF(登録データ貼付!K9=\"\",\"\",LEFT(登録データ貼付!K9,1))","v":""},{"$f":"IF(登録データ貼付!S9=\"\",\"\",登録データ貼付!S9)","v":""},null,null,"08",5,"将軍野",null,null,401,"秋田市立将軍野中学校",null,"将軍野",401]
[{"$f":"IF(登録データ貼付!E10=\"\",\"\",登録データ貼付!E10)","v":""},{"$f":"IF(登録データ貼付!B10=\"\",\"\",登録データ貼付!B10)","v":""},"","","","","",null,null,null,{"$f":"IF(登録データ貼付!C10=\"\",\"\",登録データ貼付!C10&\"　\"&登録データ貼付!D10)","v":""},{"$f":"IF(登録データ貼付!F10=\"\",\"\",登録データ貼付!F10&\"　\"&登録データ貼付!G10)","v":""},"",{"$f":"IF(登録データ貼付!H10=\"\",\"\",登録データ貼付!H10&\" \"&登録データ貼付!I10)","v":""},{"$f":"IF(登録データ貼付!V10=\"\",\"\",RIGHT(登録データ貼付!V10,1))","v":""},{"$f":"IF(登録データ貼付!K10=\"\",\"\",LEFT(登録データ貼付!K10,1))","v":""},{"$f":"IF(登録データ貼付!S10=\"\",\"\",登録データ貼付!S10)","v":""},null,null,"09",6,"秋田西",null,null,501,"秋田市立秋田西中学校",null,"西",501]
[{"$f":"IF(登録データ貼付!E11=\"\",\"\",登録データ貼付!E11)","v":""},{"$f":"IF(登録データ貼付!B11=\"\",\"\",登録データ貼付!B11)","v":""},"","","","","",null,null,null,{"$f":"IF(登録データ貼付!C11=\"\",\"\",登録データ貼付!C11&\"　\"&登録データ貼付!D11)","v":""},{"$f":"IF(登録データ貼付!F11=\"\",\"\",登録データ貼付!F11&\"　\"&登録データ貼付!G11)","v":""},"",{"$f":"IF(登録データ貼付!H11=\"\",\"\",登録データ貼付!H11&\" \"&登録データ貼付!I11)","v":""},{"$f":"IF(登録データ貼付!V11=\"\",\"\",RIGHT(登録データ貼付!V11,1))","v":""},{"$f":"IF(登録データ貼付!K11=\"\",\"\",LEFT(登録データ貼付!K11,1))","v":""},{"$f":"IF(登録データ貼付!S11=\"\",\"\",登録データ貼付!S11)","v":""},null,null,"10",7,"外旭川",null,null,601,"秋田市立外旭川中学校",null,"外旭川",601]
[{"$f":"IF(登録データ貼付!E12=\"\",\"\",登録データ貼付!E12)","v":""},{"$f":"IF(登録データ貼付!B12=\"\",\"\",登録データ貼付!B12)","v":""},"","","","","",null,null,null,{"$f":"IF(登録データ貼付!C12=\"\",\"\",登録データ貼付!C12&\"　\"&登録データ貼付!D12)","v":""},{"$f":"IF(登録データ貼付!F12=\"\",\"\",登録データ貼付!F12&\"　\"&登録データ貼付!G12)","v":""},"",{"$f":"IF(登録データ貼付!H12=\"\",\"\",登録データ貼付!H12&\" \"&登録データ貼付!I12)","v":""},{"$f":"IF(登録データ貼付!V12=\"\",\"\",RIGHT(登録データ貼付!V12,1))","v":""},{"$f":"IF(登録データ貼付!K12=\"\",\"\",LEFT(登録データ貼付!K12,1))","v":""},{"$f":"IF(登録データ貼付!S12=\"\",\"\",登録データ貼付!S12)","v":""},null,null,"11",8,"秋田北",null,null,701,"秋田市立秋田北中学校",null,"北",701]
[{"$f":"IF(登録データ貼付!E13=\"\",\"\",登録データ貼付!E13)","v":""},{"$f":"IF(登録データ貼付!B13=\"\",\"\",登録データ貼付!B13)","v":""},"","","","","",null,null,null,{"$f":"IF(登録データ貼付!C13=\"\",\"\",登録データ貼付!C13&\"　\"&登録データ貼付!D13)","v":""},{"$f":"IF(登録データ貼付!F13=\"\",\"\",登録データ貼付!F13&\"　\"&登録データ貼付!G13)","v":""},"",{"$f":"IF(登録データ貼付!H13=\"\",\"\",登録データ貼付!H13&\" \"&登録データ貼付!I13)","v":""},{"$f":"IF(登録データ貼付!V13=\"\",\"\",RIGHT(登録データ貼付!V13,1))","v":""},{"$f":"IF(登録データ貼付!K13=\"\",\"\",LEFT(登録データ貼付!K13,1))","v":""},{"$f":"IF(登録データ貼付!S13=\"\",\"\",登録データ貼付!S13)","v":""},null,null,"12",9,"豊岩",null,null,801,"秋田市立豊岩中学校",null,"豊岩",801]
[{"$f":"IF(登録データ貼付!E14=\"\",\"\",登録データ貼付!E14)","v":""},{"$f":"IF(登録データ貼付!B14=\"\",\"\",登録データ貼付!B14)","v":""},"","","","","",null,null,null,{"$f":"IF(登録データ貼付!C14=\"\",\"\",登録データ貼付!C14&\"　\"&登録データ貼付!D14)","v":""},{"$f":"IF(登録データ貼付!F14=\"\",\"\",登録データ貼付!F14&\"　\"&登録データ貼付!G14)","v":""},"",{"$f":"IF(登録データ貼付!H14=\"\",\"\",登録データ貼付!H14&\" \"&登録データ貼付!I14)","v":""},{"$f":"IF(登録データ貼付!V14=\"\",\"\",RIGHT(登録データ貼付!V14,1))","v":""},{"$f":"IF(登録データ貼付!K14=\"\",\"\",LEFT(登録データ貼付!K14,1))","v":""},{"$f":"IF(登録データ貼付!S14=\"\",\"\",登録データ貼付!S14)","v":""},null,null,"13",10,"城南",null,null,901,"秋田市立城南中学校",null,"城南",901]
[{"$f":"IF(登録データ貼付!E15=\"\",\"\",登録データ貼付!E15)","v":""},{"$f":"IF(登録データ貼付!B15=\"\",\"\",登録データ貼付!B15)","v":""},"","","","","",null,null,null,{"$f":"IF(登録データ貼付!C15=\"\",\"\",登録データ貼付!C15&\"　\"&登録データ貼付!D15)","v":""},{"$f":"IF(登録データ貼付!F15=\"\",\"\",登録データ貼付!F15&\"　\"&登録データ貼付!G15)","v":""},"",{"$f":"IF(登録データ貼付!H15=\"\",\"\",登録データ貼付!H15&\" \"&登録データ貼付!I15)","v":""},{"$f":"IF(登録データ貼付!V15=\"\",\"\",RIGHT(登録データ貼付!V15,1))","v":""},{"$f":"IF(登録データ貼付!K15=\"\",\"\",LEFT(登録データ貼付!K15,1))","v":""},{"$f":"IF(登録データ貼付!S15=\"\",\"\",登録データ貼付!S15)","v":""},null,null,"14",11,"城東",null,null,1001,"秋田市立城東中学校",null,"城東",1001]
[{"$f":"IF(登録データ貼付!E16=\"\",\"\",登録データ貼付!E16)","v":""},{"$f":"IF(登録データ貼付!B16=\"\",\"\",登録データ貼付!B16)","v":""},"","","","","",null,null,null,{"$f":"IF(登録データ貼付!C16=\"\",\"\",登録データ貼付!C16&\"　\"&登録データ貼付!D16)","v":""},{"$f":"IF(登録データ貼付!F16=\"\",\"\",登録データ貼付!F16&\"　\"&登録データ貼付!G16)","v":""},"",{"$f":"IF(登録データ貼付!H16=\"\",\"\",登録データ貼付!H16&\" \"&登録データ貼付!I16)","v":""},{"$f":"IF(登録データ貼付!V16=\"\",\"\",RIGHT(登録データ貼付!V16,1))","v":""},{"$f":"IF(登録データ貼付!K16=\"\",\"\",LEFT(登録データ貼付!K16,1))","v":""},{"$f":"IF(登録データ貼付!S16=\"\",\"\",登録データ貼付!S16)","v":""},null,null,"15",12,"泉",null,null,1101,"秋田市立泉中学校",null,"泉",1101]
[{"$f":"IF(登録データ貼付!E17=\"\",\"\",登録データ貼付!E17)","v":""},{"$f":"IF(登録データ貼付!B17=\"\",\"\",登録データ貼付!B17)","v":""},"","","","","",null,null,null,{"$f":"IF(登録データ貼付!C17=\"\",\"\",登録データ貼付!C17&\"　\"&登録データ貼付!D17)","v":""},{"$f":"IF(登録データ貼付!F17=\"\",\"\",登録データ貼付!F17&\"　\"&登録データ貼付!G17)","v":""},"",{"$f":"IF(登録データ貼付!H17=\"\",\"\",登録データ貼付!H17&\" \"&登録データ貼付!I17)","v":""},{"$f":"IF(登録データ貼付!V17=\"\",\"\",RIGHT(登録データ貼付!V17,1))","v":""},{"$f":"IF(登録データ貼付!K17=\"\",\"\",LEFT(登録データ貼付!K17,1))","v":""},{"$f":"IF(登録データ貼付!S17=\"\",\"\",登録データ貼付!S17)","v":""},null,null,"16",13,"御野場",null,null,1201,"秋田市立御野場中学校",null,"御野場",1201]
[{"$f":"IF(登録データ貼付!E18=\"\",\"\",登録データ貼付!E18)","v":""},{"$f":"IF(登録データ貼付!B18=\"\",\"\",登録データ貼付!B18)","v":""},"","","","","",null,null,null,{"$f":"IF(登録データ貼付!C18=\"\",\"\",登録データ貼付!C18&\"　\"&登録データ貼付!D18)","v":""},{"$f":"IF(登録データ貼付!F18=\"\",\"\",登録データ貼付!F18&\"　\"&登録データ貼付!G18)","v":""},"",{"$f":"IF(登録データ貼付!H18=\"\",\"\",登録データ貼付!H18&\" \"&登録データ貼付!I18)","v":""},{"$f":"IF(登録データ貼付!V18=\"\",\"\",RIGHT(登録データ貼付!V18,1))","v":""},{"$f":"IF(登録データ貼付!K18=\"\",\"\",LEFT(登録データ貼付!K18,1))","v":""},{"$f":"IF(登録データ貼付!S18=\"\",\"\",登録データ貼付!S18)","v":""},null,null,"17",14,"飯島",null,null,1301,"秋田市立飯島中学校",null,"飯島",1301]
[{"$f":"IF(登録データ貼付!E19=\"\",\"\",登録データ貼付!E19)","v":""},{"$f":"IF(登録データ貼付!B19=\"\",\"\",登録データ貼付!B19)","v":""},"","","","","",null,null,null,{"$f":"IF(登録データ貼付!C19=\"\",\"\",登録データ貼付!C19&\"　\"&登録データ貼付!D19)","v":""},{"$f":"IF(登録データ貼付!F19=\"\",\"\",登録データ貼付!F19&\"　\"&登録データ貼付!G19)","v":""},"",{"$f":"IF(登録データ貼付!H19=\"\",\"\",登録データ貼付!H19&\" \"&登録データ貼付!I19)","v":""},{"$f":"IF(登録データ貼付!V19=\"\",\"\",RIGHT(登録データ貼付!V19,1))","v":""},{"$f":"IF(登録データ貼付!K19=\"\",\"\",LEFT(登録データ貼付!K19,1))","v":""},{"$f":"IF(登録データ貼付!S19=\"\",\"\",登録データ貼付!S19)","v":""},null,null,"18",15,"桜",null,null,1401,"秋田市立桜中学校",null,"桜",1401]
[{"$f":"IF(登録データ貼付!E20=\"\",\"\",登録データ貼付!E20)","v":""},{"$f":"IF(登録データ貼付!B20=\"\",\"\",登録データ貼付!B20)","v":""},"","","","","",null,null,null,{"$f":"IF(登録データ貼付!C20=\"\",\"\",登録データ貼付!C20&\"　\"&登録データ貼付!D20)","v":""},{"$f":"IF(登録データ貼付!F20=\"\",\"\",登録データ貼付!F20&\"　\"&登録データ貼付!G20)","v":""},"",{"$f":"IF(登録データ貼付!H20=\"\",\"\",登録データ貼付!H20&\" \"&登録データ貼付!I20)","v":""},{"$f":"IF(登録データ貼付!V20=\"\",\"\",RIGHT(登録データ貼付!V20,1))","v":""},{"$f":"IF(登録データ貼付!K20=\"\",\"\",LEFT(登録データ貼付!K20,1))","v":""},{"$f":"IF(登録データ貼付!S20=\"\",\"\",登録データ貼付!S20)","v":""},null,null,"19",16,"御所野学院",null,null,1501,"秋田市立御所野学院中学校",null,"御所野学院",1501]
[{"$f":"IF(登録データ貼付!E21=\"\",\"\",登録データ貼付!E21)","v":""},{"$f":"IF(登録データ貼付!B21=\"\",\"\",登録データ貼付!B21)","v":""},"","","","","",null,null,null,{"$f":"IF(登録データ貼付!C21=\"\",\"\",登録データ貼付!C21&\"　\"&登録データ貼付!D21)","v":""},{"$f":"IF(登録データ貼付!F21=\"\",\"\",登録データ貼付!F21&\"　\"&登録データ貼付!G21)","v":""},"",{"$f":"IF(登録データ貼付!H21=\"\",\"\",登録データ貼付!H21&\" \"&登録データ貼付!I21)","v":""},{"$f":"IF(登録データ貼付!V21=\"\",\"\",RIGHT(登録データ貼付!V21,1))","v":""},{"$f":"IF(登録データ貼付!K21=\"\",\"\",LEFT(登録データ貼付!K21,1))","v":""},{"$f":"IF(登録データ貼付!S21=\"\",\"\",登録データ貼付!S21)","v":""},null,null,"20",17,"秋大附属",null,null,1601,"秋田大学教育文化学部附属中学校",null,"秋大附",1601]
[{"$f":"IF(登録データ貼付!E22=\"\",\"\",登録データ貼付!E22)","v":""},{"$f":"IF(登録データ貼付!B22=\"\",\"\",登録データ貼付!B22)","v":""},"","","","","",null,null,null,{"$f":"IF(登録データ貼付!C22=\"\",\"\",登録データ貼付!C22&\"　\"&登録データ貼付!D22)","v":""},{"$f":"IF(登録データ貼付!F22=\"\",\"\",登録データ貼付!F22&\"　\"&登録データ貼付!G22)","v":""},"",{"$f":"IF(登録データ貼付!H22=\"\",\"\",登録データ貼付!H22&\" \"&登録データ貼付!I22)","v":""},{"$f":"IF(登録データ貼付!V22=\"\",\"\",RIGHT(登録データ貼付!V22,1))","v":""},{"$f":"IF(登録データ貼付!K22=\"\",\"\",LEFT(登録データ貼付!K22,1))","v":""},{"$f":"IF(登録データ貼付!S22=\"\",\"\",登録データ貼付!S22)","v":""},null,null,"21",18,"秋田南中等部",null,null,1701,"秋田県立秋田南高等学校中等部",null,"秋田南中等部",1701]
[{"$f":"IF(登録データ貼付!E23=\"\",\"\",登録データ貼付!E23)","v":""},{"$f":"IF(登録データ貼付!B23=\"\",\"\",登録データ貼付!B23)","v":""},"","","","","",null,null,null,{"$f":"IF(登録データ貼付!C23=\"\",\"\",登録データ貼付!C23&\"　\"&登録データ貼付!D23)","v":""},{"$f":"IF(登録データ貼付!F23=\"\",\"\",登録データ貼付!F23&\"　\"&登録データ貼付!G23)","v":""},"",{"$f":"IF(登録データ貼付!H23=\"\",\"\",登録データ貼付!H23&\" \"&登録データ貼付!I23)","v":""},{"$f":"IF(登録データ貼付!V23=\"\",\"\",RIGHT(登録データ貼付!V23,1))","v":""},{"$f":"IF(登録データ貼付!K23=\"\",\"\",LEFT(登録データ貼付!K23,1))","v":""},{"$f":"IF(登録データ貼付!S23=\"\",\"\",登録データ貼付!S23)","v":""},null,null,"22",19,"聴覚支援",null,null,1801,"秋田県立聴覚支援学校",null,"聴覚支援",1801]
[{"$f":"IF(登録データ貼付!E24=\"\",\"\",登録データ貼付!E24)","v":""},{"$f":"IF(登録データ貼付!B24=\"\",\"\",登録データ貼付!B24)","v":""},"","","","","",null,null,null,{"$f":"IF(登録データ貼付!C24=\"\",\"\",登録データ貼付!C24&\"　\"&登録データ貼付!D24)","v":""},{"$f":"IF(登録データ貼付!F24=\"\",\"\",登録データ貼付!F24&\"　\"&登録データ貼付!G24)","v":""},"",{"$f":"IF(登録データ貼付!H24=\"\",\"\",登録データ貼付!H24&\" \"&登録データ貼付!I24)","v":""},{"$f":"IF(登録データ貼付!V24=\"\",\"\",RIGHT(登録データ貼付!V24,1))","v":""},{"$f":"IF(登録データ貼付!K24=\"\",\"\",LEFT(登録データ貼付!K24,1))","v":""},{"$f":"IF(登録データ貼付!S24=\"\",\"\",登録データ貼付!S24)","v":""},null,null,"23",20]
[{"$f":"IF(登録データ貼付!E25=\"\",\"\",登録データ貼付!E25)","v":""},{"$f":"IF(登録データ貼付!B25=\"\",\"\",登録データ貼付!B25)","v":""},"","","","","",null,null,null,{"$f":"IF(登録データ貼付!C25=\"\",\"\",登録データ貼付!C25&\"　\"&登録データ貼付!D25)","v":""},{"$f":"IF(登録データ貼付!F25=\"\",\"\",登録データ貼付!F25&\"　\"&登録データ貼付!G25)","v":""},"",{"$f":"IF(登録データ貼付!H25=\"\",\"\",登録データ貼付!H25&\" \"&登録データ貼付!I25)","v":""},{"$f":"IF(登録データ貼付!V25=\"\",\"\",RIGHT(登録データ貼付!V25,1))","v":""},{"$f":"IF(登録データ貼付!K25=\"\",\"\",LEFT(登録データ貼付!K25,1))","v":""},{"$f":"IF(登録データ貼付!S25=\"\",\"\",登録データ貼付!S25)","v":""},null,null,"24",21,"太平",null,null,null,"秋田市立太平中学校",null,"太平"]
[{"$f":"IF(登録データ貼付!E26=\"\",\"\",登録データ貼付!E26)","v":""},{"$f":"IF(登録データ貼付!B26=\"\",\"\",登録データ貼付!B26)","v":""},"","","","","",null,null,null,{"$f":"IF(登録データ貼付!C26=\"\",\"\",登録データ貼付!C26&\"　\"&登録データ貼付!D26)","v":""},{"$f":"IF(登録データ貼付!F26=\"\",\"\",登録データ貼付!F26&\"　\"&登録データ貼付!G26)","v":""},"",{"$f":"IF(登録データ貼付!H26=\"\",\"\",登録データ貼付!H26&\" \"&登録データ貼付!I26)","v":""},{"$f":"IF(登録データ貼付!V26=\"\",\"\",RIGHT(登録データ貼付!V26,1))","v":""},{"$f":"IF(登録データ貼付!K26=\"\",\"\",LEFT(登録データ貼付!K26,1))","v":""},{"$f":"IF(登録データ貼付!S26=\"\",\"\",登録データ貼付!S26)","v":""},null,null,"25",22,"下北手",null,null,null,"秋田市立下北手中学校",null,"下北手"]
[{"$f":"IF(登録データ貼付!E27=\"\",\"\",登録データ貼付!E27)","v":""},{"$f":"IF(登録データ貼付!B27=\"\",\"\",登録データ貼付!B27)","v":""},"","","","","",null,null,null,{"$f":"IF(登録データ貼付!C27=\"\",\"\",登録データ貼付!C27&\"　\"&登録データ貼付!D27)","v":""},{"$f":"IF(登録データ貼付!F27=\"\",\"\",登録データ貼付!F27&\"　\"&登録データ貼付!G27)","v":""},"",{"$f":"IF(登録データ貼付!H27=\"\",\"\",登録データ貼付!H27&\" \"&登録データ貼付!I27)","v":""},{"$f":"IF(登録データ貼付!V27=\"\",\"\",RIGHT(登録データ貼付!V27,1))","v":""},{"$f":"IF(登録データ貼付!K27=\"\",\"\",LEFT(登録データ貼付!K27,1))","v":""},{"$f":"IF(登録データ貼付!S27=\"\",\"\",登録データ貼付!S27)","v":""},null,null,"26",23,"下浜",null,null,null,"秋田市立下浜中学校",null,"下浜"]
[{"$f":"IF(登録データ貼付!E28=\"\",\"\",登録データ貼付!E28)","v":""},{"$f":"IF(登録データ貼付!B28=\"\",\"\",登録データ貼付!B28)","v":""},"","","","","",null,null,null,{"$f":"IF(登録データ貼付!C28=\"\",\"\",登録データ貼付!C28&\"　\"&登録データ貼付!D28)","v":""},{"$f":"IF(登録データ貼付!F28=\"\",\"\",登録データ貼付!F28&\"　\"&登録データ貼付!G28)","v":""},"",{"$f":"IF(登録データ貼付!H28=\"\",\"\",登録データ貼付!H28&\" \"&登録データ貼付!I28)","v":""},{"$f":"IF(登録データ貼付!V28=\"\",\"\",RIGHT(登録データ貼付!V28,1))","v":""},{"$f":"IF(登録データ貼付!K28=\"\",\"\",LEFT(登録データ貼付!K28,1))","v":""},{"$f":"IF(登録データ貼付!S28=\"\",\"\",登録データ貼付!S28)","v":""},null,null,"27",24,"勝平",null,null,null,"秋田市立勝平中学校",null,"勝平"]
[{"$f":"IF(登録データ貼付!E29=\"\",\"\",登録データ貼付!E29)","v":""},{"$f":"IF(登録データ貼付!B29=\"\",\"\",登録データ貼付!B29)","v":""},"","","","","",null,null,null,{"$f":"IF(登録データ貼付!C29=\"\",\"\",登録データ貼付!C29&\"　\"&登録データ貼付!D29)","v":""},{"$f":"IF(登録データ貼付!F29=\"\",\"\",登録データ貼付!F29&\"　\"&登録データ貼付!G29)","v":""},"",{"$f":"IF(登録データ貼付!H29=\"\",\"\",登録データ貼付!H29&\" \"&登録データ貼付!I29)","v":""},{"$f":"IF(登録データ貼付!V29=\"\",\"\",RIGHT(登録データ貼付!V29,1))","v":""},{"$f":"IF(登録データ貼付!K29=\"\",\"\",LEFT(登録データ貼付!K29,1))","v":""},{"$f":"IF(登録データ貼付!S29=\"\",\"\",登録データ貼付!S29)","v":""},null,null,"28",25,"岩見三内",null,null,null,"秋田市立岩見三内中学校",null,"岩見山内"]
[{"$f":"IF(登録データ貼付!E30=\"\",\"\",登録データ貼付!E30)","v":""},{"$f":"IF(登録データ貼付!B30=\"\",\"\",登録データ貼付!B30)","v":""},"","","","","",null,null,null,{"$f":"IF(登録データ貼付!C30=\"\",\"\",登録データ貼付!C30&\"　\"&登録データ貼付!D30)","v":""},{"$f":"IF(登録データ貼付!F30=\"\",\"\",登録データ貼付!F30&\"　\"&登録データ貼付!G30)","v":""},"",{"$f":"IF(登録データ貼付!H30=\"\",\"\",登録データ貼付!H30&\" \"&登録データ貼付!I30)","v":""},{"$f":"IF(登録データ貼付!V30=\"\",\"\",RIGHT(登録データ貼付!V30,1))","v":""},{"$f":"IF(登録データ貼付!K30=\"\",\"\",LEFT(登録データ貼付!K30,1))","v":""},{"$f":"IF(登録データ貼付!S30=\"\",\"\",登録データ貼付!S30)","v":""},null,null,"29",26,"河辺",null,null,null,"秋田市立河辺中学校",null,"河辺"]
[{"$f":"IF(登録データ貼付!E31=\"\",\"\",登録データ貼付!E31)","v":""},{"$f":"IF(登録データ貼付!B31=\"\",\"\",登録データ貼付!B31)","v":""},"","","","","",null,null,null,{"$f":"IF(登録データ貼付!C31=\"\",\"\",登録データ貼付!C31&\"　\"&登録データ貼付!D31)","v":""},{"$f":"IF(登録データ貼付!F31=\"\",\"\",登録データ貼付!F31&\"　\"&登録データ貼付!G31)","v":""},"",{"$f":"IF(登録データ貼付!H31=\"\",\"\",登録データ貼付!H31&\" \"&登録データ貼付!I31)","v":""},{"$f":"IF(登録データ貼付!V31=\"\",\"\",RIGHT(登録データ貼付!V31,1))","v":""},{"$f":"IF(登録データ貼付!K31=\"\",\"\",LEFT(登録データ貼付!K31,1))","v":""},{"$f":"IF(登録データ貼付!S31=\"\",\"\",登録データ貼付!S31)","v":""},null,null,"30",27,"雄和",null,null,null,"秋田市立雄和中学校",null,"雄和"]
[{"$f":"IF(登録データ貼付!E32=\"\",\"\",登録データ貼付!E32)","v":""},{"$f":"IF(登録データ貼付!B32=\"\",\"\",登録データ貼付!B32)","v":""},"","","","","",null,null,null,{"$f":"IF(登録データ貼付!C32=\"\",\"\",登録データ貼付!C32&\"　\"&登録データ貼付!D32)","v":""},{"$f":"IF(登録データ貼付!F32=\"\",\"\",登録データ貼付!F32&\"　\"&登録データ貼付!G32)","v":""},"",{"$f":"IF(登録データ貼付!H32=\"\",\"\",登録データ貼付!H32&\" \"&登録データ貼付!I32)","v":""},{"$f":"IF(登録データ貼付!V32=\"\",\"\",RIGHT(登録データ貼付!V32,1))","v":""},{"$f":"IF(登録データ貼付!K32=\"\",\"\",LEFT(登録データ貼付!K32,1))","v":""},{"$f":"IF(登録データ貼付!S32=\"\",\"\",登録データ貼付!S32)","v":""},null,null,"31"]
[{"$f":"IF(登録データ貼付!E33=\"\",\"\",登録データ貼付!E33)","v":""},{"$f":"IF(登録データ貼付!B33=\"\",\"\",登録データ貼付!B33)","v":""},"","","","","",null,null,null,{"$f":"IF(登録データ貼付!C33=\"\",\"\",登録データ貼付!C33&\"　\"&登録データ貼付!D33)","v":""},{"$f":"IF(登録データ貼付!F33=\"\",\"\",登録データ貼付!F33&\"　\"&登録データ貼付!G33)","v":""},"",{"$f":"IF(登録データ貼付!H33=\"\",\"\",登録データ貼付!H33&\" \"&登録データ貼付!I33)","v":""},{"$f":"IF(登録データ貼付!V33=\"\",\"\",RIGHT(登録データ貼付!V33,1))","v":""},{"$f":"IF(登録データ貼付!K33=\"\",\"\",LEFT(登録データ貼付!K33,1))","v":""},{"$f":"IF(登録データ貼付!S33=\"\",\"\",登録データ貼付!S33)","v":""},null,null,"32"]
[{"$f":"IF(登録データ貼付!E34=\"\",\"\",登録データ貼付!E34)","v":""},{"$f":"IF(登録データ貼付!B34=\"\",\"\",登録データ貼付!B34)","v":""},"","","","","",null,null,null,{"$f":"IF(登録データ貼付!C34=\"\",\"\",登録データ貼付!C34&\"　\"&登録データ貼付!D34)","v":""},{"$f":"IF(登録データ貼付!F34=\"\",\"\",登録データ貼付!F34&\"　\"&登録データ貼付!G34)","v":""},"",{"$f":"IF(登録データ貼付!H34=\"\",\"\",登録データ貼付!H34&\" \"&登録データ貼付!I34)","v":""},{"$f":"IF(登録データ貼付!V34=\"\",\"\",RIGHT(登録データ貼付!V34,1))","v":""},{"$f":"IF(登録データ貼付!K34=\"\",\"\",LEFT(登録データ貼付!K34,1))","v":""},{"$f":"IF(登録データ貼付!S34=\"\",\"\",登録データ貼付!S34)","v":""},null,null,"33"]
[{"$f":"IF(登録データ貼付!E35=\"\",\"\",登録データ貼付!E35)","v":""},{"$f":"IF(登録データ貼付!B35=\"\",\"\",登録データ貼付!B35)","v":""},"","","","","",null,null,null,{"$f":"IF(登録データ貼付!C35=\"\",\"\",登録データ貼付!C35&\"　\"&登録データ貼付!D35)","v":""},{"$f":"IF(登録データ貼付!F35=\"\",\"\",登録データ貼付!F35&\"　\"&登録データ貼付!G35)","v":""},"",{"$f":"IF(登録データ貼付!H35=\"\",\"\",登録データ貼付!H35&\" \"&登録データ貼付!I35)","v":""},{"$f":"IF(登録データ貼付!V35=\"\",\"\",RIGHT(登録データ貼付!V35,1))","v":""},{"$f":"IF(登録データ貼付!K35=\"\",\"\",LEFT(登録データ貼付!K35,1))","v":""},{"$f":"IF(登録データ貼付!S35=\"\",\"\",登録データ貼付!S35)","v":""},null,null,"34"]
[{"$f":"IF(登録データ貼付!E36=\"\",\"\",登録データ貼付!E36)","v":""},{"$f":"IF(登録データ貼付!B36=\"\",\"\",登録データ貼付!B36)","v":""},"","","","","",null,null,null,{"$f":"IF(登録データ貼付!C36=\"\",\"\",登録データ貼付!C36&\"　\"&登録データ貼付!D36)","v":""},{"$f":"IF(登録データ貼付!F36=\"\",\"\",登録データ貼付!F36&\"　\"&登録データ貼付!G36)","v":""},"",{"$f":"IF(登録データ貼付!H36=\"\",\"\",登録データ貼付!H36&\" \"&登録データ貼付!I36)","v":""},{"$f":"IF(登録データ貼付!V36=\"\",\"\",RIGHT(登録データ貼付!V36,1))","v":""},{"$f":"IF(登録データ貼付!K36=\"\",\"\",LEFT(登録データ貼付!K36,1))","v":""},{"$f":"IF(登録データ貼付!S36=\"\",\"\",登録データ貼付!S36)","v":""},null,null,"35"]
[{"$f":"IF(登録データ貼付!E37=\"\",\"\",登録データ貼付!E37)","v":""},{"$f":"IF(登録データ貼付!B37=\"\",\"\",登録データ貼付!B37)","v":""},"","","","","",null,null,null,{"$f":"IF(登録データ貼付!C37=\"\",\"\",登録データ貼付!C37&\"　\"&登録データ貼付!D37)","v":""},{"$f":"IF(登録データ貼付!F37=\"\",\"\",登録データ貼付!F37&\"　\"&登録データ貼付!G37)","v":""},"",{"$f":"IF(登録データ貼付!H37=\"\",\"\",登録データ貼付!H37&\" \"&登録データ貼付!I37)","v":""},{"$f":"IF(登録データ貼付!V37=\"\",\"\",RIGHT(登録データ貼付!V37,1))","v":""},{"$f":"IF(登録データ貼付!K37=\"\",\"\",LEFT(登録データ貼付!K37,1))","v":""},{"$f":"IF(登録データ貼付!S37=\"\",\"\",登録データ貼付!S37)","v":""},null,null,"36"]
[{"$f":"IF(登録データ貼付!E38=\"\",\"\",登録データ貼付!E38)","v":""},{"$f":"IF(登録データ貼付!B38=\"\",\"\",登録データ貼付!B38)","v":""},"","","","","",null,null,null,{"$f":"IF(登録データ貼付!C38=\"\",\"\",登録データ貼付!C38&\"　\"&登録データ貼付!D38)","v":""},{"$f":"IF(登録データ貼付!F38=\"\",\"\",登録データ貼付!F38&\"　\"&登録データ貼付!G38)","v":""},"",{"$f":"IF(登録データ貼付!H38=\"\",\"\",登録データ貼付!H38&\" \"&登録データ貼付!I38)","v":""},{"$f":"IF(登録データ貼付!V38=\"\",\"\",RIGHT(登録データ貼付!V38,1))","v":""},{"$f":"IF(登録データ貼付!K38=\"\",\"\",LEFT(登録データ貼付!K38,1))","v":""},{"$f":"IF(登録データ貼付!S38=\"\",\"\",登録データ貼付!S38)","v":""},null,null,"37"]
[{"$f":"IF(登録データ貼付!E39=\"\",\"\",登録データ貼付!E39)","v":""},{"$f":"IF(登録データ貼付!B39=\"\",\"\",登録データ貼付!B39)","v":""},"","","","","",null,null,null,{"$f":"IF(登録データ貼付!C39=\"\",\"\",登録データ貼付!C39&\"　\"&登録データ貼付!D39)","v":""},{"$f":"IF(登録データ貼付!F39=\"\",\"\",登録データ貼付!F39&\"　\"&登録データ貼付!G39)","v":""},"",{"$f":"IF(登録データ貼付!H39=\"\",\"\",登録データ貼付!H39&\" \"&登録データ貼付!I39)","v":""},{"$f":"IF(登録データ貼付!V39=\"\",\"\",RIGHT(登録データ貼付!V39,1))","v":""},{"$f":"IF(登録データ貼付!K39=\"\",\"\",LEFT(登録データ貼付!K39,1))","v":""},{"$f":"IF(登録データ貼付!S39=\"\",\"\",登録データ貼付!S39)","v":""},null,null,"38"]
[{"$f":"IF(登録データ貼付!E40=\"\",\"\",登録データ貼付!E40)","v":""},{"$f":"IF(登録データ貼付!B40=\"\",\"\",登録データ貼付!B40)","v":""},"","","","","",null,null,null,{"$f":"IF(登録データ貼付!C40=\"\",\"\",登録データ貼付!C40&\"　\"&登録データ貼付!D40)","v":""},{"$f":"IF(登録データ貼付!F40=\"\",\"\",登録データ貼付!F40&\"　\"&登録データ貼付!G40)","v":""},"",{"$f":"IF(登録データ貼付!H40=\"\",\"\",登録データ貼付!H40&\" \"&登録データ貼付!I40)","v":""},{"$f":"IF(登録データ貼付!V40=\"\",\"\",RIGHT(登録データ貼付!V40,1))","v":""},{"$f":"IF(登録データ貼付!K40=\"\",\"\",LEFT(登録データ貼付!K40,1))","v":""},{"$f":"IF(登録データ貼付!S40=\"\",\"\",登録データ貼付!S40)","v":""},null,null,"39"]
[{"$f":"IF(登録データ貼付!E41=\"\",\"\",登録データ貼付!E41)","v":""},{"$f":"IF(登録データ貼付!B41=\"\",\"\",登録データ貼付!B41)","v":""},"","","","","",null,null,null,{"$f":"IF(登録データ貼付!C41=\"\",\"\",登録データ貼付!C41&\"　\"&登録データ貼付!D41)","v":""},{"$f":"IF(登録データ貼付!F41=\"\",\"\",登録データ貼付!F41&\"　\"&登録データ貼付!G41)","v":""},"",{"$f":"IF(登録データ貼付!H41=\"\",\"\",登録データ貼付!H41&\" \"&登録データ貼付!I41)","v":""},{"$f":"IF(登録データ貼付!V41=\"\",\"\",RIGHT(登録データ貼付!V41,1))","v":""},{"$f":"IF(登録データ貼付!K41=\"\",\"\",LEFT(登録データ貼付!K41,1))","v":""},{"$f":"IF(登録データ貼付!S41=\"\",\"\",登録データ貼付!S41)","v":""},null,null,"40"]
[{"$f":"IF(登録データ貼付!E42=\"\",\"\",登録データ貼付!E42)","v":""},{"$f":"IF(登録データ貼付!B42=\"\",\"\",登録データ貼付!B42)","v":""},"","","","","",null,null,null,{"$f":"IF(登録データ貼付!C42=\"\",\"\",登録データ貼付!C42&\"　\"&登録データ貼付!D42)","v":""},{"$f":"IF(登録データ貼付!F42=\"\",\"\",登録データ貼付!F42&\"　\"&登録データ貼付!G42)","v":""},"",{"$f":"IF(登録データ貼付!H42=\"\",\"\",登録データ貼付!H42&\" \"&登録データ貼付!I42)","v":""},{"$f":"IF(登録データ貼付!V42=\"\",\"\",RIGHT(登録データ貼付!V42,1))","v":""},{"$f":"IF(登録データ貼付!K42=\"\",\"\",LEFT(登録データ貼付!K42,1))","v":""},{"$f":"IF(登録データ貼付!S42=\"\",\"\",登録データ貼付!S42)","v":""},null,null,"41"]
[{"$f":"IF(登録データ貼付!E43=\"\",\"\",登録データ貼付!E43)","v":""},{"$f":"IF(登録データ貼付!B43=\"\",\"\",登録データ貼付!B43)","v":""},"","","","","",null,null,null,{"$f":"IF(登録データ貼付!C43=\"\",\"\",登録データ貼付!C43&\"　\"&登録データ貼付!D43)","v":""},{"$f":"IF(登録データ貼付!F43=\"\",\"\",登録データ貼付!F43&\"　\"&登録データ貼付!G43)","v":""},"",{"$f":"IF(登録データ貼付!H43=\"\",\"\",登録データ貼付!H43&\" \"&登録データ貼付!I43)","v":""},{"$f":"IF(登録データ貼付!V43=\"\",\"\",RIGHT(登録データ貼付!V43,1))","v":""},{"$f":"IF(登録データ貼付!K43=\"\",\"\",LEFT(登録データ貼付!K43,1))","v":""},{"$f":"IF(登録データ貼付!S43=\"\",\"\",登録データ貼付!S43)","v":""},null,null,"42"]
[{"$f":"IF(登録データ貼付!E44=\"\",\"\",登録データ貼付!E44)","v":""},{"$f":"IF(登録データ貼付!B44=\"\",\"\",登録データ貼付!B44)","v":""},"","","","","",null,null,null,{"$f":"IF(登録データ貼付!C44=\"\",\"\",登録データ貼付!C44&\"　\"&登録データ貼付!D44)","v":""},{"$f":"IF(登録データ貼付!F44=\"\",\"\",登録データ貼付!F44&\"　\"&登録データ貼付!G44)","v":""},"",{"$f":"IF(登録データ貼付!H44=\"\",\"\",登録データ貼付!H44&\" \"&登録データ貼付!I44)","v":""},{"$f":"IF(登録データ貼付!V44=\"\",\"\",RIGHT(登録データ貼付!V44,1))","v":""},{"$f":"IF(登録データ貼付!K44=\"\",\"\",LEFT(登録データ貼付!K44,1))","v":""},{"$f":"IF(登録データ貼付!S44=\"\",\"\",登録データ貼付!S44)","v":""},null,null,"43"]
[{"$f":"IF(登録データ貼付!E45=\"\",\"\",登録データ貼付!E45)","v":""},{"$f":"IF(登録データ貼付!B45=\"\",\"\",登録データ貼付!B45)","v":""},"","","","","",null,null,null,{"$f":"IF(登録データ貼付!C45=\"\",\"\",登録データ貼付!C45&\"　\"&登録データ貼付!D45)","v":""},{"$f":"IF(登録データ貼付!F45=\"\",\"\",登録データ貼付!F45&\"　\"&登録データ貼付!G45)","v":""},"",{"$f":"IF(登録データ貼付!H45=\"\",\"\",登録データ貼付!H45&\" \"&登録データ貼付!I45)","v":""},{"$f":"IF(登録データ貼付!V45=\"\",\"\",RIGHT(登録データ貼付!V45,1))","v":""},{"$f":"IF(登録データ貼付!K45=\"\",\"\",LEFT(登録データ貼付!K45,1))","v":""},{"$f":"IF(登録データ貼付!S45=\"\",\"\",登録データ貼付!S45)","v":""},null,null,"44"]
[{"$f":"IF(登録データ貼付!E46=\"\",\"\",登録データ貼付!E46)","v":""},{"$f":"IF(登録データ貼付!B46=\"\",\"\",登録データ貼付!B46)","v":""},"","","","","",null,null,null,{"$f":"IF(登録データ貼付!C46=\"\",\"\",登録データ貼付!C46&\"　\"&登録データ貼付!D46)","v":""},{"$f":"IF(登録データ貼付!F46=\"\",\"\",登録データ貼付!F46&\"　\"&登録データ貼付!G46)","v":""},"",{"$f":"IF(登録データ貼付!H46=\"\",\"\",登録データ貼付!H46&\" \"&登録データ貼付!I46)","v":""},{"$f":"IF(登録データ貼付!V46=\"\",\"\",RIGHT(登録データ貼付!V46,1))","v":""},{"$f":"IF(登録データ貼付!K46=\"\",\"\",LEFT(登録データ貼付!K46,1))","v":""},{"$f":"IF(登録データ貼付!S46=\"\",\"\",登録データ貼付!S46)","v":""},null,null,"45"]
[{"$f":"IF(登録データ貼付!E47=\"\",\"\",登録データ貼付!E47)","v":""},{"$f":"IF(登録データ貼付!B47=\"\",\"\",登録データ貼付!B47)","v":""},"","","","","",null,null,null,{"$f":"IF(登録データ貼付!C47=\"\",\"\",登録データ貼付!C47&\"　\"&登録データ貼付!D47)","v":""},{"$f":"IF(登録データ貼付!F47=\"\",\"\",登録データ貼付!F47&\"　\"&登録データ貼付!G47)","v":""},"",{"$f":"IF(登録データ貼付!H47=\"\",\"\",登録データ貼付!H47&\" \"&登録データ貼付!I47)","v":""},{"$f":"IF(登録データ貼付!V47=\"\",\"\",RIGHT(登録データ貼付!V47,1))","v":""},{"$f":"IF(登録データ貼付!K47=\"\",\"\",LEFT(登録データ貼付!K47,1))","v":""},{"$f":"IF(登録データ貼付!S47=\"\",\"\",登録データ貼付!S47)","v":""},null,null,"46"]
[{"$f":"IF(登録データ貼付!E48=\"\",\"\",登録データ貼付!E48)","v":""},{"$f":"IF(登録データ貼付!B48=\"\",\"\",登録データ貼付!B48)","v":""},"","","","","",null,null,null,{"$f":"IF(登録データ貼付!C48=\"\",\"\",登録データ貼付!C48&\"　\"&登録データ貼付!D48)","v":""},{"$f":"IF(登録データ貼付!F48=\"\",\"\",登録データ貼付!F48&\"　\"&登録データ貼付!G48)","v":""},"",{"$f":"IF(登録データ貼付!H48=\"\",\"\",登録データ貼付!H48&\" \"&登録データ貼付!I48)","v":""},{"$f":"IF(登録データ貼付!V48=\"\",\"\",RIGHT(登録データ貼付!V48,1))","v":""},{"$f":"IF(登録データ貼付!K48=\"\",\"\",LEFT(登録データ貼付!K48,1))","v":""},{"$f":"IF(登録データ貼付!S48=\"\",\"\",登録データ貼付!S48)","v":""},null,null,"47"]
[{"$f":"IF(登録データ貼付!E49=\"\",\"\",登録データ貼付!E49)","v":""},{"$f":"IF(登録データ貼付!B49=\"\",\"\",登録データ貼付!B49)","v":""},"","","","","",null,null,null,{"$f":"IF(登録データ貼付!C49=\"\",\"\",登録データ貼付!C49&\"　\"&登録データ貼付!D49)","v":""},{"$f":"IF(登録データ貼付!F49=\"\",\"\",登録データ貼付!F49&\"　\"&登録データ貼付!G49)","v":""},"",{"$f":"IF(登録データ貼付!H49=\"\",\"\",登録データ貼付!H49&\" \"&登録データ貼付!I49)","v":""},{"$f":"IF(登録データ貼付!V49=\"\",\"\",RIGHT(登録データ貼付!V49,1))","v":""},{"$f":"IF(登録データ貼付!K49=\"\",\"\",LEFT(登録データ貼付!K49,1))","v":""},{"$f":"IF(登録データ貼付!S49=\"\",\"\",登録データ貼付!S49)","v":""},null,null,"48"]
[{"$f":"IF(登録データ貼付!E50=\"\",\"\",登録データ貼付!E50)","v":""},{"$f":"IF(登録データ貼付!B50=\"\",\"\",登録データ貼付!B50)","v":""},"","","","","",null,null,null,{"$f":"IF(登録データ貼付!C50=\"\",\"\",登録データ貼付!C50&\"　\"&登録データ貼付!D50)","v":""},{"$f":"IF(登録データ貼付!F50=\"\",\"\",登録データ貼付!F50&\"　\"&登録データ貼付!G50)","v":""},"",{"$f":"IF(登録データ貼付!H50=\"\",\"\",登録データ貼付!H50&\" \"&登録データ貼付!I50)","v":""},{"$f":"IF(登録データ貼付!V50=\"\",\"\",RIGHT(登録データ貼付!V50,1))","v":""},{"$f":"IF(登録データ貼付!K50=\"\",\"\",LEFT(登録データ貼付!K50,1))","v":""},{"$f":"IF(登録データ貼付!S50=\"\",\"\",登録データ貼付!S50)","v":""},null,null,"49"]
[{"$f":"IF(登録データ貼付!E51=\"\",\"\",登録データ貼付!E51)","v":""},{"$f":"IF(登録データ貼付!B51=\"\",\"\",登録データ貼付!B51)","v":""},"","","","","",null,null,null,{"$f":"IF(登録データ貼付!C51=\"\",\"\",登録データ貼付!C51&\"　\"&登録データ貼付!D51)","v":""},{"$f":"IF(登録データ貼付!F51=\"\",\"\",登録データ貼付!F51&\"　\"&登録データ貼付!G51)","v":""},"",{"$f":"IF(登録データ貼付!H51=\"\",\"\",登録データ貼付!H51&\" \"&登録データ貼付!I51)","v":""},{"$f":"IF(登録データ貼付!V51=\"\",\"\",RIGHT(登録データ貼付!V51,1))","v":""},{"$f":"IF(登録データ貼付!K51=\"\",\"\",LEFT(登録データ貼付!K51,1))","v":""},{"$f":"IF(登録データ貼付!S51=\"\",\"\",登録データ貼付!S51)","v":""},null,null,"50"]
[{"$f":"IF(登録データ貼付!E52=\"\",\"\",登録データ貼付!E52)","v":""},{"$f":"IF(登録データ貼付!B52=\"\",\"\",登録データ貼付!B52)","v":""},"","","","","",null,null,null,{"$f":"IF(登録データ貼付!C52=\"\",\"\",登録データ貼付!C52&\"　\"&登録データ貼付!D52)","v":""},{"$f":"IF(登録データ貼付!F52=\"\",\"\",登録データ貼付!F52&\"　\"&登録データ貼付!G52)","v":""},"",{"$f":"IF(登録データ貼付!H52=\"\",\"\",登録データ貼付!H52&\" \"&登録データ貼付!I52)","v":""},{"$f":"IF(登録データ貼付!V52=\"\",\"\",RIGHT(登録データ貼付!V52,1))","v":""},{"$f":"IF(登録データ貼付!K52=\"\",\"\",LEFT(登録データ貼付!K52,1))","v":""},{"$f":"IF(登録データ貼付!S52=\"\",\"\",登録データ貼付!S52)","v":""},null,null,"51"]
[{"$f":"IF(登録データ貼付!E53=\"\",\"\",登録データ貼付!E53)","v":""},{"$f":"IF(登録データ貼付!B53=\"\",\"\",登録データ貼付!B53)","v":""},"","","","","",null,null,null,{"$f":"IF(登録データ貼付!C53=\"\",\"\",登録データ貼付!C53&\"　\"&登録データ貼付!D53)","v":""},{"$f":"IF(登録データ貼付!F53=\"\",\"\",登録データ貼付!F53&\"　\"&登録データ貼付!G53)","v":""},"",{"$f":"IF(登録データ貼付!H53=\"\",\"\",登録データ貼付!H53&\" \"&登録データ貼付!I53)","v":""},{"$f":"IF(登録データ貼付!V53=\"\",\"\",RIGHT(登録データ貼付!V53,1))","v":""},{"$f":"IF(登録データ貼付!K53=\"\",\"\",LEFT(登録データ貼付!K53,1))","v":""},{"$f":"IF(登録データ貼付!S53=\"\",\"\",登録データ貼付!S53)","v":""},null,null,"52"]
[{"$f":"IF(登録データ貼付!E54=\"\",\"\",登録データ貼付!E54)","v":""},{"$f":"IF(登録データ貼付!B54=\"\",\"\",登録データ貼付!B54)","v":""},"","","","","",null,null,null,{"$f":"IF(登録データ貼付!C54=\"\",\"\",登録データ貼付!C54&\"　\"&登録データ貼付!D54)","v":""},{"$f":"IF(登録データ貼付!F54=\"\",\"\",登録データ貼付!F54&\"　\"&登録データ貼付!G54)","v":""},"",{"$f":"IF(登録データ貼付!H54=\"\",\"\",登録データ貼付!H54&\" \"&登録データ貼付!I54)","v":""},{"$f":"IF(登録データ貼付!V54=\"\",\"\",RIGHT(登録データ貼付!V54,1))","v":""},{"$f":"IF(登録データ貼付!K54=\"\",\"\",LEFT(登録データ貼付!K54,1))","v":""},{"$f":"IF(登録データ貼付!S54=\"\",\"\",登録データ貼付!S54)","v":""},null,null,"53"]
[{"$f":"IF(登録データ貼付!E55=\"\",\"\",登録データ貼付!E55)","v":""},{"$f":"IF(登録データ貼付!B55=\"\",\"\",登録データ貼付!B55)","v":""},"","","","","",null,null,null,{"$f":"IF(登録データ貼付!C55=\"\",\"\",登録データ貼付!C55&\"　\"&登録データ貼付!D55)","v":""},{"$f":"IF(登録データ貼付!F55=\"\",\"\",登録データ貼付!F55&\"　\"&登録データ貼付!G55)","v":""},"",{"$f":"IF(登録データ貼付!H55=\"\",\"\",登録データ貼付!H55&\" \"&登録データ貼付!I55)","v":""},{"$f":"IF(登録データ貼付!V55=\"\",\"\",RIGHT(登録データ貼付!V55,1))","v":""},{"$f":"IF(登録データ貼付!K55=\"\",\"\",LEFT(登録データ貼付!K55,1))","v":""},{"$f":"IF(登録データ貼付!S55=\"\",\"\",登録データ貼付!S55)","v":""},null,null,"54"]
[{"$f":"IF(登録データ貼付!E56=\"\",\"\",登録データ貼付!E56)","v":""},{"$f":"IF(登録データ貼付!B56=\"\",\"\",登録データ貼付!B56)","v":""},"","","","","",null,null,null,{"$f":"IF(登録データ貼付!C56=\"\",\"\",登録データ貼付!C56&\"　\"&登録データ貼付!D56)","v":""},{"$f":"IF(登録データ貼付!F56=\"\",\"\",登録データ貼付!F56&\"　\"&登録データ貼付!G56)","v":""},"",{"$f":"IF(登録データ貼付!H56=\"\",\"\",登録データ貼付!H56&\" \"&登録データ貼付!I56)","v":""},{"$f":"IF(登録データ貼付!V56=\"\",\"\",RIGHT(登録データ貼付!V56,1))","v":""},{"$f":"IF(登録データ貼付!K56=\"\",\"\",LEFT(登録データ貼付!K56,1))","v":""},{"$f":"IF(登録データ貼付!S56=\"\",\"\",登録データ貼付!S56)","v":""},null,null,"55"]
[{"$f":"IF(登録データ貼付!E57=\"\",\"\",登録データ貼付!E57)","v":""},{"$f":"IF(登録データ貼付!B57=\"\",\"\",登録データ貼付!B57)","v":""},"","","","","",null,null,null,{"$f":"IF(登録データ貼付!C57=\"\",\"\",登録データ貼付!C57&\"　\"&登録データ貼付!D57)","v":""},{"$f":"IF(登録データ貼付!F57=\"\",\"\",登録データ貼付!F57&\"　\"&登録データ貼付!G57)","v":""},"",{"$f":"IF(登録データ貼付!H57=\"\",\"\",登録データ貼付!H57&\" \"&登録データ貼付!I57)","v":""},{"$f":"IF(登録データ貼付!V57=\"\",\"\",RIGHT(登録データ貼付!V57,1))","v":""},{"$f":"IF(登録データ貼付!K57=\"\",\"\",LEFT(登録データ貼付!K57,1))","v":""},{"$f":"IF(登録データ貼付!S57=\"\",\"\",登録データ貼付!S57)","v":""},null,null,"56"]
[{"$f":"IF(登録データ貼付!E58=\"\",\"\",登録データ貼付!E58)","v":""},{"$f":"IF(登録データ貼付!B58=\"\",\"\",登録データ貼付!B58)","v":""},"","","","","",null,null,null,{"$f":"IF(登録データ貼付!C58=\"\",\"\",登録データ貼付!C58&\"　\"&登録データ貼付!D58)","v":""},{"$f":"IF(登録データ貼付!F58=\"\",\"\",登録データ貼付!F58&\"　\"&登録データ貼付!G58)","v":""},"",{"$f":"IF(登録データ貼付!H58=\"\",\"\",登録データ貼付!H58&\" \"&登録データ貼付!I58)","v":""},{"$f":"IF(登録データ貼付!V58=\"\",\"\",RIGHT(登録データ貼付!V58,1))","v":""},{"$f":"IF(登録データ貼付!K58=\"\",\"\",LEFT(登録データ貼付!K58,1))","v":""},{"$f":"IF(登録データ貼付!S58=\"\",\"\",登録データ貼付!S58)","v":""},null,null,"57"]
[{"$f":"IF(登録データ貼付!E59=\"\",\"\",登録データ貼付!E59)","v":""},{"$f":"IF(登録データ貼付!B59=\"\",\"\",登録データ貼付!B59)","v":""},"","","","","",null,null,null,{"$f":"IF(登録データ貼付!C59=\"\",\"\",登録データ貼付!C59&\"　\"&登録データ貼付!D59)","v":""},{"$f":"IF(登録データ貼付!F59=\"\",\"\",登録データ貼付!F59&\"　\"&登録データ貼付!G59)","v":""},"",{"$f":"IF(登録データ貼付!H59=\"\",\"\",登録データ貼付!H59&\" \"&登録データ貼付!I59)","v":""},{"$f":"IF(登録データ貼付!V59=\"\",\"\",RIGHT(登録データ貼付!V59,1))","v":""},{"$f":"IF(登録データ貼付!K59=\"\",\"\",LEFT(登録データ貼付!K59,1))","v":""},{"$f":"IF(登録データ貼付!S59=\"\",\"\",登録データ貼付!S59)","v":""},null,null,"58"]
[{"$f":"IF(登録データ貼付!E60=\"\",\"\",登録データ貼付!E60)","v":""},{"$f":"IF(登録データ貼付!B60=\"\",\"\",登録データ貼付!B60)","v":""},"","","","","",null,null,null,{"$f":"IF(登録データ貼付!C60=\"\",\"\",登録データ貼付!C60&\"　\"&登録データ貼付!D60)","v":""},{"$f":"IF(登録データ貼付!F60=\"\",\"\",登録データ貼付!F60&\"　\"&登録データ貼付!G60)","v":""},"",{"$f":"IF(登録データ貼付!H60=\"\",\"\",登録データ貼付!H60&\" \"&登録データ貼付!I60)","v":""},{"$f":"IF(登録データ貼付!V60=\"\",\"\",RIGHT(登録データ貼付!V60,1))","v":""},{"$f":"IF(登録データ貼付!K60=\"\",\"\",LEFT(登録データ貼付!K60,1))","v":""},{"$f":"IF(登録データ貼付!S60=\"\",\"\",登録データ貼付!S60)","v":""},null,null,"59"]
[{"$f":"IF(登録データ貼付!E61=\"\",\"\",登録データ貼付!E61)","v":""},{"$f":"IF(登録データ貼付!B61=\"\",\"\",登録データ貼付!B61)","v":""},"","","","","",null,null,null,{"$f":"IF(登録データ貼付!C61=\"\",\"\",登録データ貼付!C61&\"　\"&登録データ貼付!D61)","v":""},{"$f":"IF(登録データ貼付!F61=\"\",\"\",登録データ貼付!F61&\"　\"&登録データ貼付!G61)","v":""},"",{"$f":"IF(登録データ貼付!H61=\"\",\"\",登録データ貼付!H61&\" \"&登録データ貼付!I61)","v":""},{"$f":"IF(登録データ貼付!V61=\"\",\"\",RIGHT(登録データ貼付!V61,1))","v":""},{"$f":"IF(登録データ貼付!K61=\"\",\"\",LEFT(登録データ貼付!K61,1))","v":""},{"$f":"IF(登録データ貼付!S61=\"\",\"\",登録データ貼付!S61)","v":""},null,null,"60"]
[{"$f":"IF(登録データ貼付!E62=\"\",\"\",登録データ貼付!E62)","v":""},{"$f":"IF(登録データ貼付!B62=\"\",\"\",登録データ貼付!B62)","v":""},"","","","","",null,null,null,{"$f":"IF(登録データ貼付!C62=\"\",\"\",登録データ貼付!C62&\"　\"&登録データ貼付!D62)","v":""},{"$f":"IF(登録データ貼付!F62=\"\",\"\",登録データ貼付!F62&\"　\"&登録データ貼付!G62)","v":""},"",{"$f":"IF(登録データ貼付!H62=\"\",\"\",登録データ貼付!H62&\" \"&登録データ貼付!I62)","v":""},{"$f":"IF(登録データ貼付!V62=\"\",\"\",RIGHT(登録データ貼付!V62,1))","v":""},{"$f":"IF(登録データ貼付!K62=\"\",\"\",LEFT(登録データ貼付!K62,1))","v":""},{"$f":"IF(登録データ貼付!S62=\"\",\"\",登録データ貼付!S62)","v":""},null,null,"61"]
[{"$f":"IF(登録データ貼付!E63=\"\",\"\",登録データ貼付!E63)","v":""},{"$f":"IF(登録データ貼付!B63=\"\",\"\",登録データ貼付!B63)","v":""},"","","","","",null,null,null,{"$f":"IF(登録データ貼付!C63=\"\",\"\",登録データ貼付!C63&\"　\"&登録データ貼付!D63)","v":""},{"$f":"IF(登録データ貼付!F63=\"\",\"\",登録データ貼付!F63&\"　\"&登録データ貼付!G63)","v":""},"",{"$f":"IF(登録データ貼付!H63=\"\",\"\",登録データ貼付!H63&\" \"&登録データ貼付!I63)","v":""},{"$f":"IF(登録データ貼付!V63=\"\",\"\",RIGHT(登録データ貼付!V63,1))","v":""},{"$f":"IF(登録データ貼付!K63=\"\",\"\",LEFT(登録データ貼付!K63,1))","v":""},{"$f":"IF(登録データ貼付!S63=\"\",\"\",登録データ貼付!S63)","v":""},null,null,"62"]
[{"$f":"IF(登録データ貼付!E64=\"\",\"\",登録データ貼付!E64)","v":""},{"$f":"IF(登録データ貼付!B64=\"\",\"\",登録データ貼付!B64)","v":""},"","","","","",null,null,null,{"$f":"IF(登録データ貼付!C64=\"\",\"\",登録データ貼付!C64&\"　\"&登録データ貼付!D64)","v":""},{"$f":"IF(登録データ貼付!F64=\"\",\"\",登録データ貼付!F64&\"　\"&登録データ貼付!G64)","v":""},"",{"$f":"IF(登録データ貼付!H64=\"\",\"\",登録データ貼付!H64&\" \"&登録データ貼付!I64)","v":""},{"$f":"IF(登録データ貼付!V64=\"\",\"\",RIGHT(登録データ貼付!V64,1))","v":""},{"$f":"IF(登録データ貼付!K64=\"\",\"\",LEFT(登録データ貼付!K64,1))","v":""},{"$f":"IF(登録データ貼付!S64=\"\",\"\",登録データ貼付!S64)","v":""},null,null,"63"]
[{"$f":"IF(登録データ貼付!E65=\"\",\"\",登録データ貼付!E65)","v":""},{"$f":"IF(登録データ貼付!B65=\"\",\"\",登録データ貼付!B65)","v":""},"","","","","",null,null,null,{"$f":"IF(登録データ貼付!C65=\"\",\"\",登録データ貼付!C65&\"　\"&登録データ貼付!D65)","v":""},{"$f":"IF(登録データ貼付!F65=\"\",\"\",登録データ貼付!F65&\"　\"&登録データ貼付!G65)","v":""},"",{"$f":"IF(登録データ貼付!H65=\"\",\"\",登録データ貼付!H65&\" \"&登録データ貼付!I65)","v":""},{"$f":"IF(登録データ貼付!V65=\"\",\"\",RIGHT(登録データ貼付!V65,1))","v":""},{"$f":"IF(登録データ貼付!K65=\"\",\"\",LEFT(登録データ貼付!K65,1))","v":""},{"$f":"IF(登録データ貼付!S65=\"\",\"\",登録データ貼付!S65)","v":""},null,null,"64"]
[{"$f":"IF(登録データ貼付!E66=\"\",\"\",登録データ貼付!E66)","v":""},{"$f":"IF(登録データ貼付!B66=\"\",\"\",登録データ貼付!B66)","v":""},"","","","","",null,null,null,{"$f":"IF(登録データ貼付!C66=\"\",\"\",登録データ貼付!C66&\"　\"&登録データ貼付!D66)","v":""},{"$f":"IF(登録データ貼付!F66=\"\",\"\",登録データ貼付!F66&\"　\"&登録データ貼付!G66)","v":""},"",{"$f":"IF(登録データ貼付!H66=\"\",\"\",登録データ貼付!H66&\" \"&登録データ貼付!I66)","v":""},{"$f":"IF(登録データ貼付!V66=\"\",\"\",RIGHT(登録データ貼付!V66,1))","v":""},{"$f":"IF(登録データ貼付!K66=\"\",\"\",LEFT(登録データ貼付!K66,1))","v":""},{"$f":"IF(登録データ貼付!S66=\"\",\"\",登録データ貼付!S66)","v":""},null,null,"65"]
[{"$f":"IF(登録データ貼付!E67=\"\",\"\",登録データ貼付!E67)","v":""},{"$f":"IF(登録データ貼付!B67=\"\",\"\",登録データ貼付!B67)","v":""},{"$f":"IF(K70=\"\",\"\",K70)","v":""},{"$f":"IF(M70=\"\",\"\",M70)","v":""},{"$f":"IF(N70=\"\",\"\",N70)","v":""},{"$f":"IF(O70=\"\",\"\",O70)","v":""},{"$f":"IF(P70=\"\",\"\",P70)","v":""},null,null,null,{"$f":"IF(登録データ貼付!C67=\"\",\"\",登録データ貼付!C67&\"　\"&登録データ貼付!D67)","v":""},{"$f":"IF(登録データ貼付!F67=\"\",\"\",登録データ貼付!F67&\"　\"&登録データ貼付!G67)","v":""},{"$f":"ASC(L70)","v":""},{"$f":"IF(登録データ貼付!H67=\"\",\"\",登録データ貼付!H67&\" \"&登録データ貼付!I67)","v":""},{"$f":"IF(登録データ貼付!V67=\"\",\"\",RIGHT(登録データ貼付!V67,1))","v":""},{"$f":"IF(登録データ貼付!K67=\"\",\"\",LEFT(登録データ貼付!K67,1))","v":""},{"$f":"IF(登録データ貼付!S67=\"\",\"\",登録データ貼付!S67)","v":""},null,null,"66"]
[{"$f":"IF(登録データ貼付!E68=\"\",\"\",登録データ貼付!E68)","v":""},{"$f":"IF(登録データ貼付!B68=\"\",\"\",登録データ貼付!B68)","v":""},"","","","","",null,null,null,{"$f":"IF(登録データ貼付!C68=\"\",\"\",登録データ貼付!C68&\"　\"&登録データ貼付!D68)","v":""},{"$f":"IF(登録データ貼付!F68=\"\",\"\",登録データ貼付!F68&\"　\"&登録データ貼付!G68)","v":""},"",{"$f":"IF(登録データ貼付!H68=\"\",\"\",登録データ貼付!H68&\" \"&登録データ貼付!I68)","v":""},{"$f":"IF(登録データ貼付!V68=\"\",\"\",RIGHT(登録データ貼付!V68,1))","v":""},{"$f":"IF(登録データ貼付!K68=\"\",\"\",LEFT(登録データ貼付!K68,1))","v":""},{"$f":"IF(登録データ貼付!S68=\"\",\"\",登録データ貼付!S68)","v":""},null,null,"67"]
[{"$f":"IF(登録データ貼付!E69=\"\",\"\",登録データ貼付!E69)","v":""},{"$f":"IF(登録データ貼付!B69=\"\",\"\",登録データ貼付!B69)","v":""},"","","","","",null,null,null,{"$f":"IF(登録データ貼付!C69=\"\",\"\",登録データ貼付!C69&\"　\"&登録データ貼付!D69)","v":""},{"$f":"IF(登録データ貼付!F69=\"\",\"\",登録データ貼付!F69&\"　\"&登録データ貼付!G69)","v":""},"",{"$f":"IF(登録データ貼付!H69=\"\",\"\",登録データ貼付!H69&\" \"&登録データ貼付!I69)","v":""},{"$f":"IF(登録データ貼付!V69=\"\",\"\",RIGHT(登録データ貼付!V69,1))","v":""},{"$f":"IF(登録データ貼付!K69=\"\",\"\",LEFT(登録データ貼付!K69,1))","v":""},{"$f":"IF(登録データ貼付!S69=\"\",\"\",登録データ貼付!S69)","v":""},null,null,"68"]
[{"$f":"IF(登録データ貼付!E70=\"\",\"\",登録データ貼付!E70)","v":""},{"$f":"IF(登録データ貼付!B70=\"\",\"\",登録データ貼付!B70)","v":""},"","","","","",null,null,null,{"$f":"IF(登録データ貼付!C70=\"\",\"\",登録データ貼付!C70&\"　\"&登録データ貼付!D70)","v":""},{"$f":"IF(登録データ貼付!F70=\"\",\"\",登録データ貼付!F70&\"　\"&登録データ貼付!G70)","v":""},"",{"$f":"IF(登録データ貼付!H70=\"\",\"\",登録データ貼付!H70&\" \"&登録データ貼付!I70)","v":""},{"$f":"IF(登録データ貼付!V70=\"\",\"\",RIGHT(登録データ貼付!V70,1))","v":""},{"$f":"IF(登録データ貼付!K70=\"\",\"\",LEFT(登録データ貼付!K70,1))","v":""},{"$f":"IF(登録データ貼付!S70=\"\",\"\",登録データ貼付!S70)","v":""},null,null,"69"]
[{"$f":"IF(登録データ貼付!E71=\"\",\"\",登録データ貼付!E71)","v":""},{"$f":"IF(登録データ貼付!B71=\"\",\"\",登録データ貼付!B71)","v":""},"","","","","",null,null,null,{"$f":"IF(登録データ貼付!C71=\"\",\"\",登録データ貼付!C71&\"　\"&登録データ貼付!D71)","v":""},{"$f":"IF(登録データ貼付!F71=\"\",\"\",登録データ貼付!F71&\"　\"&登録データ貼付!G71)","v":""},"",{"$f":"IF(登録データ貼付!H71=\"\",\"\",登録データ貼付!H71&\" \"&登録データ貼付!I71)","v":""},{"$f":"IF(登録データ貼付!V71=\"\",\"\",RIGHT(登録データ貼付!V71,1))","v":""},{"$f":"IF(登録データ貼付!K71=\"\",\"\",LEFT(登録データ貼付!K71,1))","v":""},{"$f":"IF(登録データ貼付!S71=\"\",\"\",登録データ貼付!S71)","v":""},null,null,"70"]
[{"$f":"IF(登録データ貼付!E72=\"\",\"\",登録データ貼付!E72)","v":""},{"$f":"IF(登録データ貼付!B72=\"\",\"\",登録データ貼付!B72)","v":""},"","","","","",null,null,null,{"$f":"IF(登録データ貼付!C72=\"\",\"\",登録データ貼付!C72&\"　\"&登録データ貼付!D72)","v":""},{"$f":"IF(登録データ貼付!F72=\"\",\"\",登録データ貼付!F72&\"　\"&登録データ貼付!G72)","v":""},"",{"$f":"IF(登録データ貼付!H72=\"\",\"\",登録データ貼付!H72&\" \"&登録データ貼付!I72)","v":""},{"$f":"IF(登録データ貼付!V72=\"\",\"\",RIGHT(登録データ貼付!V72,1))","v":""},{"$f":"IF(登録データ貼付!K72=\"\",\"\",LEFT(登録データ貼付!K72,1))","v":""},{"$f":"IF(登録データ貼付!S72=\"\",\"\",登録データ貼付!S72)","v":""},null,null,"71"]
[{"$f":"IF(登録データ貼付!E73=\"\",\"\",登録データ貼付!E73)","v":""},{"$f":"IF(登録データ貼付!B73=\"\",\"\",登録データ貼付!B73)","v":""},"","","","","",null,null,null,{"$f":"IF(登録データ貼付!C73=\"\",\"\",登録データ貼付!C73&\"　\"&登録データ貼付!D73)","v":""},{"$f":"IF(登録データ貼付!F73=\"\",\"\",登録データ貼付!F73&\"　\"&登録データ貼付!G73)","v":""},"",{"$f":"IF(登録データ貼付!H73=\"\",\"\",登録データ貼付!H73&\" \"&登録データ貼付!I73)","v":""},{"$f":"IF(登録データ貼付!V73=\"\",\"\",RIGHT(登録データ貼付!V73,1))","v":""},{"$f":"IF(登録データ貼付!K73=\"\",\"\",LEFT(登録データ貼付!K73,1))","v":""},{"$f":"IF(登録データ貼付!S73=\"\",\"\",登録データ貼付!S73)","v":""},null,null,"72"]
[{"$f":"IF(登録データ貼付!E74=\"\",\"\",登録データ貼付!E74)","v":""},{"$f":"IF(登録データ貼付!B74=\"\",\"\",登録データ貼付!B74)","v":""},"","","","","",null,null,null,{"$f":"IF(登録データ貼付!C74=\"\",\"\",登録データ貼付!C74&\"　\"&登録データ貼付!D74)","v":""},{"$f":"IF(登録データ貼付!F74=\"\",\"\",登録データ貼付!F74&\"　\"&登録データ貼付!G74)","v":""},"",{"$f":"IF(登録データ貼付!H74=\"\",\"\",登録データ貼付!H74&\" \"&登録データ貼付!I74)","v":""},{"$f":"IF(登録データ貼付!V74=\"\",\"\",RIGHT(登録データ貼付!V74,1))","v":""},{"$f":"IF(登録データ貼付!K74=\"\",\"\",LEFT(登録データ貼付!K74,1))","v":""},{"$f":"IF(登録データ貼付!S74=\"\",\"\",登録データ貼付!S74)","v":""},null,null,"73"]
[{"$f":"IF(登録データ貼付!E75=\"\",\"\",登録データ貼付!E75)","v":""},{"$f":"IF(登録データ貼付!B75=\"\",\"\",登録データ貼付!B75)","v":""},"","","","","",null,null,null,{"$f":"IF(登録データ貼付!C75=\"\",\"\",登録データ貼付!C75&\"　\"&登録データ貼付!D75)","v":""},{"$f":"IF(登録データ貼付!F75=\"\",\"\",登録データ貼付!F75&\"　\"&登録データ貼付!G75)","v":""},"",{"$f":"IF(登録データ貼付!H75=\"\",\"\",登録データ貼付!H75&\" \"&登録データ貼付!I75)","v":""},{"$f":"IF(登録データ貼付!V75=\"\",\"\",RIGHT(登録データ貼付!V75,1))","v":""},{"$f":"IF(登録データ貼付!K75=\"\",\"\",LEFT(登録データ貼付!K75,1))","v":""},{"$f":"IF(登録データ貼付!S75=\"\",\"\",登録データ貼付!S75)","v":""},null,null,"74"]
[{"$f":"IF(登録データ貼付!E76=\"\",\"\",登録データ貼付!E76)","v":""},{"$f":"IF(登録データ貼付!B76=\"\",\"\",登録データ貼付!B76)","v":""},"","","","","",null,null,null,{"$f":"IF(登録データ貼付!C76=\"\",\"\",登録データ貼付!C76&\"　\"&登録データ貼付!D76)","v":""},{"$f":"IF(登録データ貼付!F76=\"\",\"\",登録データ貼付!F76&\"　\"&登録データ貼付!G76)","v":""},"",{"$f":"IF(登録データ貼付!H76=\"\",\"\",登録データ貼付!H76&\" \"&登録データ貼付!I76)","v":""},{"$f":"IF(登録データ貼付!V76=\"\",\"\",RIGHT(登録データ貼付!V76,1))","v":""},{"$f":"IF(登録データ貼付!K76=\"\",\"\",LEFT(登録データ貼付!K76,1))","v":""},{"$f":"IF(登録データ貼付!S76=\"\",\"\",登録データ貼付!S76)","v":""},null,null,"75"]
[{"$f":"IF(登録データ貼付!E77=\"\",\"\",登録データ貼付!E77)","v":""},{"$f":"IF(登録データ貼付!B77=\"\",\"\",登録データ貼付!B77)","v":""},"","","","","",null,null,null,{"$f":"IF(登録データ貼付!C77=\"\",\"\",登録データ貼付!C77&\"　\"&登録データ貼付!D77)","v":""},{"$f":"IF(登録データ貼付!F77=\"\",\"\",登録データ貼付!F77&\"　\"&登録データ貼付!G77)","v":""},"",{"$f":"IF(登録データ貼付!H77=\"\",\"\",登録データ貼付!H77&\" \"&登録データ貼付!I77)","v":""},{"$f":"IF(登録データ貼付!V77=\"\",\"\",RIGHT(登録データ貼付!V77,1))","v":""},{"$f":"IF(登録データ貼付!K77=\"\",\"\",LEFT(登録データ貼付!K77,1))","v":""},{"$f":"IF(登録データ貼付!S77=\"\",\"\",登録データ貼付!S77)","v":""},null,null,"76"]
[{"$f":"IF(登録データ貼付!E78=\"\",\"\",登録データ貼付!E78)","v":""},{"$f":"IF(登録データ貼付!B78=\"\",\"\",登録データ貼付!B78)","v":""},"","","","","",null,null,null,{"$f":"IF(登録データ貼付!C78=\"\",\"\",登録データ貼付!C78&\"　\"&登録データ貼付!D78)","v":""},{"$f":"IF(登録データ貼付!F78=\"\",\"\",登録データ貼付!F78&\"　\"&登録データ貼付!G78)","v":""},"",{"$f":"IF(登録データ貼付!H78=\"\",\"\",登録データ貼付!H78&\" \"&登録データ貼付!I78)","v":""},{"$f":"IF(登録データ貼付!V78=\"\",\"\",RIGHT(登録データ貼付!V78,1))","v":""},{"$f":"IF(登録データ貼付!K78=\"\",\"\",LEFT(登録データ貼付!K78,1))","v":""},{"$f":"IF(登録データ貼付!S78=\"\",\"\",登録データ貼付!S78)","v":""},null,null,"77"]
[{"$f":"IF(登録データ貼付!E79=\"\",\"\",登録データ貼付!E79)","v":""},{"$f":"IF(登録データ貼付!B79=\"\",\"\",登録データ貼付!B79)","v":""},"","","","","",null,null,null,{"$f":"IF(登録データ貼付!C79=\"\",\"\",登録データ貼付!C79&\"　\"&登録データ貼付!D79)","v":""},{"$f":"IF(登録データ貼付!F79=\"\",\"\",登録データ貼付!F79&\"　\"&登録データ貼付!G79)","v":""},"",{"$f":"IF(登録データ貼付!H79=\"\",\"\",登録データ貼付!H79&\" \"&登録データ貼付!I79)","v":""},{"$f":"IF(登録データ貼付!V79=\"\",\"\",RIGHT(登録データ貼付!V79,1))","v":""},{"$f":"IF(登録データ貼付!K79=\"\",\"\",LEFT(登録データ貼付!K79,1))","v":""},{"$f":"IF(登録データ貼付!S79=\"\",\"\",登録データ貼付!S79)","v":""},null,null,"78"]
[{"$f":"IF(登録データ貼付!E80=\"\",\"\",登録データ貼付!E80)","v":""},{"$f":"IF(登録データ貼付!B80=\"\",\"\",登録データ貼付!B80)","v":""},"","","","","",null,null,null,{"$f":"IF(登録データ貼付!C80=\"\",\"\",登録データ貼付!C80&\"　\"&登録データ貼付!D80)","v":""},{"$f":"IF(登録データ貼付!F80=\"\",\"\",登録データ貼付!F80&\"　\"&登録データ貼付!G80)","v":""},"",{"$f":"IF(登録データ貼付!H80=\"\",\"\",登録データ貼付!H80&\" \"&登録データ貼付!I80)","v":""},{"$f":"IF(登録データ貼付!V80=\"\",\"\",RIGHT(登録データ貼付!V80,1))","v":""},{"$f":"IF(登録データ貼付!K80=\"\",\"\",LEFT(登録データ貼付!K80,1))","v":""},{"$f":"IF(登録データ貼付!S80=\"\",\"\",登録データ貼付!S80)","v":""},null,null,"79"]
[{"$f":"IF(登録データ貼付!E81=\"\",\"\",登録データ貼付!E81)","v":""},{"$f":"IF(登録データ貼付!B81=\"\",\"\",登録データ貼付!B81)","v":""},"","","","","",null,null,null,{"$f":"IF(登録データ貼付!C81=\"\",\"\",登録データ貼付!C81&\"　\"&登録データ貼付!D81)","v":""},{"$f":"IF(登録データ貼付!F81=\"\",\"\",登録データ貼付!F81&\"　\"&登録データ貼付!G81)","v":""},"",{"$f":"IF(登録データ貼付!H81=\"\",\"\",登録データ貼付!H81&\" \"&登録データ貼付!I81)","v":""},{"$f":"IF(登録データ貼付!V81=\"\",\"\",RIGHT(登録データ貼付!V81,1))","v":""},{"$f":"IF(登録データ貼付!K81=\"\",\"\",LEFT(登録データ貼付!K81,1))","v":""},{"$f":"IF(登録データ貼付!S81=\"\",\"\",登録データ貼付!S81)","v":""},null,null,"80"]
[{"$f":"IF(登録データ貼付!E82=\"\",\"\",登録データ貼付!E82)","v":""},{"$f":"IF(登録データ貼付!B82=\"\",\"\",登録データ貼付!B82)","v":""},"","","","","",null,null,null,{"$f":"IF(登録データ貼付!C82=\"\",\"\",登録データ貼付!C82&\"　\"&登録データ貼付!D82)","v":""},{"$f":"IF(登録データ貼付!F82=\"\",\"\",登録データ貼付!F82&\"　\"&登録データ貼付!G82)","v":""},"",{"$f":"IF(登録データ貼付!H82=\"\",\"\",登録データ貼付!H82&\" \"&登録データ貼付!I82)","v":""},{"$f":"IF(登録データ貼付!V82=\"\",\"\",RIGHT(登録データ貼付!V82,1))","v":""},{"$f":"IF(登録データ貼付!K82=\"\",\"\",LEFT(登録データ貼付!K82,1))","v":""},{"$f":"IF(登録データ貼付!S82=\"\",\"\",登録データ貼付!S82)","v":""},null,null,"81"]
[{"$f":"IF(登録データ貼付!E83=\"\",\"\",登録データ貼付!E83)","v":""},{"$f":"IF(登録データ貼付!B83=\"\",\"\",登録データ貼付!B83)","v":""},"","","","","",null,null,null,{"$f":"IF(登録データ貼付!C83=\"\",\"\",登録データ貼付!C83&\"　\"&登録データ貼付!D83)","v":""},{"$f":"IF(登録データ貼付!F83=\"\",\"\",登録データ貼付!F83&\"　\"&登録データ貼付!G83)","v":""},"",{"$f":"IF(登録データ貼付!H83=\"\",\"\",登録データ貼付!H83&\" \"&登録データ貼付!I83)","v":""},{"$f":"IF(登録データ貼付!V83=\"\",\"\",RIGHT(登録データ貼付!V83,1))","v":""},{"$f":"IF(登録データ貼付!K83=\"\",\"\",LEFT(登録データ貼付!K83,1))","v":""},{"$f":"IF(登録データ貼付!S83=\"\",\"\",登録データ貼付!S83)","v":""},null,null,"82"]
[{"$f":"IF(登録データ貼付!E84=\"\",\"\",登録データ貼付!E84)","v":""},{"$f":"IF(登録データ貼付!B84=\"\",\"\",登録データ貼付!B84)","v":""},"","","","","",null,null,null,{"$f":"IF(登録データ貼付!C84=\"\",\"\",登録データ貼付!C84&\"　\"&登録データ貼付!D84)","v":""},{"$f":"IF(登録データ貼付!F84=\"\",\"\",登録データ貼付!F84&\"　\"&登録データ貼付!G84)","v":""},"",{"$f":"IF(登録データ貼付!H84=\"\",\"\",登録データ貼付!H84&\" \"&登録データ貼付!I84)","v":""},{"$f":"IF(登録データ貼付!V84=\"\",\"\",RIGHT(登録データ貼付!V84,1))","v":""},{"$f":"IF(登録データ貼付!K84=\"\",\"\",LEFT(登録データ貼付!K84,1))","v":""},{"$f":"IF(登録データ貼付!S84=\"\",\"\",登録データ貼付!S84)","v":""},null,null,"83"]
[{"$f":"IF(登録データ貼付!E85=\"\",\"\",登録データ貼付!E85)","v":""},{"$f":"IF(登録データ貼付!B85=\"\",\"\",登録データ貼付!B85)","v":""},"","","","","",null,null,null,{"$f":"IF(登録データ貼付!C85=\"\",\"\",登録データ貼付!C85&\"　\"&登録データ貼付!D85)","v":""},{"$f":"IF(登録データ貼付!F85=\"\",\"\",登録データ貼付!F85&\"　\"&登録データ貼付!G85)","v":""},"",{"$f":"IF(登録データ貼付!H85=\"\",\"\",登録データ貼付!H85&\" \"&登録データ貼付!I85)","v":""},{"$f":"IF(登録データ貼付!V85=\"\",\"\",RIGHT(登録データ貼付!V85,1))","v":""},{"$f":"IF(登録データ貼付!K85=\"\",\"\",LEFT(登録データ貼付!K85,1))","v":""},{"$f":"IF(登録データ貼付!S85=\"\",\"\",登録データ貼付!S85)","v":""},null,null,"84"]
[{"$f":"IF(登録データ貼付!E86=\"\",\"\",登録データ貼付!E86)","v":""},{"$f":"IF(登録データ貼付!B86=\"\",\"\",登録データ貼付!B86)","v":""},"","","","","",null,null,null,{"$f":"IF(登録データ貼付!C86=\"\",\"\",登録データ貼付!C86&\"　\"&登録データ貼付!D86)","v":""},{"$f":"IF(登録データ貼付!F86=\"\",\"\",登録データ貼付!F86&\"　\"&登録データ貼付!G86)","v":""},"",{"$f":"IF(登録データ貼付!H86=\"\",\"\",登録データ貼付!H86&\" \"&登録データ貼付!I86)","v":""},{"$f":"IF(登録データ貼付!V86=\"\",\"\",RIGHT(登録データ貼付!V86,1))","v":""},{"$f":"IF(登録データ貼付!K86=\"\",\"\",LEFT(登録データ貼付!K86,1))","v":""},{"$f":"IF(登録データ貼付!S86=\"\",\"\",登録データ貼付!S86)","v":""},null,null,"85"]
[{"$f":"IF(登録データ貼付!E87=\"\",\"\",登録データ貼付!E87)","v":""},{"$f":"IF(登録データ貼付!B87=\"\",\"\",登録データ貼付!B87)","v":""},"","","","","",null,null,null,{"$f":"IF(登録データ貼付!C87=\"\",\"\",登録データ貼付!C87&\"　\"&登録データ貼付!D87)","v":""},{"$f":"IF(登録データ貼付!F87=\"\",\"\",登録データ貼付!F87&\"　\"&登録データ貼付!G87)","v":""},"",{"$f":"IF(登録データ貼付!H87=\"\",\"\",登録データ貼付!H87&\" \"&登録データ貼付!I87)","v":""},{"$f":"IF(登録データ貼付!V87=\"\",\"\",RIGHT(登録データ貼付!V87,1))","v":""},{"$f":"IF(登録データ貼付!K87=\"\",\"\",LEFT(登録データ貼付!K87,1))","v":""},{"$f":"IF(登録データ貼付!S87=\"\",\"\",登録データ貼付!S87)","v":""},null,null,"86"]
[{"$f":"IF(登録データ貼付!E88=\"\",\"\",登録データ貼付!E88)","v":""},{"$f":"IF(登録データ貼付!B88=\"\",\"\",登録データ貼付!B88)","v":""},"","","","","",null,null,null,{"$f":"IF(登録データ貼付!C88=\"\",\"\",登録データ貼付!C88&\"　\"&登録データ貼付!D88)","v":""},{"$f":"IF(登録データ貼付!F88=\"\",\"\",登録データ貼付!F88&\"　\"&登録データ貼付!G88)","v":""},"",{"$f":"IF(登録データ貼付!H88=\"\",\"\",登録データ貼付!H88&\" \"&登録データ貼付!I88)","v":""},{"$f":"IF(登録データ貼付!V88=\"\",\"\",RIGHT(登録データ貼付!V88,1))","v":""},{"$f":"IF(登録データ貼付!K88=\"\",\"\",LEFT(登録データ貼付!K88,1))","v":""},{"$f":"IF(登録データ貼付!S88=\"\",\"\",登録データ貼付!S88)","v":""},null,null,"87"]
[{"$f":"IF(登録データ貼付!E89=\"\",\"\",登録データ貼付!E89)","v":""},{"$f":"IF(登録データ貼付!B89=\"\",\"\",登録データ貼付!B89)","v":""},"","","","","",null,null,null,{"$f":"IF(登録データ貼付!C89=\"\",\"\",登録データ貼付!C89&\"　\"&登録データ貼付!D89)","v":""},{"$f":"IF(登録データ貼付!F89=\"\",\"\",登録データ貼付!F89&\"　\"&登録データ貼付!G89)","v":""},"",{"$f":"IF(登録データ貼付!H89=\"\",\"\",登録データ貼付!H89&\" \"&登録データ貼付!I89)","v":""},{"$f":"IF(登録データ貼付!V89=\"\",\"\",RIGHT(登録データ貼付!V89,1))","v":""},{"$f":"IF(登録データ貼付!K89=\"\",\"\",LEFT(登録データ貼付!K89,1))","v":""},{"$f":"IF(登録データ貼付!S89=\"\",\"\",登録データ貼付!S89)","v":""},null,null,"88"]
[{"$f":"IF(登録データ貼付!E90=\"\",\"\",登録データ貼付!E90)","v":""},{"$f":"IF(登録データ貼付!B90=\"\",\"\",登録データ貼付!B90)","v":""},"","","","","",null,null,null,{"$f":"IF(登録データ貼付!C90=\"\",\"\",登録データ貼付!C90&\"　\"&登録データ貼付!D90)","v":""},{"$f":"IF(登録データ貼付!F90=\"\",\"\",登録データ貼付!F90&\"　\"&登録データ貼付!G90)","v":""},"",{"$f":"IF(登録データ貼付!H90=\"\",\"\",登録データ貼付!H90&\" \"&登録データ貼付!I90)","v":""},{"$f":"IF(登録データ貼付!V90=\"\",\"\",RIGHT(登録データ貼付!V90,1))","v":""},{"$f":"IF(登録データ貼付!K90=\"\",\"\",LEFT(登録データ貼付!K90,1))","v":""},{"$f":"IF(登録データ貼付!S90=\"\",\"\",登録データ貼付!S90)","v":""},null,null,"89"]
[{"$f":"IF(登録データ貼付!E91=\"\",\"\",登録データ貼付!E91)","v":""},{"$f":"IF(登録データ貼付!B91=\"\",\"\",登録データ貼付!B91)","v":""},"","","","","",null,null,null,{"$f":"IF(登録データ貼付!C91=\"\",\"\",登録データ貼付!C91&\"　\"&登録データ貼付!D91)","v":""},{"$f":"IF(登録データ貼付!F91=\"\",\"\",登録データ貼付!F91&\"　\"&登録データ貼付!G91)","v":""},"",{"$f":"IF(登録データ貼付!H91=\"\",\"\",登録データ貼付!H91&\" \"&登録データ貼付!I91)","v":""},{"$f":"IF(登録データ貼付!V91=\"\",\"\",RIGHT(登録データ貼付!V91,1))","v":""},{"$f":"IF(登録データ貼付!K91=\"\",\"\",LEFT(登録データ貼付!K91,1))","v":""},{"$f":"IF(登録データ貼付!S91=\"\",\"\",登録データ貼付!S91)","v":""},null,null,"90"]
[{"$f":"IF(登録データ貼付!E92=\"\",\"\",登録データ貼付!E92)","v":""},{"$f":"IF(登録データ貼付!B92=\"\",\"\",登録データ貼付!B92)","v":""},"","","","","",null,null,null,{"$f":"IF(登録データ貼付!C92=\"\",\"\",登録データ貼付!C92&\"　\"&登録データ貼付!D92)","v":""},{"$f":"IF(登録データ貼付!F92=\"\",\"\",登録データ貼付!F92&\"　\"&登録データ貼付!G92)","v":""},"",{"$f":"IF(登録データ貼付!H92=\"\",\"\",登録データ貼付!H92&\" \"&登録データ貼付!I92)","v":""},{"$f":"IF(登録データ貼付!V92=\"\",\"\",RIGHT(登録データ貼付!V92,1))","v":""},{"$f":"IF(登録データ貼付!K92=\"\",\"\",LEFT(登録データ貼付!K92,1))","v":""},{"$f":"IF(登録データ貼付!S92=\"\",\"\",登録データ貼付!S92)","v":""},null,null,"91"]
[{"$f":"IF(登録データ貼付!E93=\"\",\"\",登録データ貼付!E93)","v":""},{"$f":"IF(登録データ貼付!B93=\"\",\"\",登録データ貼付!B93)","v":""},"","","","","",null,null,null,{"$f":"IF(登録データ貼付!C93=\"\",\"\",登録データ貼付!C93&\"　\"&登録データ貼付!D93)","v":""},{"$f":"IF(登録データ貼付!F93=\"\",\"\",登録データ貼付!F93&\"　\"&登録データ貼付!G93)","v":""},"",{"$f":"IF(登録データ貼付!H93=\"\",\"\",登録データ貼付!H93&\" \"&登録データ貼付!I93)","v":""},{"$f":"IF(登録データ貼付!V93=\"\",\"\",RIGHT(登録データ貼付!V93,1))","v":""},{"$f":"IF(登録データ貼付!K93=\"\",\"\",LEFT(登録データ貼付!K93,1))","v":""},{"$f":"IF(登録データ貼付!S93=\"\",\"\",登録データ貼付!S93)","v":""},null,null,"92"]
[{"$f":"IF(登録データ貼付!E94=\"\",\"\",登録データ貼付!E94)","v":""},{"$f":"IF(登録データ貼付!B94=\"\",\"\",登録データ貼付!B94)","v":""},"","","","","",null,null,null,{"$f":"IF(登録データ貼付!C94=\"\",\"\",登録データ貼付!C94&\"　\"&登録データ貼付!D94)","v":""},{"$f":"IF(登録データ貼付!F94=\"\",\"\",登録データ貼付!F94&\"　\"&登録データ貼付!G94)","v":""},"",{"$f":"IF(登録データ貼付!H94=\"\",\"\",登録データ貼付!H94&\" \"&登録データ貼付!I94)","v":""},{"$f":"IF(登録データ貼付!V94=\"\",\"\",RIGHT(登録データ貼付!V94,1))","v":""},{"$f":"IF(登録データ貼付!K94=\"\",\"\",LEFT(登録データ貼付!K94,1))","v":""},{"$f":"IF(登録データ貼付!S94=\"\",\"\",登録データ貼付!S94)","v":""},null,null,"93"]
[{"$f":"IF(登録データ貼付!E95=\"\",\"\",登録データ貼付!E95)","v":""},{"$f":"IF(登録データ貼付!B95=\"\",\"\",登録データ貼付!B95)","v":""},"","","","","",null,null,null,{"$f":"IF(登録データ貼付!C95=\"\",\"\",登録データ貼付!C95&\"　\"&登録データ貼付!D95)","v":""},{"$f":"IF(登録データ貼付!F95=\"\",\"\",登録データ貼付!F95&\"　\"&登録データ貼付!G95)","v":""},"",{"$f":"IF(登録データ貼付!H95=\"\",\"\",登録データ貼付!H95&\" \"&登録データ貼付!I95)","v":""},{"$f":"IF(登録データ貼付!V95=\"\",\"\",RIGHT(登録データ貼付!V95,1))","v":""},{"$f":"IF(登録データ貼付!K95=\"\",\"\",LEFT(登録データ貼付!K95,1))","v":""},{"$f":"IF(登録データ貼付!S95=\"\",\"\",登録データ貼付!S95)","v":""},null,null,"94"]
[{"$f":"IF(登録データ貼付!E96=\"\",\"\",登録データ貼付!E96)","v":""},{"$f":"IF(登録データ貼付!B96=\"\",\"\",登録データ貼付!B96)","v":""},"","","","","",null,null,null,{"$f":"IF(登録データ貼付!C96=\"\",\"\",登録データ貼付!C96&\"　\"&登録データ貼付!D96)","v":""},{"$f":"IF(登録データ貼付!F96=\"\",\"\",登録データ貼付!F96&\"　\"&登録データ貼付!G96)","v":""},"",{"$f":"IF(登録データ貼付!H96=\"\",\"\",登録データ貼付!H96&\" \"&登録データ貼付!I96)","v":""},{"$f":"IF(登録データ貼付!V96=\"\",\"\",RIGHT(登録データ貼付!V96,1))","v":""},{"$f":"IF(登録データ貼付!K96=\"\",\"\",LEFT(登録データ貼付!K96,1))","v":""},{"$f":"IF(登録データ貼付!S96=\"\",\"\",登録データ貼付!S96)","v":""},null,null,"95"]
[{"$f":"IF(登録データ貼付!E97=\"\",\"\",登録データ貼付!E97)","v":""},{"$f":"IF(登録データ貼付!B97=\"\",\"\",登録データ貼付!B97)","v":""},"","","","","",null,null,null,{"$f":"IF(登録データ貼付!C97=\"\",\"\",登録データ貼付!C97&\"　\"&登録データ貼付!D97)","v":""},{"$f":"IF(登録データ貼付!F97=\"\",\"\",登録データ貼付!F97&\"　\"&登録データ貼付!G97)","v":""},"",{"$f":"IF(登録データ貼付!H97=\"\",\"\",登録データ貼付!H97&\" \"&登録データ貼付!I97)","v":""},{"$f":"IF(登録データ貼付!V97=\"\",\"\",RIGHT(登録データ貼付!V97,1))","v":""},{"$f":"IF(登録データ貼付!K97=\"\",\"\",LEFT(登録データ貼付!K97,1))","v":""},{"$f":"IF(登録データ貼付!S97=\"\",\"\",登録データ貼付!S97)","v":""},null,null,"96"]
[{"$f":"IF(登録データ貼付!E98=\"\",\"\",登録データ貼付!E98)","v":""},{"$f":"IF(登録データ貼付!B98=\"\",\"\",登録データ貼付!B98)","v":""},"","","","","",null,null,null,{"$f":"IF(登録データ貼付!C98=\"\",\"\",登録データ貼付!C98&\"　\"&登録データ貼付!D98)","v":""},{"$f":"IF(登録データ貼付!F98=\"\",\"\",登録データ貼付!F98&\"　\"&登録データ貼付!G98)","v":""},"",{"$f":"IF(登録データ貼付!H98=\"\",\"\",登録データ貼付!H98&\" \"&登録データ貼付!I98)","v":""},{"$f":"IF(登録データ貼付!V98=\"\",\"\",RIGHT(登録データ貼付!V98,1))","v":""},{"$f":"IF(登録データ貼付!K98=\"\",\"\",LEFT(登録データ貼付!K98,1))","v":""},{"$f":"IF(登録データ貼付!S98=\"\",\"\",登録データ貼付!S98)","v":""},null,null,"97"]
[{"$f":"IF(登録データ貼付!E99=\"\",\"\",登録データ貼付!E99)","v":""},{"$f":"IF(登録データ貼付!B99=\"\",\"\",登録データ貼付!B99)","v":""},"","","","","",null,null,null,{"$f":"IF(登録データ貼付!C99=\"\",\"\",登録データ貼付!C99&\"　\"&登録データ貼付!D99)","v":""},{"$f":"IF(登録データ貼付!F99=\"\",\"\",登録データ貼付!F99&\"　\"&登録データ貼付!G99)","v":""},"",{"$f":"IF(登録データ貼付!H99=\"\",\"\",登録データ貼付!H99&\" \"&登録データ貼付!I99)","v":""},{"$f":"IF(登録データ貼付!V99=\"\",\"\",RIGHT(登録データ貼付!V99,1))","v":""},{"$f":"IF(登録データ貼付!K99=\"\",\"\",LEFT(登録データ貼付!K99,1))","v":""},{"$f":"IF(登録データ貼付!S99=\"\",\"\",登録データ貼付!S99)","v":""},null,null,"98"]
[{"$f":"IF(登録データ貼付!E100=\"\",\"\",登録データ貼付!E100)","v":""},{"$f":"IF(登録データ貼付!B100=\"\",\"\",登録データ貼付!B100)","v":""},"","","","","",null,null,null,{"$f":"IF(登録データ貼付!C100=\"\",\"\",登録データ貼付!C100&\"　\"&登録データ貼付!D100)","v":""},{"$f":"IF(登録データ貼付!F100=\"\",\"\",登録データ貼付!F100&\"　\"&登録データ貼付!G100)","v":""},"",{"$f":"IF(登録データ貼付!H100=\"\",\"\",登録データ貼付!H100&\" \"&登録データ貼付!I100)","v":""},{"$f":"IF(登録データ貼付!V100=\"\",\"\",RIGHT(登録データ貼付!V100,1))","v":""},{"$f":"IF(登録データ貼付!K100=\"\",\"\",LEFT(登録データ貼付!K100,1))","v":""},{"$f":"IF(登録データ貼付!S100=\"\",\"\",登録データ貼付!S100)","v":""},null,null,"99"]

{"sheet":"登録データ貼付","index":8,"n_rows":1,"n_cols":43,"rows_kept":1,"cut":false,"hidden":false,"merged":[]}
["年度","JAAF ID","氏名（姓）","氏名（名）","登録番号","フリガナ（姓）","フリガナ（名）","英字（姓）","英字（名）","国籍","性別","登録都道府県番号","登録都道府県名","団体UID","団体ID","団体名","団体名略称1","団体名略称2","生年月日","旧団体コード","備考","学年","団体区分","承認団体名","郵便番号","住所","携帯電話番号","卒業高校名","卒業中学名","メールアドレス","E-mail配信希望","勤務先名","勤務先郵便番号","勤務先都道府県","勤務先市区町村 / 番地 / 建物名","在籍学校都道府県","障がいのクラス","実施している種目","興味がある種目","指導者チェック","役職名","管理者","状態"]

{"sheet":"競技者マスタ（NANS）","index":9,"n_rows":70,"n_cols":36,"rows_kept":70,"cut":false,"hidden":false,"merged":[]}
["競技者NO","所属コード1","所属コード2","ナンバー","ナンバー2","競技者名","競技者名カナ","競技者名略称","競技者名英字","国籍","性別","学年","生年","月日","個人所属地名","陸連コード","参加競技-競技コード1","参加競技-自己記録1","参加競技-オープン参加FLG1","参加競技-記録FLG1","参加競技-競技コード2","参加競技-自己記録2","参加競技-オープン参加FLG2","参加競技-記録FLG2","参加競技-競技コード3","参加競技-自己記録3","参加競技-オープン参加FLG3","参加競技-記録FLG3","参加競技-競技コード4","参加競技-自己記録4","参加競技-オープン参加FLG4","参加競技-記録FLG4","参加競技-競技コード5","参加競技-自己記録5","参加競技-オープン参加FLG5","参加競技-記録FLG5"]
[null,{"$f":"IF(E2=\"\",\"\",必ずお読み下さい!$G$10)","v":""},null,null,{"$f":"IF(春季入力!C12=\"\",\"\",春季入力!C12)","v":""},{"$f":"IF(春季入力!D12=\"\",\"\",春季入力!D12)","v":""},{"$f":"IF(春季入力!G12=\"\",\"\",春季入力!G12)","v":""},{"$f":"IF(春季入力!D12=\"\",\"\",春季入力!D12)","v":""},{"$f":"IF(春季入力!G12=\"\",\"\",春季入力!G12)","v":""},{"$f":"IF(E2=\"\",\"\",\"JPN\")","v":""},{"$f":"IF(春季入力!P12=\"\",\"\",春季入力!P12)","v":""},{"$f":"IF(春季入力!E12=\"\",\"\",春季入力!E12)","v":""},{"$f":"IF(E2=\"\",\"\",VLOOKUP($E2,部員名簿!$A$5:$R$103,17,FALSE))","v":""},{"$f":"IF(E2=\"\",\"\",VLOOKUP($E2,部員名簿!$A$5:$R$103,17,FALSE))","v":""},null,{"$f":"IF(E2=\"\",\"\",VLOOKUP($E2,部員名簿!$A$5:$G$103,2,FALSE))","v":""},{"$f":"IF(春季入力!H12=\"\",\"\",春季入力!H12)","v":""},null,{"$f":"IF(Q2=\"\",\"\",0)","v":""},{"$f":"IF(Q2=\"\",\"\",0)","v":""},{"$f":"IF(春季入力!I12=\"\",\"\",春季入力!I12)","v":""},null,{"$f":"IF(U2=\"\",\"\",0)","v":""},{"$f":"IF(U2=\"\",\"\",0)","v":""}]
[null,{"$f":"IF(E3=\"\",\"\",必ずお読み下さい!$G$10)","v":""},null,null,{"$f":"IF(春季入力!C13=\"\",\"\",春季入力!C13)","v":""},{"$f":"IF(春季入力!D13=\"\",\"\",春季入力!D13)","v":""},{"$f":"IF(春季入力!G13=\"\",\"\",春季入力!G13)","v":""},{"$f":"IF(春季入力!D13=\"\",\"\",春季入力!D13)","v":""},{"$f":"IF(春季入力!G13=\"\",\"\",春季入力!G13)","v":""},{"$f":"IF(E3=\"\",\"\",\"JPN\")","v":""},{"$f":"IF(春季入力!P13=\"\",\"\",春季入力!P13)","v":""},{"$f":"IF(春季入力!E13=\"\",\"\",春季入力!E13)","v":""},{"$f":"IF(E3=\"\",\"\",VLOOKUP($E3,部員名簿!$A$5:$R$103,17,FALSE))","v":""},{"$f":"IF(E3=\"\",\"\",VLOOKUP($E3,部員名簿!$A$5:$R$103,17,FALSE))","v":""},null,{"$f":"IF(E3=\"\",\"\",VLOOKUP($E3,部員名簿!$A$5:$G$103,2,FALSE))","v":""},{"$f":"IF(春季入力!H13=\"\",\"\",春季入力!H13)","v":""},null,{"$f":"IF(Q3=\"\",\"\",0)","v":""},{"$f":"IF(Q3=\"\",\"\",0)","v":""},{"$f":"IF(春季入力!I13=\"\",\"\",春季入力!I13)","v":""},null,{"$f":"IF(U3=\"\",\"\",0)","v":""},{"$f":"IF(U3=\"\",\"\",0)","v":""}]
[null,{"$f":"IF(E4=\"\",\"\",必ずお読み下さい!$G$10)","v":""},null,null,{"$f":"IF(春季入力!C14=\"\",\"\",春季入力!C14)","v":""},{"$f":"IF(春季入力!D14=\"\",\"\",春季入力!D14)","v":""},{"$f":"IF(春季入力!G14=\"\",\"\",春季入力!G14)","v":""},{"$f":"IF(春季入力!D14=\"\",\"\",春季入力!D14)","v":""},{"$f":"IF(春季入力!G14=\"\",\"\",春季入力!G14)","v":""},"",{"$f":"IF(春季入力!P14=\"\",\"\",春季入力!P14)","v":""},{"$f":"IF(春季入力!E14=\"\",\"\",春季入力!E14)","v":""},{"$f":"IF(E4=\"\",\"\",VLOOKUP($E4,部員名簿!$A$5:$R$103,17,FALSE))","v":""},{"$f":"IF(E4=\"\",\"\",VLOOKUP($E4,部員名簿!$A$5:$R$103,17,FALSE))","v":""},null,{"$f":"IF(E4=\"\",\"\",VLOOKUP($E4,部員名簿!$A$5:$G$103,2,FALSE))","v":""},{"$f":"IF(春季入力!H14=\"\",\"\",春季入力!H14)","v":""},null,"","",{"$f":"IF(春季入力!I14=\"\",\"\",春季入力!I14)","v":""},null,"",""]
[null,{"$f":"IF(E5=\"\",\"\",必ずお読み下さい!$G$10)","v":""},null,null,{"$f":"IF(春季入力!C15=\"\",\"\",春季入力!C15)","v":""},{"$f":"IF(春季入力!D15=\"\",\"\",春季入力!D15)","v":""},{"$f":"IF(春季入力!G15=\"\",\"\",春季入力!G15)","v":""},{"$f":"IF(春季入力!D15=\"\",\"\",春季入力!D15)","v":""},{"$f":"IF(春季入力!G15=\"\",\"\",春季入力!G15)","v":""},"",{"$f":"IF(春季入力!P15=\"\",\"\",春季入力!P15)","v":""},{"$f":"IF(春季入力!E15=\"\",\"\",春季入力!E15)","v":""},{"$f":"IF(E5=\"\",\"\",VLOOKUP($E5,部員名簿!$A$5:$R$103,17,FALSE))","v":""},{"$f":"IF(E5=\"\",\"\",VLOOKUP($E5,部員名簿!$A$5:$R$103,17,FALSE))","v":""},null,{"$f":"IF(E5=\"\",\"\",VLOOKUP($E5,部員名簿!$A$5:$G$103,2,FALSE))","v":""},{"$f":"IF(春季入力!H15=\"\",\"\",春季入力!H15)","v":""},null,"","",{"$f":"IF(春季入力!I15=\"\",\"\",春季入力!I15)","v":""},null,"",""]
[null,{"$f":"IF(E6=\"\",\"\",必ずお読み下さい!$G$10)","v":""},null,null,{"$f":"IF(春季入力!C16=\"\",\"\",春季入力!C16)","v":""},{"$f":"IF(春季入力!D16=\"\",\"\",春季入力!D16)","v":""},{"$f":"IF(春季入力!G16=\"\",\"\",春季入力!G16)","v":""},{"$f":"IF(春季入力!D16=\"\",\"\",春季入力!D16)","v":""},{"$f":"IF(春季入力!G16=\"\",\"\",春季入力!G16)","v":""},"",{"$f":"IF(春季入力!P16=\"\",\"\",春季入力!P16)","v":""},{"$f":"IF(春季入力!E16=\"\",\"\",春季入力!E16)","v":""},{"$f":"IF(E6=\"\",\"\",VLOOKUP($E6,部員名簿!$A$5:$R$103,17,FALSE))","v":""},{"$f":"IF(E6=\"\",\"\",VLOOKUP($E6,部員名簿!$A$5:$R$103,17,FALSE))","v":""},null,{"$f":"IF(E6=\"\",\"\",VLOOKUP($E6,部員名簿!$A$5:$G$103,2,FALSE))","v":""},{"$f":"IF(春季入力!H16=\"\",\"\",春季入力!H16)","v":""},null,"","",{"$f":"IF(春季入力!I16=\"\",\"\",春季入力!I16)","v":""},null,"",""]
[null,{"$f":"IF(E7=\"\",\"\",必ずお読み下さい!$G$10)","v":""},null,null,{"$f":"IF(春季入力!C17=\"\",\"\",春季入力!C17)","v":""},{"$f":"IF(春季入力!D17=\"\",\"\",春季入力!D17)","v":""},{"$f":"IF(春季入力!G17=\"\",\"\",春季入力!G17)","v":""},{"$f":"IF(春季入力!D17=\"\",\"\",春季入力!D17)","v":""},{"$f":"IF(春季入力!G17=\"\",\"\",春季入力!G17)","v":""},"",{"$f":"IF(春季入力!P17=\"\",\"\",春季入力!P17)","v":""},{"$f":"IF(春季入力!E17=\"\",\"\",春季入力!E17)","v":""},{"$f":"IF(E7=\"\",\"\",VLOOKUP($E7,部員名簿!$A$5:$R$103,17,FALSE))","v":""},{"$f":"IF(E7=\"\",\"\",VLOOKUP($E7,部員名簿!$A$5:$R$103,17,FALSE))","v":""},null,{"$f":"IF(E7=\"\",\"\",VLOOKUP($E7,部員名簿!$A$5:$G$103,2,FALSE))","v":""},{"$f":"IF(春季入力!H17=\"\",\"\",春季入力!H17)","v":""},null,"","",{"$f":"IF(春季入力!I17=\"\",\"\",春季入力!I17)","v":""},null,"",""]
[null,{"$f":"IF(E8=\"\",\"\",必ずお読み下さい!$G$10)","v":""},null,null,{"$f":"IF(春季入力!C18=\"\",\"\",春季入力!C18)","v":""},{"$f":"IF(春季入力!D18=\"\",\"\",春季入力!D18)","v":""},{"$f":"IF(春季入力!G18=\"\",\"\",春季入力!G18)","v":""},{"$f":"IF(春季入力!D18=\"\",\"\",春季入力!D18)","v":""},{"$f":"IF(春季入力!G18=\"\",\"\",春季入力!G18)","v":""},"",{"$f":"IF(春季入力!P18=\"\",\"\",春季入力!P18)","v":""},{"$f":"IF(春季入力!E18=\"\",\"\",春季入力!E18)","v":""},{"$f":"IF(E8=\"\",\"\",VLOOKUP($E8,部員名簿!$A$5:$R$103,17,FALSE))","v":""},{"$f":"IF(E8=\"\",\"\",VLOOKUP($E8,部員名簿!$A$5:$R$103,17,FALSE))","v":""},null,{"$f":"IF(E8=\"\",\"\",VLOOKUP($E8,部員名簿!$A$5:$G$103,2,FALSE))","v":""},{"$f":"IF(春季入力!H18=\"\",\"\",春季入力!H18)","v":""},null,"","",{"$f":"IF(春季入力!I18=\"\",\"\",春季入力!I18)","v":""},null,"",""]
[null,{"$f":"IF(E9=\"\",\"\",必ずお読み下さい!$G$10)","v":""},null,null,{"$f":"IF(春季入力!C19=\"\",\"\",春季入力!C19)","v":""},{"$f":"IF(春季入力!D19=\"\",\"\",春季入力!D19)","v":""},{"$f":"IF(春季入力!G19=\"\",\"\",春季入力!G19)","v":""},{"$f":"IF(春季入力!D19=\"\",\"\",春季入力!D19)","v":""},{"$f":"IF(春季入力!G19=\"\",\"\",春季入力!G19)","v":""},"",{"$f":"IF(春季入力!P19=\"\",\"\",春季入力!P19)","v":""},{"$f":"IF(春季入力!E19=\"\",\"\",春季入力!E19)","v":""},{"$f":"IF(E9=\"\",\"\",VLOOKUP($E9,部員名簿!$A$5:$R$103,17,FALSE))","v":""},{"$f":"IF(E9=\"\",\"\",VLOOKUP($E9,部員名簿!$A$5:$R$103,17,FALSE))","v":""},null,{"$f":"IF(E9=\"\",\"\",VLOOKUP($E9,部員名簿!$A$5:$G$103,2,FALSE))","v":""},{"$f":"IF(春季入力!H19=\"\",\"\",春季入力!H19)","v":""},null,"","",{"$f":"IF(春季入力!I19=\"\",\"\",春季入力!I19)","v":""},null,"",""]
[null,{"$f":"IF(E10=\"\",\"\",必ずお読み下さい!$G$10)","v":""},null,null,{"$f":"IF(春季入力!C20=\"\",\"\",春季入力!C20)","v":""},{"$f":"IF(春季入力!D20=\"\",\"\",春季入力!D20)","v":""},{"$f":"IF(春季入力!G20=\"\",\"\",春季入力!G20)","v":""},{"$f":"IF(春季入力!D20=\"\",\"\",春季入力!D20)","v":""},{"$f":"IF(春季入力!G20=\"\",\"\",春季入力!G20)","v":""},"",{"$f":"IF(春季入力!P20=\"\",\"\",春季入力!P20)","v":""},{"$f":"IF(春季入力!E20=\"\",\"\",春季入力!E20)","v":""},{"$f":"IF(E10=\"\",\"\",VLOOKUP($E10,部員名簿!$A$5:$R$103,17,FALSE))","v":""},{"$f":"IF(E10=\"\",\"\",VLOOKUP($E10,部員名簿!$A$5:$R$103,17,FALSE))","v":""},null,{"$f":"IF(E10=\"\",\"\",VLOOKUP($E10,部員名簿!$A$5:$G$103,2,FALSE))","v":""},{"$f":"IF(春季入力!H20=\"\",\"\",春季入力!H20)","v":""},null,"","",{"$f":"IF(春季入力!I20=\"\",\"\",春季入力!I20)","v":""},null,"",""]
[null,{"$f":"IF(E11=\"\",\"\",必ずお読み下さい!$G$10)","v":""},null,null,{"$f":"IF(春季入力!C21=\"\",\"\",春季入力!C21)","v":""},{"$f":"IF(春季入力!D21=\"\",\"\",春季入力!D21)","v":""},{"$f":"IF(春季入力!G21=\"\",\"\",春季入力!G21)","v":""},{"$f":"IF(春季入力!D21=\"\",\"\",春季入力!D21)","v":""},{"$f":"IF(春季入力!G21=\"\",\"\",春季入力!G21)","v":""},"",{"$f":"IF(春季入力!P21=\"\",\"\",春季入力!P21)","v":""},{"$f":"IF(春季入力!E21=\"\",\"\",春季入力!E21)","v":""},{"$f":"IF(E11=\"\",\"\",VLOOKUP($E11,部員名簿!$A$5:$R$103,17,FALSE))","v":""},{"$f":"IF(E11=\"\",\"\",VLOOKUP($E11,部員名簿!$A$5:$R$103,17,FALSE))","v":""},null,{"$f":"IF(E11=\"\",\"\",VLOOKUP($E11,部員名簿!$A$5:$G$103,2,FALSE))","v":""},{"$f":"IF(春季入力!H21=\"\",\"\",春季入力!H21)","v":""},null,"","",{"$f":"IF(春季入力!I21=\"\",\"\",春季入力!I21)","v":""},null,"",""]
[null,{"$f":"IF(E12=\"\",\"\",必ずお読み下さい!$G$10)","v":""},null,null,{"$f":"IF(春季入力!C22=\"\",\"\",春季入力!C22)","v":""},{"$f":"IF(春季入力!D22=\"\",\"\",春季入力!D22)","v":""},{"$f":"IF(春季入力!G22=\"\",\"\",春季入力!G22)","v":""},{"$f":"IF(春季入力!D22=\"\",\"\",春季入力!D22)","v":""},{"$f":"IF(春季入力!G22=\"\",\"\",春季入力!G22)","v":""},"",{"$f":"IF(春季入力!P22=\"\",\"\",春季入力!P22)","v":""},{"$f":"IF(春季入力!E22=\"\",\"\",春季入力!E22)","v":""},{"$f":"IF(E12=\"\",\"\",VLOOKUP($E12,部員名簿!$A$5:$R$103,17,FALSE))","v":""},{"$f":"IF(E12=\"\",\"\",VLOOKUP($E12,部員名簿!$A$5:$R$103,17,FALSE))","v":""},null,{"$f":"IF(E12=\"\",\"\",VLOOKUP($E12,部員名簿!$A$5:$G$103,2,FALSE))","v":""},{"$f":"IF(春季入力!H22=\"\",\"\",春季入力!H22)","v":""},null,"","",{"$f":"IF(春季入力!I22=\"\",\"\",春季入力!I22)","v":""},null,"",""]
[null,{"$f":"IF(E13=\"\",\"\",必ずお読み下さい!$G$10)","v":""},null,null,{"$f":"IF(春季入力!C23=\"\",\"\",春季入力!C23)","v":""},{"$f":"IF(春季入力!D23=\"\",\"\",春季入力!D23)","v":""},{"$f":"IF(春季入力!G23=\"\",\"\",春季入力!G23)","v":""},{"$f":"IF(春季入力!D23=\"\",\"\",春季入力!D23)","v":""},{"$f":"IF(春季入力!G23=\"\",\"\",春季入力!G23)","v":""},"",{"$f":"IF(春季入力!P23=\"\",\"\",春季入力!P23)","v":""},{"$f":"IF(春季入力!E23=\"\",\"\",春季入力!E23)","v":""},{"$f":"IF(E13=\"\",\"\",VLOOKUP($E13,部員名簿!$A$5:$R$103,17,FALSE))","v":""},{"$f":"IF(E13=\"\",\"\",VLOOKUP($E13,部員名簿!$A$5:$R$103,17,FALSE))","v":""},null,{"$f":"IF(E13=\"\",\"\",VLOOKUP($E13,部員名簿!$A$5:$G$103,2,FALSE))","v":""},{"$f":"IF(春季入力!H23=\"\",\"\",春季入力!H23)","v":""},null,"","",{"$f":"IF(春季入力!I23=\"\",\"\",春季入力!I23)","v":""},null,"",""]
[null,{"$f":"IF(E14=\"\",\"\",必ずお読み下さい!$G$10)","v":""},null,null,{"$f":"IF(春季入力!C24=\"\",\"\",春季入力!C24)","v":""},{"$f":"IF(春季入力!D24=\"\",\"\",春季入力!D24)","v":""},{"$f":"IF(春季入力!G24=\"\",\"\",春季入力!G24)","v":""},{"$f":"IF(春季入力!D24=\"\",\"\",春季入力!D24)","v":""},{"$f":"IF(春季入力!G24=\"\",\"\",春季入力!G24)","v":""},"",{"$f":"IF(春季入力!P24=\"\",\"\",春季入力!P24)","v":""},{"$f":"IF(春季入力!E24=\"\",\"\",春季入力!E24)","v":""},{"$f":"IF(E14=\"\",\"\",VLOOKUP($E14,部員名簿!$A$5:$R$103,17,FALSE))","v":""},{"$f":"IF(E14=\"\",\"\",VLOOKUP($E14,部員名簿!$A$5:$R$103,17,FALSE))","v":""},null,{"$f":"IF(E14=\"\",\"\",VLOOKUP($E14,部員名簿!$A$5:$G$103,2,FALSE))","v":""},{"$f":"IF(春季入力!H24=\"\",\"\",春季入力!H24)","v":""},null,"","",{"$f":"IF(春季入力!I24=\"\",\"\",春季入力!I24)","v":""},null,"",""]
[null,{"$f":"IF(E15=\"\",\"\",必ずお読み下さい!$G$10)","v":""},null,null,{"$f":"IF(春季入力!C25=\"\",\"\",春季入力!C25)","v":""},{"$f":"IF(春季入力!D25=\"\",\"\",春季入力!D25)","v":""},{"$f":"IF(春季入力!G25=\"\",\"\",春季入力!G25)","v":""},{"$f":"IF(春季入力!D25=\"\",\"\",春季入力!D25)","v":""},{"$f":"IF(春季入力!G25=\"\",\"\",春季入力!G25)","v":""},"",{"$f":"IF(春季入力!P25=\"\",\"\",春季入力!P25)","v":""},{"$f":"IF(春季入力!E25=\"\",\"\",春季入力!E25)","v":""},{"$f":"IF(E15=\"\",\"\",VLOOKUP($E15,部員名簿!$A$5:$R$103,17,FALSE))","v":""},{"$f":"IF(E15=\"\",\"\",VLOOKUP($E15,部員名簿!$A$5:$R$103,17,FALSE))","v":""},null,{"$f":"IF(E15=\"\",\"\",VLOOKUP($E15,部員名簿!$A$5:$G$103,2,FALSE))","v":""},{"$f":"IF(春季入力!H25=\"\",\"\",春季入力!H25)","v":""},null,"","",{"$f":"IF(春季入力!I25=\"\",\"\",春季入力!I25)","v":""},null,"",""]
[null,{"$f":"IF(E16=\"\",\"\",必ずお読み下さい!$G$10)","v":""},null,null,{"$f":"IF(春季入力!C26=\"\",\"\",春季入力!C26)","v":""},{"$f":"IF(春季入力!D26=\"\",\"\",春季入力!D26)","v":""},{"$f":"IF(春季入力!G26=\"\",\"\",春季入力!G26)","v":""},{"$f":"IF(春季入力!D26=\"\",\"\",春季入力!D26)","v":""},{"$f":"IF(春季入力!G26=\"\",\"\",春季入力!G26)","v":""},"",{"$f":"IF(春季入力!P26=\"\",\"\",春季入力!P26)","v":""},{"$f":"IF(春季入力!E26=\"\",\"\",春季入力!E26)","v":""},{"$f":"IF(E16=\"\",\"\",VLOOKUP($E16,部員名簿!$A$5:$R$103,17,FALSE))","v":""},{"$f":"IF(E16=\"\",\"\",VLOOKUP($E16,部員名簿!$A$5:$R$103,17,FALSE))","v":""},null,{"$f":"IF(E16=\"\",\"\",VLOOKUP($E16,部員名簿!$A$5:$G$103,2,FALSE))","v":""},{"$f":"IF(春季入力!H26=\"\",\"\",春季入力!H26)","v":""},null,"","",{"$f":"IF(春季入力!I26=\"\",\"\",春季入力!I26)","v":""},null,"",""]
[null,{"$f":"IF(E17=\"\",\"\",必ずお読み下さい!$G$10)","v":""},null,null,{"$f":"IF(春季入力!C27=\"\",\"\",春季入力!C27)","v":""},{"$f":"IF(春季入力!D27=\"\",\"\",春季入力!D27)","v":""},{"$f":"IF(春季入力!G27=\"\",\"\",春季入力!G27)","v":""},{"$f":"IF(春季入力!D27=\"\",\"\",春季入力!D27)","v":""},{"$f":"IF(春季入力!G27=\"\",\"\",春季入力!G27)","v":""},"",{"$f":"IF(春季入力!P27=\"\",\"\",春季入力!P27)","v":""},{"$f":"IF(春季入力!E27=\"\",\"\",春季入力!E27)","v":""},{"$f":"IF(E17=\"\",\"\",VLOOKUP($E17,部員名簿!$A$5:$R$103,17,FALSE))","v":""},{"$f":"IF(E17=\"\",\"\",VLOOKUP($E17,部員名簿!$A$5:$R$103,17,FALSE))","v":""},null,{"$f":"IF(E17=\"\",\"\",VLOOKUP($E17,部員名簿!$A$5:$G$103,2,FALSE))","v":""},{"$f":"IF(春季入力!H27=\"\",\"\",春季入力!H27)","v":""},null,"","",{"$f":"IF(春季入力!I27=\"\",\"\",春季入力!I27)","v":""},null,"",""]
[null,{"$f":"IF(E18=\"\",\"\",必ずお読み下さい!$G$10)","v":""},null,null,{"$f":"IF(春季入力!C28=\"\",\"\",春季入力!C28)","v":""},{"$f":"IF(春季入力!D28=\"\",\"\",春季入力!D28)","v":""},{"$f":"IF(春季入力!G28=\"\",\"\",春季入力!G28)","v":""},{"$f":"IF(春季入力!D28=\"\",\"\",春季入力!D28)","v":""},{"$f":"IF(春季入力!G28=\"\",\"\",春季入力!G28)","v":""},"",{"$f":"IF(春季入力!P28=\"\",\"\",春季入力!P28)","v":""},{"$f":"IF(春季入力!E28=\"\",\"\",春季入力!E28)","v":""},{"$f":"IF(E18=\"\",\"\",VLOOKUP($E18,部員名簿!$A$5:$R$103,17,FALSE))","v":""},{"$f":"IF(E18=\"\",\"\",VLOOKUP($E18,部員名簿!$A$5:$R$103,17,FALSE))","v":""},null,{"$f":"IF(E18=\"\",\"\",VLOOKUP($E18,部員名簿!$A$5:$G$103,2,FALSE))","v":""},{"$f":"IF(春季入力!H28=\"\",\"\",春季入力!H28)","v":""},null,"","",{"$f":"IF(春季入力!I28=\"\",\"\",春季入力!I28)","v":""},null,"",""]
[null,{"$f":"IF(E19=\"\",\"\",必ずお読み下さい!$G$10)","v":""},null,null,{"$f":"IF(春季入力!C29=\"\",\"\",春季入力!C29)","v":""},{"$f":"IF(春季入力!D29=\"\",\"\",春季入力!D29)","v":""},{"$f":"IF(春季入力!G29=\"\",\"\",春季入力!G29)","v":""},{"$f":"IF(春季入力!D29=\"\",\"\",春季入力!D29)","v":""},{"$f":"IF(春季入力!G29=\"\",\"\",春季入力!G29)","v":""},"",{"$f":"IF(春季入力!P29=\"\",\"\",春季入力!P29)","v":""},{"$f":"IF(春季入力!E29=\"\",\"\",春季入力!E29)","v":""},{"$f":"IF(E19=\"\",\"\",VLOOKUP($E19,部員名簿!$A$5:$R$103,17,FALSE))","v":""},{"$f":"IF(E19=\"\",\"\",VLOOKUP($E19,部員名簿!$A$5:$R$103,17,FALSE))","v":""},null,{"$f":"IF(E19=\"\",\"\",VLOOKUP($E19,部員名簿!$A$5:$G$103,2,FALSE))","v":""},{"$f":"IF(春季入力!H29=\"\",\"\",春季入力!H29)","v":""},null,"","",{"$f":"IF(春季入力!I29=\"\",\"\",春季入力!I29)","v":""},null,"",""]
[null,{"$f":"IF(E20=\"\",\"\",必ずお読み下さい!$G$10)","v":""},null,null,{"$f":"IF(春季入力!C30=\"\",\"\",春季入力!C30)","v":""},{"$f":"IF(春季入力!D30=\"\",\"\",春季入力!D30)","v":""},{"$f":"IF(春季入力!G30=\"\",\"\",春季入力!G30)","v":""},{"$f":"IF(春季入力!D30=\"\",\"\",春季入力!D30)","v":""},{"$f":"IF(春季入力!G30=\"\",\"\",春季入力!G30)","v":""},"",{"$f":"IF(春季入力!P30=\"\",\"\",春季入力!P30)","v":""},{"$f":"IF(春季入力!E30=\"\",\"\",春季入力!E30)","v":""},{"$f":"IF(E20=\"\",\"\",VLOOKUP($E20,部員名簿!$A$5:$R$103,17,FALSE))","v":""},{"$f":"IF(E20=\"\",\"\",VLOOKUP($E20,部員名簿!$A$5:$R$103,17,FALSE))","v":""},null,{"$f":"IF(E20=\"\",\"\",VLOOKUP($E20,部員名簿!$A$5:$G$103,2,FALSE))","v":""},{"$f":"IF(春季入力!H30=\"\",\"\",春季入力!H30)","v":""},null,"","",{"$f":"IF(春季入力!I30=\"\",\"\",春季入力!I30)","v":""},null,"",""]
[null,{"$f":"IF(E21=\"\",\"\",必ずお読み下さい!$G$10)","v":""},null,null,{"$f":"IF(春季入力!C31=\"\",\"\",春季入力!C31)","v":""},{"$f":"IF(春季入力!D31=\"\",\"\",春季入力!D31)","v":""},{"$f":"IF(春季入力!G31=\"\",\"\",春季入力!G31)","v":""},{"$f":"IF(春季入力!D31=\"\",\"\",春季入力!D31)","v":""},{"$f":"IF(春季入力!G31=\"\",\"\",春季入力!G31)","v":""},"",{"$f":"IF(春季入力!P31=\"\",\"\",春季入力!P31)","v":""},{"$f":"IF(春季入力!E31=\"\",\"\",春季入力!E31)","v":""},{"$f":"IF(E21=\"\",\"\",VLOOKUP($E21,部員名簿!$A$5:$R$103,17,FALSE))","v":""},{"$f":"IF(E21=\"\",\"\",VLOOKUP($E21,部員名簿!$A$5:$R$103,17,FALSE))","v":""},null,{"$f":"IF(E21=\"\",\"\",VLOOKUP($E21,部員名簿!$A$5:$G$103,2,FALSE))","v":""},{"$f":"IF(春季入力!H31=\"\",\"\",春季入力!H31)","v":""},null,"","",{"$f":"IF(春季入力!I31=\"\",\"\",春季入力!I31)","v":""},null,"",""]
[null,{"$f":"IF(E22=\"\",\"\",必ずお読み下さい!$G$10)","v":""},null,null,{"$f":"IF(春季入力!C32=\"\",\"\",春季入力!C32)","v":""},{"$f":"IF(春季入力!D32=\"\",\"\",春季入力!D32)","v":""},{"$f":"IF(春季入力!G32=\"\",\"\",春季入力!G32)","v":""},{"$f":"IF(春季入力!D32=\"\",\"\",春季入力!D32)","v":""},{"$f":"IF(春季入力!G32=\"\",\"\",春季入力!G32)","v":""},"",{"$f":"IF(春季入力!P32=\"\",\"\",春季入力!P32)","v":""},{"$f":"IF(春季入力!E32=\"\",\"\",春季入力!E32)","v":""},{"$f":"IF(E22=\"\",\"\",VLOOKUP($E22,部員名簿!$A$5:$R$103,17,FALSE))","v":""},{"$f":"IF(E22=\"\",\"\",VLOOKUP($E22,部員名簿!$A$5:$R$103,17,FALSE))","v":""},null,{"$f":"IF(E22=\"\",\"\",VLOOKUP($E22,部員名簿!$A$5:$G$103,2,FALSE))","v":""},{"$f":"IF(春季入力!H32=\"\",\"\",春季入力!H32)","v":""},null,"","",{"$f":"IF(春季入力!I32=\"\",\"\",春季入力!I32)","v":""},null,"",""]
[null,{"$f":"IF(E23=\"\",\"\",必ずお読み下さい!$G$10)","v":""},null,null,{"$f":"IF(春季入力!C33=\"\",\"\",春季入力!C33)","v":""},{"$f":"IF(春季入力!D33=\"\",\"\",春季入力!D33)","v":""},{"$f":"IF(春季入力!G33=\"\",\"\",春季入力!G33)","v":""},{"$f":"IF(春季入力!D33=\"\",\"\",春季入力!D33)","v":""},{"$f":"IF(春季入力!G33=\"\",\"\",春季入力!G33)","v":""},"",{"$f":"IF(春季入力!P33=\"\",\"\",春季入力!P33)","v":""},{"$f":"IF(春季入力!E33=\"\",\"\",春季入力!E33)","v":""},{"$f":"IF(E23=\"\",\"\",VLOOKUP($E23,部員名簿!$A$5:$R$103,17,FALSE))","v":""},{"$f":"IF(E23=\"\",\"\",VLOOKUP($E23,部員名簿!$A$5:$R$103,17,FALSE))","v":""},null,{"$f":"IF(E23=\"\",\"\",VLOOKUP($E23,部員名簿!$A$5:$G$103,2,FALSE))","v":""},{"$f":"IF(春季入力!H33=\"\",\"\",春季入力!H33)","v":""},null,"","",{"$f":"IF(春季入力!I33=\"\",\"\",春季入力!I33)","v":""},null,"",""]
[null,{"$f":"IF(E24=\"\",\"\",必ずお読み下さい!$G$10)","v":""},null,null,{"$f":"IF(春季入力!C34=\"\",\"\",春季入力!C34)","v":""},{"$f":"IF(春季入力!D34=\"\",\"\",春季入力!D34)","v":""},{"$f":"IF(春季入力!G34=\"\",\"\",春季入力!G34)","v":""},{"$f":"IF(春季入力!D34=\"\",\"\",春季入力!D34)","v":""},{"$f":"IF(春季入力!G34=\"\",\"\",春季入力!G34)","v":""},"",{"$f":"IF(春季入力!P34=\"\",\"\",春季入力!P34)","v":""},{"$f":"IF(春季入力!E34=\"\",\"\",春季入力!E34)","v":""},{"$f":"IF(E24=\"\",\"\",VLOOKUP($E24,部員名簿!$A$5:$R$103,17,FALSE))","v":""},{"$f":"IF(E24=\"\",\"\",VLOOKUP($E24,部員名簿!$A$5:$R$103,17,FALSE))","v":""},null,{"$f":"IF(E24=\"\",\"\",VLOOKUP($E24,部員名簿!$A$5:$G$103,2,FALSE))","v":""},{"$f":"IF(春季入力!H34=\"\",\"\",春季入力!H34)","v":""},null,"","",{"$f":"IF(春季入力!I34=\"\",\"\",春季入力!I34)","v":""},null,"",""]
[null,{"$f":"IF(E25=\"\",\"\",必ずお読み下さい!$G$10)","v":""},null,null,{"$f":"IF(春季入力!C35=\"\",\"\",春季入力!C35)","v":""},{"$f":"IF(春季入力!D35=\"\",\"\",春季入力!D35)","v":""},{"$f":"IF(春季入力!G35=\"\",\"\",春季入力!G35)","v":""},{"$f":"IF(春季入力!D35=\"\",\"\",春季入力!D35)","v":""},{"$f":"IF(春季入力!G35=\"\",\"\",春季入力!G35)","v":""},"",{"$f":"IF(春季入力!P35=\"\",\"\",春季入力!P35)","v":""},{"$f":"IF(春季入力!E35=\"\",\"\",春季入力!E35)","v":""},{"$f":"IF(E25=\"\",\"\",VLOOKUP($E25,部員名簿!$A$5:$R$103,17,FALSE))","v":""},{"$f":"IF(E25=\"\",\"\",VLOOKUP($E25,部員名簿!$A$5:$R$103,17,FALSE))","v":""},null,{"$f":"IF(E25=\"\",\"\",VLOOKUP($E25,部員名簿!$A$5:$G$103,2,FALSE))","v":""},{"$f":"IF(春季入力!H35=\"\",\"\",春季入力!H35)","v":""},null,"","",{"$f":"IF(春季入力!I35=\"\",\"\",春季入力!I35)","v":""},null,"",""]
[null,{"$f":"IF(E26=\"\",\"\",必ずお読み下さい!$G$10)","v":""},null,null,{"$f":"IF(春季入力!C36=\"\",\"\",春季入力!C36)","v":""},{"$f":"IF(春季入力!D36=\"\",\"\",春季入力!D36)","v":""},{"$f":"IF(春季入力!G36=\"\",\"\",春季入力!G36)","v":""},{"$f":"IF(春季入力!D36=\"\",\"\",春季入力!D36)","v":""},{"$f":"IF(春季入力!G36=\"\",\"\",春季入力!G36)","v":""},"",{"$f":"IF(春季入力!P36=\"\",\"\",春季入力!P36)","v":""},{"$f":"IF(春季入力!E36=\"\",\"\",春季入力!E36)","v":""},{"$f":"IF(E26=\"\",\"\",VLOOKUP($E26,部員名簿!$A$5:$R$103,17,FALSE))","v":""},{"$f":"IF(E26=\"\",\"\",VLOOKUP($E26,部員名簿!$A$5:$R$103,17,FALSE))","v":""},null,{"$f":"IF(E26=\"\",\"\",VLOOKUP($E26,部員名簿!$A$5:$G$103,2,FALSE))","v":""},{"$f":"IF(春季入力!H36=\"\",\"\",春季入力!H36)","v":""},null,"","",{"$f":"IF(春季入力!I36=\"\",\"\",春季入力!I36)","v":""},null,"",""]
[null,{"$f":"IF(E27=\"\",\"\",必ずお読み下さい!$G$10)","v":""},null,null,{"$f":"IF(春季入力!C37=\"\",\"\",春季入力!C37)","v":""},{"$f":"IF(春季入力!D37=\"\",\"\",春季入力!D37)","v":""},{"$f":"IF(春季入力!G37=\"\",\"\",春季入力!G37)","v":""},{"$f":"IF(春季入力!D37=\"\",\"\",春季入力!D37)","v":""},{"$f":"IF(春季入力!G37=\"\",\"\",春季入力!G37)","v":""},"",{"$f":"IF(春季入力!P37=\"\",\"\",春季入力!P37)","v":""},{"$f":"IF(春季入力!E37=\"\",\"\",春季入力!E37)","v":""},{"$f":"IF(E27=\"\",\"\",VLOOKUP($E27,部員名簿!$A$5:$R$103,17,FALSE))","v":""},{"$f":"IF(E27=\"\",\"\",VLOOKUP($E27,部員名簿!$A$5:$R$103,17,FALSE))","v":""},null,{"$f":"IF(E27=\"\",\"\",VLOOKUP($E27,部員名簿!$A$5:$G$103,2,FALSE))","v":""},{"$f":"IF(春季入力!H37=\"\",\"\",春季入力!H37)","v":""},null,"","",{"$f":"IF(春季入力!I37=\"\",\"\",春季入力!I37)","v":""},null,"",""]
[null,{"$f":"IF(E28=\"\",\"\",必ずお読み下さい!$G$10)","v":""},null,null,{"$f":"IF(春季入力!C38=\"\",\"\",春季入力!C38)","v":""},{"$f":"IF(春季入力!D38=\"\",\"\",春季入力!D38)","v":""},{"$f":"IF(春季入力!G38=\"\",\"\",春季入力!G38)","v":""},{"$f":"IF(春季入力!D38=\"\",\"\",春季入力!D38)","v":""},{"$f":"IF(春季入力!G38=\"\",\"\",春季入力!G38)","v":""},"",{"$f":"IF(春季入力!P38=\"\",\"\",春季入力!P38)","v":""},{"$f":"IF(春季入力!E38=\"\",\"\",春季入力!E38)","v":""},{"$f":"IF(E28=\"\",\"\",VLOOKUP($E28,部員名簿!$A$5:$R$103,17,FALSE))","v":""},{"$f":"IF(E28=\"\",\"\",VLOOKUP($E28,部員名簿!$A$5:$R$103,17,FALSE))","v":""},null,{"$f":"IF(E28=\"\",\"\",VLOOKUP($E28,部員名簿!$A$5:$G$103,2,FALSE))","v":""},{"$f":"IF(春季入力!H38=\"\",\"\",春季入力!H38)","v":""},null,"","",{"$f":"IF(春季入力!I38=\"\",\"\",春季入力!I38)","v":""},null,"",""]
[null,{"$f":"IF(E29=\"\",\"\",必ずお読み下さい!$G$10)","v":""},null,null,{"$f":"IF(春季入力!C39=\"\",\"\",春季入力!C39)","v":""},{"$f":"IF(春季入力!D39=\"\",\"\",春季入力!D39)","v":""},{"$f":"IF(春季入力!G39=\"\",\"\",春季入力!G39)","v":""},{"$f":"IF(春季入力!D39=\"\",\"\",春季入力!D39)","v":""},{"$f":"IF(春季入力!G39=\"\",\"\",春季入力!G39)","v":""},"",{"$f":"IF(春季入力!P39=\"\",\"\",春季入力!P39)","v":""},{"$f":"IF(春季入力!E39=\"\",\"\",春季入力!E39)","v":""},{"$f":"IF(E29=\"\",\"\",VLOOKUP($E29,部員名簿!$A$5:$R$103,17,FALSE))","v":""},{"$f":"IF(E29=\"\",\"\",VLOOKUP($E29,部員名簿!$A$5:$R$103,17,FALSE))","v":""},null,{"$f":"IF(E29=\"\",\"\",VLOOKUP($E29,部員名簿!$A$5:$G$103,2,FALSE))","v":""},{"$f":"IF(春季入力!H39=\"\",\"\",春季入力!H39)","v":""},null,"","",{"$f":"IF(春季入力!I39=\"\",\"\",春季入力!I39)","v":""},null,"",""]
[null,{"$f":"IF(E30=\"\",\"\",必ずお読み下さい!$G$10)","v":""},null,null,{"$f":"IF(春季入力!C40=\"\",\"\",春季入力!C40)","v":""},{"$f":"IF(春季入力!D40=\"\",\"\",春季入力!D40)","v":""},{"$f":"IF(春季入力!G40=\"\",\"\",春季入力!G40)","v":""},{"$f":"IF(春季入力!D40=\"\",\"\",春季入力!D40)","v":""},{"$f":"IF(春季入力!G40=\"\",\"\",春季入力!G40)","v":""},"",{"$f":"IF(春季入力!P40=\"\",\"\",春季入力!P40)","v":""},{"$f":"IF(春季入力!E40=\"\",\"\",春季入力!E40)","v":""},{"$f":"IF(E30=\"\",\"\",VLOOKUP($E30,部員名簿!$A$5:$R$103,17,FALSE))","v":""},{"$f":"IF(E30=\"\",\"\",VLOOKUP($E30,部員名簿!$A$5:$R$103,17,FALSE))","v":""},null,{"$f":"IF(E30=\"\",\"\",VLOOKUP($E30,部員名簿!$A$5:$G$103,2,FALSE))","v":""},{"$f":"IF(春季入力!H40=\"\",\"\",春季入力!H40)","v":""},null,"","",{"$f":"IF(春季入力!I40=\"\",\"\",春季入力!I40)","v":""},null,"",""]
[null,{"$f":"IF(E31=\"\",\"\",必ずお読み下さい!$G$10)","v":""},null,null,{"$f":"IF(春季入力!C41=\"\",\"\",春季入力!C41)","v":""},{"$f":"IF(春季入力!D41=\"\",\"\",春季入力!D41)","v":""},{"$f":"IF(春季入力!G41=\"\",\"\",春季入力!G41)","v":""},{"$f":"IF(春季入力!D41=\"\",\"\",春季入力!D41)","v":""},{"$f":"IF(春季入力!G41=\"\",\"\",春季入力!G41)","v":""},"",{"$f":"IF(春季入力!P41=\"\",\"\",春季入力!P41)","v":""},{"$f":"IF(春季入力!E41=\"\",\"\",春季入力!E41)","v":""},{"$f":"IF(E31=\"\",\"\",VLOOKUP($E31,部員名簿!$A$5:$R$103,17,FALSE))","v":""},{"$f":"IF(E31=\"\",\"\",VLOOKUP($E31,部員名簿!$A$5:$R$103,17,FALSE))","v":""},null,{"$f":"IF(E31=\"\",\"\",VLOOKUP($E31,部員名簿!$A$5:$G$103,2,FALSE))","v":""},{"$f":"IF(春季入力!H41=\"\",\"\",春季入力!H41)","v":""},null,"","",{"$f":"IF(春季入力!I41=\"\",\"\",春季入力!I41)","v":""},null,"",""]
[null,{"$f":"IF(E32=\"\",\"\",必ずお読み下さい!$G$10)","v":""},null,null,{"$f":"IF(春季入力!C42=\"\",\"\",春季入力!C42)","v":""},{"$f":"IF(春季入力!D42=\"\",\"\",春季入力!D42)","v":""},{"$f":"IF(春季入力!G42=\"\",\"\",春季入力!G42)","v":""},{"$f":"IF(春季入力!D42=\"\",\"\",春季入力!D42)","v":""},{"$f":"IF(春季入力!G42=\"\",\"\",春季入力!G42)","v":""},"",{"$f":"IF(春季入力!P42=\"\",\"\",春季入力!P42)","v":""},{"$f":"IF(春季入力!E42=\"\",\"\",春季入力!E42)","v":""},{"$f":"IF(E32=\"\",\"\",VLOOKUP($E32,部員名簿!$A$5:$R$103,17,FALSE))","v":""},{"$f":"IF(E32=\"\",\"\",VLOOKUP($E32,部員名簿!$A$5:$R$103,17,FALSE))","v":""},null,{"$f":"IF(E32=\"\",\"\",VLOOKUP($E32,部員名簿!$A$5:$G$103,2,FALSE))","v":""},{"$f":"IF(春季入力!H42=\"\",\"\",春季入力!H42)","v":""},null,"","",{"$f":"IF(春季入力!I42=\"\",\"\",春季入力!I42)","v":""},null,"",""]
[null,{"$f":"IF(E33=\"\",\"\",必ずお読み下さい!$G$10)","v":""},null,null,{"$f":"IF(春季入力!C43=\"\",\"\",春季入力!C43)","v":""},{"$f":"IF(春季入力!D43=\"\",\"\",春季入力!D43)","v":""},{"$f":"IF(春季入力!G43=\"\",\"\",春季入力!G43)","v":""},{"$f":"IF(春季入力!D43=\"\",\"\",春季入力!D43)","v":""},{"$f":"IF(春季入力!G43=\"\",\"\",春季入力!G43)","v":""},"",{"$f":"IF(春季入力!P43=\"\",\"\",春季入力!P43)","v":""},{"$f":"IF(春季入力!E43=\"\",\"\",春季入力!E43)","v":""},{"$f":"IF(E33=\"\",\"\",VLOOKUP($E33,部員名簿!$A$5:$R$103,17,FALSE))","v":""},{"$f":"IF(E33=\"\",\"\",VLOOKUP($E33,部員名簿!$A$5:$R$103,17,FALSE))","v":""},null,{"$f":"IF(E33=\"\",\"\",VLOOKUP($E33,部員名簿!$A$5:$G$103,2,FALSE))","v":""},{"$f":"IF(春季入力!H43=\"\",\"\",春季入力!H43)","v":""},null,"","",{"$f":"IF(春季入力!I43=\"\",\"\",春季入力!I43)","v":""},null,"",""]
[null,{"$f":"IF(E34=\"\",\"\",必ずお読み下さい!$G$10)","v":""},null,null,{"$f":"IF(春季入力!C44=\"\",\"\",春季入力!C44)","v":""},{"$f":"IF(春季入力!D44=\"\",\"\",春季入力!D44)","v":""},{"$f":"IF(春季入力!G44=\"\",\"\",春季入力!G44)","v":""},{"$f":"IF(春季入力!D44=\"\",\"\",春季入力!D44)","v":""},{"$f":"IF(春季入力!G44=\"\",\"\",春季入力!G44)","v":""},"",{"$f":"IF(春季入力!P44=\"\",\"\",春季入力!P44)","v":""},{"$f":"IF(春季入力!E44=\"\",\"\",春季入力!E44)","v":""},{"$f":"IF(E34=\"\",\"\",VLOOKUP($E34,部員名簿!$A$5:$R$103,17,FALSE))","v":""},{"$f":"IF(E34=\"\",\"\",VLOOKUP($E34,部員名簿!$A$5:$R$103,17,FALSE))","v":""},null,{"$f":"IF(E34=\"\",\"\",VLOOKUP($E34,部員名簿!$A$5:$G$103,2,FALSE))","v":""},{"$f":"IF(春季入力!H44=\"\",\"\",春季入力!H44)","v":""},null,"","",{"$f":"IF(春季入力!I44=\"\",\"\",春季入力!I44)","v":""},null,"",""]
[null,{"$f":"IF(E35=\"\",\"\",必ずお読み下さい!$G$10)","v":""},null,null,{"$f":"IF(春季入力!C45=\"\",\"\",春季入力!C45)","v":""},{"$f":"IF(春季入力!D45=\"\",\"\",春季入力!D45)","v":""},{"$f":"IF(春季入力!G45=\"\",\"\",春季入力!G45)","v":""},{"$f":"IF(春季入力!D45=\"\",\"\",春季入力!D45)","v":""},{"$f":"IF(春季入力!G45=\"\",\"\",春季入力!G45)","v":""},"",{"$f":"IF(春季入力!P45=\"\",\"\",春季入力!P45)","v":""},{"$f":"IF(春季入力!E45=\"\",\"\",春季入力!E45)","v":""},{"$f":"IF(E35=\"\",\"\",VLOOKUP($E35,部員名簿!$A$5:$R$103,17,FALSE))","v":""},{"$f":"IF(E35=\"\",\"\",VLOOKUP($E35,部員名簿!$A$5:$R$103,17,FALSE))","v":""},null,{"$f":"IF(E35=\"\",\"\",VLOOKUP($E35,部員名簿!$A$5:$G$103,2,FALSE))","v":""},{"$f":"IF(春季入力!H45=\"\",\"\",春季入力!H45)","v":""},null,"","",{"$f":"IF(春季入力!I45=\"\",\"\",春季入力!I45)","v":""},null,"",""]
[null,{"$f":"IF(E36=\"\",\"\",必ずお読み下さい!$G$10)","v":""},null,null,{"$f":"IF(春季入力!C46=\"\",\"\",春季入力!C46)","v":""},{"$f":"IF(春季入力!D46=\"\",\"\",春季入力!D46)","v":""},{"$f":"IF(春季入力!G46=\"\",\"\",春季入力!G46)","v":""},{"$f":"IF(春季入力!D46=\"\",\"\",春季入力!D46)","v":""},{"$f":"IF(春季入力!G46=\"\",\"\",春季入力!G46)","v":""},"",{"$f":"IF(春季入力!P46=\"\",\"\",春季入力!P46)","v":""},{"$f":"IF(春季入力!E46=\"\",\"\",春季入力!E46)","v":""},{"$f":"IF(E36=\"\",\"\",VLOOKUP($E36,部員名簿!$A$5:$R$103,17,FALSE))","v":""},{"$f":"IF(E36=\"\",\"\",VLOOKUP($E36,部員名簿!$A$5:$R$103,17,FALSE))","v":""},null,{"$f":"IF(E36=\"\",\"\",VLOOKUP($E36,部員名簿!$A$5:$G$103,2,FALSE))","v":""},{"$f":"IF(春季入力!H46=\"\",\"\",春季入力!H46)","v":""},null,"","",{"$f":"IF(春季入力!I46=\"\",\"\",春季入力!I46)","v":""},null,"",""]
[]
[]
[]
["競技者NO","所属コード1","所属コード2","ナンバー","ナンバー2","競技者名","競技者名カナ","競技者名略称","競技者名英字","国籍","性別","学年","生年","月日","個人所属地名","陸連コード","参加競技-競技コード1","参加競技-自己記録1","参加競技-オープン参加FLG1","参加競技-記録FLG1","参加競技-競技コード2","参加競技-自己記録2","参加競技-オープン参加FLG2","参加競技-記録FLG2","参加競技-競技コード3","参加競技-自己記録3","参加競技-オープン参加FLG3","参加競技-記録FLG3","参加競技-競技コード4","参加競技-自己記録4","参加競技-オープン参加FLG4","参加競技-記録FLG4","参加競技-競技コード5","参加競技-自己記録5","参加競技-オープン参加FLG5","参加競技-記録FLG5"]
[null,{"$f":"IF(E41=\"\",\"\",必ずお読み下さい!$G$10)","v":""},null,null,{"$f":"IF(春季入力!C71=\"\",\"\",春季入力!C71)","v":""},{"$f":"IF(春季入力!D71=\"\",\"\",春季入力!D71)","v":""},{"$f":"IF(春季入力!G71=\"\",\"\",春季入力!G71)","v":""},{"$f":"IF(春季入力!D71=\"\",\"\",春季入力!D71)","v":""},{"$f":"IF(春季入力!G71=\"\",\"\",春季入力!G71)","v":""},{"$f":"IF(E41=\"\",\"\",\"JPN\")","v":""},{"$f":"IF(春季入力!P71=\"\",\"\",春季入力!P71)","v":""},{"$f":"IF(春季入力!E71=\"\",\"\",春季入力!E71)","v":""},{"$f":"IF(E41=\"\",\"\",VLOOKUP($E41,部員名簿!$A$5:$R$103,17,FALSE))","v":""},{"$f":"IF(E41=\"\",\"\",VLOOKUP($E41,部員名簿!$A$5:$R$103,17,FALSE))","v":""},null,{"$f":"IF(E41=\"\",\"\",VLOOKUP($E41,部員名簿!$A$5:$G$103,2,FALSE))","v":""},{"$f":"IF(春季入力!H71=\"\",\"\",春季入力!H71)","v":""},null,{"$f":"IF(Q41=\"\",\"\",0)","v":""},{"$f":"IF(Q41=\"\",\"\",0)","v":""},{"$f":"IF(春季入力!I71=\"\",\"\",春季入力!I71)","v":""},null,{"$f":"IF(U41=\"\",\"\",0)","v":""},{"$f":"IF(U41=\"\",\"\",0)","v":""}]
[null,{"$f":"IF(E42=\"\",\"\",必ずお読み下さい!$G$10)","v":""},null,null,{"$f":"IF(春季入力!C72=\"\",\"\",春季入力!C72)","v":""},{"$f":"IF(春季入力!D72=\"\",\"\",春季入力!D72)","v":""},{"$f":"IF(春季入力!G72=\"\",\"\",春季入力!G72)","v":""},{"$f":"IF(春季入力!D72=\"\",\"\",春季入力!D72)","v":""},{"$f":"IF(春季入力!G72=\"\",\"\",春季入力!G72)","v":""},"",{"$f":"IF(春季入力!P72=\"\",\"\",春季入力!P72)","v":""},{"$f":"IF(春季入力!E72=\"\",\"\",春季入力!E72)","v":""},{"$f":"IF(E42=\"\",\"\",VLOOKUP($E42,部員名簿!$A$5:$R$103,17,FALSE))","v":""},{"$f":"IF(E42=\"\",\"\",VLOOKUP($E42,部員名簿!$A$5:$R$103,17,FALSE))","v":""},null,{"$f":"IF(E42=\"\",\"\",VLOOKUP($E42,部員名簿!$A$5:$G$103,2,FALSE))","v":""},{"$f":"IF(春季入力!H72=\"\",\"\",春季入力!H72)","v":""},null,{"$f":"IF(Q42=\"\",\"\",0)","v":""},{"$f":"IF(Q42=\"\",\"\",0)","v":""},{"$f":"IF(春季入力!I72=\"\",\"\",春季入力!I72)","v":""},null,{"$f":"IF(U42=\"\",\"\",0)","v":""},{"$f":"IF(U42=\"\",\"\",0)","v":""}]
[null,{"$f":"IF(E43=\"\",\"\",必ずお読み下さい!$G$10)","v":""},null,null,{"$f":"IF(春季入力!C73=\"\",\"\",春季入力!C73)","v":""},{"$f":"IF(春季入力!D73=\"\",\"\",春季入力!D73)","v":""},{"$f":"IF(春季入力!G73=\"\",\"\",春季入力!G73)","v":""},{"$f":"IF(春季入力!D73=\"\",\"\",春季入力!D73)","v":""},{"$f":"IF(春季入力!G73=\"\",\"\",春季入力!G73)","v":""},"",{"$f":"IF(春季入力!P73=\"\",\"\",春季入力!P73)","v":""},{"$f":"IF(春季入力!E73=\"\",\"\",春季入力!E73)","v":""},{"$f":"IF(E43=\"\",\"\",VLOOKUP($E43,部員名簿!$A$5:$R$103,17,FALSE))","v":""},{"$f":"IF(E43=\"\",\"\",VLOOKUP($E43,部員名簿!$A$5:$R$103,17,FALSE))","v":""},null,{"$f":"IF(E43=\"\",\"\",VLOOKUP($E43,部員名簿!$A$5:$G$103,2,FALSE))","v":""},{"$f":"IF(春季入力!H73=\"\",\"\",春季入力!H73)","v":""},null,"","",{"$f":"IF(春季入力!I73=\"\",\"\",春季入力!I73)","v":""},null,"",""]
[null,{"$f":"IF(E44=\"\",\"\",必ずお読み下さい!$G$10)","v":""},null,null,{"$f":"IF(春季入力!C74=\"\",\"\",春季入力!C74)","v":""},{"$f":"IF(春季入力!D74=\"\",\"\",春季入力!D74)","v":""},{"$f":"IF(春季入力!G74=\"\",\"\",春季入力!G74)","v":""},{"$f":"IF(春季入力!D74=\"\",\"\",春季入力!D74)","v":""},{"$f":"IF(春季入力!G74=\"\",\"\",春季入力!G74)","v":""},"",{"$f":"IF(春季入力!P74=\"\",\"\",春季入力!P74)","v":""},{"$f":"IF(春季入力!E74=\"\",\"\",春季入力!E74)","v":""},{"$f":"IF(E44=\"\",\"\",VLOOKUP($E44,部員名簿!$A$5:$R$103,17,FALSE))","v":""},{"$f":"IF(E44=\"\",\"\",VLOOKUP($E44,部員名簿!$A$5:$R$103,17,FALSE))","v":""},null,{"$f":"IF(E44=\"\",\"\",VLOOKUP($E44,部員名簿!$A$5:$G$103,2,FALSE))","v":""},{"$f":"IF(春季入力!H74=\"\",\"\",春季入力!H74)","v":""},null,"","",{"$f":"IF(春季入力!I74=\"\",\"\",春季入力!I74)","v":""},null,"",""]
[null,{"$f":"IF(E45=\"\",\"\",必ずお読み下さい!$G$10)","v":""},null,null,{"$f":"IF(春季入力!C75=\"\",\"\",春季入力!C75)","v":""},{"$f":"IF(春季入力!D75=\"\",\"\",春季入力!D75)","v":""},{"$f":"IF(春季入力!G75=\"\",\"\",春季入力!G75)","v":""},{"$f":"IF(春季入力!D75=\"\",\"\",春季入力!D75)","v":""},{"$f":"IF(春季入力!G75=\"\",\"\",春季入力!G75)","v":""},"",{"$f":"IF(春季入力!P75=\"\",\"\",春季入力!P75)","v":""},{"$f":"IF(春季入力!E75=\"\",\"\",春季入力!E75)","v":""},{"$f":"IF(E45=\"\",\"\",VLOOKUP($E45,部員名簿!$A$5:$R$103,17,FALSE))","v":""},{"$f":"IF(E45=\"\",\"\",VLOOKUP($E45,部員名簿!$A$5:$R$103,17,FALSE))","v":""},null,{"$f":"IF(E45=\"\",\"\",VLOOKUP($E45,部員名簿!$A$5:$G$103,2,FALSE))","v":""},{"$f":"IF(春季入力!H75=\"\",\"\",春季入力!H75)","v":""},null,"","",{"$f":"IF(春季入力!I75=\"\",\"\",春季入力!I75)","v":""},null,"",""]
[null,{"$f":"IF(E46=\"\",\"\",必ずお読み下さい!$G$10)","v":""},null,null,{"$f":"IF(春季入力!C76=\"\",\"\",春季入力!C76)","v":""},{"$f":"IF(春季入力!D76=\"\",\"\",春季入力!D76)","v":""},{"$f":"IF(春季入力!G76=\"\",\"\",春季入力!G76)","v":""},{"$f":"IF(春季入力!D76=\"\",\"\",春季入力!D76)","v":""},{"$f":"IF(春季入力!G76=\"\",\"\",春季入力!G76)","v":""},"",{"$f":"IF(春季入力!P76=\"\",\"\",春季入力!P76)","v":""},{"$f":"IF(春季入力!E76=\"\",\"\",春季入力!E76)","v":""},{"$f":"IF(E46=\"\",\"\",VLOOKUP($E46,部員名簿!$A$5:$R$103,17,FALSE))","v":""},{"$f":"IF(E46=\"\",\"\",VLOOKUP($E46,部員名簿!$A$5:$R$103,17,FALSE))","v":""},null,{"$f":"IF(E46=\"\",\"\",VLOOKUP($E46,部員名簿!$A$5:$G$103,2,FALSE))","v":""},{"$f":"IF(春季入力!H76=\"\",\"\",春季入力!H76)","v":""},null,"","",{"$f":"IF(春季入力!I76=\"\",\"\",春季入力!I76)","v":""},null,"",""]
[null,{"$f":"IF(E47=\"\",\"\",必ずお読み下さい!$G$10)","v":""},null,null,{"$f":"IF(春季入力!C77=\"\",\"\",春季入力!C77)","v":""},{"$f":"IF(春季入力!D77=\"\",\"\",春季入力!D77)","v":""},{"$f":"IF(春季入力!G77=\"\",\"\",春季入力!G77)","v":""},{"$f":"IF(春季入力!D77=\"\",\"\",春季入力!D77)","v":""},{"$f":"IF(春季入力!G77=\"\",\"\",春季入力!G77)","v":""},"",{"$f":"IF(春季入力!P77=\"\",\"\",春季入力!P77)","v":""},{"$f":"IF(春季入力!E77=\"\",\"\",春季入力!E77)","v":""},{"$f":"IF(E47=\"\",\"\",VLOOKUP($E47,部員名簿!$A$5:$R$103,17,FALSE))","v":""},{"$f":"IF(E47=\"\",\"\",VLOOKUP($E47,部員名簿!$A$5:$R$103,17,FALSE))","v":""},null,{"$f":"IF(E47=\"\",\"\",VLOOKUP($E47,部員名簿!$A$5:$G$103,2,FALSE))","v":""},{"$f":"IF(春季入力!H77=\"\",\"\",春季入力!H77)","v":""},null,"","",{"$f":"IF(春季入力!I77=\"\",\"\",春季入力!I77)","v":""},null,"",""]
[null,{"$f":"IF(E48=\"\",\"\",必ずお読み下さい!$G$10)","v":""},null,null,{"$f":"IF(春季入力!C78=\"\",\"\",春季入力!C78)","v":""},{"$f":"IF(春季入力!D78=\"\",\"\",春季入力!D78)","v":""},{"$f":"IF(春季入力!G78=\"\",\"\",春季入力!G78)","v":""},{"$f":"IF(春季入力!D78=\"\",\"\",春季入力!D78)","v":""},{"$f":"IF(春季入力!G78=\"\",\"\",春季入力!G78)","v":""},"",{"$f":"IF(春季入力!P78=\"\",\"\",春季入力!P78)","v":""},{"$f":"IF(春季入力!E78=\"\",\"\",春季入力!E78)","v":""},{"$f":"IF(E48=\"\",\"\",VLOOKUP($E48,部員名簿!$A$5:$R$103,17,FALSE))","v":""},{"$f":"IF(E48=\"\",\"\",VLOOKUP($E48,部員名簿!$A$5:$R$103,17,FALSE))","v":""},null,{"$f":"IF(E48=\"\",\"\",VLOOKUP($E48,部員名簿!$A$5:$G$103,2,FALSE))","v":""},{"$f":"IF(春季入力!H78=\"\",\"\",春季入力!H78)","v":""},null,"","",{"$f":"IF(春季入力!I78=\"\",\"\",春季入力!I78)","v":""},null,"",""]
[null,{"$f":"IF(E49=\"\",\"\",必ずお読み下さい!$G$10)","v":""},null,null,{"$f":"IF(春季入力!C79=\"\",\"\",春季入力!C79)","v":""},{"$f":"IF(春季入力!D79=\"\",\"\",春季入力!D79)","v":""},{"$f":"IF(春季入力!G79=\"\",\"\",春季入力!G79)","v":""},{"$f":"IF(春季入力!D79=\"\",\"\",春季入力!D79)","v":""},{"$f":"IF(春季入力!G79=\"\",\"\",春季入力!G79)","v":""},"",{"$f":"IF(春季入力!P79=\"\",\"\",春季入力!P79)","v":""},{"$f":"IF(春季入力!E79=\"\",\"\",春季入力!E79)","v":""},{"$f":"IF(E49=\"\",\"\",VLOOKUP($E49,部員名簿!$A$5:$R$103,17,FALSE))","v":""},{"$f":"IF(E49=\"\",\"\",VLOOKUP($E49,部員名簿!$A$5:$R$103,17,FALSE))","v":""},null,{"$f":"IF(E49=\"\",\"\",VLOOKUP($E49,部員名簿!$A$5:$G$103,2,FALSE))","v":""},{"$f":"IF(春季入力!H79=\"\",\"\",春季入力!H79)","v":""},null,"","",{"$f":"IF(春季入力!I79=\"\",\"\",春季入力!I79)","v":""},null,"",""]
[null,{"$f":"IF(E50=\"\",\"\",必ずお読み下さい!$G$10)","v":""},null,null,{"$f":"IF(春季入力!C80=\"\",\"\",春季入力!C80)","v":""},{"$f":"IF(春季入力!D80=\"\",\"\",春季入力!D80)","v":""},{"$f":"IF(春季入力!G80=\"\",\"\",春季入力!G80)","v":""},{"$f":"IF(春季入力!D80=\"\",\"\",春季入力!D80)","v":""},{"$f":"IF(春季入力!G80=\"\",\"\",春季入力!G80)","v":""},"",{"$f":"IF(春季入力!P80=\"\",\"\",春季入力!P80)","v":""},{"$f":"IF(春季入力!E80=\"\",\"\",春季入力!E80)","v":""},{"$f":"IF(E50=\"\",\"\",VLOOKUP($E50,部員名簿!$A$5:$R$103,17,FALSE))","v":""},{"$f":"IF(E50=\"\",\"\",VLOOKUP($E50,部員名簿!$A$5:$R$103,17,FALSE))","v":""},null,{"$f":"IF(E50=\"\",\"\",VLOOKUP($E50,部員名簿!$A$5:$G$103,2,FALSE))","v":""},{"$f":"IF(春季入力!H80=\"\",\"\",春季入力!H80)","v":""},null,"","",{"$f":"IF(春季入力!I80=\"\",\"\",春季入力!I80)","v":""},null,"",""]
[null,{"$f":"IF(E51=\"\",\"\",必ずお読み下さい!$G$10)","v":""},null,null,{"$f":"IF(春季入力!C81=\"\",\"\",春季入力!C81)","v":""},{"$f":"IF(春季入力!D81=\"\",\"\",春季入力!D81)","v":""},{"$f":"IF(春季入力!G81=\"\",\"\",春季入力!G81)","v":""},{"$f":"IF(春季入力!D81=\"\",\"\",春季入力!D81)","v":""},{"$f":"IF(春季入力!G81=\"\",\"\",春季入力!G81)","v":""},"",{"$f":"IF(春季入力!P81=\"\",\"\",春季入力!P81)","v":""},{"$f":"IF(春季入力!E81=\"\",\"\",春季入力!E81)","v":""},{"$f":"IF(E51=\"\",\"\",VLOOKUP($E51,部員名簿!$A$5:$R$103,17,FALSE))","v":""},{"$f":"IF(E51=\"\",\"\",VLOOKUP($E51,部員名簿!$A$5:$R$103,17,FALSE))","v":""},null,{"$f":"IF(E51=\"\",\"\",VLOOKUP($E51,部員名簿!$A$5:$G$103,2,FALSE))","v":""},{"$f":"IF(春季入力!H81=\"\",\"\",春季入力!H81)","v":""},null,"","",{"$f":"IF(春季入力!I81=\"\",\"\",春季入力!I81)","v":""},null,"",""]
[null,{"$f":"IF(E52=\"\",\"\",必ずお読み下さい!$G$10)","v":""},null,null,{"$f":"IF(春季入力!C82=\"\",\"\",春季入力!C82)","v":""},{"$f":"IF(春季入力!D82=\"\",\"\",春季入力!D82)","v":""},{"$f":"IF(春季入力!G82=\"\",\"\",春季入力!G82)","v":""},{"$f":"IF(春季入力!D82=\"\",\"\",春季入力!D82)","v":""},{"$f":"IF(春季入力!G82=\"\",\"\",春季入力!G82)","v":""},"",{"$f":"IF(春季入力!P82=\"\",\"\",春季入力!P82)","v":""},{"$f":"IF(春季入力!E82=\"\",\"\",春季入力!E82)","v":""},{"$f":"IF(E52=\"\",\"\",VLOOKUP($E52,部員名簿!$A$5:$R$103,17,FALSE))","v":""},{"$f":"IF(E52=\"\",\"\",VLOOKUP($E52,部員名簿!$A$5:$R$103,17,FALSE))","v":""},null,{"$f":"IF(E52=\"\",\"\",VLOOKUP($E52,部員名簿!$A$5:$G$103,2,FALSE))","v":""},{"$f":"IF(春季入力!H82=\"\",\"\",春季入力!H82)","v":""},null,"","",{"$f":"IF(春季入力!I82=\"\",\"\",春季入力!I82)","v":""},null,"",""]
[null,{"$f":"IF(E53=\"\",\"\",必ずお読み下さい!$G$10)","v":""},null,null,{"$f":"IF(春季入力!C83=\"\",\"\",春季入力!C83)","v":""},{"$f":"IF(春季入力!D83=\"\",\"\",春季入力!D83)","v":""},{"$f":"IF(春季入力!G83=\"\",\"\",春季入力!G83)","v":""},{"$f":"IF(春季入力!D83=\"\",\"\",春季入力!D83)","v":""},{"$f":"IF(春季入力!G83=\"\",\"\",春季入力!G83)","v":""},"",{"$f":"IF(春季入力!P83=\"\",\"\",春季入力!P83)","v":""},{"$f":"IF(春季入力!E83=\"\",\"\",春季入力!E83)","v":""},{"$f":"IF(E53=\"\",\"\",VLOOKUP($E53,部員名簿!$A$5:$R$103,17,FALSE))","v":""},{"$f":"IF(E53=\"\",\"\",VLOOKUP($E53,部員名簿!$A$5:$R$103,17,FALSE))","v":""},null,{"$f":"IF(E53=\"\",\"\",VLOOKUP($E53,部員名簿!$A$5:$G$103,2,FALSE))","v":""},{"$f":"IF(春季入力!H83=\"\",\"\",春季入力!H83)","v":""},null,"","",{"$f":"IF(春季入力!I83=\"\",\"\",春季入力!I83)","v":""},null,"",""]
[null,{"$f":"IF(E54=\"\",\"\",必ずお読み下さい!$G$10)","v":""},null,null,{"$f":"IF(春季入力!C84=\"\",\"\",春季入力!C84)","v":""},{"$f":"IF(春季入力!D84=\"\",\"\",春季入力!D84)","v":""},{"$f":"IF(春季入力!G84=\"\",\"\",春季入力!G84)","v":""},{"$f":"IF(春季入力!D84=\"\",\"\",春季入力!D84)","v":""},{"$f":"IF(春季入力!G84=\"\",\"\",春季入力!G84)","v":""},"",{"$f":"IF(春季入力!P84=\"\",\"\",春季入力!P84)","v":""},{"$f":"IF(春季入力!E84=\"\",\"\",春季入力!E84)","v":""},{"$f":"IF(E54=\"\",\"\",VLOOKUP($E54,部員名簿!$A$5:$R$103,17,FALSE))","v":""},{"$f":"IF(E54=\"\",\"\",VLOOKUP($E54,部員名簿!$A$5:$R$103,17,FALSE))","v":""},null,{"$f":"IF(E54=\"\",\"\",VLOOKUP($E54,部員名簿!$A$5:$G$103,2,FALSE))","v":""},{"$f":"IF(春季入力!H84=\"\",\"\",春季入力!H84)","v":""},null,"","",{"$f":"IF(春季入力!I84=\"\",\"\",春季入力!I84)","v":""},null,"",""]
[null,{"$f":"IF(E55=\"\",\"\",必ずお読み下さい!$G$10)","v":""},null,null,{"$f":"IF(春季入力!C85=\"\",\"\",春季入力!C85)","v":""},{"$f":"IF(春季入力!D85=\"\",\"\",春季入力!D85)","v":""},{"$f":"IF(春季入力!G85=\"\",\"\",春季入力!G85)","v":""},{"$f":"IF(春季入力!D85=\"\",\"\",春季入力!D85)","v":""},{"$f":"IF(春季入力!G85=\"\",\"\",春季入力!G85)","v":""},"",{"$f":"IF(春季入力!P85=\"\",\"\",春季入力!P85)","v":""},{"$f":"IF(春季入力!E85=\"\",\"\",春季入力!E85)","v":""},{"$f":"IF(E55=\"\",\"\",VLOOKUP($E55,部員名簿!$A$5:$R$103,17,FALSE))","v":""},{"$f":"IF(E55=\"\",\"\",VLOOKUP($E55,部員名簿!$A$5:$R$103,17,FALSE))","v":""},null,{"$f":"IF(E55=\"\",\"\",VLOOKUP($E55,部員名簿!$A$5:$G$103,2,FALSE))","v":""},{"$f":"IF(春季入力!H85=\"\",\"\",春季入力!H85)","v":""},null,"","",{"$f":"IF(春季入力!I85=\"\",\"\",春季入力!I85)","v":""},null,"",""]
[null,{"$f":"IF(E56=\"\",\"\",必ずお読み下さい!$G$10)","v":""},null,null,{"$f":"IF(春季入力!C86=\"\",\"\",春季入力!C86)","v":""},{"$f":"IF(春季入力!D86=\"\",\"\",春季入力!D86)","v":""},{"$f":"IF(春季入力!G86=\"\",\"\",春季入力!G86)","v":""},{"$f":"IF(春季入力!D86=\"\",\"\",春季入力!D86)","v":""},{"$f":"IF(春季入力!G86=\"\",\"\",春季入力!G86)","v":""},"",{"$f":"IF(春季入力!P86=\"\",\"\",春季入力!P86)","v":""},{"$f":"IF(春季入力!E86=\"\",\"\",春季入力!E86)","v":""},{"$f":"IF(E56=\"\",\"\",VLOOKUP($E56,部員名簿!$A$5:$R$103,17,FALSE))","v":""},{"$f":"IF(E56=\"\",\"\",VLOOKUP($E56,部員名簿!$A$5:$R$103,17,FALSE))","v":""},null,{"$f":"IF(E56=\"\",\"\",VLOOKUP($E56,部員名簿!$A$5:$G$103,2,FALSE))","v":""},{"$f":"IF(春季入力!H86=\"\",\"\",春季入力!H86)","v":""},null,"","",{"$f":"IF(春季入力!I86=\"\",\"\",春季入力!I86)","v":""},null,"",""]
[null,{"$f":"IF(E57=\"\",\"\",必ずお読み下さい!$G$10)","v":""},null,null,{"$f":"IF(春季入力!C87=\"\",\"\",春季入力!C87)","v":""},{"$f":"IF(春季入力!D87=\"\",\"\",春季入力!D87)","v":""},{"$f":"IF(春季入力!G87=\"\",\"\",春季入力!G87)","v":""},{"$f":"IF(春季入力!D87=\"\",\"\",春季入力!D87)","v":""},{"$f":"IF(春季入力!G87=\"\",\"\",春季入力!G87)","v":""},"",{"$f":"IF(春季入力!P87=\"\",\"\",春季入力!P87)","v":""},{"$f":"IF(春季入力!E87=\"\",\"\",春季入力!E87)","v":""},{"$f":"IF(E57=\"\",\"\",VLOOKUP($E57,部員名簿!$A$5:$R$103,17,FALSE))","v":""},{"$f":"IF(E57=\"\",\"\",VLOOKUP($E57,部員名簿!$A$5:$R$103,17,FALSE))","v":""},null,{"$f":"IF(E57=\"\",\"\",VLOOKUP($E57,部員名簿!$A$5:$G$103,2,FALSE))","v":""},{"$f":"IF(春季入力!H87=\"\",\"\",春季入力!H87)","v":""},null,"","",{"$f":"IF(春季入力!I87=\"\",\"\",春季入力!I87)","v":""},null,"",""]
[null,{"$f":"IF(E58=\"\",\"\",必ずお読み下さい!$G$10)","v":""},null,null,{"$f":"IF(春季入力!C88=\"\",\"\",春季入力!C88)","v":""},{"$f":"IF(春季入力!D88=\"\",\"\",春季入力!D88)","v":""},{"$f":"IF(春季入力!G88=\"\",\"\",春季入力!G88)","v":""},{"$f":"IF(春季入力!D88=\"\",\"\",春季入力!D88)","v":""},{"$f":"IF(春季入力!G88=\"\",\"\",春季入力!G88)","v":""},"",{"$f":"IF(春季入力!P88=\"\",\"\",春季入力!P88)","v":""},{"$f":"IF(春季入力!E88=\"\",\"\",春季入力!E88)","v":""},{"$f":"IF(E58=\"\",\"\",VLOOKUP($E58,部員名簿!$A$5:$R$103,17,FALSE))","v":""},{"$f":"IF(E58=\"\",\"\",VLOOKUP($E58,部員名簿!$A$5:$R$103,17,FALSE))","v":""},null,{"$f":"IF(E58=\"\",\"\",VLOOKUP($E58,部員名簿!$A$5:$G$103,2,FALSE))","v":""},{"$f":"IF(春季入力!H88=\"\",\"\",春季入力!H88)","v":""},null,"","",{"$f":"IF(春季入力!I88=\"\",\"\",春季入力!I88)","v":""},null,"",""]
[null,{"$f":"IF(E59=\"\",\"\",必ずお読み下さい!$G$10)","v":""},null,null,{"$f":"IF(春季入力!C89=\"\",\"\",春季入力!C89)","v":""},{"$f":"IF(春季入力!D89=\"\",\"\",春季入力!D89)","v":""},{"$f":"IF(春季入力!G89=\"\",\"\",春季入力!G89)","v":""},{"$f":"IF(春季入力!D89=\"\",\"\",春季入力!D89)","v":""},{"$f":"IF(春季入力!G89=\"\",\"\",春季入力!G89)","v":""},"",{"$f":"IF(春季入力!P89=\"\",\"\",春季入力!P89)","v":""},{"$f":"IF(春季入力!E89=\"\",\"\",春季入力!E89)","v":""},{"$f":"IF(E59=\"\",\"\",VLOOKUP($E59,部員名簿!$A$5:$R$103,17,FALSE))","v":""},{"$f":"IF(E59=\"\",\"\",VLOOKUP($E59,部員名簿!$A$5:$R$103,17,FALSE))","v":""},null,{"$f":"IF(E59=\"\",\"\",VLOOKUP($E59,部員名簿!$A$5:$G$103,2,FALSE))","v":""},{"$f":"IF(春季入力!H89=\"\",\"\",春季入力!H89)","v":""},null,"","",{"$f":"IF(春季入力!I89=\"\",\"\",春季入力!I89)","v":""},null,"",""]
[null,{"$f":"IF(E60=\"\",\"\",必ずお読み下さい!$G$10)","v":""},null,null,{"$f":"IF(春季入力!C90=\"\",\"\",春季入力!C90)","v":""},{"$f":"IF(春季入力!D90=\"\",\"\",春季入力!D90)","v":""},{"$f":"IF(春季入力!G90=\"\",\"\",春季入力!G90)","v":""},{"$f":"IF(春季入力!D90=\"\",\"\",春季入力!D90)","v":""},{"$f":"IF(春季入力!G90=\"\",\"\",春季入力!G90)","v":""},"",{"$f":"IF(春季入力!P90=\"\",\"\",春季入力!P90)","v":""},{"$f":"IF(春季入力!E90=\"\",\"\",春季入力!E90)","v":""},{"$f":"IF(E60=\"\",\"\",VLOOKUP($E60,部員名簿!$A$5:$R$103,17,FALSE))","v":""},{"$f":"IF(E60=\"\",\"\",VLOOKUP($E60,部員名簿!$A$5:$R$103,17,FALSE))","v":""},null,{"$f":"IF(E60=\"\",\"\",VLOOKUP($E60,部員名簿!$A$5:$G$103,2,FALSE))","v":""},{"$f":"IF(春季入力!H90=\"\",\"\",春季入力!H90)","v":""},null,"","",{"$f":"IF(春季入力!I90=\"\",\"\",春季入力!I90)","v":""},null,"",""]
[null,{"$f":"IF(E61=\"\",\"\",必ずお読み下さい!$G$10)","v":""},null,null,{"$f":"IF(春季入力!C91=\"\",\"\",春季入力!C91)","v":""},{"$f":"IF(春季入力!D91=\"\",\"\",春季入力!D91)","v":""},{"$f":"IF(春季入力!G91=\"\",\"\",春季入力!G91)","v":""},{"$f":"IF(春季入力!D91=\"\",\"\",春季入力!D91)","v":""},{"$f":"IF(春季入力!G91=\"\",\"\",春季入力!G91)","v":""},"",{"$f":"IF(春季入力!P91=\"\",\"\",春季入力!P91)","v":""},{"$f":"IF(春季入力!E91=\"\",\"\",春季入力!E91)","v":""},{"$f":"IF(E61=\"\",\"\",VLOOKUP($E61,部員名簿!$A$5:$R$103,17,FALSE))","v":""},{"$f":"IF(E61=\"\",\"\",VLOOKUP($E61,部員名簿!$A$5:$R$103,17,FALSE))","v":""},null,{"$f":"IF(E61=\"\",\"\",VLOOKUP($E61,部員名簿!$A$5:$G$103,2,FALSE))","v":""},{"$f":"IF(春季入力!H91=\"\",\"\",春季入力!H91)","v":""},null,"","",{"$f":"IF(春季入力!I91=\"\",\"\",春季入力!I91)","v":""},null,"",""]
[null,{"$f":"IF(E62=\"\",\"\",必ずお読み下さい!$G$10)","v":""},null,null,{"$f":"IF(春季入力!C92=\"\",\"\",春季入力!C92)","v":""},{"$f":"IF(春季入力!D92=\"\",\"\",春季入力!D92)","v":""},{"$f":"IF(春季入力!G92=\"\",\"\",春季入力!G92)","v":""},{"$f":"IF(春季入力!D92=\"\",\"\",春季入力!D92)","v":""},{"$f":"IF(春季入力!G92=\"\",\"\",春季入力!G92)","v":""},"",{"$f":"IF(春季入力!P92=\"\",\"\",春季入力!P92)","v":""},{"$f":"IF(春季入力!E92=\"\",\"\",春季入力!E92)","v":""},{"$f":"IF(E62=\"\",\"\",VLOOKUP($E62,部員名簿!$A$5:$R$103,17,FALSE))","v":""},{"$f":"IF(E62=\"\",\"\",VLOOKUP($E62,部員名簿!$A$5:$R$103,17,FALSE))","v":""},null,{"$f":"IF(E62=\"\",\"\",VLOOKUP($E62,部員名簿!$A$5:$G$103,2,FALSE))","v":""},{"$f":"IF(春季入力!H92=\"\",\"\",春季入力!H92)","v":""},null,"","",{"$f":"IF(春季入力!I92=\"\",\"\",春季入力!I92)","v":""},null,"",""]
[null,{"$f":"IF(E63=\"\",\"\",必ずお読み下さい!$G$10)","v":""},null,null,{"$f":"IF(春季入力!C93=\"\",\"\",春季入力!C93)","v":""},{"$f":"IF(春季入力!D93=\"\",\"\",春季入力!D93)","v":""},{"$f":"IF(春季入力!G93=\"\",\"\",春季入力!G93)","v":""},{"$f":"IF(春季入力!D93=\"\",\"\",春季入力!D93)","v":""},{"$f":"IF(春季入力!G93=\"\",\"\",春季入力!G93)","v":""},"",{"$f":"IF(春季入力!P93=\"\",\"\",春季入力!P93)","v":""},{"$f":"IF(春季入力!E93=\"\",\"\",春季入力!E93)","v":""},{"$f":"IF(E63=\"\",\"\",VLOOKUP($E63,部員名簿!$A$5:$R$103,17,FALSE))","v":""},{"$f":"IF(E63=\"\",\"\",VLOOKUP($E63,部員名簿!$A$5:$R$103,17,FALSE))","v":""},null,{"$f":"IF(E63=\"\",\"\",VLOOKUP($E63,部員名簿!$A$5:$G$103,2,FALSE))","v":""},{"$f":"IF(春季入力!H93=\"\",\"\",春季入力!H93)","v":""},null,"","",{"$f":"IF(春季入力!I93=\"\",\"\",春季入力!I93)","v":""},null,"",""]
[null,{"$f":"IF(E64=\"\",\"\",必ずお読み下さい!$G$10)","v":""},null,null,{"$f":"IF(春季入力!C94=\"\",\"\",春季入力!C94)","v":""},{"$f":"IF(春季入力!D94=\"\",\"\",春季入力!D94)","v":""},{"$f":"IF(春季入力!G94=\"\",\"\",春季入力!G94)","v":""},{"$f":"IF(春季入力!D94=\"\",\"\",春季入力!D94)","v":""},{"$f":"IF(春季入力!G94=\"\",\"\",春季入力!G94)","v":""},"",{"$f":"IF(春季入力!P94=\"\",\"\",春季入力!P94)","v":""},{"$f":"IF(春季入力!E94=\"\",\"\",春季入力!E94)","v":""},{"$f":"IF(E64=\"\",\"\",VLOOKUP($E64,部員名簿!$A$5:$R$103,17,FALSE))","v":""},{"$f":"IF(E64=\"\",\"\",VLOOKUP($E64,部員名簿!$A$5:$R$103,17,FALSE))","v":""},null,{"$f":"IF(E64=\"\",\"\",VLOOKUP($E64,部員名簿!$A$5:$G$103,2,FALSE))","v":""},{"$f":"IF(春季入力!H94=\"\",\"\",春季入力!H94)","v":""},null,"","",{"$f":"IF(春季入力!I94=\"\",\"\",春季入力!I94)","v":""},null,"",""]
[null,{"$f":"IF(E65=\"\",\"\",必ずお読み下さい!$G$10)","v":""},null,null,{"$f":"IF(春季入力!C95=\"\",\"\",春季入力!C95)","v":""},{"$f":"IF(春季入力!D95=\"\",\"\",春季入力!D95)","v":""},{"$f":"IF(春季入力!G95=\"\",\"\",春季入力!G95)","v":""},{"$f":"IF(春季入力!D95=\"\",\"\",春季入力!D95)","v":""},{"$f":"IF(春季入力!G95=\"\",\"\",春季入力!G95)","v":""},"",{"$f":"IF(春季入力!P95=\"\",\"\",春季入力!P95)","v":""},{"$f":"IF(春季入力!E95=\"\",\"\",春季入力!E95)","v":""},{"$f":"IF(E65=\"\",\"\",VLOOKUP($E65,部員名簿!$A$5:$R$103,17,FALSE))","v":""},{"$f":"IF(E65=\"\",\"\",VLOOKUP($E65,部員名簿!$A$5:$R$103,17,FALSE))","v":""},null,{"$f":"IF(E65=\"\",\"\",VLOOKUP($E65,部員名簿!$A$5:$G$103,2,FALSE))","v":""},{"$f":"IF(春季入力!H95=\"\",\"\",春季入力!H95)","v":""},null,"","",{"$f":"IF(春季入力!I95=\"\",\"\",春季入力!I95)","v":""},null,"",""]
[null,{"$f":"IF(E66=\"\",\"\",必ずお読み下さい!$G$10)","v":""},null,null,{"$f":"IF(春季入力!C96=\"\",\"\",春季入力!C96)","v":""},{"$f":"IF(春季入力!D96=\"\",\"\",春季入力!D96)","v":""},{"$f":"IF(春季入力!G96=\"\",\"\",春季入力!G96)","v":""},{"$f":"IF(春季入力!D96=\"\",\"\",春季入力!D96)","v":""},{"$f":"IF(春季入力!G96=\"\",\"\",春季入力!G96)","v":""},"",{"$f":"IF(春季入力!P96=\"\",\"\",春季入力!P96)","v":""},{"$f":"IF(春季入力!E96=\"\",\"\",春季入力!E96)","v":""},{"$f":"IF(E66=\"\",\"\",VLOOKUP($E66,部員名簿!$A$5:$R$103,17,FALSE))","v":""},{"$f":"IF(E66=\"\",\"\",VLOOKUP($E66,部員名簿!$A$5:$R$103,17,FALSE))","v":""},null,{"$f":"IF(E66=\"\",\"\",VLOOKUP($E66,部員名簿!$A$5:$G$103,2,FALSE))","v":""},{"$f":"IF(春季入力!H96=\"\",\"\",春季入力!H96)","v":""},null,"","",{"$f":"IF(春季入力!I96=\"\",\"\",春季入力!I96)","v":""},null,"",""]
[null,{"$f":"IF(E67=\"\",\"\",必ずお読み下さい!$G$10)","v":""},null,null,{"$f":"IF(春季入力!C97=\"\",\"\",春季入力!C97)","v":""},{"$f":"IF(春季入力!D97=\"\",\"\",春季入力!D97)","v":""},{"$f":"IF(春季入力!G97=\"\",\"\",春季入力!G97)","v":""},{"$f":"IF(春季入力!D97=\"\",\"\",春季入力!D97)","v":""},{"$f":"IF(春季入力!G97=\"\",\"\",春季入力!G97)","v":""},"",{"$f":"IF(春季入力!P97=\"\",\"\",春季入力!P97)","v":""},{"$f":"IF(春季入力!E97=\"\",\"\",春季入力!E97)","v":""},{"$f":"IF(E67=\"\",\"\",VLOOKUP($E67,部員名簿!$A$5:$R$103,17,FALSE))","v":""},{"$f":"IF(E67=\"\",\"\",VLOOKUP($E67,部員名簿!$A$5:$R$103,17,FALSE))","v":""},null,{"$f":"IF(E67=\"\",\"\",VLOOKUP($E67,部員名簿!$A$5:$G$103,2,FALSE))","v":""},{"$f":"IF(春季入力!H97=\"\",\"\",春季入力!H97)","v":""},null,"","",{"$f":"IF(春季入力!I97=\"\",\"\",春季入力!I97)","v":""},null,"",""]
[null,{"$f":"IF(E68=\"\",\"\",必ずお読み下さい!$G$10)","v":""},null,null,{"$f":"IF(春季入力!C98=\"\",\"\",春季入力!C98)","v":""},{"$f":"IF(春季入力!D98=\"\",\"\",春季入力!D98)","v":""},{"$f":"IF(春季入力!G98=\"\",\"\",春季入力!G98)","v":""},{"$f":"IF(春季入力!D98=\"\",\"\",春季入力!D98)","v":""},{"$f":"IF(春季入力!G98=\"\",\"\",春季入力!G98)","v":""},"",{"$f":"IF(春季入力!P98=\"\",\"\",春季入力!P98)","v":""},{"$f":"IF(春季入力!E98=\"\",\"\",春季入力!E98)","v":""},{"$f":"IF(E68=\"\",\"\",VLOOKUP($E68,部員名簿!$A$5:$R$103,17,FALSE))","v":""},{"$f":"IF(E68=\"\",\"\",VLOOKUP($E68,部員名簿!$A$5:$R$103,17,FALSE))","v":""},null,{"$f":"IF(E68=\"\",\"\",VLOOKUP($E68,部員名簿!$A$5:$G$103,2,FALSE))","v":""},{"$f":"IF(春季入力!H98=\"\",\"\",春季入力!H98)","v":""},null,"","",{"$f":"IF(春季入力!I98=\"\",\"\",春季入力!I98)","v":""},null,"",""]
[null,{"$f":"IF(E69=\"\",\"\",必ずお読み下さい!$G$10)","v":""},null,null,{"$f":"IF(春季入力!C99=\"\",\"\",春季入力!C99)","v":""},{"$f":"IF(春季入力!D99=\"\",\"\",春季入力!D99)","v":""},{"$f":"IF(春季入力!G99=\"\",\"\",春季入力!G99)","v":""},{"$f":"IF(春季入力!D99=\"\",\"\",春季入力!D99)","v":""},{"$f":"IF(春季入力!G99=\"\",\"\",春季入力!G99)","v":""},"",{"$f":"IF(春季入力!P99=\"\",\"\",春季入力!P99)","v":""},{"$f":"IF(春季入力!E99=\"\",\"\",春季入力!E99)","v":""},{"$f":"IF(E69=\"\",\"\",VLOOKUP($E69,部員名簿!$A$5:$R$103,17,FALSE))","v":""},{"$f":"IF(E69=\"\",\"\",VLOOKUP($E69,部員名簿!$A$5:$R$103,17,FALSE))","v":""},null,{"$f":"IF(E69=\"\",\"\",VLOOKUP($E69,部員名簿!$A$5:$G$103,2,FALSE))","v":""},{"$f":"IF(春季入力!H99=\"\",\"\",春季入力!H99)","v":""},null,"","",{"$f":"IF(春季入力!I99=\"\",\"\",春季入力!I99)","v":""},null,"",""]
[null,{"$f":"IF(E70=\"\",\"\",必ずお読み下さい!$G$10)","v":""},null,null,{"$f":"IF(春季入力!C100=\"\",\"\",春季入力!C100)","v":""},{"$f":"IF(春季入力!D100=\"\",\"\",春季入力!D100)","v":""},{"$f":"IF(春季入力!G100=\"\",\"\",春季入力!G100)","v":""},{"$f":"IF(春季入力!D100=\"\",\"\",春季入力!D100)","v":""},{"$f":"IF(春季入力!G100=\"\",\"\",春季入力!G100)","v":""},"",{"$f":"IF(春季入力!P100=\"\",\"\",春季入力!P100)","v":""},{"$f":"IF(春季入力!E100=\"\",\"\",春季入力!E100)","v":""},{"$f":"IF(E70=\"\",\"\",VLOOKUP($E70,部員名簿!$A$5:$R$103,17,FALSE))","v":""},{"$f":"IF(E70=\"\",\"\",VLOOKUP($E70,部員名簿!$A$5:$R$103,17,FALSE))","v":""},null,{"$f":"IF(E70=\"\",\"\",VLOOKUP($E70,部員名簿!$A$5:$G$103,2,FALSE))","v":""},{"$f":"IF(春季入力!H100=\"\",\"\",春季入力!H100)","v":""},null,"","",{"$f":"IF(春季入力!I100=\"\",\"\",春季入力!I100)","v":""},null,"",""]

{"sheet":"競技者マスタ（上陸）","index":10,"n_rows":37,"n_cols":21,"rows_kept":37,"cut":false,"hidden":false,"merged":[]}
["男子",null,null,null,null,null,null,"女子"]
["ナンバー","競技者名","競技者名（カナ）","学年","所属","所属（カナ）",null,"ナンバー","競技者名","競技者名（カナ）","学年","所属","所属（カナ）",null,null,1,"秋田東",740,"秋田市立秋田東中学校","東","ﾋｶﾞｼ"]
[{"$f":"IF(春季入力!C12=\"\",\"\",春季入力!C12)","v":""},{"$f":"IF(春季入力!D12=\"\",\"\",春季入力!D12)","v":""},{"$f":"IF(春季入力!G12=\"\",\"\",春季入力!G12)","v":""},{"$f":"IF(春季入力!E12=\"\",\"\",春季入力!E12)","v":""},{"$f":"IF(春季入力!B12=\"\",\"\",春季入力!B12)","v":""},{"$f":"IF(E3=\"\",\"\",VLOOKUP(E3,$T$2:$U$34,2,FALSE))","v":""},null,{"$f":"IF(春季入力!C71=\"\",\"\",春季入力!C71)","v":""},{"$f":"IF(春季入力!D71=\"\",\"\",春季入力!D71)","v":""},{"$f":"IF(春季入力!G71=\"\",\"\",春季入力!G71)","v":""},{"$f":"IF(春季入力!E71=\"\",\"\",春季入力!E71)","v":""},{"$f":"IF(春季入力!B71=\"\",\"\",春季入力!B71)","v":""},{"$f":"IF(L3=\"\",\"\",VLOOKUP(L3,$T$2:$U$33,2,FALSE))","v":""},null,null,2,"秋田南",741,"秋田市立秋田南中学校","南","ﾐﾅﾐ"]
[{"$f":"IF(春季入力!C13=\"\",\"\",春季入力!C13)","v":""},{"$f":"IF(春季入力!D13=\"\",\"\",春季入力!D13)","v":""},{"$f":"IF(春季入力!G13=\"\",\"\",春季入力!G13)","v":""},{"$f":"IF(春季入力!E13=\"\",\"\",春季入力!E13)","v":""},{"$f":"IF(春季入力!B13=\"\",\"\",春季入力!B13)","v":""},{"$f":"IF(E4=\"\",\"\",VLOOKUP(E4,$T$2:$U$34,2,FALSE))","v":""},null,{"$f":"IF(春季入力!C72=\"\",\"\",春季入力!C72)","v":""},{"$f":"IF(春季入力!D72=\"\",\"\",春季入力!D72)","v":""},{"$f":"IF(春季入力!G72=\"\",\"\",春季入力!G72)","v":""},{"$f":"IF(春季入力!E72=\"\",\"\",春季入力!E72)","v":""},{"$f":"IF(春季入力!B72=\"\",\"\",春季入力!B72)","v":""},{"$f":"IF(L4=\"\",\"\",VLOOKUP(L4,$T$2:$U$33,2,FALSE))","v":""},null,null,3,"山王",742,"秋田市立山王中学校","山王","ｻﾝﾉｳ"]
[{"$f":"IF(春季入力!C14=\"\",\"\",春季入力!C14)","v":""},{"$f":"IF(春季入力!D14=\"\",\"\",春季入力!D14)","v":""},{"$f":"IF(春季入力!G14=\"\",\"\",春季入力!G14)","v":""},{"$f":"IF(春季入力!E14=\"\",\"\",春季入力!E14)","v":""},{"$f":"IF(春季入力!B14=\"\",\"\",春季入力!B14)","v":""},"",null,{"$f":"IF(春季入力!C73=\"\",\"\",春季入力!C73)","v":""},{"$f":"IF(春季入力!D73=\"\",\"\",春季入力!D73)","v":""},{"$f":"IF(春季入力!G73=\"\",\"\",春季入力!G73)","v":""},{"$f":"IF(春季入力!E73=\"\",\"\",春季入力!E73)","v":""},{"$f":"IF(春季入力!B73=\"\",\"\",春季入力!B73)","v":""},"",null,null,4,"土崎",743,"秋田市立土崎中学校","土崎","ﾂﾁｻﾞｷ"]
[{"$f":"IF(春季入力!C15=\"\",\"\",春季入力!C15)","v":""},{"$f":"IF(春季入力!D15=\"\",\"\",春季入力!D15)","v":""},{"$f":"IF(春季入力!G15=\"\",\"\",春季入力!G15)","v":""},{"$f":"IF(春季入力!E15=\"\",\"\",春季入力!E15)","v":""},{"$f":"IF(春季入力!B15=\"\",\"\",春季入力!B15)","v":""},"",null,{"$f":"IF(春季入力!C74=\"\",\"\",春季入力!C74)","v":""},{"$f":"IF(春季入力!D74=\"\",\"\",春季入力!D74)","v":""},{"$f":"IF(春季入力!G74=\"\",\"\",春季入力!G74)","v":""},{"$f":"IF(春季入力!E74=\"\",\"\",春季入力!E74)","v":""},{"$f":"IF(春季入力!B74=\"\",\"\",春季入力!B74)","v":""},"",null,null,5,"将軍野",744,"秋田市立将軍野中学校","将軍野","ｼｮｳｸﾞﾝﾉ"]
[{"$f":"IF(春季入力!C16=\"\",\"\",春季入力!C16)","v":""},{"$f":"IF(春季入力!D16=\"\",\"\",春季入力!D16)","v":""},{"$f":"IF(春季入力!G16=\"\",\"\",春季入力!G16)","v":""},{"$f":"IF(春季入力!E16=\"\",\"\",春季入力!E16)","v":""},{"$f":"IF(春季入力!B16=\"\",\"\",春季入力!B16)","v":""},"",null,{"$f":"IF(春季入力!C75=\"\",\"\",春季入力!C75)","v":""},{"$f":"IF(春季入力!D75=\"\",\"\",春季入力!D75)","v":""},{"$f":"IF(春季入力!G75=\"\",\"\",春季入力!G75)","v":""},{"$f":"IF(春季入力!E75=\"\",\"\",春季入力!E75)","v":""},{"$f":"IF(春季入力!B75=\"\",\"\",春季入力!B75)","v":""},"",null,null,6,"秋田西",745,"秋田市立秋田西中学校","西","ﾆｼ"]
[{"$f":"IF(春季入力!C17=\"\",\"\",春季入力!C17)","v":""},{"$f":"IF(春季入力!D17=\"\",\"\",春季入力!D17)","v":""},{"$f":"IF(春季入力!G17=\"\",\"\",春季入力!G17)","v":""},{"$f":"IF(春季入力!E17=\"\",\"\",春季入力!E17)","v":""},{"$f":"IF(春季入力!B17=\"\",\"\",春季入力!B17)","v":""},"",null,{"$f":"IF(春季入力!C76=\"\",\"\",春季入力!C76)","v":""},{"$f":"IF(春季入力!D76=\"\",\"\",春季入力!D76)","v":""},{"$f":"IF(春季入力!G76=\"\",\"\",春季入力!G76)","v":""},{"$f":"IF(春季入力!E76=\"\",\"\",春季入力!E76)","v":""},{"$f":"IF(春季入力!B76=\"\",\"\",春季入力!B76)","v":""},"",null,null,7,"太平",746,"秋田市立太平中学校","太平","ﾀｲﾍｲ"]
[{"$f":"IF(春季入力!C18=\"\",\"\",春季入力!C18)","v":""},{"$f":"IF(春季入力!D18=\"\",\"\",春季入力!D18)","v":""},{"$f":"IF(春季入力!G18=\"\",\"\",春季入力!G18)","v":""},{"$f":"IF(春季入力!E18=\"\",\"\",春季入力!E18)","v":""},{"$f":"IF(春季入力!B18=\"\",\"\",春季入力!B18)","v":""},"",null,{"$f":"IF(春季入力!C77=\"\",\"\",春季入力!C77)","v":""},{"$f":"IF(春季入力!D77=\"\",\"\",春季入力!D77)","v":""},{"$f":"IF(春季入力!G77=\"\",\"\",春季入力!G77)","v":""},{"$f":"IF(春季入力!E77=\"\",\"\",春季入力!E77)","v":""},{"$f":"IF(春季入力!B77=\"\",\"\",春季入力!B77)","v":""},"",null,null,8,"外旭川",747,"秋田市立外旭川中学校","外旭川","ｿﾄｱｻﾋｶﾜ"]
[{"$f":"IF(春季入力!C19=\"\",\"\",春季入力!C19)","v":""},{"$f":"IF(春季入力!D19=\"\",\"\",春季入力!D19)","v":""},{"$f":"IF(春季入力!G19=\"\",\"\",春季入力!G19)","v":""},{"$f":"IF(春季入力!E19=\"\",\"\",春季入力!E19)","v":""},{"$f":"IF(春季入力!B19=\"\",\"\",春季入力!B19)","v":""},"",null,{"$f":"IF(春季入力!C78=\"\",\"\",春季入力!C78)","v":""},{"$f":"IF(春季入力!D78=\"\",\"\",春季入力!D78)","v":""},{"$f":"IF(春季入力!G78=\"\",\"\",春季入力!G78)","v":""},{"$f":"IF(春季入力!E78=\"\",\"\",春季入力!E78)","v":""},{"$f":"IF(春季入力!B78=\"\",\"\",春季入力!B78)","v":""},"",null,null,9,"秋田北",748,"秋田市立秋田北中学校","北","ｷﾀ"]
[{"$f":"IF(春季入力!C20=\"\",\"\",春季入力!C20)","v":""},{"$f":"IF(春季入力!D20=\"\",\"\",春季入力!D20)","v":""},{"$f":"IF(春季入力!G20=\"\",\"\",春季入力!G20)","v":""},{"$f":"IF(春季入力!E20=\"\",\"\",春季入力!E20)","v":""},{"$f":"IF(春季入力!B20=\"\",\"\",春季入力!B20)","v":""},"",null,{"$f":"IF(春季入力!C79=\"\",\"\",春季入力!C79)","v":""},{"$f":"IF(春季入力!D79=\"\",\"\",春季入力!D79)","v":""},{"$f":"IF(春季入力!G79=\"\",\"\",春季入力!G79)","v":""},{"$f":"IF(春季入力!E79=\"\",\"\",春季入力!E79)","v":""},{"$f":"IF(春季入力!B79=\"\",\"\",春季入力!B79)","v":""},"",null,null,10,"豊岩",750,"秋田市立豊岩中学校","豊岩","ﾄﾖｲﾜ"]
[{"$f":"IF(春季入力!C21=\"\",\"\",春季入力!C21)","v":""},{"$f":"IF(春季入力!D21=\"\",\"\",春季入力!D21)","v":""},{"$f":"IF(春季入力!G21=\"\",\"\",春季入力!G21)","v":""},{"$f":"IF(春季入力!E21=\"\",\"\",春季入力!E21)","v":""},{"$f":"IF(春季入力!B21=\"\",\"\",春季入力!B21)","v":""},"",null,{"$f":"IF(春季入力!C80=\"\",\"\",春季入力!C80)","v":""},{"$f":"IF(春季入力!D80=\"\",\"\",春季入力!D80)","v":""},{"$f":"IF(春季入力!G80=\"\",\"\",春季入力!G80)","v":""},{"$f":"IF(春季入力!E80=\"\",\"\",春季入力!E80)","v":""},{"$f":"IF(春季入力!B80=\"\",\"\",春季入力!B80)","v":""},"",null,null,11,"城南",751,"秋田市立城南中学校","城南","ｼﾞｮｳﾅﾝ"]
[{"$f":"IF(春季入力!C22=\"\",\"\",春季入力!C22)","v":""},{"$f":"IF(春季入力!D22=\"\",\"\",春季入力!D22)","v":""},{"$f":"IF(春季入力!G22=\"\",\"\",春季入力!G22)","v":""},{"$f":"IF(春季入力!E22=\"\",\"\",春季入力!E22)","v":""},{"$f":"IF(春季入力!B22=\"\",\"\",春季入力!B22)","v":""},"",null,{"$f":"IF(春季入力!C81=\"\",\"\",春季入力!C81)","v":""},{"$f":"IF(春季入力!D81=\"\",\"\",春季入力!D81)","v":""},{"$f":"IF(春季入力!G81=\"\",\"\",春季入力!G81)","v":""},{"$f":"IF(春季入力!E81=\"\",\"\",春季入力!E81)","v":""},{"$f":"IF(春季入力!B81=\"\",\"\",春季入力!B81)","v":""},"",null,null,12,"下北手",752,"秋田市立下北手中学校","下北手","ｼﾓｷﾀﾃ"]
[{"$f":"IF(春季入力!C23=\"\",\"\",春季入力!C23)","v":""},{"$f":"IF(春季入力!D23=\"\",\"\",春季入力!D23)","v":""},{"$f":"IF(春季入力!G23=\"\",\"\",春季入力!G23)","v":""},{"$f":"IF(春季入力!E23=\"\",\"\",春季入力!E23)","v":""},{"$f":"IF(春季入力!B23=\"\",\"\",春季入力!B23)","v":""},"",null,{"$f":"IF(春季入力!C82=\"\",\"\",春季入力!C82)","v":""},{"$f":"IF(春季入力!D82=\"\",\"\",春季入力!D82)","v":""},{"$f":"IF(春季入力!G82=\"\",\"\",春季入力!G82)","v":""},{"$f":"IF(春季入力!E82=\"\",\"\",春季入力!E82)","v":""},{"$f":"IF(春季入力!B82=\"\",\"\",春季入力!B82)","v":""},"",null,null,13,"下浜",753,"秋田市立下浜中学校","下浜","ｼﾓﾊﾏ"]
[{"$f":"IF(春季入力!C24=\"\",\"\",春季入力!C24)","v":""},{"$f":"IF(春季入力!D24=\"\",\"\",春季入力!D24)","v":""},{"$f":"IF(春季入力!G24=\"\",\"\",春季入力!G24)","v":""},{"$f":"IF(春季入力!E24=\"\",\"\",春季入力!E24)","v":""},{"$f":"IF(春季入力!B24=\"\",\"\",春季入力!B24)","v":""},"",null,{"$f":"IF(春季入力!C83=\"\",\"\",春季入力!C83)","v":""},{"$f":"IF(春季入力!D83=\"\",\"\",春季入力!D83)","v":""},{"$f":"IF(春季入力!G83=\"\",\"\",春季入力!G83)","v":""},{"$f":"IF(春季入力!E83=\"\",\"\",春季入力!E83)","v":""},{"$f":"IF(春季入力!B83=\"\",\"\",春季入力!B83)","v":""},"",null,null,14,"城東",754,"秋田市立城東中学校","城東","ｼﾞｮｳﾄｳ"]
[{"$f":"IF(春季入力!C25=\"\",\"\",春季入力!C25)","v":""},{"$f":"IF(春季入力!D25=\"\",\"\",春季入力!D25)","v":""},{"$f":"IF(春季入力!G25=\"\",\"\",春季入力!G25)","v":""},{"$f":"IF(春季入力!E25=\"\",\"\",春季入力!E25)","v":""},{"$f":"IF(春季入力!B25=\"\",\"\",春季入力!B25)","v":""},"",null,{"$f":"IF(春季入力!C84=\"\",\"\",春季入力!C84)","v":""},{"$f":"IF(春季入力!D84=\"\",\"\",春季入力!D84)","v":""},{"$f":"IF(春季入力!G84=\"\",\"\",春季入力!G84)","v":""},{"$f":"IF(春季入力!E84=\"\",\"\",春季入力!E84)","v":""},{"$f":"IF(春季入力!B84=\"\",\"\",春季入力!B84)","v":""},"",null,null,15,"泉",755,"秋田市立泉中学校","泉","ｲｽﾞﾐ"]
[{"$f":"IF(春季入力!C26=\"\",\"\",春季入力!C26)","v":""},{"$f":"IF(春季入力!D26=\"\",\"\",春季入力!D26)","v":""},{"$f":"IF(春季入力!G26=\"\",\"\",春季入力!G26)","v":""},{"$f":"IF(春季入力!E26=\"\",\"\",春季入力!E26)","v":""},{"$f":"IF(春季入力!B26=\"\",\"\",春季入力!B26)","v":""},"",null,{"$f":"IF(春季入力!C85=\"\",\"\",春季入力!C85)","v":""},{"$f":"IF(春季入力!D85=\"\",\"\",春季入力!D85)","v":""},{"$f":"IF(春季入力!G85=\"\",\"\",春季入力!G85)","v":""},{"$f":"IF(春季入力!E85=\"\",\"\",春季入力!E85)","v":""},{"$f":"IF(春季入力!B85=\"\",\"\",春季入力!B85)","v":""},"",null,null,16,"御野場",756,"秋田市立御野場中学校","御野場","ｵﾉﾊﾞ"]
[{"$f":"IF(春季入力!C27=\"\",\"\",春季入力!C27)","v":""},{"$f":"IF(春季入力!D27=\"\",\"\",春季入力!D27)","v":""},{"$f":"IF(春季入力!G27=\"\",\"\",春季入力!G27)","v":""},{"$f":"IF(春季入力!E27=\"\",\"\",春季入力!E27)","v":""},{"$f":"IF(春季入力!B27=\"\",\"\",春季入力!B27)","v":""},"",null,{"$f":"IF(春季入力!C86=\"\",\"\",春季入力!C86)","v":""},{"$f":"IF(春季入力!D86=\"\",\"\",春季入力!D86)","v":""},{"$f":"IF(春季入力!G86=\"\",\"\",春季入力!G86)","v":""},{"$f":"IF(春季入力!E86=\"\",\"\",春季入力!E86)","v":""},{"$f":"IF(春季入力!B86=\"\",\"\",春季入力!B86)","v":""},"",null,null,17,"勝平",757,"秋田市立勝平中学校","勝平","ｶﾂﾋﾗ"]
[{"$f":"IF(春季入力!C28=\"\",\"\",春季入力!C28)","v":""},{"$f":"IF(春季入力!D28=\"\",\"\",春季入力!D28)","v":""},{"$f":"IF(春季入力!G28=\"\",\"\",春季入力!G28)","v":""},{"$f":"IF(春季入力!E28=\"\",\"\",春季入力!E28)","v":""},{"$f":"IF(春季入力!B28=\"\",\"\",春季入力!B28)","v":""},"",null,{"$f":"IF(春季入力!C87=\"\",\"\",春季入力!C87)","v":""},{"$f":"IF(春季入力!D87=\"\",\"\",春季入力!D87)","v":""},{"$f":"IF(春季入力!G87=\"\",\"\",春季入力!G87)","v":""},{"$f":"IF(春季入力!E87=\"\",\"\",春季入力!E87)","v":""},{"$f":"IF(春季入力!B87=\"\",\"\",春季入力!B87)","v":""},"",null,null,18,"飯島",758,"秋田市立飯島中学校","飯島","ｲｲｼﾞﾏ"]
[{"$f":"IF(春季入力!C29=\"\",\"\",春季入力!C29)","v":""},{"$f":"IF(春季入力!D29=\"\",\"\",春季入力!D29)","v":""},{"$f":"IF(春季入力!G29=\"\",\"\",春季入力!G29)","v":""},{"$f":"IF(春季入力!E29=\"\",\"\",春季入力!E29)","v":""},{"$f":"IF(春季入力!B29=\"\",\"\",春季入力!B29)","v":""},"",null,{"$f":"IF(春季入力!C88=\"\",\"\",春季入力!C88)","v":""},{"$f":"IF(春季入力!D88=\"\",\"\",春季入力!D88)","v":""},{"$f":"IF(春季入力!G88=\"\",\"\",春季入力!G88)","v":""},{"$f":"IF(春季入力!E88=\"\",\"\",春季入力!E88)","v":""},{"$f":"IF(春季入力!B88=\"\",\"\",春季入力!B88)","v":""},"",null,null,19,"桜",759,"秋田市立桜中学校","桜","ｻｸﾗ"]
[{"$f":"IF(春季入力!C30=\"\",\"\",春季入力!C30)","v":""},{"$f":"IF(春季入力!D30=\"\",\"\",春季入力!D30)","v":""},{"$f":"IF(春季入力!G30=\"\",\"\",春季入力!G30)","v":""},{"$f":"IF(春季入力!E30=\"\",\"\",春季入力!E30)","v":""},{"$f":"IF(春季入力!B30=\"\",\"\",春季入力!B30)","v":""},"",null,{"$f":"IF(春季入力!C89=\"\",\"\",春季入力!C89)","v":""},{"$f":"IF(春季入力!D89=\"\",\"\",春季入力!D89)","v":""},{"$f":"IF(春季入力!G89=\"\",\"\",春季入力!G89)","v":""},{"$f":"IF(春季入力!E89=\"\",\"\",春季入力!E89)","v":""},{"$f":"IF(春季入力!B89=\"\",\"\",春季入力!B89)","v":""},"",null,null,20,"御所野学院",760,"秋田市立御所野学院中学校","御所野学院","ｺﾞｼｮﾉｶﾞｸｲﾝ"]
[{"$f":"IF(春季入力!C31=\"\",\"\",春季入力!C31)","v":""},{"$f":"IF(春季入力!D31=\"\",\"\",春季入力!D31)","v":""},{"$f":"IF(春季入力!G31=\"\",\"\",春季入力!G31)","v":""},{"$f":"IF(春季入力!E31=\"\",\"\",春季入力!E31)","v":""},{"$f":"IF(春季入力!B31=\"\",\"\",春季入力!B31)","v":""},"",null,{"$f":"IF(春季入力!C90=\"\",\"\",春季入力!C90)","v":""},{"$f":"IF(春季入力!D90=\"\",\"\",春季入力!D90)","v":""},{"$f":"IF(春季入力!G90=\"\",\"\",春季入力!G90)","v":""},{"$f":"IF(春季入力!E90=\"\",\"\",春季入力!E90)","v":""},{"$f":"IF(春季入力!B90=\"\",\"\",春季入力!B90)","v":""},"",null,null,21,"秋大附属",701,"秋田大学教育文化学部附属中学校","秋大附","ｼｭｳﾀﾞｲﾌ"]
[{"$f":"IF(春季入力!C32=\"\",\"\",春季入力!C32)","v":""},{"$f":"IF(春季入力!D32=\"\",\"\",春季入力!D32)","v":""},{"$f":"IF(春季入力!G32=\"\",\"\",春季入力!G32)","v":""},{"$f":"IF(春季入力!E32=\"\",\"\",春季入力!E32)","v":""},{"$f":"IF(春季入力!B32=\"\",\"\",春季入力!B32)","v":""},"",null,{"$f":"IF(春季入力!C91=\"\",\"\",春季入力!C91)","v":""},{"$f":"IF(春季入力!D91=\"\",\"\",春季入力!D91)","v":""},{"$f":"IF(春季入力!G91=\"\",\"\",春季入力!G91)","v":""},{"$f":"IF(春季入力!E91=\"\",\"\",春季入力!E91)","v":""},{"$f":"IF(春季入力!B91=\"\",\"\",春季入力!B91)","v":""},"",null,null,22,"聴覚支援",835,"秋田県立聴覚支援学校","聴覚支援","ﾁｮｳｶｸｼｴﾝ"]
[{"$f":"IF(春季入力!C33=\"\",\"\",春季入力!C33)","v":""},{"$f":"IF(春季入力!D33=\"\",\"\",春季入力!D33)","v":""},{"$f":"IF(春季入力!G33=\"\",\"\",春季入力!G33)","v":""},{"$f":"IF(春季入力!E33=\"\",\"\",春季入力!E33)","v":""},{"$f":"IF(春季入力!B33=\"\",\"\",春季入力!B33)","v":""},"",null,{"$f":"IF(春季入力!C92=\"\",\"\",春季入力!C92)","v":""},{"$f":"IF(春季入力!D92=\"\",\"\",春季入力!D92)","v":""},{"$f":"IF(春季入力!G92=\"\",\"\",春季入力!G92)","v":""},{"$f":"IF(春季入力!E92=\"\",\"\",春季入力!E92)","v":""},{"$f":"IF(春季入力!B92=\"\",\"\",春季入力!B92)","v":""},"",null,null,23,"岩見三内",836,"秋田市立岩見三内中学校","岩見山内","ｲﾜﾐｻﾝﾅｲ"]
[{"$f":"IF(春季入力!C34=\"\",\"\",春季入力!C34)","v":""},{"$f":"IF(春季入力!D34=\"\",\"\",春季入力!D34)","v":""},{"$f":"IF(春季入力!G34=\"\",\"\",春季入力!G34)","v":""},{"$f":"IF(春季入力!E34=\"\",\"\",春季入力!E34)","v":""},{"$f":"IF(春季入力!B34=\"\",\"\",春季入力!B34)","v":""},"",null,{"$f":"IF(春季入力!C93=\"\",\"\",春季入力!C93)","v":""},{"$f":"IF(春季入力!D93=\"\",\"\",春季入力!D93)","v":""},{"$f":"IF(春季入力!G93=\"\",\"\",春季入力!G93)","v":""},{"$f":"IF(春季入力!E93=\"\",\"\",春季入力!E93)","v":""},{"$f":"IF(春季入力!B93=\"\",\"\",春季入力!B93)","v":""},"",null,null,24,"河辺",761,"秋田市立河辺中学校","河辺","ｶﾜﾍﾞ"]
[{"$f":"IF(春季入力!C35=\"\",\"\",春季入力!C35)","v":""},{"$f":"IF(春季入力!D35=\"\",\"\",春季入力!D35)","v":""},{"$f":"IF(春季入力!G35=\"\",\"\",春季入力!G35)","v":""},{"$f":"IF(春季入力!E35=\"\",\"\",春季入力!E35)","v":""},{"$f":"IF(春季入力!B35=\"\",\"\",春季入力!B35)","v":""},"",null,{"$f":"IF(春季入力!C94=\"\",\"\",春季入力!C94)","v":""},{"$f":"IF(春季入力!D94=\"\",\"\",春季入力!D94)","v":""},{"$f":"IF(春季入力!G94=\"\",\"\",春季入力!G94)","v":""},{"$f":"IF(春季入力!E94=\"\",\"\",春季入力!E94)","v":""},{"$f":"IF(春季入力!B94=\"\",\"\",春季入力!B94)","v":""},"",null,null,25,"雄和",762,"秋田市立雄和中学校","雄和","ﾕｳﾜ"]
[{"$f":"IF(春季入力!C36=\"\",\"\",春季入力!C36)","v":""},{"$f":"IF(春季入力!D36=\"\",\"\",春季入力!D36)","v":""},{"$f":"IF(春季入力!G36=\"\",\"\",春季入力!G36)","v":""},{"$f":"IF(春季入力!E36=\"\",\"\",春季入力!E36)","v":""},{"$f":"IF(春季入力!B36=\"\",\"\",春季入力!B36)","v":""},"",null,{"$f":"IF(春季入力!C95=\"\",\"\",春季入力!C95)","v":""},{"$f":"IF(春季入力!D95=\"\",\"\",春季入力!D95)","v":""},{"$f":"IF(春季入力!G95=\"\",\"\",春季入力!G95)","v":""},{"$f":"IF(春季入力!E95=\"\",\"\",春季入力!E95)","v":""},{"$f":"IF(春季入力!B95=\"\",\"\",春季入力!B95)","v":""},"",null,null,26,"秋田南中等部",763,"秋田県立秋田南高等学校中等部","秋田南中等部","ｱｷﾀﾐﾅﾐﾁｭｳﾄｳﾌﾞ"]
[{"$f":"IF(春季入力!C37=\"\",\"\",春季入力!C37)","v":""},{"$f":"IF(春季入力!D37=\"\",\"\",春季入力!D37)","v":""},{"$f":"IF(春季入力!G37=\"\",\"\",春季入力!G37)","v":""},{"$f":"IF(春季入力!E37=\"\",\"\",春季入力!E37)","v":""},{"$f":"IF(春季入力!B37=\"\",\"\",春季入力!B37)","v":""},"",null,{"$f":"IF(春季入力!C96=\"\",\"\",春季入力!C96)","v":""},{"$f":"IF(春季入力!D96=\"\",\"\",春季入力!D96)","v":""},{"$f":"IF(春季入力!G96=\"\",\"\",春季入力!G96)","v":""},{"$f":"IF(春季入力!E96=\"\",\"\",春季入力!E96)","v":""},{"$f":"IF(春季入力!B96=\"\",\"\",春季入力!B96)","v":""},"",null,null,27]
[{"$f":"IF(春季入力!C38=\"\",\"\",春季入力!C38)","v":""},{"$f":"IF(春季入力!D38=\"\",\"\",春季入力!D38)","v":""},{"$f":"IF(春季入力!G38=\"\",\"\",春季入力!G38)","v":""},{"$f":"IF(春季入力!E38=\"\",\"\",春季入力!E38)","v":""},{"$f":"IF(春季入力!B38=\"\",\"\",春季入力!B38)","v":""},"",null,{"$f":"IF(春季入力!C97=\"\",\"\",春季入力!C97)","v":""},{"$f":"IF(春季入力!D97=\"\",\"\",春季入力!D97)","v":""},{"$f":"IF(春季入力!G97=\"\",\"\",春季入力!G97)","v":""},{"$f":"IF(春季入力!E97=\"\",\"\",春季入力!E97)","v":""},{"$f":"IF(春季入力!B97=\"\",\"\",春季入力!B97)","v":""},""]
[{"$f":"IF(春季入力!C39=\"\",\"\",春季入力!C39)","v":""},{"$f":"IF(春季入力!D39=\"\",\"\",春季入力!D39)","v":""},{"$f":"IF(春季入力!G39=\"\",\"\",春季入力!G39)","v":""},{"$f":"IF(春季入力!E39=\"\",\"\",春季入力!E39)","v":""},{"$f":"IF(春季入力!B39=\"\",\"\",春季入力!B39)","v":""},"",null,{"$f":"IF(春季入力!C98=\"\",\"\",春季入力!C98)","v":""},{"$f":"IF(春季入力!D98=\"\",\"\",春季入力!D98)","v":""},{"$f":"IF(春季入力!G98=\"\",\"\",春季入力!G98)","v":""},{"$f":"IF(春季入力!E98=\"\",\"\",春季入力!E98)","v":""},{"$f":"IF(春季入力!B98=\"\",\"\",春季入力!B98)","v":""},""]
[{"$f":"IF(春季入力!C40=\"\",\"\",春季入力!C40)","v":""},{"$f":"IF(春季入力!D40=\"\",\"\",春季入力!D40)","v":""},{"$f":"IF(春季入力!G40=\"\",\"\",春季入力!G40)","v":""},{"$f":"IF(春季入力!E40=\"\",\"\",春季入力!E40)","v":""},{"$f":"IF(春季入力!B40=\"\",\"\",春季入力!B40)","v":""},"",null,{"$f":"IF(春季入力!C99=\"\",\"\",春季入力!C99)","v":""},{"$f":"IF(春季入力!D99=\"\",\"\",春季入力!D99)","v":""},{"$f":"IF(春季入力!G99=\"\",\"\",春季入力!G99)","v":""},{"$f":"IF(春季入力!E99=\"\",\"\",春季入力!E99)","v":""},{"$f":"IF(春季入力!B99=\"\",\"\",春季入力!B99)","v":""},""]
[{"$f":"IF(春季入力!C41=\"\",\"\",春季入力!C41)","v":""},{"$f":"IF(春季入力!D41=\"\",\"\",春季入力!D41)","v":""},{"$f":"IF(春季入力!G41=\"\",\"\",春季入力!G41)","v":""},{"$f":"IF(春季入力!E41=\"\",\"\",春季入力!E41)","v":""},{"$f":"IF(春季入力!B41=\"\",\"\",春季入力!B41)","v":""},"",null,{"$f":"IF(春季入力!C100=\"\",\"\",春季入力!C100)","v":""},{"$f":"IF(春季入力!D100=\"\",\"\",春季入力!D100)","v":""},{"$f":"IF(春季入力!G100=\"\",\"\",春季入力!G100)","v":""},{"$f":"IF(春季入力!E100=\"\",\"\",春季入力!E100)","v":""},{"$f":"IF(春季入力!B100=\"\",\"\",春季入力!B100)","v":""},""]
[{"$f":"IF(春季入力!C42=\"\",\"\",春季入力!C42)","v":""},{"$f":"IF(春季入力!D42=\"\",\"\",春季入力!D42)","v":""},{"$f":"IF(春季入力!G42=\"\",\"\",春季入力!G42)","v":""},{"$f":"IF(春季入力!E42=\"\",\"\",春季入力!E42)","v":""},{"$f":"IF(春季入力!B42=\"\",\"\",春季入力!B42)","v":""},""]
[{"$f":"IF(春季入力!C43=\"\",\"\",春季入力!C43)","v":""},{"$f":"IF(春季入力!D43=\"\",\"\",春季入力!D43)","v":""},{"$f":"IF(春季入力!G43=\"\",\"\",春季入力!G43)","v":""},{"$f":"IF(春季入力!E43=\"\",\"\",春季入力!E43)","v":""},{"$f":"IF(春季入力!B43=\"\",\"\",春季入力!B43)","v":""},""]
[{"$f":"IF(春季入力!C44=\"\",\"\",春季入力!C44)","v":""},{"$f":"IF(春季入力!D44=\"\",\"\",春季入力!D44)","v":""},{"$f":"IF(春季入力!G44=\"\",\"\",春季入力!G44)","v":""},{"$f":"IF(春季入力!E44=\"\",\"\",春季入力!E44)","v":""},{"$f":"IF(春季入力!B44=\"\",\"\",春季入力!B44)","v":""},""]
[{"$f":"IF(春季入力!C45=\"\",\"\",春季入力!C45)","v":""},{"$f":"IF(春季入力!D45=\"\",\"\",春季入力!D45)","v":""},{"$f":"IF(春季入力!G45=\"\",\"\",春季入力!G45)","v":""},{"$f":"IF(春季入力!E45=\"\",\"\",春季入力!E45)","v":""},{"$f":"IF(春季入力!B45=\"\",\"\",春季入力!B45)","v":""},""]
[{"$f":"IF(春季入力!C46=\"\",\"\",春季入力!C46)","v":""},{"$f":"IF(春季入力!D46=\"\",\"\",春季入力!D46)","v":""},{"$f":"IF(春季入力!G46=\"\",\"\",春季入力!G46)","v":""},{"$f":"IF(春季入力!E46=\"\",\"\",春季入力!E46)","v":""},{"$f":"IF(春季入力!B46=\"\",\"\",春季入力!B46)","v":""},""]

{"sheet":"男子一覧(手書用)","index":11,"n_rows":60,"n_cols":45,"rows_kept":60,"cut":false,"hidden":false,"merged":[[42,11,42,17],[54,0,54,23],[36,19,36,23],[37,19,37,23],[38,19,38,23],[39,19,39,23],[47,8,47,9],[47,10,47,15],[51,2,51,4],[51,7,51,11],[55,2,56,3],[53,0,53,18],[43,0,43,11],[45,1,45,17],[51,12,51,16],[47,1,47,6],[47,16,47,17],[34,19,34,23],[35,19,35,23],[28,19,28,23],[29,19,29,23],[30,19,30,23],[31,19,31,23],[32,19,32,23],[33,19,33,23],[27,19,27,23],[16,19,16,23],[17,19,17,23],[18,19,18,23],[19,19,19,23],[20,19,20,23],[21,19,21,23],[22,19,22,23],[23,19,23,23],[24,19,24,23],[25,19,25,23],[26,19,26,23],[15,19,15,23],[4,19,4,23],[5,19,5,23],[6,19,6,23],[7,19,7,23],[8,19,8,23],[9,19,9,23],[10,19,10,23],[11,19,11,23],[12,19,12,23],[13,19,13,23],[14,19,14,23],[1,25,2,25],[3,20,3,21],[3,22,3,23],[1,0,1,18],[2,2,2,9],[3,2,3,9],[3,11,3,14],[3,15,3,16]]}
[]
[{"$f":"男一覧!A2","v":"令和 7年度　秋田市中学校春季陸上競技大会　参加申込書一覧〔男子〕"}]
[null,"学校名(",null,null,null,null,null,null,null,null,")"]
[null,"監督名(",null,null,null,null,null,null,null,null,")","参加人数(",null,null,null,null,null,")名"]
["ナンバー\nカード","氏　　名","フリガナ","学年","２年\n100","３年\n100","共通\n200","共通\n400","共通\n800","共通\n1500","共通\n3000","共通\n110H","共通\n走高","共通\n棒高","共通\n走幅","共通\n砲丸",null,"共通\n400R",null,"個人情報の記載"]
[null,null,null,null,null,null,null,null,null,null,null,null,null,null,null,null,null,null,null,null,null,null,null,null,null,null,null,null,null,null,null,null,null,null,null,null,null,null,null,null,null,null,null,null,"○"]
[]
[]
[]
[]
[]
[]
[]
[]
[]
[]
[]
[]
[]
[]
[]
[]
[]
[]
[]
[]
[]
[]
[]
[]
[]
[]
[]
[]
[]
[]
[]
[]
[]
[]
[]
[]
[null,null,null,null,null,null,null,null,null,null,null,"令和　　年　　月　　日"]
["　秋田市中学校体育連盟 会長 様"]
[]
[null,"　上記の生徒は要項に照らし適格者であり，学校代表としてもふさわしく，また，保護者の同意を得ておりますので，大会への参加を申し込みいたします。"]
[]
[null,null,null,null,null,null,null,null,"校 長",null,null,null,null,null,null,null,"公印"]
[]
[null,"※引率・監督者の特例を適用する場合は氏名を記入"]
[]
[null,"(引率者氏名",null,null,null,")",null,"(代理監督者氏名",null,null,null,null,null,null,null,null,null,")"]
[]
[]
["※　男子は黒，女子は赤で記入すること。"]
[]
[]
[]
[]
[null,null,null,null,{"$f":"COUNTIF(E$6:E$40,\"○\")","v":0},0,0,0,0,0,0,0,0,0,0,0,0,0,0,0,0,0,0,0]

{"sheet":"女子一覧(手書用)","index":12,"n_rows":59,"n_cols":45,"rows_kept":59,"cut":false,"hidden":false,"merged":[[37,9,37,15],[40,1,40,15],[42,7,42,8],[42,9,42,13],[38,0,38,9],[42,1,42,6],[42,14,42,15],[49,0,49,20],[50,2,51,3],[48,0,48,20],[46,2,46,4],[46,6,46,10],[46,11,46,15],[21,17,21,20],[22,17,22,20],[23,17,23,20],[34,17,34,20],[28,17,28,20],[29,17,29,20],[30,17,30,20],[31,17,31,20],[25,17,25,20],[26,17,26,20],[27,17,27,20],[32,17,32,20],[33,17,33,20],[24,17,24,20],[7,17,7,20],[8,17,8,20],[9,17,9,20],[10,17,10,20],[15,17,15,20],[19,17,19,20],[20,17,20,20],[17,17,17,20],[18,17,18,20],[11,17,11,20],[12,17,12,20],[13,17,13,20],[14,17,14,20],[16,17,16,20],[1,0,1,16],[4,17,4,20],[5,17,5,20],[6,17,6,20],[2,2,2,8],[3,2,3,8],[3,13,3,14],[3,10,3,12],[3,15,3,16]]}
[]
[{"$f":"女一覧!A2","v":"令和 7年度　秋田市中学校春季陸上競技大会　参加申込書一覧〔女子〕"}]
[null,"学校名(",null,null,null,null,null,null,null,")"]
[null,"監督名(",null,null,null,null,null,null,null,")","参加人数(",null,null,null,null,")名"]
["ナンバー\nカード","氏    名","フリガナ","学年","２年\n100","３年\n100","共通\n200","共通\n800","２年\n1500","３年\n1500","共通\n100H","共通\n走高","共通\n走幅","共通\n砲丸",null,"共通\n400R",null,"個人情報の記載"]
[null,null,null,null,null,null,null,null,null,null,null,null,null,null,null,null,null,null,null,null,null,null,null,null,null,null,null,null,null,null,null,null,null,null,null,null,null,null,null,null,null,null,null,null,"○"]
[]
[]
[]
[]
[]
[]
[]
[]
[]
[]
[]
[]
[]
[]
[]
[]
[]
[]
[]
[]
[]
[]
[]
[]
[]
[]
[]
[]
[]
[]
[]
[null,null,null,null,null,null,null,null,null,"平成　　年　　月　　日"]
[" 秋田市中学校体育連盟 会長 様"]
[]
[null,"　上記の生徒は要項に照らし適格者であり，学校代表としてもふさわしく，また，保護者の同意を得ておりますので，大会への参加を申し込みいたします。"]
[]
[null,null,null,null,null,null,null,"校長",null,null,null,null,null,null,"公印"]
[]
[null,"※引率・監督者の特例を適用する場合は氏名を記入"]
[]
[null,"（引率者氏名",null,null,null,"）","（代理監督者氏名",null,null,null,null,null,null,null,null,null,"）"]
[]
[]
["※男子は黒，女子は赤で記入すること。"]
[]
[]
[]
[]
[]
[]
[]
[]
[null,null,null,null,{"$f":"COUNTIF(E$6:E$35,\"○\")","v":0},0,0,0,0,0,0,0,0,0,0,0,0,0,0,0,0]

{"sheet":"個人個票(手書用)","index":13,"n_rows":43,"n_cols":11,"rows_kept":43,"cut":false,"hidden":false,"merged":[[29,0,29,1],[17,0,17,1],[25,0,25,1],[1,0,2,1],[3,0,3,1],[5,0,5,1],[7,0,7,1],[21,0,21,1],[9,0,9,1],[13,0,13,1],[23,0,23,1],[19,0,19,1],[11,0,11,1],[27,0,27,1],[15,0,15,1],[31,0,31,1],[41,0,41,1],[33,0,33,1],[35,0,35,1],[37,0,37,1],[39,0,39,1]]}
[]
["個人種目個票",null,null,null,null,"個人種目個票は２ページになります。"]
[null,null,null,null,null,"１ページ目は男子用、２ページ目は女子用です。"]
["種　　　目",null,"組","ﾚｰﾝ・順","ナンバーカード","名　　　　前","学　　校","学年","ベスト記録","個人情報の掲載"]
["男",null,null,null,null,null,null,null,null,null,1]
["種　　　目",null,"組","ﾚｰﾝ・順","ナンバーカード","名　　　　前","学　　校","学年","ベスト記録","個人情報の掲載"]
["男",null,null,null,null,null,null,null,null,null,2]
["種　　　目",null,"組","ﾚｰﾝ・順","ナンバーカード","名　　　　前","学　　校","学年","ベスト記録","個人情報の掲載"]
["男",null,null,null,null,null,null,null,null,null,3]
["種　　　目",null,"組","ﾚｰﾝ・順","ナンバーカード","名　　　　前","学　　校","学年","ベスト記録","個人情報の掲載"]
["男",null,null,null,null,null,null,null,null,null,4]
["種　　　目",null,"組","ﾚｰﾝ・順","ナンバーカード","名　　　　前","学　　校","学年","ベスト記録","個人情報の掲載"]
["男",null,null,null,null,null,null,null,null,null,5]
["種　　　目",null,"組","ﾚｰﾝ・順","ナンバーカード","名　　　　前","学　　校","学年","ベスト記録","個人情報の掲載"]
["男",null,null,null,null,null,null,null,null,null,6]
["種　　　目",null,"組","ﾚｰﾝ・順","ナンバーカード","名　　　　前","学　　校","学年","ベスト記録","個人情報の掲載"]
["男",null,null,null,null,null,null,null,null,null,7]
["種　　　目",null,"組","ﾚｰﾝ・順","ナンバーカード","名　　　　前","学　　校","学年","ベスト記録","個人情報の掲載"]
["男",null,null,null,null,null,null,null,null,null,8]
["種　　　目",null,"組","ﾚｰﾝ・順","ナンバーカード","名　　　　前","学　　校","学年","ベスト記録","個人情報の掲載"]
["男",null,null,null,null,null,null,null,null,null,9]
["種　　　目",null,"組","ﾚｰﾝ・順","ナンバーカード","名　　　　前","学　　校","学年","ベスト記録","個人情報の掲載"]
["男",null,null,null,null,null,null,null,null,null,10]
["種　　　目",null,"組","ﾚｰﾝ・順","ナンバーカード","名　　　　前","学　　校","学年","ベスト記録","個人情報の掲載"]
["女",null,null,null,null,null,null,null,null,null,1]
["種　　　目",null,"組","ﾚｰﾝ・順","ナンバーカード","名　　　　前","学　　校","学年","ベスト記録","個人情報の掲載"]
["女",null,null,null,null,null,null,null,null,null,2]
["種　　　目",null,"組","ﾚｰﾝ・順","ナンバーカード","名　　　　前","学　　校","学年","ベスト記録","個人情報の掲載"]
["女",null,null,null,null,null,null,null,null,null,3]
["種　　　目",null,"組","ﾚｰﾝ・順","ナンバーカード","名　　　　前","学　　校","学年","ベスト記録","個人情報の掲載"]
["女",null,null,null,null,null,null,null,null,null,4]
["種　　　目",null,"組","ﾚｰﾝ・順","ナンバーカード","名　　　　前","学　　校","学年","ベスト記録","個人情報の掲載"]
["女",null,null,null,null,null,null,null,null,null,5]
["種　　　目",null,"組","ﾚｰﾝ・順","ナンバーカード","名　　　　前","学　　校","学年","ベスト記録","個人情報の掲載"]
["女",null,null,null,null,null,null,null,null,null,6]
["種　　　目",null,"組","ﾚｰﾝ・順","ナンバーカード","名　　　　前","学　　校","学年","ベスト記録","個人情報の掲載"]
["女",null,null,null,null,null,null,null,null,null,7]
["種　　　目",null,"組","ﾚｰﾝ・順","ナンバーカード","名　　　　前","学　　校","学年","ベスト記録","個人情報の掲載"]
["女",null,null,null,null,null,null,null,null,null,8]
["種　　　目",null,"組","ﾚｰﾝ・順","ナンバーカード","名　　　　前","学　　校","学年","ベスト記録","個人情報の掲載"]
["女",null,null,null,null,null,null,null,null,null,9]
["種　　　目",null,"組","ﾚｰﾝ・順","ナンバーカード","名　　　　前","学　　校","学年","ベスト記録","個人情報の掲載"]
["女",null,null,null,null,null,null,null,null,null,10]

{"sheet":"リレー個票(手書用)","index":14,"n_rows":23,"n_cols":8,"rows_kept":23,"cut":false,"hidden":false,"merged":[[20,3,25,3],[20,7,25,7],[0,4,0,6],[6,7,11,7],[6,3,11,3],[22,0,23,0],[1,0,2,0],[6,1,11,1],[6,2,11,2],[20,1,25,1],[20,2,25,2],[8,0,9,0],[15,0,16,0]]}
[null,null,null,null,"\nリレー個票は男女一緒に印刷されます。"]
["男子"]
[]
[]
[]
["種　　　目","組","レーン","学校名","ナンバーカード","名　　　前","学年","ベスト記録"]
[]
["男"]
["共　通\n\n４×１００ｍＲ"]
[]
[]
[]
[]
[]
[]
["女子"]
[]
[]
[]
["種　　　目","組","レーン","学校名","ナンバーカード","名　　　前","学年","ベスト記録"]
[]
["女"]
["共　通\n\n４×１００ｍＲ"]