{"text_format":"1","workbook":"xlsx","n_sheets":11,"sheets":["必ずお読み下さい","新人入力","男一覧","女一覧","男個票","女個票","ﾘﾚｰ個票","部員名簿","登録データ貼付","競技者マスタ（nans）","競技者マスタ（上陸）"],"not_rendered":{"charts":0,"images":0,"macros":1,"external_links":0,"defined_names":7,"comments":0,"pivot_tables":0},"unopened":[],"bounds":{"document_bytes":16777216,"sheet_cells":100000,"rows_first":2000,"rows_last":500,"rows_between":2000,"halvings":0,"cell_chars":16384,"cell_head_chars":4096},"cells_cut":0,"cells_raw":0,"read":"whole","date_system":"1900"}

{"sheet":"必ずお読み下さい","index":0,"n_rows":44,"n_cols":9,"rows_kept":44,"cut":false,"hidden":false,"merged":[[0,0,0,2]]}
["必ず全部読んで下さい！"]
["市秋季大会申込書の作成について"]
[]
[null,"最初に"]
[null,null,"　部員名簿は、日本陸連への登録データのファイルからコピー・貼り付けで完成するようにしました。\n　なお、八橋もnansのシステムが入りましたので，入力したこのファイルは提出して頂くことになります。学校名を入れて桜中 伊藤賢悦まで提出をお願いします。"]
[]
[]
[null,null,null,null,null,null,null,"一覧表用","個表用"]
[null,null,null,null,null,null,29,{"$f":"IF($G$9=29,\"\",VLOOKUP($G$9,部員名簿!$U$8:$AB$35,6,FALSE))","v":""},{"$f":"IF($G$9=29,\"\",VLOOKUP($G$9,部員名簿!$U$8:$AB$35,8,FALSE))","v":""}]
[]
[null,null,"　"]
[null,null,"　申込書完成までの流れ"]
[null,null,"　　①部員名簿を完成させる。"]
[null,null,"　　②新人入力シートで、校長名、監督名、市秋季に出場する選手のアスリートビブス番号、種目を入力する。\n　　　すでに入力済みのところもありますが、間違いがないか確認してください。"]
[null,null,"　　③男女それぞれ一覧表、個票、リレー個票をカラー印刷する。（すべてＡ４版になっています）\n　　　一覧表に職印をもらってプログラム編成会議に持参する。"]
[]
[]
[null,"１．部員情報を入力する"]
[null,null,"・下の「登録データ貼付」のタブをクリックし、日本陸連への登録データファイルからコピーしたデータを貼り付けます。氏名の文字揃えができないので、そのままで構いません。"]
[null,null,"・氏名のフリガナはカタカナ表記のものが使われます半角になっているか確認をお願いします。\n　　例：ｱｷﾀ ｲﾁﾛｳ"]
[]
[]
[null,"３．市新人の入力をする（男女それぞれお願いします）"]
[null,null,"・学校名は、一覧表用です。「秋田市立秋田東」のように入力されているはずです。"]
[null,null,"・監督氏名、校長氏名を入力して下さい。"]
[null,null,"・学校名の略称は個表に記載される学校名です。（上で選択した学校名が入っています）"]
[null,null,"・出場選手のｱｽﾘｰﾄﾋﾞﾌﾞｽ番号を入力します。入力用に、部員名簿を印刷しておくと楽になると思います。入力すると、学校名、氏名、フリガナ、英字表記、学年が表示されます。"]
[null,null,"・出場選手の出場種目を選択します。個人種目とリレー種目を忘れないで下さい。リストボックス内からの選択ですので表示されたものが間違いないかどうか確認をして下さい。"]
[null,null,"・リレーメンバーの抽出をします。男女それぞれ「共通リレー抽出」ボタンを押して下さい。出場しないリレーについてはボタンを押さないで下さい。（エラーの原因となります）下の方にリレーメンバーの一覧ができあがります。もし間違いがある場合は出場種目の確認をして下さい。リレー出場についてずれている可能性があります。"]
[]
[]
[null,"４．一覧表の確認"]
[null,null,"・男子一覧シートを表示し、入力内容に間違いがないかどうか確認して下さい。一覧表はＡ4です。印刷する際には用紙サイズの間違いがないようにご注意下さい。女子一覧も同様に確認してください。"]
[]
[null,"５．個表の作成（個人種目・リレー）"]
[null,null,"・入力シートのデータが個票に反映されているはずです。ここでも間違いがないかどうか確認をお願いします。"]
[null,null,"・公式記録をもっている選手には、記録を入力してください。初めて出る種目の場合は、練習の記録でも構いません。"]
[]
[null,"６．印刷する"]
[null,null,"・一覧表、個票、リレー個票を印刷します。それぞれのシートに印刷ボタンを用意しました。クリックするだけで印刷が可能ですが、今使っているコンピュータで「標準で使うプリンタ」として設定されているプリンタで印刷されます。つまり印刷する際にプリンタの選択ができません。十分ご注意下さい。カラー印刷が必要です(女子)。"]
[null,null,"・用紙サイズは一覧表、個票関係ともにA4になります。"]
[]
[null,"７．注意事項"]
[null,null,"競技場で記録処理のシステムに入れるデータが「競技者マスタ」シートに作られています。各学校のファイルを開いてデータをまとめる際に，シート見出しを表示していないととても面倒なので，表示したままにしていますが，このシートのデータを変更しないでください。どうかよろしくお願いします。"]

{"sheet":"新人入力","index":1,"n_rows":174,"n_cols":23,"rows_kept":174,"cut":false,"hidden":false,"merged":[[81,1,82,1],[77,2,77,3],[77,11,77,12],[81,11,83,12],[82,5,83,5],[5,1,6,1],[1,2,1,3],[1,11,1,12],[5,11,7,12],[6,5,7,5]]}
["市新人男子"]
[null,null,"一覧表用データ",null,null,null,null,null,null,null,null,"個表用データ"]
[null,null,"学校名",{"$f":"IF(必ずお読み下さい!H9=\"\",\"\",必ずお読み下さい!H9)","v":""},null,null,null,null,null,null,null,"学校名（略称）",{"$f":"IF(必ずお読み下さい!I9=\"\",\"\",必ずお読み下さい!I9)","v":""}]
[null,null,"監督氏名",null,"※"]
[null,null,"校長名",null,"※"]
[null,"引率・監督の特例を適用した場合入力→","引率者",null,null,null,null,null,null,null,null,"※の項目は必ず入力してください。\n入力の内容については「必ずお読み下さい」を参照して下さい。"]
[null,null,"代理監督氏名"]
[]
[]
[null,"通年№","学校名","氏　　　名","学年","フ　リ　ガ　ナ","氏名英語表記","個人種目１","個人種目２","リレー種目","個人種目１","個人種目２","リレー種目","個人情報"]
[1,null,{"$f":"IF(B11=\"\",\"\",$M$3)","v":""},{"$f":"IF($B11=\"\",\"\",VLOOKUP($B11,部員名簿!$A$5:$G$103,3,FALSE))","v":""},{"$f":"IF($B11=\"\",\"\",VLOOKUP($B11,部員名簿!$A$5:$G$103,6,FALSE))","v":""},{"$f":"IF($B11=\"\",\"\",VLOOKUP($B11,部員名簿!$A$5:$G$103,4,FALSE))","v":""},{"$f":"IF($B11=\"\",\"\",VLOOKUP($B11,部員名簿!$A$5:$G$103,5,FALSE))","v":""},{"$f":"IF(K11=\"\",\"\",VLOOKUP(K11,$Q$11:$R$29,2,FALSE))","v":""},{"$f":"IF(L11=\"\",\"\",VLOOKUP(L11,$Q$11:$R$29,2,FALSE))","v":""},{"$f":"IF(M11=\"\",\"\",VLOOKUP(M11,$S$11:$T$13,2,FALSE))","v":""},null,null,null,null,null,null,"１年１００ｍ",13,"共通４×１００ｍＲ",18,null,"花輪第一","否"]
[2,null,"",{"$f":"IF($B12=\"\",\"\",VLOOKUP($B12,部員名簿!$A$5:$G$103,3,FALSE))","v":""},{"$f":"IF($B12=\"\",\"\",VLOOKUP($B12,部員名簿!$A$5:$G$103,6,FALSE))","v":""},{"$f":"IF($B12=\"\",\"\",VLOOKUP($B12,部員名簿!$A$5:$G$103,4,FALSE))","v":""},{"$f":"IF($B12=\"\",\"\",VLOOKUP($B12,部員名簿!$A$5:$G$103,5,FALSE))","v":""},{"$f":"IF(K12=\"\",\"\",VLOOKUP(K12,$Q$11:$R$29,2,FALSE))","v":""},{"$f":"IF(L12=\"\",\"\",VLOOKUP(L12,$Q$11:$R$29,2,FALSE))","v":""},{"$f":"IF(M12=\"\",\"\",VLOOKUP(M12,$S$11:$T$13,2,FALSE))","v":""},null,null,null,null,null,null,"２年１００ｍ",1,null,null,null,"花輪第二"]
[3,null,"",{"$f":"IF($B13=\"\",\"\",VLOOKUP($B13,部員名簿!$A$5:$G$103,3,FALSE))","v":""},{"$f":"IF($B13=\"\",\"\",VLOOKUP($B13,部員名簿!$A$5:$G$103,6,FALSE))","v":""},{"$f":"IF($B13=\"\",\"\",VLOOKUP($B13,部員名簿!$A$5:$G$103,4,FALSE))","v":""},{"$f":"IF($B13=\"\",\"\",VLOOKUP($B13,部員名簿!$A$5:$G$103,5,FALSE))","v":""},"","","",null,null,null,null,null,null,"共通２００ｍ",3,null,null,null,"市立十和田"]
[4,null,"",{"$f":"IF($B14=\"\",\"\",VLOOKUP($B14,部員名簿!$A$5:$G$103,3,FALSE))","v":""},{"$f":"IF($B14=\"\",\"\",VLOOKUP($B14,部員名簿!$A$5:$G$103,6,FALSE))","v":""},{"$f":"IF($B14=\"\",\"\",VLOOKUP($B14,部員名簿!$A$5:$G$103,4,FALSE))","v":""},{"$f":"IF($B14=\"\",\"\",VLOOKUP($B14,部員名簿!$A$5:$G$103,5,FALSE))","v":""},"","","",null,null,null,null,null,null,"共通４００ｍ",4,null,null,null,"尾去沢"]
[5,null,"",{"$f":"IF($B15=\"\",\"\",VLOOKUP($B15,部員名簿!$A$5:$G$103,3,FALSE))","v":""},{"$f":"IF($B15=\"\",\"\",VLOOKUP($B15,部員名簿!$A$5:$G$103,6,FALSE))","v":""},{"$f":"IF($B15=\"\",\"\",VLOOKUP($B15,部員名簿!$A$5:$G$103,4,FALSE))","v":""},{"$f":"IF($B15=\"\",\"\",VLOOKUP($B15,部員名簿!$A$5:$G$103,5,FALSE))","v":""},"","","",null,null,null,null,null,null,"共通８００ｍ",5,null,null,null,"八幡平"]
[6,null,"",{"$f":"IF($B16=\"\",\"\",VLOOKUP($B16,部員名簿!$A$5:$G$103,3,FALSE))","v":""},{"$f":"IF($B16=\"\",\"\",VLOOKUP($B16,部員名簿!$A$5:$G$103,6,FALSE))","v":""},{"$f":"IF($B16=\"\",\"\",VLOOKUP($B16,部員名簿!$A$5:$G$103,4,FALSE))","v":""},{"$f":"IF($B16=\"\",\"\",VLOOKUP($B16,部員名簿!$A$5:$G$103,5,FALSE))","v":""},"","","",null,null,null,null,null,null,"１年１５００ｍ",14,null,null,null,"小坂"]
[7,null,"",{"$f":"IF($B17=\"\",\"\",VLOOKUP($B17,部員名簿!$A$5:$G$103,3,FALSE))","v":""},{"$f":"IF($B17=\"\",\"\",VLOOKUP($B17,部員名簿!$A$5:$G$103,6,FALSE))","v":""},{"$f":"IF($B17=\"\",\"\",VLOOKUP($B17,部員名簿!$A$5:$G$103,4,FALSE))","v":""},{"$f":"IF($B17=\"\",\"\",VLOOKUP($B17,部員名簿!$A$5:$G$103,5,FALSE))","v":""},"","","",null,null,null,null,null,null,"２年１５００ｍ",6,null,null,null,"町立十和田"]
[8,null,"",{"$f":"IF($B18=\"\",\"\",VLOOKUP($B18,部員名簿!$A$5:$G$103,3,FALSE))","v":""},{"$f":"IF($B18=\"\",\"\",VLOOKUP($B18,部員名簿!$A$5:$G$103,6,FALSE))","v":""},{"$f":"IF($B18=\"\",\"\",VLOOKUP($B18,部員名簿!$A$5:$G$103,4,FALSE))","v":""},{"$f":"IF($B18=\"\",\"\",VLOOKUP($B18,部員名簿!$A$5:$G$103,5,FALSE))","v":""},"","","",null,null,null,null,null,null,"共通３０００ｍ",7,null,null,null,"大館第一"]
[9,null,"",{"$f":"IF($B19=\"\",\"\",VLOOKUP($B19,部員名簿!$A$5:$G$103,3,FALSE))","v":""},{"$f":"IF($B19=\"\",\"\",VLOOKUP($B19,部員名簿!$A$5:$G$103,6,FALSE))","v":""},{"$f":"IF($B19=\"\",\"\",VLOOKUP($B19,部員名簿!$A$5:$G$103,4,FALSE))","v":""},{"$f":"IF($B19=\"\",\"\",VLOOKUP($B19,部員名簿!$A$5:$G$103,5,FALSE))","v":""},"","","",null,null,null,null,null,null,"共通１１０ｍＨ",8,null,null,null,"大館第二"]
[10,null,"",{"$f":"IF($B20=\"\",\"\",VLOOKUP($B20,部員名簿!$A$5:$G$103,3,FALSE))","v":""},{"$f":"IF($B20=\"\",\"\",VLOOKUP($B20,部員名簿!$A$5:$G$103,6,FALSE))","v":""},{"$f":"IF($B20=\"\",\"\",VLOOKUP($B20,部員名簿!$A$5:$G$103,4,FALSE))","v":""},{"$f":"IF($B20=\"\",\"\",VLOOKUP($B20,部員名簿!$A$5:$G$103,5,FALSE))","v":""},"","","",null,null,null,null,null,null,"共通走高跳",9,null,null,null,"下川沿"]
[11,null,"",{"$f":"IF($B21=\"\",\"\",VLOOKUP($B21,部員名簿!$A$5:$G$103,3,FALSE))","v":""},{"$f":"IF($B21=\"\",\"\",VLOOKUP($B21,部員名簿!$A$5:$G$103,6,FALSE))","v":""},{"$f":"IF($B21=\"\",\"\",VLOOKUP($B21,部員名簿!$A$5:$G$103,4,FALSE))","v":""},{"$f":"IF($B21=\"\",\"\",VLOOKUP($B21,部員名簿!$A$5:$G$103,5,FALSE))","v":""},"","","",null,null,null,null,null,null,"共通棒高跳",10,null,null,null,"大館南"]
[12,null,"",{"$f":"IF($B22=\"\",\"\",VLOOKUP($B22,部員名簿!$A$5:$G$103,3,FALSE))","v":""},{"$f":"IF($B22=\"\",\"\",VLOOKUP($B22,部員名簿!$A$5:$G$103,6,FALSE))","v":""},{"$f":"IF($B22=\"\",\"\",VLOOKUP($B22,部員名簿!$A$5:$G$103,4,FALSE))","v":""},{"$f":"IF($B22=\"\",\"\",VLOOKUP($B22,部員名簿!$A$5:$G$103,5,FALSE))","v":""},"","","",null,null,null,null,null,null,"共通走幅跳",11,null,null,null,"成章"]
[13,null,"",{"$f":"IF($B23=\"\",\"\",VLOOKUP($B23,部員名簿!$A$5:$G$103,3,FALSE))","v":""},{"$f":"IF($B23=\"\",\"\",VLOOKUP($B23,部員名簿!$A$5:$G$103,6,FALSE))","v":""},{"$f":"IF($B23=\"\",\"\",VLOOKUP($B23,部員名簿!$A$5:$G$103,4,FALSE))","v":""},{"$f":"IF($B23=\"\",\"\",VLOOKUP($B23,部員名簿!$A$5:$G$103,5,FALSE))","v":""},"","","",null,null,null,null,null,null,"共通砲丸投",12,null,null,null,"花岡"]
[14,null,"",{"$f":"IF($B24=\"\",\"\",VLOOKUP($B24,部員名簿!$A$5:$G$103,3,FALSE))","v":""},{"$f":"IF($B24=\"\",\"\",VLOOKUP($B24,部員名簿!$A$5:$G$103,6,FALSE))","v":""},{"$f":"IF($B24=\"\",\"\",VLOOKUP($B24,部員名簿!$A$5:$G$103,4,FALSE))","v":""},{"$f":"IF($B24=\"\",\"\",VLOOKUP($B24,部員名簿!$A$5:$G$103,5,FALSE))","v":""},"","","",null,null,null,null,null,null,null,null,null,null,null,"矢立"]
[15,null,"",{"$f":"IF($B25=\"\",\"\",VLOOKUP($B25,部員名簿!$A$5:$G$103,3,FALSE))","v":""},{"$f":"IF($B25=\"\",\"\",VLOOKUP($B25,部員名簿!$A$5:$G$103,6,FALSE))","v":""},{"$f":"IF($B25=\"\",\"\",VLOOKUP($B25,部員名簿!$A$5:$G$103,4,FALSE))","v":""},{"$f":"IF($B25=\"\",\"\",VLOOKUP($B25,部員名簿!$A$5:$G$103,5,FALSE))","v":""},"","","",null,null,null,null,null,null,null,null,null,null,null,"大館東"]
[16,null,"",{"$f":"IF($B26=\"\",\"\",VLOOKUP($B26,部員名簿!$A$5:$G$103,3,FALSE))","v":""},{"$f":"IF($B26=\"\",\"\",VLOOKUP($B26,部員名簿!$A$5:$G$103,6,FALSE))","v":""},{"$f":"IF($B26=\"\",\"\",VLOOKUP($B26,部員名簿!$A$5:$G$103,4,FALSE))","v":""},{"$f":"IF($B26=\"\",\"\",VLOOKUP($B26,部員名簿!$A$5:$G$103,5,FALSE))","v":""},"","","",null,null,null,null,null,null,null,null,null,null,null,"鷹巣"]
[17,null,"",{"$f":"IF($B27=\"\",\"\",VLOOKUP($B27,部員名簿!$A$5:$G$103,3,FALSE))","v":""},{"$f":"IF($B27=\"\",\"\",VLOOKUP($B27,部員名簿!$A$5:$G$103,6,FALSE))","v":""},{"$f":"IF($B27=\"\",\"\",VLOOKUP($B27,部員名簿!$A$5:$G$103,4,FALSE))","v":""},{"$f":"IF($B27=\"\",\"\",VLOOKUP($B27,部員名簿!$A$5:$G$103,5,FALSE))","v":""},"","","",null,null,null,null,null,null,null,null,null,null,null,"鷹巣南"]
[18,null,"",{"$f":"IF($B28=\"\",\"\",VLOOKUP($B28,部員名簿!$A$5:$G$103,3,FALSE))","v":""},{"$f":"IF($B28=\"\",\"\",VLOOKUP($B28,部員名簿!$A$5:$G$103,6,FALSE))","v":""},{"$f":"IF($B28=\"\",\"\",VLOOKUP($B28,部員名簿!$A$5:$G$103,4,FALSE))","v":""},{"$f":"IF($B28=\"\",\"\",VLOOKUP($B28,部員名簿!$A$5:$G$103,5,FALSE))","v":""},"","","",null,null,null,null,null,null,null,null,null,null,null,"比内"]
[19,null,"",{"$f":"IF($B29=\"\",\"\",VLOOKUP($B29,部員名簿!$A$5:$G$103,3,FALSE))","v":""},{"$f":"IF($B29=\"\",\"\",VLOOKUP($B29,部員名簿!$A$5:$G$103,6,FALSE))","v":""},{"$f":"IF($B29=\"\",\"\",VLOOKUP($B29,部員名簿!$A$5:$G$103,4,FALSE))","v":""},{"$f":"IF($B29=\"\",\"\",VLOOKUP($B29,部員名簿!$A$5:$G$103,5,FALSE))","v":""},"","","",null,null,null,null,null,null,null,null,null,null,null,"森吉"]
[20,null,"",{"$f":"IF($B30=\"\",\"\",VLOOKUP($B30,部員名簿!$A$5:$G$103,3,FALSE))","v":""},{"$f":"IF($B30=\"\",\"\",VLOOKUP($B30,部員名簿!$A$5:$G$103,6,FALSE))","v":""},{"$f":"IF($B30=\"\",\"\",VLOOKUP($B30,部員名簿!$A$5:$G$103,4,FALSE))","v":""},{"$f":"IF($B30=\"\",\"\",VLOOKUP($B30,部員名簿!$A$5:$G$103,5,FALSE))","v":""},"","","",null,null,null,null,null,null,null,null,null,null,null,"阿仁"]
[21,null,"",{"$f":"IF($B31=\"\",\"\",VLOOKUP($B31,部員名簿!$A$5:$G$103,3,FALSE))","v":""},{"$f":"IF($B31=\"\",\"\",VLOOKUP($B31,部員名簿!$A$5:$G$103,6,FALSE))","v":""},{"$f":"IF($B31=\"\",\"\",VLOOKUP($B31,部員名簿!$A$5:$G$103,4,FALSE))","v":""},{"$f":"IF($B31=\"\",\"\",VLOOKUP($B31,部員名簿!$A$5:$G$103,5,FALSE))","v":""},"","","",null,null,null,null,null,null,null,null,null,null,null,"田代"]
[22,null,"",{"$f":"IF($B32=\"\",\"\",VLOOKUP($B32,部員名簿!$A$5:$G$103,3,FALSE))","v":""},{"$f":"IF($B32=\"\",\"\",VLOOKUP($B32,部員名簿!$A$5:$G$103,6,FALSE))","v":""},{"$f":"IF($B32=\"\",\"\",VLOOKUP($B32,部員名簿!$A$5:$G$103,4,FALSE))","v":""},{"$f":"IF($B32=\"\",\"\",VLOOKUP($B32,部員名簿!$A$5:$G$103,5,FALSE))","v":""},"","","",null,null,null,null,null,null,null,null,null,null,null,"合川"]
[23,null,"",{"$f":"IF($B33=\"\",\"\",VLOOKUP($B33,部員名簿!$A$5:$G$103,3,FALSE))","v":""},{"$f":"IF($B33=\"\",\"\",VLOOKUP($B33,部員名簿!$A$5:$G$103,6,FALSE))","v":""},{"$f":"IF($B33=\"\",\"\",VLOOKUP($B33,部員名簿!$A$5:$G$103,4,FALSE))","v":""},{"$f":"IF($B33=\"\",\"\",VLOOKUP($B33,部員名簿!$A$5:$G$103,5,FALSE))","v":""},"","","",null,null,null,null,null,null,null,null,null,null,null,"上小阿仁"]
[24,null,"",{"$f":"IF($B34=\"\",\"\",VLOOKUP($B34,部員名簿!$A$5:$G$103,3,FALSE))","v":""},{"$f":"IF($B34=\"\",\"\",VLOOKUP($B34,部員名簿!$A$5:$G$103,6,FALSE))","v":""},{"$f":"IF($B34=\"\",\"\",VLOOKUP($B34,部員名簿!$A$5:$G$103,4,FALSE))","v":""},{"$f":"IF($B34=\"\",\"\",VLOOKUP($B34,部員名簿!$A$5:$G$103,5,FALSE))","v":""},"","","",null,null,null,null,null,null,null,null,null,null,null,"能代第一"]
[25,null,"",{"$f":"IF($B35=\"\",\"\",VLOOKUP($B35,部員名簿!$A$5:$G$103,3,FALSE))","v":""},{"$f":"IF($B35=\"\",\"\",VLOOKUP($B35,部員名簿!$A$5:$G$103,6,FALSE))","v":""},{"$f":"IF($B35=\"\",\"\",VLOOKUP($B35,部員名簿!$A$5:$G$103,4,FALSE))","v":""},{"$f":"IF($B35=\"\",\"\",VLOOKUP($B35,部員名簿!$A$5:$G$103,5,FALSE))","v":""},"","","",null,null,null,null,null,null,null,null,null,null,null,"能代第二"]
[26,null,"",{"$f":"IF($B36=\"\",\"\",VLOOKUP($B36,部員名簿!$A$5:$G$103,3,FALSE))","v":""},{"$f":"IF($B36=\"\",\"\",VLOOKUP($B36,部員名簿!$A$5:$G$103,6,FALSE))","v":""},{"$f":"IF($B36=\"\",\"\",VLOOKUP($B36,部員名簿!$A$5:$G$103,4,FALSE))","v":""},{"$f":"IF($B36=\"\",\"\",VLOOKUP($B36,部員名簿!$A$5:$G$103,5,FALSE))","v":""},"","","",null,null,null,null,null,null,null,null,null,null,null,"能代東"]
[27,null,"",{"$f":"IF($B37=\"\",\"\",VLOOKUP($B37,部員名簿!$A$5:$G$103,3,FALSE))","v":""},{"$f":"IF($B37=\"\",\"\",VLOOKUP($B37,部員名簿!$A$5:$G$103,6,FALSE))","v":""},{"$f":"IF($B37=\"\",\"\",VLOOKUP($B37,部員名簿!$A$5:$G$103,4,FALSE))","v":""},{"$f":"IF($B37=\"\",\"\",VLOOKUP($B37,部員名簿!$A$5:$G$103,5,FALSE))","v":""},"","","",null,null,null,null,null,null,null,null,null,null,null,"東雲"]
[28,null,"",{"$f":"IF($B38=\"\",\"\",VLOOKUP($B38,部員名簿!$A$5:$G$103,3,FALSE))","v":""},{"$f":"IF($B38=\"\",\"\",VLOOKUP($B38,部員名簿!$A$5:$G$103,6,FALSE))","v":""},{"$f":"IF($B38=\"\",\"\",VLOOKUP($B38,部員名簿!$A$5:$G$103,4,FALSE))","v":""},{"$f":"IF($B38=\"\",\"\",VLOOKUP($B38,部員名簿!$A$5:$G$103,5,FALSE))","v":""},"","","",null,null,null,null,null,null,null,null,null,null,null,"能代南"]
[29,null,"",{"$f":"IF($B39=\"\",\"\",VLOOKUP($B39,部員名簿!$A$5:$G$103,3,FALSE))","v":""},{"$f":"IF($B39=\"\",\"\",VLOOKUP($B39,部員名簿!$A$5:$G$103,6,FALSE))","v":""},{"$f":"IF($B39=\"\",\"\",VLOOKUP($B39,部員名簿!$A$5:$G$103,4,FALSE))","v":""},{"$f":"IF($B39=\"\",\"\",VLOOKUP($B39,部員名簿!$A$5:$G$103,5,FALSE))","v":""},"","","",null,null,null,null,null,null,null,null,null,null,null,"常盤"]
[30,null,"",{"$f":"IF($B40=\"\",\"\",VLOOKUP($B40,部員名簿!$A$5:$G$103,3,FALSE))","v":""},{"$f":"IF($B40=\"\",\"\",VLOOKUP($B40,部員名簿!$A$5:$G$103,6,FALSE))","v":""},{"$f":"IF($B40=\"\",\"\",VLOOKUP($B40,部員名簿!$A$5:$G$103,4,FALSE))","v":""},{"$f":"IF($B40=\"\",\"\",VLOOKUP($B40,部員名簿!$A$5:$G$103,5,FALSE))","v":""},"","","",null,null,null,null,null,null,null,null,null,null,null,"琴丘"]
[31,null,"",{"$f":"IF($B41=\"\",\"\",VLOOKUP($B41,部員名簿!$A$5:$G$103,3,FALSE))","v":""},{"$f":"IF($B41=\"\",\"\",VLOOKUP($B41,部員名簿!$A$5:$G$103,6,FALSE))","v":""},{"$f":"IF($B41=\"\",\"\",VLOOKUP($B41,部員名簿!$A$5:$G$103,4,FALSE))","v":""},{"$f":"IF($B41=\"\",\"\",VLOOKUP($B41,部員名簿!$A$5:$G$103,5,FALSE))","v":""},"","",{"$f":"IF(M41=\"\",\"\",VLOOKUP(M41,$S$11:$T$13,2,FALSE))","v":""},null,null,null,null,null,null,null,null,null,null,null,"二ツ井"]
[32,null,"",{"$f":"IF($B42=\"\",\"\",VLOOKUP($B42,部員名簿!$A$5:$G$103,3,FALSE))","v":""},{"$f":"IF($B42=\"\",\"\",VLOOKUP($B42,部員名簿!$A$5:$G$103,6,FALSE))","v":""},{"$f":"IF($B42=\"\",\"\",VLOOKUP($B42,部員名簿!$A$5:$G$103,4,FALSE))","v":""},{"$f":"IF($B42=\"\",\"\",VLOOKUP($B42,部員名簿!$A$5:$G$103,5,FALSE))","v":""},"","","",null,null,null,null,null,null,null,null,null,null,null,"八森"]
[33,null,"",{"$f":"IF($B43=\"\",\"\",VLOOKUP($B43,部員名簿!$A$5:$G$103,3,FALSE))","v":""},{"$f":"IF($B43=\"\",\"\",VLOOKUP($B43,部員名簿!$A$5:$G$103,6,FALSE))","v":""},{"$f":"IF($B43=\"\",\"\",VLOOKUP($B43,部員名簿!$A$5:$G$103,4,FALSE))","v":""},{"$f":"IF($B43=\"\",\"\",VLOOKUP($B43,部員名簿!$A$5:$G$103,5,FALSE))","v":""},{"$f":"IF(K43=\"\",\"\",VLOOKUP(K43,$Q$11:$R$29,2,FALSE))","v":""},{"$f":"IF(L43=\"\",\"\",VLOOKUP(L43,$Q$11:$R$29,2,FALSE))","v":""},""]
[34,null,"",{"$f":"IF($B44=\"\",\"\",VLOOKUP($B44,部員名簿!$A$5:$G$103,3,FALSE))","v":""},{"$f":"IF($B44=\"\",\"\",VLOOKUP($B44,部員名簿!$A$5:$G$103,6,FALSE))","v":""},{"$f":"IF($B44=\"\",\"\",VLOOKUP($B44,部員名簿!$A$5:$G$103,4,FALSE))","v":""},{"$f":"IF($B44=\"\",\"\",VLOOKUP($B44,部員名簿!$A$5:$G$103,5,FALSE))","v":""},"","",""]
[35,null,"",{"$f":"IF($B45=\"\",\"\",VLOOKUP($B45,部員名簿!$A$5:$G$103,3,FALSE))","v":""},{"$f":"IF($B45=\"\",\"\",VLOOKUP($B45,部員名簿!$A$5:$G$103,6,FALSE))","v":""},{"$f":"IF($B45=\"\",\"\",VLOOKUP($B45,部員名簿!$A$5:$G$103,4,FALSE))","v":""},{"$f":"IF($B45=\"\",\"\",VLOOKUP($B45,部員名簿!$A$5:$G$103,5,FALSE))","v":""},"","",""]
[36,null,"",{"$f":"IF($B46=\"\",\"\",VLOOKUP($B46,部員名簿!$A$5:$G$103,3,FALSE))","v":""},{"$f":"IF($B46=\"\",\"\",VLOOKUP($B46,部員名簿!$A$5:$G$103,6,FALSE))","v":""},{"$f":"IF($B46=\"\",\"\",VLOOKUP($B46,部員名簿!$A$5:$G$103,4,FALSE))","v":""},{"$f":"IF($B46=\"\",\"\",VLOOKUP($B46,部員名簿!$A$5:$G$103,5,FALSE))","v":""},"","",""]
[37,null,"",{"$f":"IF($B47=\"\",\"\",VLOOKUP($B47,部員名簿!$A$5:$G$103,3,FALSE))","v":""},{"$f":"IF($B47=\"\",\"\",VLOOKUP($B47,部員名簿!$A$5:$G$103,6,FALSE))","v":""},{"$f":"IF($B47=\"\",\"\",VLOOKUP($B47,部員名簿!$A$5:$G$103,4,FALSE))","v":""},{"$f":"IF($B47=\"\",\"\",VLOOKUP($B47,部員名簿!$A$5:$G$103,5,FALSE))","v":""},"","",""]
[38,null,"",{"$f":"IF($B48=\"\",\"\",VLOOKUP($B48,部員名簿!$A$5:$G$103,3,FALSE))","v":""},{"$f":"IF($B48=\"\",\"\",VLOOKUP($B48,部員名簿!$A$5:$G$103,6,FALSE))","v":""},{"$f":"IF($B48=\"\",\"\",VLOOKUP($B48,部員名簿!$A$5:$G$103,4,FALSE))","v":""},{"$f":"IF($B48=\"\",\"\",VLOOKUP($B48,部員名簿!$A$5:$G$103,5,FALSE))","v":""},"","",""]
[39,null,"",{"$f":"IF($B49=\"\",\"\",VLOOKUP($B49,部員名簿!$A$5:$G$103,3,FALSE))","v":""},{"$f":"IF($B49=\"\",\"\",VLOOKUP($B49,部員名簿!$A$5:$G$103,6,FALSE))","v":""},{"$f":"IF($B49=\"\",\"\",VLOOKUP($B49,部員名簿!$A$5:$G$103,4,FALSE))","v":""},{"$f":"IF($B49=\"\",\"\",VLOOKUP($B49,部員名簿!$A$5:$G$103,5,FALSE))","v":""},"","",""]
[40,null,"",{"$f":"IF($B50=\"\",\"\",VLOOKUP($B50,部員名簿!$A$5:$G$103,3,FALSE))","v":""},{"$f":"IF($B50=\"\",\"\",VLOOKUP($B50,部員名簿!$A$5:$G$103,6,FALSE))","v":""},{"$f":"IF($B50=\"\",\"\",VLOOKUP($B50,部員名簿!$A$5:$G$103,4,FALSE))","v":""},{"$f":"IF($B50=\"\",\"\",VLOOKUP($B50,部員名簿!$A$5:$G$103,5,FALSE))","v":""},"","",""]
[41,null,"",{"$f":"IF($B51=\"\",\"\",VLOOKUP($B51,部員名簿!$A$5:$G$103,3,FALSE))","v":""},{"$f":"IF($B51=\"\",\"\",VLOOKUP($B51,部員名簿!$A$5:$G$103,6,FALSE))","v":""},{"$f":"IF($B51=\"\",\"\",VLOOKUP($B51,部員名簿!$A$5:$G$103,4,FALSE))","v":""},{"$f":"IF($B51=\"\",\"\",VLOOKUP($B51,部員名簿!$A$5:$G$103,5,FALSE))","v":""},"","",""]
[null,null,null,null,null,null,null,null,null,null,null,null,null,null,null,null,null,null,null,null,null,"山本"]
[null,null,null,null,null,null,null,null,null,null,null,null,null,null,null,null,null,null,null,null,null,"藤里"]
[null,null,null,null,null,null,null,null,null,null,null,null,null,null,null,null,null,null,null,null,null,"八竜"]
[null,null,null,null,null,null,null,null,null,null,null,null,null,null,null,null,null,null,null,null,null,"峰浜"]
[null,null,null,null,null,null,null,null,null,null,null,null,null,null,null,null,null,null,null,null,null,"秋田東"]
[null,"共通４×１００ｍＲ",null,null,null,null,null,null,null,null,null,null,null,null,null,null,null,null,null,null,null,"秋田南"]
[null,null,null,null,null,null,null,null,null,null,null,null,null,null,null,null,null,null,null,null,null,"山王"]
[null,null,null,null,null,null,null,null,null,null,null,null,null,null,null,null,null,null,null,null,null,"土崎"]
[null,null,null,null,null,null,null,null,null,null,null,null,null,null,null,null,null,null,null,null,null,"将軍野"]
[null,null,null,null,null,null,null,null,null,null,null,null,null,null,null,null,null,null,null,null,null,"秋田西"]
[null,null,null,null,null,null,null,null,null,null,null,null,null,null,null,null,null,null,null,null,null,"太平"]
[null,null,null,null,null,null,null,null,null,null,null,null,null,null,null,null,null,null,null,null,null,"外旭川"]
[null,null,null,null,null,null,null,null,null,null,null,null,null,null,null,null,null,null,null,null,null,"秋田北"]
[null,null,null,null,null,null,null,null,null,null,null,null,null,null,null,null,null,null,null,null,null,"上新城"]
[null,null,null,null,null,null,null,null,null,null,null,null,null,null,null,null,null,null,null,null,null,"豊岩"]
[null,null,null,null,null,null,null,null,null,null,null,null,null,null,null,null,null,null,null,null,null,"城南"]
[null,null,null,null,null,null,null,null,null,null,null,null,null,null,null,null,null,null,null,null,null,"下北手"]
[null,null,null,null,null,null,null,null,null,null,null,null,null,null,null,null,null,null,null,null,null,"下浜"]
[null,null,null,null,null,null,null,null,null,null,null,null,null,null,null,null,null,null,null,null,null,"城東"]
[null,null,null,null,null,null,null,null,null,null,null,null,null,null,null,null,null,null,null,null,null,"泉"]
[null,null,null,null,null,null,null,null,null,null,null,null,null,null,null,null,null,null,null,null,null,"御野場"]
[null,null,null,null,null,null,null,null,null,null,null,null,null,null,null,null,null,null,null,null,null,"勝平"]
[null,null,null,null,null,null,null,null,null,null,null,null,null,null,null,null,null,null,null,null,null,"飯島"]
[null,null,null,null,null,null,null,null,null,null,null,null,null,null,null,null,null,null,null,null,null,"桜"]
[null,null,null,null,null,null,null,null,null,null,null,null,null,null,null,null,null,null,null,null,null,"御所野学院"]
["市新人女子",null,null,null,null,null,null,null,null,null,null,null,null,null,null,null,null,null,null,null,null,"秋田大附属"]
[null,null,"一覧表用データ",null,null,null,null,null,null,null,null,"個表用データ",null,null,null,null,null,null,null,null,null,"聖霊"]
[null,null,"学校名",{"$f":"IF(D3=\"\",\"\",D3)","v":""},null,null,null,null,null,null,null,"学校名（略称）",{"$f":"IF(M3=\"\",\"\",M3)","v":""},null,null,null,null,null,null,null,null,"秋田聾"]
[null,null,"監督氏名",null,"※",null,null,null,null,null,null,null,null,null,null,null,null,null,null,null,null,"男鹿南"]
[null,null,"校長名",{"$f":"IF(D5=\"\",\"\",D5)","v":""},"※",null,null,null,null,null,null,null,null,null,null,null,null,null,null,null,null,"五里合"]
[null,"引率・監督の特例を適用した場合入力→","引率者",null,null,null,null,null,null,null,null,"※の項目は必ず入力してください。\n入力の内容については「必ずお読み下さい」を参照して下さい。",null,null,null,null,null,null,null,null,null,"男鹿北"]
[null,null,"代理監督氏名",null,null,null,null,null,null,null,null,null,null,null,null,null,null,null,null,null,null,"男鹿東"]
[null,null,null,null,null,null,null,null,null,null,null,null,null,null,null,null,null,null,null,null,null,"五城目第一"]
[null,null,null,null,null,null,null,null,null,null,null,null,null,null,null,null,null,null,null,null,null,"八郎潟"]
[null,"通年№","学校名","氏　　　名","学年","フ　リ　ガ　ナ","氏名英語表記","個人種目１","個人種目２","リレー種目","個人種目１","個人種目２","リレー種目","個人情報",null,null,null,null,null,null,null,"天王"]
[1,null,{"$f":"IF(B87=\"\",\"\",$M$79)","v":""},{"$f":"IF($B87=\"\",\"\",VLOOKUP($B87,部員名簿!$A$5:$G$103,3,FALSE))","v":""},{"$f":"IF($B87=\"\",\"\",VLOOKUP($B87,部員名簿!$A$5:$G$103,6,FALSE))","v":""},{"$f":"IF($B87=\"\",\"\",VLOOKUP($B87,部員名簿!$A$5:$G$103,4,FALSE))","v":""},{"$f":"IF($B87=\"\",\"\",VLOOKUP($B87,部員名簿!$A$5:$G$103,5,FALSE))","v":""},{"$f":"IF(K87=\"\",\"\",VLOOKUP(K87,$Q$87:$R$102,2,FALSE))","v":""},{"$f":"IF(L87=\"\",\"\",VLOOKUP(L87,$Q$87:$R$102,2,FALSE))","v":""},{"$f":"IF(M87=\"\",\"\",VLOOKUP(M87,$S$87:$T$89,2,FALSE))","v":""},null,null,null,null,null,null,"１年１００ｍ",31,"共通４×１００ｍＲ",38,null,"天王南"]
[2,null,"",{"$f":"IF($B88=\"\",\"\",VLOOKUP($B88,部員名簿!$A$5:$G$103,3,FALSE))","v":""},{"$f":"IF($B88=\"\",\"\",VLOOKUP($B88,部員名簿!$A$5:$G$103,6,FALSE))","v":""},{"$f":"IF($B88=\"\",\"\",VLOOKUP($B88,部員名簿!$A$5:$G$103,4,FALSE))","v":""},{"$f":"IF($B88=\"\",\"\",VLOOKUP($B88,部員名簿!$A$5:$G$103,5,FALSE))","v":""},{"$f":"IF(K88=\"\",\"\",VLOOKUP(K88,$Q$87:$R$102,2,FALSE))","v":""},{"$f":"IF(L88=\"\",\"\",VLOOKUP(L88,$Q$87:$R$102,2,FALSE))","v":""},{"$f":"IF(M88=\"\",\"\",VLOOKUP(M88,$S$87:$T$89,2,FALSE))","v":""},null,null,null,null,null,null,"２年１００ｍ",21,null,null,null,"払戸"]
[3,null,"",{"$f":"IF($B89=\"\",\"\",VLOOKUP($B89,部員名簿!$A$5:$G$103,3,FALSE))","v":""},{"$f":"IF($B89=\"\",\"\",VLOOKUP($B89,部員名簿!$A$5:$G$103,6,FALSE))","v":""},{"$f":"IF($B89=\"\",\"\",VLOOKUP($B89,部員名簿!$A$5:$G$103,4,FALSE))","v":""},{"$f":"IF($B89=\"\",\"\",VLOOKUP($B89,部員名簿!$A$5:$G$103,5,FALSE))","v":""},"","","",null,null,null,null,null,null,"共通２００ｍ",23,null,null,null,"潟西"]
[4,null,"",{"$f":"IF($B90=\"\",\"\",VLOOKUP($B90,部員名簿!$A$5:$G$103,3,FALSE))","v":""},{"$f":"IF($B90=\"\",\"\",VLOOKUP($B90,部員名簿!$A$5:$G$103,6,FALSE))","v":""},{"$f":"IF($B90=\"\",\"\",VLOOKUP($B90,部員名簿!$A$5:$G$103,4,FALSE))","v":""},{"$f":"IF($B90=\"\",\"\",VLOOKUP($B90,部員名簿!$A$5:$G$103,5,FALSE))","v":""},"","","",null,null,null,null,null,null,"共通８００ｍ",24,null,null,null,"井川"]
[5,null,"",{"$f":"IF($B91=\"\",\"\",VLOOKUP($B91,部員名簿!$A$5:$G$103,3,FALSE))","v":""},{"$f":"IF($B91=\"\",\"\",VLOOKUP($B91,部員名簿!$A$5:$G$103,6,FALSE))","v":""},{"$f":"IF($B91=\"\",\"\",VLOOKUP($B91,部員名簿!$A$5:$G$103,4,FALSE))","v":""},{"$f":"IF($B91=\"\",\"\",VLOOKUP($B91,部員名簿!$A$5:$G$103,5,FALSE))","v":""},"","","",null,null,null,null,null,null,"１年１５００ｍ",25,null,null,null,"大潟"]
[6,null,"",{"$f":"IF($B92=\"\",\"\",VLOOKUP($B92,部員名簿!$A$5:$G$103,3,FALSE))","v":""},{"$f":"IF($B92=\"\",\"\",VLOOKUP($B92,部員名簿!$A$5:$G$103,6,FALSE))","v":""},{"$f":"IF($B92=\"\",\"\",VLOOKUP($B92,部員名簿!$A$5:$G$103,4,FALSE))","v":""},{"$f":"IF($B92=\"\",\"\",VLOOKUP($B92,部員名簿!$A$5:$G$103,5,FALSE))","v":""},"","","",null,null,null,null,null,null,"２年１５００ｍ",26,null,null,null,"羽城"]
[7,null,"",{"$f":"IF($B93=\"\",\"\",VLOOKUP($B93,部員名簿!$A$5:$G$103,3,FALSE))","v":""},{"$f":"IF($B93=\"\",\"\",VLOOKUP($B93,部員名簿!$A$5:$G$103,6,FALSE))","v":""},{"$f":"IF($B93=\"\",\"\",VLOOKUP($B93,部員名簿!$A$5:$G$103,4,FALSE))","v":""},{"$f":"IF($B93=\"\",\"\",VLOOKUP($B93,部員名簿!$A$5:$G$103,5,FALSE))","v":""},"","","",null,null,null,null,null,null,"共通１００ｍＨ",27,null,null,null,"岩見三内"]
[8,null,"",{"$f":"IF($B94=\"\",\"\",VLOOKUP($B94,部員名簿!$A$5:$G$103,3,FALSE))","v":""},{"$f":"IF($B94=\"\",\"\",VLOOKUP($B94,部員名簿!$A$5:$G$103,6,FALSE))","v":""},{"$f":"IF($B94=\"\",\"\",VLOOKUP($B94,部員名簿!$A$5:$G$103,4,FALSE))","v":""},{"$f":"IF($B94=\"\",\"\",VLOOKUP($B94,部員名簿!$A$5:$G$103,5,FALSE))","v":""},"","","",null,null,null,null,null,null,"共通走高跳",28,null,null,null,"河辺"]
[9,null,"",{"$f":"IF($B95=\"\",\"\",VLOOKUP($B95,部員名簿!$A$5:$G$103,3,FALSE))","v":""},{"$f":"IF($B95=\"\",\"\",VLOOKUP($B95,部員名簿!$A$5:$G$103,6,FALSE))","v":""},{"$f":"IF($B95=\"\",\"\",VLOOKUP($B95,部員名簿!$A$5:$G$103,4,FALSE))","v":""},{"$f":"IF($B95=\"\",\"\",VLOOKUP($B95,部員名簿!$A$5:$G$103,5,FALSE))","v":""},"","","",null,null,null,null,null,null,"共通走幅跳",29,null,null,null,"雄和"]
[10,null,"",{"$f":"IF($B96=\"\",\"\",VLOOKUP($B96,部員名簿!$A$5:$G$103,3,FALSE))","v":""},{"$f":"IF($B96=\"\",\"\",VLOOKUP($B96,部員名簿!$A$5:$G$103,6,FALSE))","v":""},{"$f":"IF($B96=\"\",\"\",VLOOKUP($B96,部員名簿!$A$5:$G$103,4,FALSE))","v":""},{"$f":"IF($B96=\"\",\"\",VLOOKUP($B96,部員名簿!$A$5:$G$103,5,FALSE))","v":""},"","","",null,null,null,null,null,null,"共通砲丸投",30,null,null,null,"大正寺"]
[11,null,"",{"$f":"IF($B97=\"\",\"\",VLOOKUP($B97,部員名簿!$A$5:$G$103,3,FALSE))","v":""},{"$f":"IF($B97=\"\",\"\",VLOOKUP($B97,部員名簿!$A$5:$G$103,6,FALSE))","v":""},{"$f":"IF($B97=\"\",\"\",VLOOKUP($B97,部員名簿!$A$5:$G$103,4,FALSE))","v":""},{"$f":"IF($B97=\"\",\"\",VLOOKUP($B97,部員名簿!$A$5:$G$103,5,FALSE))","v":""},"","","",null,null,null,null,null,null,null,null,null,null,null,"本荘北"]
[12,null,"",{"$f":"IF($B98=\"\",\"\",VLOOKUP($B98,部員名簿!$A$5:$G$103,3,FALSE))","v":""},{"$f":"IF($B98=\"\",\"\",VLOOKUP($B98,部員名簿!$A$5:$G$103,6,FALSE))","v":""},{"$f":"IF($B98=\"\",\"\",VLOOKUP($B98,部員名簿!$A$5:$G$103,4,FALSE))","v":""},{"$f":"IF($B98=\"\",\"\",VLOOKUP($B98,部員名簿!$A$5:$G$103,5,FALSE))","v":""},"","","",null,null,null,null,null,null,null,null,null,null,null,"本荘南"]
[13,null,"",{"$f":"IF($B99=\"\",\"\",VLOOKUP($B99,部員名簿!$A$5:$G$103,3,FALSE))","v":""},{"$f":"IF($B99=\"\",\"\",VLOOKUP($B99,部員名簿!$A$5:$G$103,6,FALSE))","v":""},{"$f":"IF($B99=\"\",\"\",VLOOKUP($B99,部員名簿!$A$5:$G$103,4,FALSE))","v":""},{"$f":"IF($B99=\"\",\"\",VLOOKUP($B99,部員名簿!$A$5:$G$103,5,FALSE))","v":""},"","","",null,null,null,null,null,null,null,null,null,null,null,"石沢"]
[14,null,"",{"$f":"IF($B100=\"\",\"\",VLOOKUP($B100,部員名簿!$A$5:$G$103,3,FALSE))","v":""},{"$f":"IF($B100=\"\",\"\",VLOOKUP($B100,部員名簿!$A$5:$G$103,6,FALSE))","v":""},{"$f":"IF($B100=\"\",\"\",VLOOKUP($B100,部員名簿!$A$5:$G$103,4,FALSE))","v":""},{"$f":"IF($B100=\"\",\"\",VLOOKUP($B100,部員名簿!$A$5:$G$103,5,FALSE))","v":""},"","","",null,null,null,null,null,null,null,null,null,null,null,"仁賀保"]
[15,null,"",{"$f":"IF($B101=\"\",\"\",VLOOKUP($B101,部員名簿!$A$5:$G$103,3,FALSE))","v":""},{"$f":"IF($B101=\"\",\"\",VLOOKUP($B101,部員名簿!$A$5:$G$103,6,FALSE))","v":""},{"$f":"IF($B101=\"\",\"\",VLOOKUP($B101,部員名簿!$A$5:$G$103,4,FALSE))","v":""},{"$f":"IF($B101=\"\",\"\",VLOOKUP($B101,部員名簿!$A$5:$G$103,5,FALSE))","v":""},"","","",null,null,null,null,null,null,null,null,null,null,null,"釜ヶ台"]
[16,null,"",{"$f":"IF($B102=\"\",\"\",VLOOKUP($B102,部員名簿!$A$5:$G$103,3,FALSE))","v":""},{"$f":"IF($B102=\"\",\"\",VLOOKUP($B102,部員名簿!$A$5:$G$103,6,FALSE))","v":""},{"$f":"IF($B102=\"\",\"\",VLOOKUP($B102,部員名簿!$A$5:$G$103,4,FALSE))","v":""},{"$f":"IF($B102=\"\",\"\",VLOOKUP($B102,部員名簿!$A$5:$G$103,5,FALSE))","v":""},"","","",null,null,null,null,null,null,null,null,null,null,null,"金浦"]
[17,null,"",{"$f":"IF($B103=\"\",\"\",VLOOKUP($B103,部員名簿!$A$5:$G$103,3,FALSE))","v":""},{"$f":"IF($B103=\"\",\"\",VLOOKUP($B103,部員名簿!$A$5:$G$103,6,FALSE))","v":""},{"$f":"IF($B103=\"\",\"\",VLOOKUP($B103,部員名簿!$A$5:$G$103,4,FALSE))","v":""},{"$f":"IF($B103=\"\",\"\",VLOOKUP($B103,部員名簿!$A$5:$G$103,5,FALSE))","v":""},"","","",null,null,null,null,null,null,null,null,null,null,null,"象潟"]
[18,null,"",{"$f":"IF($B104=\"\",\"\",VLOOKUP($B104,部員名簿!$A$5:$G$103,3,FALSE))","v":""},{"$f":"IF($B104=\"\",\"\",VLOOKUP($B104,部員名簿!$A$5:$G$103,6,FALSE))","v":""},{"$f":"IF($B104=\"\",\"\",VLOOKUP($B104,部員名簿!$A$5:$G$103,4,FALSE))","v":""},{"$f":"IF($B104=\"\",\"\",VLOOKUP($B104,部員名簿!$A$5:$G$103,5,FALSE))","v":""},"","","",null,null,null,null,null,null,null,null,null,null,null,"矢島"]
[19,null,"",{"$f":"IF($B105=\"\",\"\",VLOOKUP($B105,部員名簿!$A$5:$G$103,3,FALSE))","v":""},{"$f":"IF($B105=\"\",\"\",VLOOKUP($B105,部員名簿!$A$5:$G$103,6,FALSE))","v":""},{"$f":"IF($B105=\"\",\"\",VLOOKUP($B105,部員名簿!$A$5:$G$103,4,FALSE))","v":""},{"$f":"IF($B105=\"\",\"\",VLOOKUP($B105,部員名簿!$A$5:$G$103,5,FALSE))","v":""},"","","",null,null,null,null,null,null,null,null,null,null,null,"岩城"]
[20,null,"",{"$f":"IF($B106=\"\",\"\",VLOOKUP($B106,部員名簿!$A$5:$G$103,3,FALSE))","v":""},{"$f":"IF($B106=\"\",\"\",VLOOKUP($B106,部員名簿!$A$5:$G$103,6,FALSE))","v":""},{"$f":"IF($B106=\"\",\"\",VLOOKUP($B106,部員名簿!$A$5:$G$103,4,FALSE))","v":""},{"$f":"IF($B106=\"\",\"\",VLOOKUP($B106,部員名簿!$A$5:$G$103,5,FALSE))","v":""},"","","",null,null,null,null,null,null,null,null,null,null,null,"由利"]
[21,null,"",{"$f":"IF($B107=\"\",\"\",VLOOKUP($B107,部員名簿!$A$5:$G$103,3,FALSE))","v":""},{"$f":"IF($B107=\"\",\"\",VLOOKUP($B107,部員名簿!$A$5:$G$103,6,FALSE))","v":""},{"$f":"IF($B107=\"\",\"\",VLOOKUP($B107,部員名簿!$A$5:$G$103,4,FALSE))","v":""},{"$f":"IF($B107=\"\",\"\",VLOOKUP($B107,部員名簿!$A$5:$G$103,5,FALSE))","v":""},"","","",null,null,null,null,null,null,null,null,null,null,null,"大内"]
[22,null,"",{"$f":"IF($B108=\"\",\"\",VLOOKUP($B108,部員名簿!$A$5:$G$103,3,FALSE))","v":""},{"$f":"IF($B108=\"\",\"\",VLOOKUP($B108,部員名簿!$A$5:$G$103,6,FALSE))","v":""},{"$f":"IF($B108=\"\",\"\",VLOOKUP($B108,部員名簿!$A$5:$G$103,4,FALSE))","v":""},{"$f":"IF($B108=\"\",\"\",VLOOKUP($B108,部員名簿!$A$5:$G$103,5,FALSE))","v":""},"","","",null,null,null,null,null,null,null,null,null,null,null,"出羽"]
[23,null,"",{"$f":"IF($B109=\"\",\"\",VLOOKUP($B109,部員名簿!$A$5:$G$103,3,FALSE))","v":""},{"$f":"IF($B109=\"\",\"\",VLOOKUP($B109,部員名簿!$A$5:$G$103,6,FALSE))","v":""},{"$f":"IF($B109=\"\",\"\",VLOOKUP($B109,部員名簿!$A$5:$G$103,4,FALSE))","v":""},{"$f":"IF($B109=\"\",\"\",VLOOKUP($B109,部員名簿!$A$5:$G$103,5,FALSE))","v":""},"","","",null,null,null,null,null,null,null,null,null,null,null,"西目"]
[24,null,"",{"$f":"IF($B110=\"\",\"\",VLOOKUP($B110,部員名簿!$A$5:$G$103,3,FALSE))","v":""},{"$f":"IF($B110=\"\",\"\",VLOOKUP($B110,部員名簿!$A$5:$G$103,6,FALSE))","v":""},{"$f":"IF($B110=\"\",\"\",VLOOKUP($B110,部員名簿!$A$5:$G$103,4,FALSE))","v":""},{"$f":"IF($B110=\"\",\"\",VLOOKUP($B110,部員名簿!$A$5:$G$103,5,FALSE))","v":""},"","","",null,null,null,null,null,null,null,null,null,null,null,"鳥海"]
[25,null,"",{"$f":"IF($B111=\"\",\"\",VLOOKUP($B111,部員名簿!$A$5:$G$103,3,FALSE))","v":""},{"$f":"IF($B111=\"\",\"\",VLOOKUP($B111,部員名簿!$A$5:$G$103,6,FALSE))","v":""},{"$f":"IF($B111=\"\",\"\",VLOOKUP($B111,部員名簿!$A$5:$G$103,4,FALSE))","v":""},{"$f":"IF($B111=\"\",\"\",VLOOKUP($B111,部員名簿!$A$5:$G$103,5,FALSE))","v":""},"","","",null,null,null,null,null,null,null,null,null,null,null,"東由利"]
[26,null,"",{"$f":"IF($B112=\"\",\"\",VLOOKUP($B112,部員名簿!$A$5:$G$103,3,FALSE))","v":""},{"$f":"IF($B112=\"\",\"\",VLOOKUP($B112,部員名簿!$A$5:$G$103,6,FALSE))","v":""},{"$f":"IF($B112=\"\",\"\",VLOOKUP($B112,部員名簿!$A$5:$G$103,4,FALSE))","v":""},{"$f":"IF($B112=\"\",\"\",VLOOKUP($B112,部員名簿!$A$5:$G$103,5,FALSE))","v":""},"","","",null,null,null,null,null,null,null,null,null,null,null,"大曲"]
[27,null,"",{"$f":"IF($B113=\"\",\"\",VLOOKUP($B113,部員名簿!$A$5:$G$103,3,FALSE))","v":""},{"$f":"IF($B113=\"\",\"\",VLOOKUP($B113,部員名簿!$A$5:$G$103,6,FALSE))","v":""},{"$f":"IF($B113=\"\",\"\",VLOOKUP($B113,部員名簿!$A$5:$G$103,4,FALSE))","v":""},{"$f":"IF($B113=\"\",\"\",VLOOKUP($B113,部員名簿!$A$5:$G$103,5,FALSE))","v":""},"","","",null,null,null,null,null,null,null,null,null,null,null,"大曲西"]
[28,null,"",{"$f":"IF($B114=\"\",\"\",VLOOKUP($B114,部員名簿!$A$5:$G$103,3,FALSE))","v":""},{"$f":"IF($B114=\"\",\"\",VLOOKUP($B114,部員名簿!$A$5:$G$103,6,FALSE))","v":""},{"$f":"IF($B114=\"\",\"\",VLOOKUP($B114,部員名簿!$A$5:$G$103,4,FALSE))","v":""},{"$f":"IF($B114=\"\",\"\",VLOOKUP($B114,部員名簿!$A$5:$G$103,5,FALSE))","v":""},"","","",null,null,null,null,null,null,null,null,null,null,null,"大曲南"]
[29,null,"",{"$f":"IF($B115=\"\",\"\",VLOOKUP($B115,部員名簿!$A$5:$G$103,3,FALSE))","v":""},{"$f":"IF($B115=\"\",\"\",VLOOKUP($B115,部員名簿!$A$5:$G$103,6,FALSE))","v":""},{"$f":"IF($B115=\"\",\"\",VLOOKUP($B115,部員名簿!$A$5:$G$103,4,FALSE))","v":""},{"$f":"IF($B115=\"\",\"\",VLOOKUP($B115,部員名簿!$A$5:$G$103,5,FALSE))","v":""},"","","",null,null,null,null,null,null,null,null,null,null,null,"平和"]
[30,null,"",{"$f":"IF($B116=\"\",\"\",VLOOKUP($B116,部員名簿!$A$5:$G$103,3,FALSE))","v":""},{"$f":"IF($B116=\"\",\"\",VLOOKUP($B116,部員名簿!$A$5:$G$103,6,FALSE))","v":""},{"$f":"IF($B116=\"\",\"\",VLOOKUP($B116,部員名簿!$A$5:$G$103,4,FALSE))","v":""},{"$f":"IF($B116=\"\",\"\",VLOOKUP($B116,部員名簿!$A$5:$G$103,5,FALSE))","v":""},"","","",null,null,null,null,null,null,null,null,null,null,null,"西仙北東"]
[31,null,"",{"$f":"IF($B117=\"\",\"\",VLOOKUP($B117,部員名簿!$A$5:$G$103,3,FALSE))","v":""},{"$f":"IF($B117=\"\",\"\",VLOOKUP($B117,部員名簿!$A$5:$G$103,6,FALSE))","v":""},{"$f":"IF($B117=\"\",\"\",VLOOKUP($B117,部員名簿!$A$5:$G$103,4,FALSE))","v":""},{"$f":"IF($B117=\"\",\"\",VLOOKUP($B117,部員名簿!$A$5:$G$103,5,FALSE))","v":""},"","",{"$f":"IF(M117=\"\",\"\",VLOOKUP(M117,$S$87:$T$89,2,FALSE))","v":""},null,null,null,null,null,null,null,null,null,null,null,"西仙北西"]
[32,null,"",{"$f":"IF($B118=\"\",\"\",VLOOKUP($B118,部員名簿!$A$5:$G$103,3,FALSE))","v":""},{"$f":"IF($B118=\"\",\"\",VLOOKUP($B118,部員名簿!$A$5:$G$103,6,FALSE))","v":""},{"$f":"IF($B118=\"\",\"\",VLOOKUP($B118,部員名簿!$A$5:$G$103,4,FALSE))","v":""},{"$f":"IF($B118=\"\",\"\",VLOOKUP($B118,部員名簿!$A$5:$G$103,5,FALSE))","v":""},"","","",null,null,null,null,null,null,null,null,null,null,null,"角館"]
[33,null,"",{"$f":"IF($B119=\"\",\"\",VLOOKUP($B119,部員名簿!$A$5:$G$103,3,FALSE))","v":""},{"$f":"IF($B119=\"\",\"\",VLOOKUP($B119,部員名簿!$A$5:$G$103,6,FALSE))","v":""},{"$f":"IF($B119=\"\",\"\",VLOOKUP($B119,部員名簿!$A$5:$G$103,4,FALSE))","v":""},{"$f":"IF($B119=\"\",\"\",VLOOKUP($B119,部員名簿!$A$5:$G$103,5,FALSE))","v":""},{"$f":"IF(K119=\"\",\"\",VLOOKUP(K119,$Q$87:$R$102,2,FALSE))","v":""},"",""]
[34,null,"",{"$f":"IF($B120=\"\",\"\",VLOOKUP($B120,部員名簿!$A$5:$G$103,3,FALSE))","v":""},{"$f":"IF($B120=\"\",\"\",VLOOKUP($B120,部員名簿!$A$5:$G$103,6,FALSE))","v":""},{"$f":"IF($B120=\"\",\"\",VLOOKUP($B120,部員名簿!$A$5:$G$103,4,FALSE))","v":""},{"$f":"IF($B120=\"\",\"\",VLOOKUP($B120,部員名簿!$A$5:$G$103,5,FALSE))","v":""},"","",""]
[35,null,"",{"$f":"IF($B121=\"\",\"\",VLOOKUP($B121,部員名簿!$A$5:$G$103,3,FALSE))","v":""},{"$f":"IF($B121=\"\",\"\",VLOOKUP($B121,部員名簿!$A$5:$G$103,6,FALSE))","v":""},{"$f":"IF($B121=\"\",\"\",VLOOKUP($B121,部員名簿!$A$5:$G$103,4,FALSE))","v":""},{"$f":"IF($B121=\"\",\"\",VLOOKUP($B121,部員名簿!$A$5:$G$103,5,FALSE))","v":""},"","",""]
[36,null,"",{"$f":"IF($B122=\"\",\"\",VLOOKUP($B122,部員名簿!$A$5:$G$103,3,FALSE))","v":""},{"$f":"IF($B122=\"\",\"\",VLOOKUP($B122,部員名簿!$A$5:$G$103,6,FALSE))","v":""},{"$f":"IF($B122=\"\",\"\",VLOOKUP($B122,部員名簿!$A$5:$G$103,4,FALSE))","v":""},{"$f":"IF($B122=\"\",\"\",VLOOKUP($B122,部員名簿!$A$5:$G$103,5,FALSE))","v":""},"","",""]
[37,null,"",{"$f":"IF($B123=\"\",\"\",VLOOKUP($B123,部員名簿!$A$5:$G$103,3,FALSE))","v":""},{"$f":"IF($B123=\"\",\"\",VLOOKUP($B123,部員名簿!$A$5:$G$103,6,FALSE))","v":""},{"$f":"IF($B123=\"\",\"\",VLOOKUP($B123,部員名簿!$A$5:$G$103,4,FALSE))","v":""},{"$f":"IF($B123=\"\",\"\",VLOOKUP($B123,部員名簿!$A$5:$G$103,5,FALSE))","v":""},"","",""]
[null,null,null,null,null,null,null,null,null,null,null,null,null,null,null,null,null,null,null,null,null,"六郷"]
[null,null,null,null,null,null,null,null,null,null,null,null,null,null,null,null,null,null,null,null,null,"中仙"]
[null,null,null,null,null,null,null,null,null,null,null,null,null,null,null,null,null,null,null,null,null,"豊成"]
[null,null,null,null,null,null,null,null,null,null,null,null,null,null,null,null,null,null,null,null,null,"生保内"]
[null,null,null,null,null,null,null,null,null,null,null,null,null,null,null,null,null,null,null,null,null,"神代"]
[null,"共通４×１００ｍＲ",null,null,null,null,null,null,null,null,null,null,null,null,null,null,null,null,null,null,null,"協和"]
[null,null,null,null,null,null,null,null,null,null,null,null,null,null,null,null,null,null,null,null,null,"太田"]
[null,null,null,null,null,null,null,null,null,null,null,null,null,null,null,null,null,null,null,null,null,"南外"]
[null,null,null,null,null,null,null,null,null,null,null,null,null,null,null,null,null,null,null,null,null,"仙北"]
[null,null,null,null,null,null,null,null,null,null,null,null,null,null,null,null,null,null,null,null,null,"西明寺"]
[null,null,null,null,null,null,null,null,null,null,null,null,null,null,null,null,null,null,null,null,null,"檜木内"]
[null,null,null,null,null,null,null,null,null,null,null,null,null,null,null,null,null,null,null,null,null,"千畑"]
[null,null,null,null,null,null,null,null,null,null,null,null,null,null,null,null,null,null,null,null,null,"仙南"]
[null,null,null,null,null,null,null,null,null,null,null,null,null,null,null,null,null,null,null,null,null,"鳳"]
[null,null,null,null,null,null,null,null,null,null,null,null,null,null,null,null,null,null,null,null,null,"横手西"]
[null,null,null,null,null,null,null,null,null,null,null,null,null,null,null,null,null,null,null,null,null,"金沢"]
[null,null,null,null,null,null,null,null,null,null,null,null,null,null,null,null,null,null,null,null,null,"横手南"]
[null,null,null,null,null,null,null,null,null,null,null,null,null,null,null,null,null,null,null,null,null,"増田"]
[null,null,null,null,null,null,null,null,null,null,null,null,null,null,null,null,null,null,null,null,null,"平鹿"]
[null,null,null,null,null,null,null,null,null,null,null,null,null,null,null,null,null,null,null,null,null,"雄物川"]
[null,null,"","","","","","","","",null,null,null,null,null,null,null,null,null,null,null,"大森"]
[null,null,"","","","","","","","",null,null,null,null,null,null,null,null,null,null,null,"十文字"]
[null,null,"","","","","","","","",null,null,null,null,null,null,null,null,null,null,null,"十文字西"]
[null,null,"","","","","","","","",null,null,null,null,null,null,null,null,null,null,null,"山内"]
[null,null,"","","","","","","","",null,null,null,null,null,null,null,null,null,null,null,"大雄"]
[null,null,"","","","","","","","",null,null,null,null,null,null,null,null,null,null,null,"横手清陵学院"]
[null,null,"","","","","","","","",null,null,null,null,null,null,null,null,null,null,null,"湯沢北"]
[null,null,"","","","","","","","",null,null,null,null,null,null,null,null,null,null,null,"山田"]
[null,null,"","","","","","","","",null,null,null,null,null,null,null,null,null,null,null,"須川"]
[null,null,"","","","","","","","",null,null,null,null,null,null,null,null,null,null,null,"湯沢南"]
[null,null,"","","","","","","","",null,null,null,null,null,null,null,null,null,null,null,"稲川"]
[null,null,"","","","","","","","",null,null,null,null,null,null,null,null,null,null,null,"雄勝"]
[null,null,"","","","","","","","",null,null,null,null,null,null,null,null,null,null,null,"三輪"]
[null,null,"","","","","","","","",null,null,null,null,null,null,null,null,null,null,null,"高瀬"]
[null,null,"","","","","","","","",null,null,null,null,null,null,null,null,null,null,null,"羽後"]
[null,null,"","","","","","","","",null,null,null,null,null,null,null,null,null,null,null,"東成瀬"]
[null,null,"","","","","","","","",null,null,null,null,null,null,null,null,null,null,null,"皆瀬"]
[null,null,"","","","","","","",""]
[null,null,"","","","","","","",""]
[null,null,"","","","","","","",""]
[null,null,"","","","","","","",""]
[null,null,"","","","","","","",""]
[null,1101,"泉","佐々木夏帆",2,"ｻｻｷ ｶﾎ","SASAKI Kaho","","",38]
[null,null,"","","","",null,"","",""]
[null,null,"","","","",null,"","",""]
[null,null,"","","","",null,"","",""]
[null,null,"","","","",null,"","",""]
[null,null,"","","","",null,"","",""]
[null,null,"","","","",null,"","",""]
[null,null,"","","","",null,"","",""]
[null,null,"","","","",null,"","",""]

{"sheet":"男一覧","index":2,"n_rows":64,"n_cols":42,"rows_kept":64,"cut":false,"hidden":false,"merged":[[59,2,60,3],[0,0,0,19],[47,12,47,18],[2,12,2,15],[2,16,2,17],[2,18,2,19],[1,2,1,9],[2,2,2,9],[0,22,1,22],[56,2,56,5],[52,8,52,9],[56,7,56,11],[48,0,48,9],[56,12,56,17],[52,10,52,16],[50,1,50,18],[52,1,52,5]]}
["令和８年度　秋田市中学校秋季陸上競技大会　参加申込書一覧〔男子〕"]
[null,"学校名(",{"$f":"IF(B53=\"\",\"\",B53)","v":""},null,null,null,null,null,null,null,")"]
[null,"監督名(",{"$f":"IF(新人入力!D4=\"\",\"\",新人入力!D4)","v":""},null,null,null,null,null,null,null,")",null,"参加人数（",null,null,null,{"$f":"COUNTA(新人入力!B11:B51)","v":0},null,"）名"]
["ナンバー\nカード","氏　　名","フリガナ","学年","１年\n100","２年\n100","共通\n200","共通\n400","共通\n800","１年\n1500","２年\n1500","共通\n3000","共通\n110H","共通\n走高","共通\n棒高","共通\n走幅","共通\n砲丸",null,null,"共通\n400Ｒ"]
[{"$f":"IF(新人入力!B11=\"\",\"\",新人入力!B11)","v":""},{"$f":"IF(新人入力!D11=\"\",\"\",新人入力!D11)","v":""},{"$f":"IF(新人入力!F11=\"\",\"\",新人入力!F11)","v":""},{"$f":"IF(新人入力!E11=\"\",\"\",新人入力!E11)","v":""},{"$f":"IF(OR(新人入力!$H11=13,新人入力!$I11=13),\"○\",\"\")","v":""},{"$f":"IF(OR(新人入力!$H11=1,新人入力!$I11=1),\"○\",\"\")","v":""},{"$f":"IF(OR(新人入力!$H11=3,新人入力!$I11=3),\"○\",\"\")","v":""},{"$f":"IF(OR(新人入力!$H11=4,新人入力!$I11=4),\"○\",\"\")","v":""},{"$f":"IF(OR(新人入力!$H11=5,新人入力!$I11=5),\"○\",\"\")","v":""},{"$f":"IF(OR(新人入力!$H11=14,新人入力!$I11=14),\"○\",\"\")","v":""},{"$f":"IF(OR(新人入力!$H11=6,新人入力!$I11=6),\"○\",\"\")","v":""},{"$f":"IF(OR(新人入力!$H11=7,新人入力!$I11=7),\"○\",\"\")","v":""},{"$f":"IF(OR(新人入力!$H11=8,新人入力!$I11=8),\"○\",\"\")","v":""},{"$f":"IF(OR(新人入力!$H11=9,新人入力!$I11=9),\"○\",\"\")","v":""},{"$f":"IF(OR(新人入力!$H11=10,新人入力!$I11=10),\"○\",\"\")","v":""},{"$f":"IF(OR(新人入力!$H11=11,新人入力!$I11=11),\"○\",\"\")","v":""},{"$f":"IF(OR(新人入力!$H11=12,新人入力!$I11=12),\"○\",\"\")","v":""},null,null,{"$f":"IF(新人入力!J11=18,\"○\",\"\")","v":""},null,null,null,null,null,null,null,null,null,null,null,null,null,null,null,null,null,null,null,null,null,"○"]
[{"$f":"IF(新人入力!B12=\"\",\"\",新人入力!B12)","v":""},{"$f":"IF(新人入力!D12=\"\",\"\",新人入力!D12)","v":""},{"$f":"IF(新人入力!F12=\"\",\"\",新人入力!F12)","v":""},{"$f":"IF(新人入力!E12=\"\",\"\",新人入力!E12)","v":""},{"$f":"IF(OR(新人入力!$H12=13,新人入力!$I12=13),\"○\",\"\")","v":""},{"$f":"IF(OR(新人入力!$H12=1,新人入力!$I12=1),\"○\",\"\")","v":""},{"$f":"IF(OR(新人入力!$H12=3,新人入力!$I12=3),\"○\",\"\")","v":""},{"$f":"IF(OR(新人入力!$H12=4,新人入力!$I12=4),\"○\",\"\")","v":""},{"$f":"IF(OR(新人入力!$H12=5,新人入力!$I12=5),\"○\",\"\")","v":""},{"$f":"IF(OR(新人入力!$H12=14,新人入力!$I12=14),\"○\",\"\")","v":""},{"$f":"IF(OR(新人入力!$H12=6,新人入力!$I12=6),\"○\",\"\")","v":""},{"$f":"IF(OR(新人入力!$H12=7,新人入力!$I12=7),\"○\",\"\")","v":""},{"$f":"IF(OR(新人入力!$H12=8,新人入力!$I12=8),\"○\",\"\")","v":""},{"$f":"IF(OR(新人入力!$H12=9,新人入力!$I12=9),\"○\",\"\")","v":""},{"$f":"IF(OR(新人入力!$H12=10,新人入力!$I12=10),\"○\",\"\")","v":""},{"$f":"IF(OR(新人入力!$H12=11,新人入力!$I12=11),\"○\",\"\")","v":""},{"$f":"IF(OR(新人入力!$H12=12,新人入力!$I12=12),\"○\",\"\")","v":""},null,null,{"$f":"IF(新人入力!J12=18,\"○\",\"\")","v":""}]
[{"$f":"IF(新人入力!B13=\"\",\"\",新人入力!B13)","v":""},{"$f":"IF(新人入力!D13=\"\",\"\",新人入力!D13)","v":""},{"$f":"IF(新人入力!F13=\"\",\"\",新人入力!F13)","v":""},{"$f":"IF(新人入力!E13=\"\",\"\",新人入力!E13)","v":""},{"$f":"IF(OR(新人入力!$H13=13,新人入力!$I13=13),\"○\",\"\")","v":""},{"$f":"IF(OR(新人入力!$H13=1,新人入力!$I13=1),\"○\",\"\")","v":""},{"$f":"IF(OR(新人入力!$H13=3,新人入力!$I13=3),\"○\",\"\")","v":""},{"$f":"IF(OR(新人入力!$H13=4,新人入力!$I13=4),\"○\",\"\")","v":""},{"$f":"IF(OR(新人入力!$H13=5,新人入力!$I13=5),\"○\",\"\")","v":""},{"$f":"IF(OR(新人入力!$H13=14,新人入力!$I13=14),\"○\",\"\")","v":""},{"$f":"IF(OR(新人入力!$H13=6,新人入力!$I13=6),\"○\",\"\")","v":""},{"$f":"IF(OR(新人入力!$H13=7,新人入力!$I13=7),\"○\",\"\")","v":""},{"$f":"IF(OR(新人入力!$H13=8,新人入力!$I13=8),\"○\",\"\")","v":""},{"$f":"IF(OR(新人入力!$H13=9,新人入力!$I13=9),\"○\",\"\")","v":""},{"$f":"IF(OR(新人入力!$H13=10,新人入力!$I13=10),\"○\",\"\")","v":""},{"$f":"IF(OR(新人入力!$H13=11,新人入力!$I13=11),\"○\",\"\")","v":""},{"$f":"IF(OR(新人入力!$H13=12,新人入力!$I13=12),\"○\",\"\")","v":""},null,null,{"$f":"IF(新人入力!J13=18,\"○\",\"\")","v":""}]
[{"$f":"IF(新人入力!B14=\"\",\"\",新人入力!B14)","v":""},{"$f":"IF(新人入力!D14=\"\",\"\",新人入力!D14)","v":""},{"$f":"IF(新人入力!F14=\"\",\"\",新人入力!F14)","v":""},{"$f":"IF(新人入力!E14=\"\",\"\",新人入力!E14)","v":""},{"$f":"IF(OR(新人入力!$H14=13,新人入力!$I14=13),\"○\",\"\")","v":""},{"$f":"IF(OR(新人入力!$H14=1,新人入力!$I14=1),\"○\",\"\")","v":""},{"$f":"IF(OR(新人入力!$H14=3,新人入力!$I14=3),\"○\",\"\")","v":""},{"$f":"IF(OR(新人入力!$H14=4,新人入力!$I14=4),\"○\",\"\")","v":""},{"$f":"IF(OR(新人入力!$H14=5,新人入力!$I14=5),\"○\",\"\")","v":""},{"$f":"IF(OR(新人入力!$H14=14,新人入力!$I14=14),\"○\",\"\")","v":""},{"$f":"IF(OR(新人入力!$H14=6,新人入力!$I14=6),\"○\",\"\")","v":""},{"$f":"IF(OR(新人入力!$H14=7,新人入力!$I14=7),\"○\",\"\")","v":""},{"$f":"IF(OR(新人入力!$H14=8,新人入力!$I14=8),\"○\",\"\")","v":""},{"$f":"IF(OR(新人入力!$H14=9,新人入力!$I14=9),\"○\",\"\")","v":""},{"$f":"IF(OR(新人入力!$H14=10,新人入力!$I14=10),\"○\",\"\")","v":""},{"$f":"IF(OR(新人入力!$H14=11,新人入力!$I14=11),\"○\",\"\")","v":""},{"$f":"IF(OR(新人入力!$H14=12,新人入力!$I14=12),\"○\",\"\")","v":""},null,null,{"$f":"IF(新人入力!J14=18,\"○\",\"\")","v":""}]
[{"$f":"IF(新人入力!B15=\"\",\"\",新人入力!B15)","v":""},{"$f":"IF(新人入力!D15=\"\",\"\",新人入力!D15)","v":""},{"$f":"IF(新人入力!F15=\"\",\"\",新人入力!F15)","v":""},{"$f":"IF(新人入力!E15=\"\",\"\",新人入力!E15)","v":""},{"$f":"IF(OR(新人入力!$H15=13,新人入力!$I15=13),\"○\",\"\")","v":""},{"$f":"IF(OR(新人入力!$H15=1,新人入力!$I15=1),\"○\",\"\")","v":""},{"$f":"IF(OR(新人入力!$H15=3,新人入力!$I15=3),\"○\",\"\")","v":""},{"$f":"IF(OR(新人入力!$H15=4,新人入力!$I15=4),\"○\",\"\")","v":""},{"$f":"IF(OR(新人入力!$H15=5,新人入力!$I15=5),\"○\",\"\")","v":""},{"$f":"IF(OR(新人入力!$H15=14,新人入力!$I15=14),\"○\",\"\")","v":""},{"$f":"IF(OR(新人入力!$H15=6,新人入力!$I15=6),\"○\",\"\")","v":""},{"$f":"IF(OR(新人入力!$H15=7,新人入力!$I15=7),\"○\",\"\")","v":""},{"$f":"IF(OR(新人入力!$H15=8,新人入力!$I15=8),\"○\",\"\")","v":""},{"$f":"IF(OR(新人入力!$H15=9,新人入力!$I15=9),\"○\",\"\")","v":""},{"$f":"IF(OR(新人入力!$H15=10,新人入力!$I15=10),\"○\",\"\")","v":""},{"$f":"IF(OR(新人入力!$H15=11,新人入力!$I15=11),\"○\",\"\")","v":""},{"$f":"IF(OR(新人入力!$H15=12,新人入力!$I15=12),\"○\",\"\")","v":""},null,null,{"$f":"IF(新人入力!J15=18,\"○\",\"\")","v":""}]
[{"$f":"IF(新人入力!B16=\"\",\"\",新人入力!B16)","v":""},{"$f":"IF(新人入力!D16=\"\",\"\",新人入力!D16)","v":""},{"$f":"IF(新人入力!F16=\"\",\"\",新人入力!F16)","v":""},{"$f":"IF(新人入力!E16=\"\",\"\",新人入力!E16)","v":""},{"$f":"IF(OR(新人入力!$H16=13,新人入力!$I16=13),\"○\",\"\")","v":""},{"$f":"IF(OR(新人入力!$H16=1,新人入力!$I16=1),\"○\",\"\")","v":""},{"$f":"IF(OR(新人入力!$H16=3,新人入力!$I16=3),\"○\",\"\")","v":""},{"$f":"IF(OR(新人入力!$H16=4,新人入力!$I16=4),\"○\",\"\")","v":""},{"$f":"IF(OR(新人入力!$H16=5,新人入力!$I16=5),\"○\",\"\")","v":""},{"$f":"IF(OR(新人入力!$H16=14,新人入力!$I16=14),\"○\",\"\")","v":""},{"$f":"IF(OR(新人入力!$H16=6,新人入力!$I16=6),\"○\",\"\")","v":""},{"$f":"IF(OR(新人入力!$H16=7,新人入力!$I16=7),\"○\",\"\")","v":""},{"$f":"IF(OR(新人入力!$H16=8,新人入力!$I16=8),\"○\",\"\")","v":""},{"$f":"IF(OR(新人入力!$H16=9,新人入力!$I16=9),\"○\",\"\")","v":""},{"$f":"IF(OR(新人入力!$H16=10,新人入力!$I16=10),\"○\",\"\")","v":""},{"$f":"IF(OR(新人入力!$H16=11,新人入力!$I16=11),\"○\",\"\")","v":""},{"$f":"IF(OR(新人入力!$H16=12,新人入力!$I16=12),\"○\",\"\")","v":""},null,null,{"$f":"IF(新人入力!J16=18,\"○\",\"\")","v":""}]
[{"$f":"IF(新人入力!B17=\"\",\"\",新人入力!B17)","v":""},{"$f":"IF(新人入力!D17=\"\",\"\",新人入力!D17)","v":""},{"$f":"IF(新人入力!F17=\"\",\"\",新人入力!F17)","v":""},{"$f":"IF(新人入力!E17=\"\",\"\",新人入力!E17)","v":""},{"$f":"IF(OR(新人入力!$H17=13,新人入力!$I17=13),\"○\",\"\")","v":""},{"$f":"IF(OR(新人入力!$H17=1,新人入力!$I17=1),\"○\",\"\")","v":""},{"$f":"IF(OR(新人入力!$H17=3,新人入力!$I17=3),\"○\",\"\")","v":""},{"$f":"IF(OR(新人入力!$H17=4,新人入力!$I17=4),\"○\",\"\")","v":""},{"$f":"IF(OR(新人入力!$H17=5,新人入力!$I17=5),\"○\",\"\")","v":""},{"$f":"IF(OR(新人入力!$H17=14,新人入力!$I17=14),\"○\",\"\")","v":""},{"$f":"IF(OR(新人入力!$H17=6,新人入力!$I17=6),\"○\",\"\")","v":""},{"$f":"IF(OR(新人入力!$H17=7,新人入力!$I17=7),\"○\",\"\")","v":""},{"$f":"IF(OR(新人入力!$H17=8,新人入力!$I17=8),\"○\",\"\")","v":""},{"$f":"IF(OR(新人入力!$H17=9,新人入力!$I17=9),\"○\",\"\")","v":""},{"$f":"IF(OR(新人入力!$H17=10,新人入力!$I17=10),\"○\",\"\")","v":""},{"$f":"IF(OR(新人入力!$H17=11,新人入力!$I17=11),\"○\",\"\")","v":""},{"$f":"IF(OR(新人入力!$H17=12,新人入力!$I17=12),\"○\",\"\")","v":""},null,null,{"$f":"IF(新人入力!J17=18,\"○\",\"\")","v":""}]
[{"$f":"IF(新人入力!B18=\"\",\"\",新人入力!B18)","v":""},{"$f":"IF(新人入力!D18=\"\",\"\",新人入力!D18)","v":""},{"$f":"IF(新人入力!F18=\"\",\"\",新人入力!F18)","v":""},{"$f":"IF(新人入力!E18=\"\",\"\",新人入力!E18)","v":""},{"$f":"IF(OR(新人入力!$H18=13,新人入力!$I18=13),\"○\",\"\")","v":""},{"$f":"IF(OR(新人入力!$H18=1,新人入力!$I18=1),\"○\",\"\")","v":""},{"$f":"IF(OR(新人入力!$H18=3,新人入力!$I18=3),\"○\",\"\")","v":""},{"$f":"IF(OR(新人入力!$H18=4,新人入力!$I18=4),\"○\",\"\")","v":""},{"$f":"IF(OR(新人入力!$H18=5,新人入力!$I18=5),\"○\",\"\")","v":""},{"$f":"IF(OR(新人入力!$H18=14,新人入力!$I18=14),\"○\",\"\")","v":""},{"$f":"IF(OR(新人入力!$H18=6,新人入力!$I18=6),\"○\",\"\")","v":""},{"$f":"IF(OR(新人入力!$H18=7,新人入力!$I18=7),\"○\",\"\")","v":""},{"$f":"IF(OR(新人入力!$H18=8,新人入力!$I18=8),\"○\",\"\")","v":""},{"$f":"IF(OR(新人入力!$H18=9,新人入力!$I18=9),\"○\",\"\")","v":""},{"$f":"IF(OR(新人入力!$H18=10,新人入力!$I18=10),\"○\",\"\")","v":""},{"$f":"IF(OR(新人入力!$H18=11,新人入力!$I18=11),\"○\",\"\")","v":""},{"$f":"IF(OR(新人入力!$H18=12,新人入力!$I18=12),\"○\",\"\")","v":""},null,null,{"$f":"IF(新人入力!J18=18,\"○\",\"\")","v":""}]
[{"$f":"IF(新人入力!B19=\"\",\"\",新人入力!B19)","v":""},{"$f":"IF(新人入力!D19=\"\",\"\",新人入力!D19)","v":""},{"$f":"IF(新人入力!F19=\"\",\"\",新人入力!F19)","v":""},{"$f":"IF(新人入力!E19=\"\",\"\",新人入力!E19)","v":""},{"$f":"IF(OR(新人入力!$H19=13,新人入力!$I19=13),\"○\",\"\")","v":""},{"$f":"IF(OR(新人入力!$H19=1,新人入力!$I19=1),\"○\",\"\")","v":""},{"$f":"IF(OR(新人入力!$H19=3,新人入力!$I19=3),\"○\",\"\")","v":""},{"$f":"IF(OR(新人入力!$H19=4,新人入力!$I19=4),\"○\",\"\")","v":""},{"$f":"IF(OR(新人入力!$H19=5,新人入力!$I19=5),\"○\",\"\")","v":""},{"$f":"IF(OR(新人入力!$H19=14,新人入力!$I19=14),\"○\",\"\")","v":""},{"$f":"IF(OR(新人入力!$H19=6,新人入力!$I19=6),\"○\",\"\")","v":""},{"$f":"IF(OR(新人入力!$H19=7,新人入力!$I19=7),\"○\",\"\")","v":""},{"$f":"IF(OR(新人入力!$H19=8,新人入力!$I19=8),\"○\",\"\")","v":""},{"$f":"IF(OR(新人入力!$H19=9,新人入力!$I19=9),\"○\",\"\")","v":""},{"$f":"IF(OR(新人入力!$H19=10,新人入力!$I19=10),\"○\",\"\")","v":""},{"$f":"IF(OR(新人入力!$H19=11,新人入力!$I19=11),\"○\",\"\")","v":""},{"$f":"IF(OR(新人入力!$H19=12,新人入力!$I19=12),\"○\",\"\")","v":""},null,null,{"$f":"IF(新人入力!J19=18,\"○\",\"\")","v":""}]
[{"$f":"IF(新人入力!B20=\"\",\"\",新人入力!B20)","v":""},{"$f":"IF(新人入力!D20=\"\",\"\",新人入力!D20)","v":""},{"$f":"IF(新人入力!F20=\"\",\"\",新人入力!F20)","v":""},{"$f":"IF(新人入力!E20=\"\",\"\",新人入力!E20)","v":""},{"$f":"IF(OR(新人入力!$H20=13,新人入力!$I20=13),\"○\",\"\")","v":""},{"$f":"IF(OR(新人入力!$H20=1,新人入力!$I20=1),\"○\",\"\")","v":""},{"$f":"IF(OR(新人入力!$H20=3,新人入力!$I20=3),\"○\",\"\")","v":""},{"$f":"IF(OR(新人入力!$H20=4,新人入力!$I20=4),\"○\",\"\")","v":""},{"$f":"IF(OR(新人入力!$H20=5,新人入力!$I20=5),\"○\",\"\")","v":""},{"$f":"IF(OR(新人入力!$H20=14,新人入力!$I20=14),\"○\",\"\")","v":""},{"$f":"IF(OR(新人入力!$H20=6,新人入力!$I20=6),\"○\",\"\")","v":""},{"$f":"IF(OR(新人入力!$H20=7,新人入力!$I20=7),\"○\",\"\")","v":""},{"$f":"IF(OR(新人入力!$H20=8,新人入力!$I20=8),\"○\",\"\")","v":""},{"$f":"IF(OR(新人入力!$H20=9,新人入力!$I20=9),\"○\",\"\")","v":""},{"$f":"IF(OR(新人入力!$H20=10,新人入力!$I20=10),\"○\",\"\")","v":""},{"$f":"IF(OR(新人入力!$H20=11,新人入力!$I20=11),\"○\",\"\")","v":""},{"$f":"IF(OR(新人入力!$H20=12,新人入力!$I20=12),\"○\",\"\")","v":""},null,null,{"$f":"IF(新人入力!J20=18,\"○\",\"\")","v":""}]
[{"$f":"IF(新人入力!B21=\"\",\"\",新人入力!B21)","v":""},{"$f":"IF(新人入力!D21=\"\",\"\",新人入力!D21)","v":""},{"$f":"IF(新人入力!F21=\"\",\"\",新人入力!F21)","v":""},{"$f":"IF(新人入力!E21=\"\",\"\",新人入力!E21)","v":""},{"$f":"IF(OR(新人入力!$H21=13,新人入力!$I21=13),\"○\",\"\")","v":""},{"$f":"IF(OR(新人入力!$H21=1,新人入力!$I21=1),\"○\",\"\")","v":""},{"$f":"IF(OR(新人入力!$H21=3,新人入力!$I21=3),\"○\",\"\")","v":""},{"$f":"IF(OR(新人入力!$H21=4,新人入力!$I21=4),\"○\",\"\")","v":""},{"$f":"IF(OR(新人入力!$H21=5,新人入力!$I21=5),\"○\",\"\")","v":""},{"$f":"IF(OR(新人入力!$H21=14,新人入力!$I21=14),\"○\",\"\")","v":""},{"$f":"IF(OR(新人入力!$H21=6,新人入力!$I21=6),\"○\",\"\")","v":""},{"$f":"IF(OR(新人入力!$H21=7,新人入力!$I21=7),\"○\",\"\")","v":""},{"$f":"IF(OR(新人入力!$H21=8,新人入力!$I21=8),\"○\",\"\")","v":""},{"$f":"IF(OR(新人入力!$H21=9,新人入力!$I21=9),\"○\",\"\")","v":""},{"$f":"IF(OR(新人入力!$H21=10,新人入力!$I21=10),\"○\",\"\")","v":""},{"$f":"IF(OR(新人入力!$H21=11,新人入力!$I21=11),\"○\",\"\")","v":""},{"$f":"IF(OR(新人入力!$H21=12,新人入力!$I21=12),\"○\",\"\")","v":""},null,null,{"$f":"IF(新人入力!J21=18,\"○\",\"\")","v":""}]
[{"$f":"IF(新人入力!B22=\"\",\"\",新人入力!B22)","v":""},{"$f":"IF(新人入力!D22=\"\",\"\",新人入力!D22)","v":""},{"$f":"IF(新人入力!F22=\"\",\"\",新人入力!F22)","v":""},{"$f":"IF(新人入力!E22=\"\",\"\",新人入力!E22)","v":""},{"$f":"IF(OR(新人入力!$H22=13,新人入力!$I22=13),\"○\",\"\")","v":""},{"$f":"IF(OR(新人入力!$H22=1,新人入力!$I22=1),\"○\",\"\")","v":""},{"$f":"IF(OR(新人入力!$H22=3,新人入力!$I22=3),\"○\",\"\")","v":""},{"$f":"IF(OR(新人入力!$H22=4,新人入力!$I22=4),\"○\",\"\")","v":""},{"$f":"IF(OR(新人入力!$H22=5,新人入力!$I22=5),\"○\",\"\")","v":""},{"$f":"IF(OR(新人入力!$H22=14,新人入力!$I22=14),\"○\",\"\")","v":""},{"$f":"IF(OR(新人入力!$H22=6,新人入力!$I22=6),\"○\",\"\")","v":""},{"$f":"IF(OR(新人入力!$H22=7,新人入力!$I22=7),\"○\",\"\")","v":""},{"$f":"IF(OR(新人入力!$H22=8,新人入力!$I22=8),\"○\",\"\")","v":""},{"$f":"IF(OR(新人入力!$H22=9,新人入力!$I22=9),\"○\",\"\")","v":""},{"$f":"IF(OR(新人入力!$H22=10,新人入力!$I22=10),\"○\",\"\")","v":""},{"$f":"IF(OR(新人入力!$H22=11,新人入力!$I22=11),\"○\",\"\")","v":""},{"$f":"IF(OR(新人入力!$H22=12,新人入力!$I22=12),\"○\",\"\")","v":""},null,null,{"$f":"IF(新人入力!J22=18,\"○\",\"\")","v":""}]
[{"$f":"IF(新人入力!B23=\"\",\"\",新人入力!B23)","v":""},{"$f":"IF(新人入力!D23=\"\",\"\",新人入力!D23)","v":""},{"$f":"IF(新人入力!F23=\"\",\"\",新人入力!F23)","v":""},{"$f":"IF(新人入力!E23=\"\",\"\",新人入力!E23)","v":""},{"$f":"IF(OR(新人入力!$H23=13,新人入力!$I23=13),\"○\",\"\")","v":""},{"$f":"IF(OR(新人入力!$H23=1,新人入力!$I23=1),\"○\",\"\")","v":""},{"$f":"IF(OR(新人入力!$H23=3,新人入力!$I23=3),\"○\",\"\")","v":""},{"$f":"IF(OR(新人入力!$H23=4,新人入力!$I23=4),\"○\",\"\")","v":""},{"$f":"IF(OR(新人入力!$H23=5,新人入力!$I23=5),\"○\",\"\")","v":""},{"$f":"IF(OR(新人入力!$H23=14,新人入力!$I23=14),\"○\",\"\")","v":""},{"$f":"IF(OR(新人入力!$H23=6,新人入力!$I23=6),\"○\",\"\")","v":""},{"$f":"IF(OR(新人入力!$H23=7,新人入力!$I23=7),\"○\",\"\")","v":""},{"$f":"IF(OR(新人入力!$H23=8,新人入力!$I23=8),\"○\",\"\")","v":""},{"$f":"IF(OR(新人入力!$H23=9,新人入力!$I23=9),\"○\",\"\")","v":""},{"$f":"IF(OR(新人入力!$H23=10,新人入力!$I23=10),\"○\",\"\")","v":""},{"$f":"IF(OR(新人入力!$H23=11,新人入力!$I23=11),\"○\",\"\")","v":""},{"$f":"IF(OR(新人入力!$H23=12,新人入力!$I23=12),\"○\",\"\")","v":""},null,null,{"$f":"IF(新人入力!J23=18,\"○\",\"\")","v":""}]
[{"$f":"IF(新人入力!B24=\"\",\"\",新人入力!B24)","v":""},{"$f":"IF(新人入力!D24=\"\",\"\",新人入力!D24)","v":""},{"$f":"IF(新人入力!F24=\"\",\"\",新人入力!F24)","v":""},{"$f":"IF(新人入力!E24=\"\",\"\",新人入力!E24)","v":""},{"$f":"IF(OR(新人入力!$H24=13,新人入力!$I24=13),\"○\",\"\")","v":""},{"$f":"IF(OR(新人入力!$H24=1,新人入力!$I24=1),\"○\",\"\")","v":""},{"$f":"IF(OR(新人入力!$H24=3,新人入力!$I24=3),\"○\",\"\")","v":""},{"$f":"IF(OR(新人入力!$H24=4,新人入力!$I24=4),\"○\",\"\")","v":""},{"$f":"IF(OR(新人入力!$H24=5,新人入力!$I24=5),\"○\",\"\")","v":""},{"$f":"IF(OR(新人入力!$H24=14,新人入力!$I24=14),\"○\",\"\")","v":""},{"$f":"IF(OR(新人入力!$H24=6,新人入力!$I24=6),\"○\",\"\")","v":""},{"$f":"IF(OR(新人入力!$H24=7,新人入力!$I24=7),\"○\",\"\")","v":""},{"$f":"IF(OR(新人入力!$H24=8,新人入力!$I24=8),\"○\",\"\")","v":""},{"$f":"IF(OR(新人入力!$H24=9,新人入力!$I24=9),\"○\",\"\")","v":""},{"$f":"IF(OR(新人入力!$H24=10,新人入力!$I24=10),\"○\",\"\")","v":""},{"$f":"IF(OR(新人入力!$H24=11,新人入力!$I24=11),\"○\",\"\")","v":""},{"$f":"IF(OR(新人入力!$H24=12,新人入力!$I24=12),\"○\",\"\")","v":""},null,null,{"$f":"IF(新人入力!J24=18,\"○\",\"\")","v":""}]
[{"$f":"IF(新人入力!B25=\"\",\"\",新人入力!B25)","v":""},{"$f":"IF(新人入力!D25=\"\",\"\",新人入力!D25)","v":""},{"$f":"IF(新人入力!F25=\"\",\"\",新人入力!F25)","v":""},{"$f":"IF(新人入力!E25=\"\",\"\",新人入力!E25)","v":""},{"$f":"IF(OR(新人入力!$H25=13,新人入力!$I25=13),\"○\",\"\")","v":""},{"$f":"IF(OR(新人入力!$H25=1,新人入力!$I25=1),\"○\",\"\")","v":""},{"$f":"IF(OR(新人入力!$H25=3,新人入力!$I25=3),\"○\",\"\")","v":""},{"$f":"IF(OR(新人入力!$H25=4,新人入力!$I25=4),\"○\",\"\")","v":""},{"$f":"IF(OR(新人入力!$H25=5,新人入力!$I25=5),\"○\",\"\")","v":""},{"$f":"IF(OR(新人入力!$H25=14,新人入力!$I25=14),\"○\",\"\")","v":""},{"$f":"IF(OR(新人入力!$H25=6,新人入力!$I25=6),\"○\",\"\")","v":""},{"$f":"IF(OR(新人入力!$H25=7,新人入力!$I25=7),\"○\",\"\")","v":""},{"$f":"IF(OR(新人入力!$H25=8,新人入力!$I25=8),\"○\",\"\")","v":""},{"$f":"IF(OR(新人入力!$H25=9,新人入力!$I25=9),\"○\",\"\")","v":""},{"$f":"IF(OR(新人入力!$H25=10,新人入力!$I25=10),\"○\",\"\")","v":""},{"$f":"IF(OR(新人入力!$H25=11,新人入力!$I25=11),\"○\",\"\")","v":""},{"$f":"IF(OR(新人入力!$H25=12,新人入力!$I25=12),\"○\",\"\")","v":""},null,null,{"$f":"IF(新人入力!J25=18,\"○\",\"\")","v":""}]
[{"$f":"IF(新人入力!B26=\"\",\"\",新人入力!B26)","v":""},{"$f":"IF(新人入力!D26=\"\",\"\",新人入力!D26)","v":""},{"$f":"IF(新人入力!F26=\"\",\"\",新人入力!F26)","v":""},{"$f":"IF(新人入力!E26=\"\",\"\",新人入力!E26)","v":""},{"$f":"IF(OR(新人入力!$H26=13,新人入力!$I26=13),\"○\",\"\")","v":""},{"$f":"IF(OR(新人入力!$H26=1,新人入力!$I26=1),\"○\",\"\")","v":""},{"$f":"IF(OR(新人入力!$H26=3,新人入力!$I26=3),\"○\",\"\")","v":""},{"$f":"IF(OR(新人入力!$H26=4,新人入力!$I26=4),\"○\",\"\")","v":""},{"$f":"IF(OR(新人入力!$H26=5,新人入力!$I26=5),\"○\",\"\")","v":""},{"$f":"IF(OR(新人入力!$H26=14,新人入力!$I26=14),\"○\",\"\")","v":""},{"$f":"IF(OR(新人入力!$H26=6,新人入力!$I26=6),\"○\",\"\")","v":""},{"$f":"IF(OR(新人入力!$H26=7,新人入力!$I26=7),\"○\",\"\")","v":""},{"$f":"IF(OR(新人入力!$H26=8,新人入力!$I26=8),\"○\",\"\")","v":""},{"$f":"IF(OR(新人入力!$H26=9,新人入力!$I26=9),\"○\",\"\")","v":""},{"$f":"IF(OR(新人入力!$H26=10,新人入力!$I26=10),\"○\",\"\")","v":""},{"$f":"IF(OR(新人入力!$H26=11,新人入力!$I26=11),\"○\",\"\")","v":""},{"$f":"IF(OR(新人入力!$H26=12,新人入力!$I26=12),\"○\",\"\")","v":""},null,null,{"$f":"IF(新人入力!J26=18,\"○\",\"\")","v":""}]
[{"$f":"IF(新人入力!B27=\"\",\"\",新人入力!B27)","v":""},{"$f":"IF(新人入力!D27=\"\",\"\",新人入力!D27)","v":""},{"$f":"IF(新人入力!F27=\"\",\"\",新人入力!F27)","v":""},{"$f":"IF(新人入力!E27=\"\",\"\",新人入力!E27)","v":""},{"$f":"IF(OR(新人入力!$H27=13,新人入力!$I27=13),\"○\",\"\")","v":""},{"$f":"IF(OR(新人入力!$H27=1,新人入力!$I27=1),\"○\",\"\")","v":""},{"$f":"IF(OR(新人入力!$H27=3,新人入力!$I27=3),\"○\",\"\")","v":""},{"$f":"IF(OR(新人入力!$H27=4,新人入力!$I27=4),\"○\",\"\")","v":""},{"$f":"IF(OR(新人入力!$H27=5,新人入力!$I27=5),\"○\",\"\")","v":""},{"$f":"IF(OR(新人入力!$H27=14,新人入力!$I27=14),\"○\",\"\")","v":""},{"$f":"IF(OR(新人入力!$H27=6,新人入力!$I27=6),\"○\",\"\")","v":""},{"$f":"IF(OR(新人入力!$H27=7,新人入力!$I27=7),\"○\",\"\")","v":""},{"$f":"IF(OR(新人入力!$H27=8,新人入力!$I27=8),\"○\",\"\")","v":""},{"$f":"IF(OR(新人入力!$H27=9,新人入力!$I27=9),\"○\",\"\")","v":""},{"$f":"IF(OR(新人入力!$H27=10,新人入力!$I27=10),\"○\",\"\")","v":""},{"$f":"IF(OR(新人入力!$H27=11,新人入力!$I27=11),\"○\",\"\")","v":""},{"$f":"IF(OR(新人入力!$H27=12,新人入力!$I27=12),\"○\",\"\")","v":""},null,null,{"$f":"IF(新人入力!J27=18,\"○\",\"\")","v":""}]
[{"$f":"IF(新人入力!B28=\"\",\"\",新人入力!B28)","v":""},{"$f":"IF(新人入力!D28=\"\",\"\",新人入力!D28)","v":""},{"$f":"IF(新人入力!F28=\"\",\"\",新人入力!F28)","v":""},{"$f":"IF(新人入力!E28=\"\",\"\",新人入力!E28)","v":""},{"$f":"IF(OR(新人入力!$H28=13,新人入力!$I28=13),\"○\",\"\")","v":""},{"$f":"IF(OR(新人入力!$H28=1,新人入力!$I28=1),\"○\",\"\")","v":""},{"$f":"IF(OR(新人入力!$H28=3,新人入力!$I28=3),\"○\",\"\")","v":""},{"$f":"IF(OR(新人入力!$H28=4,新人入力!$I28=4),\"○\",\"\")","v":""},{"$f":"IF(OR(新人入力!$H28=5,新人入力!$I28=5),\"○\",\"\")","v":""},{"$f":"IF(OR(新人入力!$H28=14,新人入力!$I28=14),\"○\",\"\")","v":""},{"$f":"IF(OR(新人入力!$H28=6,新人入力!$I28=6),\"○\",\"\")","v":""},{"$f":"IF(OR(新人入力!$H28=7,新人入力!$I28=7),\"○\",\"\")","v":""},{"$f":"IF(OR(新人入力!$H28=8,新人入力!$I28=8),\"○\",\"\")","v":""},{"$f":"IF(OR(新人入力!$H28=9,新人入力!$I28=9),\"○\",\"\")","v":""},{"$f":"IF(OR(新人入力!$H28=10,新人入力!$I28=10),\"○\",\"\")","v":""},{"$f":"IF(OR(新人入力!$H28=11,新人入力!$I28=11),\"○\",\"\")","v":""},{"$f":"IF(OR(新人入力!$H28=12,新人入力!$I28=12),\"○\",\"\")","v":""},null,null,{"$f":"IF(新人入力!J28=18,\"○\",\"\")","v":""}]
[{"$f":"IF(新人入力!B29=\"\",\"\",新人入力!B29)","v":""},{"$f":"IF(新人入力!D29=\"\",\"\",新人入力!D29)","v":""},{"$f":"IF(新人入力!F29=\"\",\"\",新人入力!F29)","v":""},{"$f":"IF(新人入力!E29=\"\",\"\",新人入力!E29)","v":""},{"$f":"IF(OR(新人入力!$H29=13,新人入力!$I29=13),\"○\",\"\")","v":""},{"$f":"IF(OR(新人入力!$H29=1,新人入力!$I29=1),\"○\",\"\")","v":""},{"$f":"IF(OR(新人入力!$H29=3,新人入力!$I29=3),\"○\",\"\")","v":""},{"$f":"IF(OR(新人入力!$H29=4,新人入力!$I29=4),\"○\",\"\")","v":""},{"$f":"IF(OR(新人入力!$H29=5,新人入力!$I29=5),\"○\",\"\")","v":""},{"$f":"IF(OR(新人入力!$H29=14,新人入力!$I29=14),\"○\",\"\")","v":""},{"$f":"IF(OR(新人入力!$H29=6,新人入力!$I29=6),\"○\",\"\")","v":""},{"$f":"IF(OR(新人入力!$H29=7,新人入力!$I29=7),\"○\",\"\")","v":""},{"$f":"IF(OR(新人入力!$H29=8,新人入力!$I29=8),\"○\",\"\")","v":""},{"$f":"IF(OR(新人入力!$H29=9,新人入力!$I29=9),\"○\",\"\")","v":""},{"$f":"IF(OR(新人入力!$H29=10,新人入力!$I29=10),\"○\",\"\")","v":""},{"$f":"IF(OR(新人入力!$H29=11,新人入力!$I29=11),\"○\",\"\")","v":""},{"$f":"IF(OR(新人入力!$H29=12,新人入力!$I29=12),\"○\",\"\")","v":""},null,null,{"$f":"IF(新人入力!J29=18,\"○\",\"\")","v":""}]
[{"$f":"IF(新人入力!B30=\"\",\"\",新人入力!B30)","v":""},{"$f":"IF(新人入力!D30=\"\",\"\",新人入力!D30)","v":""},{"$f":"IF(新人入力!F30=\"\",\"\",新人入力!F30)","v":""},{"$f":"IF(新人入力!E30=\"\",\"\",新人入力!E30)","v":""},{"$f":"IF(OR(新人入力!$H30=13,新人入力!$I30=13),\"○\",\"\")","v":""},{"$f":"IF(OR(新人入力!$H30=1,新人入力!$I30=1),\"○\",\"\")","v":""},{"$f":"IF(OR(新人入力!$H30=3,新人入力!$I30=3),\"○\",\"\")","v":""},{"$f":"IF(OR(新人入力!$H30=4,新人入力!$I30=4),\"○\",\"\")","v":""},{"$f":"IF(OR(新人入力!$H30=5,新人入力!$I30=5),\"○\",\"\")","v":""},{"$f":"IF(OR(新人入力!$H30=14,新人入力!$I30=14),\"○\",\"\")","v":""},{"$f":"IF(OR(新人入力!$H30=6,新人入力!$I30=6),\"○\",\"\")","v":""},{"$f":"IF(OR(新人入力!$H30=7,新人入力!$I30=7),\"○\",\"\")","v":""},{"$f":"IF(OR(新人入力!$H30=8,新人入力!$I30=8),\"○\",\"\")","v":""},{"$f":"IF(OR(新人入力!$H30=9,新人入力!$I30=9),\"○\",\"\")","v":""},{"$f":"IF(OR(新人入力!$H30=10,新人入力!$I30=10),\"○\",\"\")","v":""},{"$f":"IF(OR(新人入力!$H30=11,新人入力!$I30=11),\"○\",\"\")","v":""},{"$f":"IF(OR(新人入力!$H30=12,新人入力!$I30=12),\"○\",\"\")","v":""},null,null,{"$f":"IF(新人入力!J30=18,\"○\",\"\")","v":""}]
[{"$f":"IF(新人入力!B31=\"\",\"\",新人入力!B31)","v":""},{"$f":"IF(新人入力!D31=\"\",\"\",新人入力!D31)","v":""},{"$f":"IF(新人入力!F31=\"\",\"\",新人入力!F31)","v":""},{"$f":"IF(新人入力!E31=\"\",\"\",新人入力!E31)","v":""},{"$f":"IF(OR(新人入力!$H31=13,新人入力!$I31=13),\"○\",\"\")","v":""},{"$f":"IF(OR(新人入力!$H31=1,新人入力!$I31=1),\"○\",\"\")","v":""},{"$f":"IF(OR(新人入力!$H31=3,新人入力!$I31=3),\"○\",\"\")","v":""},{"$f":"IF(OR(新人入力!$H31=4,新人入力!$I31=4),\"○\",\"\")","v":""},{"$f":"IF(OR(新人入力!$H31=5,新人入力!$I31=5),\"○\",\"\")","v":""},{"$f":"IF(OR(新人入力!$H31=14,新人入力!$I31=14),\"○\",\"\")","v":""},{"$f":"IF(OR(新人入力!$H31=6,新人入力!$I31=6),\"○\",\"\")","v":""},{"$f":"IF(OR(新人入力!$H31=7,新人入力!$I31=7),\"○\",\"\")","v":""},{"$f":"IF(OR(新人入力!$H31=8,新人入力!$I31=8),\"○\",\"\")","v":""},{"$f":"IF(OR(新人入力!$H31=9,新人入力!$I31=9),\"○\",\"\")","v":""},{"$f":"IF(OR(新人入力!$H31=10,新人入力!$I31=10),\"○\",\"\")","v":""},{"$f":"IF(OR(新人入力!$H31=11,新人入力!$I31=11),\"○\",\"\")","v":""},{"$f":"IF(OR(新人入力!$H31=12,新人入力!$I31=12),\"○\",\"\")","v":""},null,null,{"$f":"IF(新人入力!J31=18,\"○\",\"\")","v":""}]
[{"$f":"IF(新人入力!B32=\"\",\"\",新人入力!B32)","v":""},{"$f":"IF(新人入力!D32=\"\",\"\",新人入力!D32)","v":""},{"$f":"IF(新人入力!F32=\"\",\"\",新人入力!F32)","v":""},{"$f":"IF(新人入力!E32=\"\",\"\",新人入力!E32)","v":""},{"$f":"IF(OR(新人入力!$H32=13,新人入力!$I32=13),\"○\",\"\")","v":""},{"$f":"IF(OR(新人入力!$H32=1,新人入力!$I32=1),\"○\",\"\")","v":""},{"$f":"IF(OR(新人入力!$H32=3,新人入力!$I32=3),\"○\",\"\")","v":""},{"$f":"IF(OR(新人入力!$H32=4,新人入力!$I32=4),\"○\",\"\")","v":""},{"$f":"IF(OR(新人入力!$H32=5,新人入力!$I32=5),\"○\",\"\")","v":""},{"$f":"IF(OR(新人入力!$H32=14,新人入力!$I32=14),\"○\",\"\")","v":""},{"$f":"IF(OR(新人入力!$H32=6,新人入力!$I32=6),\"○\",\"\")","v":""},{"$f":"IF(OR(新人入力!$H32=7,新人入力!$I32=7),\"○\",\"\")","v":""},{"$f":"IF(OR(新人入力!$H32=8,新人入力!$I32=8),\"○\",\"\")","v":""},{"$f":"IF(OR(新人入力!$H32=9,新人入力!$I32=9),\"○\",\"\")","v":""},{"$f":"IF(OR(新人入力!$H32=10,新人入力!$I32=10),\"○\",\"\")","v":""},{"$f":"IF(OR(新人入力!$H32=11,新人入力!$I32=11),\"○\",\"\")","v":""},{"$f":"IF(OR(新人入力!$H32=12,新人入力!$I32=12),\"○\",\"\")","v":""},null,null,{"$f":"IF(新人入力!J32=18,\"○\",\"\")","v":""}]
[{"$f":"IF(新人入力!B33=\"\",\"\",新人入力!B33)","v":""},{"$f":"IF(新人入力!D33=\"\",\"\",新人入力!D33)","v":""},{"$f":"IF(新人入力!F33=\"\",\"\",新人入力!F33)","v":""},{"$f":"IF(新人入力!E33=\"\",\"\",新人入力!E33)","v":""},{"$f":"IF(OR(新人入力!$H33=13,新人入力!$I33=13),\"○\",\"\")","v":""},{"$f":"IF(OR(新人入力!$H33=1,新人入力!$I33=1),\"○\",\"\")","v":""},{"$f":"IF(OR(新人入力!$H33=3,新人入力!$I33=3),\"○\",\"\")","v":""},{"$f":"IF(OR(新人入力!$H33=4,新人入力!$I33=4),\"○\",\"\")","v":""},{"$f":"IF(OR(新人入力!$H33=5,新人入力!$I33=5),\"○\",\"\")","v":""},{"$f":"IF(OR(新人入力!$H33=14,新人入力!$I33=14),\"○\",\"\")","v":""},{"$f":"IF(OR(新人入力!$H33=6,新人入力!$I33=6),\"○\",\"\")","v":""},{"$f":"IF(OR(新人入力!$H33=7,新人入力!$I33=7),\"○\",\"\")","v":""},{"$f":"IF(OR(新人入力!$H33=8,新人入力!$I33=8),\"○\",\"\")","v":""},{"$f":"IF(OR(新人入力!$H33=9,新人入力!$I33=9),\"○\",\"\")","v":""},{"$f":"IF(OR(新人入力!$H33=10,新人入力!$I33=10),\"○\",\"\")","v":""},{"$f":"IF(OR(新人入力!$H33=11,新人入力!$I33=11),\"○\",\"\")","v":""},{"$f":"IF(OR(新人入力!$H33=12,新人入力!$I33=12),\"○\",\"\")","v":""},null,null,{"$f":"IF(新人入力!J33=18,\"○\",\"\")","v":""}]
[{"$f":"IF(新人入力!B34=\"\",\"\",新人入力!B34)","v":""},{"$f":"IF(新人入力!D34=\"\",\"\",新人入力!D34)","v":""},{"$f":"IF(新人入力!F34=\"\",\"\",新人入力!F34)","v":""},{"$f":"IF(新人入力!E34=\"\",\"\",新人入力!E34)","v":""},{"$f":"IF(OR(新人入力!$H34=13,新人入力!$I34=13),\"○\",\"\")","v":""},{"$f":"IF(OR(新人入力!$H34=1,新人入力!$I34=1),\"○\",\"\")","v":""},{"$f":"IF(OR(新人入力!$H34=3,新人入力!$I34=3),\"○\",\"\")","v":""},{"$f":"IF(OR(新人入力!$H34=4,新人入力!$I34=4),\"○\",\"\")","v":""},{"$f":"IF(OR(新人入力!$H34=5,新人入力!$I34=5),\"○\",\"\")","v":""},{"$f":"IF(OR(新人入力!$H34=14,新人入力!$I34=14),\"○\",\"\")","v":""},{"$f":"IF(OR(新人入力!$H34=6,新人入力!$I34=6),\"○\",\"\")","v":""},{"$f":"IF(OR(新人入力!$H34=7,新人入力!$I34=7),\"○\",\"\")","v":""},{"$f":"IF(OR(新人入力!$H34=8,新人入力!$I34=8),\"○\",\"\")","v":""},{"$f":"IF(OR(新人入力!$H34=9,新人入力!$I34=9),\"○\",\"\")","v":""},{"$f":"IF(OR(新人入力!$H34=10,新人入力!$I34=10),\"○\",\"\")","v":""},{"$f":"IF(OR(新人入力!$H34=11,新人入力!$I34=11),\"○\",\"\")","v":""},{"$f":"IF(OR(新人入力!$H34=12,新人入力!$I34=12),\"○\",\"\")","v":""},null,null,{"$f":"IF(新人入力!J34=18,\"○\",\"\")","v":""}]
[{"$f":"IF(新人入力!B35=\"\",\"\",新人入力!B35)","v":""},{"$f":"IF(新人入力!D35=\"\",\"\",新人入力!D35)","v":""},{"$f":"IF(新人入力!F35=\"\",\"\",新人入力!F35)","v":""},{"$f":"IF(新人入力!E35=\"\",\"\",新人入力!E35)","v":""},{"$f":"IF(OR(新人入力!$H35=13,新人入力!$I35=13),\"○\",\"\")","v":""},{"$f":"IF(OR(新人入力!$H35=1,新人入力!$I35=1),\"○\",\"\")","v":""},{"$f":"IF(OR(新人入力!$H35=3,新人入力!$I35=3),\"○\",\"\")","v":""},{"$f":"IF(OR(新人入力!$H35=4,新人入力!$I35=4),\"○\",\"\")","v":""},{"$f":"IF(OR(新人入力!$H35=5,新人入力!$I35=5),\"○\",\"\")","v":""},{"$f":"IF(OR(新人入力!$H35=14,新人入力!$I35=14),\"○\",\"\")","v":""},{"$f":"IF(OR(新人入力!$H35=6,新人入力!$I35=6),\"○\",\"\")","v":""},{"$f":"IF(OR(新人入力!$H35=7,新人入力!$I35=7),\"○\",\"\")","v":""},{"$f":"IF(OR(新人入力!$H35=8,新人入力!$I35=8),\"○\",\"\")","v":""},{"$f":"IF(OR(新人入力!$H35=9,新人入力!$I35=9),\"○\",\"\")","v":""},{"$f":"IF(OR(新人入力!$H35=10,新人入力!$I35=10),\"○\",\"\")","v":""},{"$f":"IF(OR(新人入力!$H35=11,新人入力!$I35=11),\"○\",\"\")","v":""},{"$f":"IF(OR(新人入力!$H35=12,新人入力!$I35=12),\"○\",\"\")","v":""},null,null,{"$f":"IF(新人入力!J35=18,\"○\",\"\")","v":""}]
[{"$f":"IF(新人入力!B36=\"\",\"\",新人入力!B36)","v":""},{"$f":"IF(新人入力!D36=\"\",\"\",新人入力!D36)","v":""},{"$f":"IF(新人入力!F36=\"\",\"\",新人入力!F36)","v":""},{"$f":"IF(新人入力!E36=\"\",\"\",新人入力!E36)","v":""},{"$f":"IF(OR(新人入力!$H36=13,新人入力!$I36=13),\"○\",\"\")","v":""},{"$f":"IF(OR(新人入力!$H36=1,新人入力!$I36=1),\"○\",\"\")","v":""},{"$f":"IF(OR(新人入力!$H36=3,新人入力!$I36=3),\"○\",\"\")","v":""},{"$f":"IF(OR(新人入力!$H36=4,新人入力!$I36=4),\"○\",\"\")","v":""},{"$f":"IF(OR(新人入力!$H36=5,新人入力!$I36=5),\"○\",\"\")","v":""},{"$f":"IF(OR(新人入力!$H36=14,新人入力!$I36=14),\"○\",\"\")","v":""},{"$f":"IF(OR(新人入力!$H36=6,新人入力!$I36=6),\"○\",\"\")","v":""},{"$f":"IF(OR(新人入力!$H36=7,新人入力!$I36=7),\"○\",\"\")","v":""},{"$f":"IF(OR(新人入力!$H36=8,新人入力!$I36=8),\"○\",\"\")","v":""},{"$f":"IF(OR(新人入力!$H36=9,新人入力!$I36=9),\"○\",\"\")","v":""},{"$f":"IF(OR(新人入力!$H36=10,新人入力!$I36=10),\"○\",\"\")","v":""},{"$f":"IF(OR(新人入力!$H36=11,新人入力!$I36=11),\"○\",\"\")","v":""},{"$f":"IF(OR(新人入力!$H36=12,新人入力!$I36=12),\"○\",\"\")","v":""},null,null,{"$f":"IF(新人入力!J36=18,\"○\",\"\")","v":""}]
[{"$f":"IF(新人入力!B37=\"\",\"\",新人入力!B37)","v":""},{"$f":"IF(新人入力!D37=\"\",\"\",新人入力!D37)","v":""},{"$f":"IF(新人入力!F37=\"\",\"\",新人入力!F37)","v":""},{"$f":"IF(新人入力!E37=\"\",\"\",新人入力!E37)","v":""},{"$f":"IF(OR(新人入力!$H37=13,新人入力!$I37=13),\"○\",\"\")","v":""},{"$f":"IF(OR(新人入力!$H37=1,新人入力!$I37=1),\"○\",\"\")","v":""},{"$f":"IF(OR(新人入力!$H37=3,新人入力!$I37=3),\"○\",\"\")","v":""},{"$f":"IF(OR(新人入力!$H37=4,新人入力!$I37=4),\"○\",\"\")","v":""},{"$f":"IF(OR(新人入力!$H37=5,新人入力!$I37=5),\"○\",\"\")","v":""},{"$f":"IF(OR(新人入力!$H37=14,新人入力!$I37=14),\"○\",\"\")","v":""},{"$f":"IF(OR(新人入力!$H37=6,新人入力!$I37=6),\"○\",\"\")","v":""},{"$f":"IF(OR(新人入力!$H37=7,新人入力!$I37=7),\"○\",\"\")","v":""},{"$f":"IF(OR(新人入力!$H37=8,新人入力!$I37=8),\"○\",\"\")","v":""},{"$f":"IF(OR(新人入力!$H37=9,新人入力!$I37=9),\"○\",\"\")","v":""},{"$f":"IF(OR(新人入力!$H37=10,新人入力!$I37=10),\"○\",\"\")","v":""},{"$f":"IF(OR(新人入力!$H37=11,新人入力!$I37=11),\"○\",\"\")","v":""},{"$f":"IF(OR(新人入力!$H37=12,新人入力!$I37=12),\"○\",\"\")","v":""},null,null,{"$f":"IF(新人入力!J37=18,\"○\",\"\")","v":""}]
[{"$f":"IF(新人入力!B38=\"\",\"\",新人入力!B38)","v":""},{"$f":"IF(新人入力!D38=\"\",\"\",新人入力!D38)","v":""},{"$f":"IF(新人入力!F38=\"\",\"\",新人入力!F38)","v":""},{"$f":"IF(新人入力!E38=\"\",\"\",新人入力!E38)","v":""},{"$f":"IF(OR(新人入力!$H38=13,新人入力!$I38=13),\"○\",\"\")","v":""},{"$f":"IF(OR(新人入力!$H38=1,新人入力!$I38=1),\"○\",\"\")","v":""},{"$f":"IF(OR(新人入力!$H38=3,新人入力!$I38=3),\"○\",\"\")","v":""},{"$f":"IF(OR(新人入力!$H38=4,新人入力!$I38=4),\"○\",\"\")","v":""},{"$f":"IF(OR(新人入力!$H38=5,新人入力!$I38=5),\"○\",\"\")","v":""},{"$f":"IF(OR(新人入力!$H38=14,新人入力!$I38=14),\"○\",\"\")","v":""},{"$f":"IF(OR(新人入力!$H38=6,新人入力!$I38=6),\"○\",\"\")","v":""},{"$f":"IF(OR(新人入力!$H38=7,新人入力!$I38=7),\"○\",\"\")","v":""},{"$f":"IF(OR(新人入力!$H38=8,新人入力!$I38=8),\"○\",\"\")","v":""},{"$f":"IF(OR(新人入力!$H38=9,新人入力!$I38=9),\"○\",\"\")","v":""},{"$f":"IF(OR(新人入力!$H38=10,新人入力!$I38=10),\"○\",\"\")","v":""},{"$f":"IF(OR(新人入力!$H38=11,新人入力!$I38=11),\"○\",\"\")","v":""},{"$f":"IF(OR(新人入力!$H38=12,新人入力!$I38=12),\"○\",\"\")","v":""},null,null,{"$f":"IF(新人入力!J38=18,\"○\",\"\")","v":""}]
[{"$f":"IF(新人入力!B39=\"\",\"\",新人入力!B39)","v":""},{"$f":"IF(新人入力!D39=\"\",\"\",新人入力!D39)","v":""},{"$f":"IF(新人入力!F39=\"\",\"\",新人入力!F39)","v":""},{"$f":"IF(新人入力!E39=\"\",\"\",新人入力!E39)","v":""},{"$f":"IF(OR(新人入力!$H39=13,新人入力!$I39=13),\"○\",\"\")","v":""},{"$f":"IF(OR(新人入力!$H39=1,新人入力!$I39=1),\"○\",\"\")","v":""},{"$f":"IF(OR(新人入力!$H39=3,新人入力!$I39=3),\"○\",\"\")","v":""},{"$f":"IF(OR(新人入力!$H39=4,新人入力!$I39=4),\"○\",\"\")","v":""},{"$f":"IF(OR(新人入力!$H39=5,新人入力!$I39=5),\"○\",\"\")","v":""},{"$f":"IF(OR(新人入力!$H39=14,新人入力!$I39=14),\"○\",\"\")","v":""},{"$f":"IF(OR(新人入力!$H39=6,新人入力!$I39=6),\"○\",\"\")","v":""},{"$f":"IF(OR(新人入力!$H39=7,新人入力!$I39=7),\"○\",\"\")","v":""},{"$f":"IF(OR(新人入力!$H39=8,新人入力!$I39=8),\"○\",\"\")","v":""},{"$f":"IF(OR(新人入力!$H39=9,新人入力!$I39=9),\"○\",\"\")","v":""},{"$f":"IF(OR(新人入力!$H39=10,新人入力!$I39=10),\"○\",\"\")","v":""},{"$f":"IF(OR(新人入力!$H39=11,新人入力!$I39=11),\"○\",\"\")","v":""},{"$f":"IF(OR(新人入力!$H39=12,新人入力!$I39=12),\"○\",\"\")","v":""},null,null,{"$f":"IF(新人入力!J39=18,\"○\",\"\")","v":""}]
[{"$f":"IF(新人入力!B40=\"\",\"\",新人入力!B40)","v":""},{"$f":"IF(新人入力!D40=\"\",\"\",新人入力!D40)","v":""},{"$f":"IF(新人入力!F40=\"\",\"\",新人入力!F40)","v":""},{"$f":"IF(新人入力!E40=\"\",\"\",新人入力!E40)","v":""},{"$f":"IF(OR(新人入力!$H40=13,新人入力!$I40=13),\"○\",\"\")","v":""},{"$f":"IF(OR(新人入力!$H40=1,新人入力!$I40=1),\"○\",\"\")","v":""},{"$f":"IF(OR(新人入力!$H40=3,新人入力!$I40=3),\"○\",\"\")","v":""},{"$f":"IF(OR(新人入力!$H40=4,新人入力!$I40=4),\"○\",\"\")","v":""},{"$f":"IF(OR(新人入力!$H40=5,新人入力!$I40=5),\"○\",\"\")","v":""},{"$f":"IF(OR(新人入力!$H40=14,新人入力!$I40=14),\"○\",\"\")","v":""},{"$f":"IF(OR(新人入力!$H40=6,新人入力!$I40=6),\"○\",\"\")","v":""},{"$f":"IF(OR(新人入力!$H40=7,新人入力!$I40=7),\"○\",\"\")","v":""},{"$f":"IF(OR(新人入力!$H40=8,新人入力!$I40=8),\"○\",\"\")","v":""},{"$f":"IF(OR(新人入力!$H40=9,新人入力!$I40=9),\"○\",\"\")","v":""},{"$f":"IF(OR(新人入力!$H40=10,新人入力!$I40=10),\"○\",\"\")","v":""},{"$f":"IF(OR(新人入力!$H40=11,新人入力!$I40=11),\"○\",\"\")","v":""},{"$f":"IF(OR(新人入力!$H40=12,新人入力!$I40=12),\"○\",\"\")","v":""},null,null,{"$f":"IF(新人入力!J40=18,\"○\",\"\")","v":""}]
[{"$f":"IF(新人入力!B41=\"\",\"\",新人入力!B41)","v":""},{"$f":"IF(新人入力!D41=\"\",\"\",新人入力!D41)","v":""},{"$f":"IF(新人入力!F41=\"\",\"\",新人入力!F41)","v":""},{"$f":"IF(新人入力!E41=\"\",\"\",新人入力!E41)","v":""},{"$f":"IF(OR(新人入力!$H41=13,新人入力!$I41=13),\"○\",\"\")","v":""},{"$f":"IF(OR(新人入力!$H41=1,新人入力!$I41=1),\"○\",\"\")","v":""},{"$f":"IF(OR(新人入力!$H41=3,新人入力!$I41=3),\"○\",\"\")","v":""},{"$f":"IF(OR(新人入力!$H41=4,新人入力!$I41=4),\"○\",\"\")","v":""},{"$f":"IF(OR(新人入力!$H41=5,新人入力!$I41=5),\"○\",\"\")","v":""},{"$f":"IF(OR(新人入力!$H41=14,新人入力!$I41=14),\"○\",\"\")","v":""},{"$f":"IF(OR(新人入力!$H41=6,新人入力!$I41=6),\"○\",\"\")","v":""},{"$f":"IF(OR(新人入力!$H41=7,新人入力!$I41=7),\"○\",\"\")","v":""},{"$f":"IF(OR(新人入力!$H41=8,新人入力!$I41=8),\"○\",\"\")","v":""},{"$f":"IF(OR(新人入力!$H41=9,新人入力!$I41=9),\"○\",\"\")","v":""},{"$f":"IF(OR(新人入力!$H41=10,新人入力!$I41=10),\"○\",\"\")","v":""},{"$f":"IF(OR(新人入力!$H41=11,新人入力!$I41=11),\"○\",\"\")","v":""},{"$f":"IF(OR(新人入力!$H41=12,新人入力!$I41=12),\"○\",\"\")","v":""},null,null,{"$f":"IF(新人入力!J41=18,\"○\",\"\")","v":""}]
[{"$f":"IF(新人入力!B42=\"\",\"\",新人入力!B42)","v":""},{"$f":"IF(新人入力!D42=\"\",\"\",新人入力!D42)","v":""},{"$f":"IF(新人入力!F42=\"\",\"\",新人入力!F42)","v":""},{"$f":"IF(新人入力!E42=\"\",\"\",新人入力!E42)","v":""},{"$f":"IF(OR(新人入力!$H42=13,新人入力!$I42=13),\"○\",\"\")","v":""},{"$f":"IF(OR(新人入力!$H42=1,新人入力!$I42=1),\"○\",\"\")","v":""},{"$f":"IF(OR(新人入力!$H42=3,新人入力!$I42=3),\"○\",\"\")","v":""},{"$f":"IF(OR(新人入力!$H42=4,新人入力!$I42=4),\"○\",\"\")","v":""},{"$f":"IF(OR(新人入力!$H42=5,新人入力!$I42=5),\"○\",\"\")","v":""},{"$f":"IF(OR(新人入力!$H42=14,新人入力!$I42=14),\"○\",\"\")","v":""},{"$f":"IF(OR(新人入力!$H42=6,新人入力!$I42=6),\"○\",\"\")","v":""},{"$f":"IF(OR(新人入力!$H42=7,新人入力!$I42=7),\"○\",\"\")","v":""},{"$f":"IF(OR(新人入力!$H42=8,新人入力!$I42=8),\"○\",\"\")","v":""},{"$f":"IF(OR(新人入力!$H42=9,新人入力!$I42=9),\"○\",\"\")","v":""},{"$f":"IF(OR(新人入力!$H42=10,新人入力!$I42=10),\"○\",\"\")","v":""},{"$f":"IF(OR(新人入力!$H42=11,新人入力!$I42=11),\"○\",\"\")","v":""},{"$f":"IF(OR(新人入力!$H42=12,新人入力!$I42=12),\"○\",\"\")","v":""},null,null,{"$f":"IF(新人入力!J42=18,\"○\",\"\")","v":""}]
[{"$f":"IF(新人入力!B43=\"\",\"\",新人入力!B43)","v":""},{"$f":"IF(新人入力!D43=\"\",\"\",新人入力!D43)","v":""},{"$f":"IF(新人入力!F43=\"\",\"\",新人入力!F43)","v":""},{"$f":"IF(新人入力!E43=\"\",\"\",新人入力!E43)","v":""},{"$f":"IF(OR(新人入力!$H43=13,新人入力!$I43=13),\"○\",\"\")","v":""},{"$f":"IF(OR(新人入力!$H43=1,新人入力!$I43=1),\"○\",\"\")","v":""},{"$f":"IF(OR(新人入力!$H43=3,新人入力!$I43=3),\"○\",\"\")","v":""},{"$f":"IF(OR(新人入力!$H43=4,新人入力!$I43=4),\"○\",\"\")","v":""},{"$f":"IF(OR(新人入力!$H43=5,新人入力!$I43=5),\"○\",\"\")","v":""},{"$f":"IF(OR(新人入力!$H43=14,新人入力!$I43=14),\"○\",\"\")","v":""},{"$f":"IF(OR(新人入力!$H43=6,新人入力!$I43=6),\"○\",\"\")","v":""},{"$f":"IF(OR(新人入力!$H43=7,新人入力!$I43=7),\"○\",\"\")","v":""},{"$f":"IF(OR(新人入力!$H43=8,新人入力!$I43=8),\"○\",\"\")","v":""},{"$f":"IF(OR(新人入力!$H43=9,新人入力!$I43=9),\"○\",\"\")","v":""},{"$f":"IF(OR(新人入力!$H43=10,新人入力!$I43=10),\"○\",\"\")","v":""},{"$f":"IF(OR(新人入力!$H43=11,新人入力!$I43=11),\"○\",\"\")","v":""},{"$f":"IF(OR(新人入力!$H43=12,新人入力!$I43=12),\"○\",\"\")","v":""},null,null,{"$f":"IF(新人入力!J43=18,\"○\",\"\")","v":""}]
[{"$f":"IF(新人入力!B44=\"\",\"\",新人入力!B44)","v":""},{"$f":"IF(新人入力!D44=\"\",\"\",新人入力!D44)","v":""},{"$f":"IF(新人入力!F44=\"\",\"\",新人入力!F44)","v":""},{"$f":"IF(新人入力!E44=\"\",\"\",新人入力!E44)","v":""},{"$f":"IF(OR(新人入力!$H44=13,新人入力!$I44=13),\"○\",\"\")","v":""},{"$f":"IF(OR(新人入力!$H44=1,新人入力!$I44=1),\"○\",\"\")","v":""},{"$f":"IF(OR(新人入力!$H44=3,新人入力!$I44=3),\"○\",\"\")","v":""},{"$f":"IF(OR(新人入力!$H44=4,新人入力!$I44=4),\"○\",\"\")","v":""},{"$f":"IF(OR(新人入力!$H44=5,新人入力!$I44=5),\"○\",\"\")","v":""},{"$f":"IF(OR(新人入力!$H44=14,新人入力!$I44=14),\"○\",\"\")","v":""},{"$f":"IF(OR(新人入力!$H44=6,新人入力!$I44=6),\"○\",\"\")","v":""},{"$f":"IF(OR(新人入力!$H44=7,新人入力!$I44=7),\"○\",\"\")","v":""},{"$f":"IF(OR(新人入力!$H44=8,新人入力!$I44=8),\"○\",\"\")","v":""},{"$f":"IF(OR(新人入力!$H44=9,新人入力!$I44=9),\"○\",\"\")","v":""},{"$f":"IF(OR(新人入力!$H44=10,新人入力!$I44=10),\"○\",\"\")","v":""},{"$f":"IF(OR(新人入力!$H44=11,新人入力!$I44=11),\"○\",\"\")","v":""},{"$f":"IF(OR(新人入力!$H44=12,新人入力!$I44=12),\"○\",\"\")","v":""},null,null,{"$f":"IF(新人入力!J44=18,\"○\",\"\")","v":""}]
[{"$f":"IF(新人入力!B45=\"\",\"\",新人入力!B45)","v":""},{"$f":"IF(新人入力!D45=\"\",\"\",新人入力!D45)","v":""},{"$f":"IF(新人入力!F45=\"\",\"\",新人入力!F45)","v":""},{"$f":"IF(新人入力!E45=\"\",\"\",新人入力!E45)","v":""},{"$f":"IF(OR(新人入力!$H45=13,新人入力!$I45=13),\"○\",\"\")","v":""},{"$f":"IF(OR(新人入力!$H45=1,新人入力!$I45=1),\"○\",\"\")","v":""},{"$f":"IF(OR(新人入力!$H45=3,新人入力!$I45=3),\"○\",\"\")","v":""},{"$f":"IF(OR(新人入力!$H45=4,新人入力!$I45=4),\"○\",\"\")","v":""},{"$f":"IF(OR(新人入力!$H45=5,新人入力!$I45=5),\"○\",\"\")","v":""},{"$f":"IF(OR(新人入力!$H45=14,新人入力!$I45=14),\"○\",\"\")","v":""},{"$f":"IF(OR(新人入力!$H45=6,新人入力!$I45=6),\"○\",\"\")","v":""},{"$f":"IF(OR(新人入力!$H45=7,新人入力!$I45=7),\"○\",\"\")","v":""},{"$f":"IF(OR(新人入力!$H45=8,新人入力!$I45=8),\"○\",\"\")","v":""},{"$f":"IF(OR(新人入力!$H45=9,新人入力!$I45=9),\"○\",\"\")","v":""},{"$f":"IF(OR(新人入力!$H45=10,新人入力!$I45=10),\"○\",\"\")","v":""},{"$f":"IF(OR(新人入力!$H45=11,新人入力!$I45=11),\"○\",\"\")","v":""},{"$f":"IF(OR(新人入力!$H45=12,新人入力!$I45=12),\"○\",\"\")","v":""},null,null,{"$f":"IF(新人入力!J45=18,\"○\",\"\")","v":""}]
[{"$f":"IF(新人入力!B46=\"\",\"\",新人入力!B46)","v":""},{"$f":"IF(新人入力!D46=\"\",\"\",新人入力!D46)","v":""},{"$f":"IF(新人入力!F46=\"\",\"\",新人入力!F46)","v":""},{"$f":"IF(新人入力!E46=\"\",\"\",新人入力!E46)","v":""},{"$f":"IF(OR(新人入力!$H46=13,新人入力!$I46=13),\"○\",\"\")","v":""},{"$f":"IF(OR(新人入力!$H46=1,新人入力!$I46=1),\"○\",\"\")","v":""},{"$f":"IF(OR(新人入力!$H46=3,新人入力!$I46=3),\"○\",\"\")","v":""},{"$f":"IF(OR(新人入力!$H46=4,新人入力!$I46=4),\"○\",\"\")","v":""},{"$f":"IF(OR(新人入力!$H46=5,新人入力!$I46=5),\"○\",\"\")","v":""},{"$f":"IF(OR(新人入力!$H46=14,新人入力!$I46=14),\"○\",\"\")","v":""},{"$f":"IF(OR(新人入力!$H46=6,新人入力!$I46=6),\"○\",\"\")","v":""},{"$f":"IF(OR(新人入力!$H46=7,新人入力!$I46=7),\"○\",\"\")","v":""},{"$f":"IF(OR(新人入力!$H46=8,新人入力!$I46=8),\"○\",\"\")","v":""},{"$f":"IF(OR(新人入力!$H46=9,新人入力!$I46=9),\"○\",\"\")","v":""},{"$f":"IF(OR(新人入力!$H46=10,新人入力!$I46=10),\"○\",\"\")","v":""},{"$f":"IF(OR(新人入力!$H46=11,新人入力!$I46=11),\"○\",\"\")","v":""},{"$f":"IF(OR(新人入力!$H46=12,新人入力!$I46=12),\"○\",\"\")","v":""},null,null,{"$f":"IF(新人入力!J46=18,\"○\",\"\")","v":""}]
[{"$f":"IF(新人入力!B47=\"\",\"\",新人入力!B47)","v":""},{"$f":"IF(新人入力!D47=\"\",\"\",新人入力!D47)","v":""},{"$f":"IF(新人入力!F47=\"\",\"\",新人入力!F47)","v":""},{"$f":"IF(新人入力!E47=\"\",\"\",新人入力!E47)","v":""},{"$f":"IF(OR(新人入力!$H47=13,新人入力!$I47=13),\"○\",\"\")","v":""},{"$f":"IF(OR(新人入力!$H47=1,新人入力!$I47=1),\"○\",\"\")","v":""},{"$f":"IF(OR(新人入力!$H47=3,新人入力!$I47=3),\"○\",\"\")","v":""},{"$f":"IF(OR(新人入力!$H47=4,新人入力!$I47=4),\"○\",\"\")","v":""},{"$f":"IF(OR(新人入力!$H47=5,新人入力!$I47=5),\"○\",\"\")","v":""},{"$f":"IF(OR(新人入力!$H47=14,新人入力!$I47=14),\"○\",\"\")","v":""},{"$f":"IF(OR(新人入力!$H47=6,新人入力!$I47=6),\"○\",\"\")","v":""},{"$f":"IF(OR(新人入力!$H47=7,新人入力!$I47=7),\"○\",\"\")","v":""},{"$f":"IF(OR(新人入力!$H47=8,新人入力!$I47=8),\"○\",\"\")","v":""},{"$f":"IF(OR(新人入力!$H47=9,新人入力!$I47=9),\"○\",\"\")","v":""},{"$f":"IF(OR(新人入力!$H47=10,新人入力!$I47=10),\"○\",\"\")","v":""},{"$f":"IF(OR(新人入力!$H47=11,新人入力!$I47=11),\"○\",\"\")","v":""},{"$f":"IF(OR(新人入力!$H47=12,新人入力!$I47=12),\"○\",\"\")","v":""},null,null,{"$f":"IF(新人入力!J47=18,\"○\",\"\")","v":""}]
[{"$f":"IF(新人入力!B48=\"\",\"\",新人入力!B48)","v":""},{"$f":"IF(新人入力!D48=\"\",\"\",新人入力!D48)","v":""},{"$f":"IF(新人入力!F48=\"\",\"\",新人入力!F48)","v":""},{"$f":"IF(新人入力!E48=\"\",\"\",新人入力!E48)","v":""},{"$f":"IF(OR(新人入力!$H48=13,新人入力!$I48=13),\"○\",\"\")","v":""},{"$f":"IF(OR(新人入力!$H48=1,新人入力!$I48=1),\"○\",\"\")","v":""},{"$f":"IF(OR(新人入力!$H48=3,新人入力!$I48=3),\"○\",\"\")","v":""},{"$f":"IF(OR(新人入力!$H48=4,新人入力!$I48=4),\"○\",\"\")","v":""},{"$f":"IF(OR(新人入力!$H48=5,新人入力!$I48=5),\"○\",\"\")","v":""},{"$f":"IF(OR(新人入力!$H48=14,新人入力!$I48=14),\"○\",\"\")","v":""},{"$f":"IF(OR(新人入力!$H48=6,新人入力!$I48=6),\"○\",\"\")","v":""},{"$f":"IF(OR(新人入力!$H48=7,新人入力!$I48=7),\"○\",\"\")","v":""},{"$f":"IF(OR(新人入力!$H48=8,新人入力!$I48=8),\"○\",\"\")","v":""},{"$f":"IF(OR(新人入力!$H48=9,新人入力!$I48=9),\"○\",\"\")","v":""},{"$f":"IF(OR(新人入力!$H48=10,新人入力!$I48=10),\"○\",\"\")","v":""},{"$f":"IF(OR(新人入力!$H48=11,新人入力!$I48=11),\"○\",\"\")","v":""},{"$f":"IF(OR(新人入力!$H48=12,新人入力!$I48=12),\"○\",\"\")","v":""},null,null,{"$f":"IF(新人入力!J48=18,\"○\",\"\")","v":""}]
[{"$f":"IF(新人入力!B49=\"\",\"\",新人入力!B49)","v":""},{"$f":"IF(新人入力!D49=\"\",\"\",新人入力!D49)","v":""},{"$f":"IF(新人入力!F49=\"\",\"\",新人入力!F49)","v":""},{"$f":"IF(新人入力!E49=\"\",\"\",新人入力!E49)","v":""},{"$f":"IF(OR(新人入力!$H49=13,新人入力!$I49=13),\"○\",\"\")","v":""},{"$f":"IF(OR(新人入力!$H49=1,新人入力!$I49=1),\"○\",\"\")","v":""},{"$f":"IF(OR(新人入力!$H49=3,新人入力!$I49=3),\"○\",\"\")","v":""},{"$f":"IF(OR(新人入力!$H49=4,新人入力!$I49=4),\"○\",\"\")","v":""},{"$f":"IF(OR(新人入力!$H49=5,新人入力!$I49=5),\"○\",\"\")","v":""},{"$f":"IF(OR(新人入力!$H49=14,新人入力!$I49=14),\"○\",\"\")","v":""},{"$f":"IF(OR(新人入力!$H49=6,新人入力!$I49=6),\"○\",\"\")","v":""},{"$f":"IF(OR(新人入力!$H49=7,新人入力!$I49=7),\"○\",\"\")","v":""},{"$f":"IF(OR(新人入力!$H49=8,新人入力!$I49=8),\"○\",\"\")","v":""},{"$f":"IF(OR(新人入力!$H49=9,新人入力!$I49=9),\"○\",\"\")","v":""},{"$f":"IF(OR(新人入力!$H49=10,新人入力!$I49=10),\"○\",\"\")","v":""},{"$f":"IF(OR(新人入力!$H49=11,新人入力!$I49=11),\"○\",\"\")","v":""},{"$f":"IF(OR(新人入力!$H49=12,新人入力!$I49=12),\"○\",\"\")","v":""},null,null,{"$f":"IF(新人入力!J49=18,\"○\",\"\")","v":""}]
[{"$f":"IF(新人入力!B50=\"\",\"\",新人入力!B50)","v":""},{"$f":"IF(新人入力!D50=\"\",\"\",新人入力!D50)","v":""},{"$f":"IF(新人入力!F50=\"\",\"\",新人入力!F50)","v":""},{"$f":"IF(新人入力!E50=\"\",\"\",新人入力!E50)","v":""},{"$f":"IF(OR(新人入力!$H50=13,新人入力!$I50=13),\"○\",\"\")","v":""},{"$f":"IF(OR(新人入力!$H50=1,新人入力!$I50=1),\"○\",\"\")","v":""},{"$f":"IF(OR(新人入力!$H50=3,新人入力!$I50=3),\"○\",\"\")","v":""},{"$f":"IF(OR(新人入力!$H50=4,新人入力!$I50=4),\"○\",\"\")","v":""},{"$f":"IF(OR(新人入力!$H50=5,新人入力!$I50=5),\"○\",\"\")","v":""},{"$f":"IF(OR(新人入力!$H50=14,新人入力!$I50=14),\"○\",\"\")","v":""},{"$f":"IF(OR(新人入力!$H50=6,新人入力!$I50=6),\"○\",\"\")","v":""},{"$f":"IF(OR(新人入力!$H50=7,新人入力!$I50=7),\"○\",\"\")","v":""},{"$f":"IF(OR(新人入力!$H50=8,新人入力!$I50=8),\"○\",\"\")","v":""},{"$f":"IF(OR(新人入力!$H50=9,新人入力!$I50=9),\"○\",\"\")","v":""},{"$f":"IF(OR(新人入力!$H50=10,新人入力!$I50=10),\"○\",\"\")","v":""},{"$f":"IF(OR(新人入力!$H50=11,新人入力!$I50=11),\"○\",\"\")","v":""},{"$f":"IF(OR(新人入力!$H50=12,新人入力!$I50=12),\"○\",\"\")","v":""},null,null,{"$f":"IF(新人入力!J50=18,\"○\",\"\")","v":""}]
[{"$f":"IF(新人入力!B51=\"\",\"\",新人入力!B51)","v":""},{"$f":"IF(新人入力!D51=\"\",\"\",新人入力!D51)","v":""},{"$f":"IF(新人入力!F51=\"\",\"\",新人入力!F51)","v":""},{"$f":"IF(新人入力!E51=\"\",\"\",新人入力!E51)","v":""},{"$f":"IF(OR(新人入力!$H51=13,新人入力!$I51=13),\"○\",\"\")","v":""},{"$f":"IF(OR(新人入力!$H51=1,新人入力!$I51=1),\"○\",\"\")","v":""},{"$f":"IF(OR(新人入力!$H51=3,新人入力!$I51=3),\"○\",\"\")","v":""},{"$f":"IF(OR(新人入力!$H51=4,新人入力!$I51=4),\"○\",\"\")","v":""},{"$f":"IF(OR(新人入力!$H51=5,新人入力!$I51=5),\"○\",\"\")","v":""},{"$f":"IF(OR(新人入力!$H51=14,新人入力!$I51=14),\"○\",\"\")","v":""},{"$f":"IF(OR(新人入力!$H51=6,新人入力!$I51=6),\"○\",\"\")","v":""},{"$f":"IF(OR(新人入力!$H51=7,新人入力!$I51=7),\"○\",\"\")","v":""},{"$f":"IF(OR(新人入力!$H51=8,新人入力!$I51=8),\"○\",\"\")","v":""},{"$f":"IF(OR(新人入力!$H51=9,新人入力!$I51=9),\"○\",\"\")","v":""},{"$f":"IF(OR(新人入力!$H51=10,新人入力!$I51=10),\"○\",\"\")","v":""},{"$f":"IF(OR(新人入力!$H51=11,新人入力!$I51=11),\"○\",\"\")","v":""},{"$f":"IF(OR(新人入力!$H51=12,新人入力!$I51=12),\"○\",\"\")","v":""},null,null,{"$f":"IF(新人入力!J51=18,\"○\",\"\")","v":""}]
[]
[]
[null,null,null,null,null,null,null,null,null,null,null,null,{"$f":"TODAY()","v":"2026-08-24"}]
["　秋田市中学校体育連盟 会 長　熊 谷　直 邦 様"]
[]
[null,"　上記の生徒は要項に照らし適格者であり，学校代表としてもふさわしく，また，保護者の同意を得ておりますので，大会への参加を申し込みいたします。"]
[]
[null,{"$f":"新人入力!D3","v":""},null,null,null,null,null,null,"校長",null,{"$f":"IF(新人入力!D5=\"\",\"\",新人入力!D5)","v":""},null,null,null,null,null,null,"印"]
[]
[null,"※引率・監督者の特例を適用する場合は氏名を記入"]
[]
[null,"（引率者氏名",{"$f":"IF(新人入力!D6=\"\",\"\",新人入力!D6)","v":""},null,null,null,"）","（代理監督者氏名",null,null,null,null,{"$f":"IF(新人入力!D7=\"\",\"\",新人入力!D7)","v":""},null,null,null,null,null,"）"]
[]
["　※男子は黒，女子は赤で記入すること。"]
[null,null,"エラーチェック",null,"１年\n100","２年\n100","共通\n200","共通\n400","共通\n800","１年\n1500","２年\n1500","共通\n3000","共通\n110H","共通\n走高","共通\n棒高","共通\n走幅","共通\n砲丸",null,"１年\n400R","共通\n400R"]
[null,null,null,null,{"$f":"IF(E64>3,\"×\",\"○\")","v":"○"},{"$f":"IF(F64>3,\"×\",\"○\")","v":"○"},"○","○","○","○","○","○","○","○","○","○","○",null,{"$f":"IF(S64>6,\"×\",\"○\")","v":"○"},{"$f":"IF(T64>6,\"×\",\"○\")","v":"○"}]
[null,null,null,null,"各種目○ならok。×の場合は人数が超過している。"]
[]
[null,null,null,null,{"$f":"COUNTIF(E$5:E$36,\"○\")","v":0},{"$f":"COUNTIF(F$5:F$36,\"○\")","v":0},0,0,0,null,0,0,0,0,0,0,0,0,0,0,0]

{"sheet":"女一覧","index":3,"n_rows":64,"n_cols":42,"rows_kept":64,"cut":false,"hidden":false,"merged":[[55,2,56,3],[44,0,44,9],[43,9,43,15],[46,1,46,15],[52,2,52,4],[48,6,48,7],[48,8,48,13],[52,6,52,9],[52,10,52,14],[48,1,48,4],[0,0,0,16],[2,9,2,12],[2,13,2,14],[2,15,2,16],[1,2,1,7],[2,2,2,7]]}
["令和８年度　秋田市中学校秋季陸上競技大会　参加申込書一覧〔女子〕"]
[null,"学校名(",{"$f":"IF(B49=\"\",\"\",B49)","v":""},null,null,null,null,null,"）"]
[null,"監督名(",{"$f":"IF(新人入力!D80=\"\",\"\",新人入力!D80)","v":""},null,null,null,null,null,"）","参加人数（",null,null,null,{"$f":"COUNTA(新人入力!B87:B123)","v":0},null,"）名"]
["ナンバー\nカード","氏    名","フリガナ","学年","１年\n100","２年\n100","共通\n200","共通\n800","１年\n1500","２年\n1500","共通\n100H","共通\n走高","共通\n走幅","共通\n砲丸",null,null,"共通\n400R"]
[{"$f":"IF(新人入力!B87=\"\",\"\",新人入力!B87)","v":""},{"$f":"IF(新人入力!D87=\"\",\"\",新人入力!D87)","v":""},{"$f":"IF(新人入力!F87=\"\",\"\",新人入力!F87)","v":""},{"$f":"IF(新人入力!E87=\"\",\"\",新人入力!E87)","v":""},{"$f":"IF(OR(新人入力!$H87=31,新人入力!$I87=31),\"○\",\"\")","v":""},{"$f":"IF(OR(新人入力!$H87=21,新人入力!$I87=21),\"○\",\"\")","v":""},{"$f":"IF(OR(新人入力!$H87=23,新人入力!$I87=23),\"○\",\"\")","v":""},{"$f":"IF(OR(新人入力!$H87=24,新人入力!$I87=24),\"○\",\"\")","v":""},{"$f":"IF(OR(新人入力!$H87=25,新人入力!$I87=25),\"○\",\"\")","v":""},{"$f":"IF(OR(新人入力!$H87=26,新人入力!$I87=26),\"○\",\"\")","v":""},{"$f":"IF(OR(新人入力!$H87=27,新人入力!$I87=27),\"○\",\"\")","v":""},{"$f":"IF(OR(新人入力!$H87=28,新人入力!$I87=28),\"○\",\"\")","v":""},{"$f":"IF(OR(新人入力!$H87=29,新人入力!$I87=29),\"○\",\"\")","v":""},{"$f":"IF(OR(新人入力!$H87=30,新人入力!$I87=30),\"○\",\"\")","v":""},null,null,{"$f":"IF(新人入力!$J87=38,\"○\",\"\")","v":""},{"$f":"IF(新人入力!N87=\"\",\"\",新人入力!N87)","v":""},null,null,null,null,null,null,null,null,null,null,null,null,null,null,null,null,null,null,null,null,null,null,null,"○"]
[{"$f":"IF(新人入力!B88=\"\",\"\",新人入力!B88)","v":""},{"$f":"IF(新人入力!D88=\"\",\"\",新人入力!D88)","v":""},{"$f":"IF(新人入力!F88=\"\",\"\",新人入力!F88)","v":""},{"$f":"IF(新人入力!E88=\"\",\"\",新人入力!E88)","v":""},{"$f":"IF(OR(新人入力!$H88=31,新人入力!$I88=31),\"○\",\"\")","v":""},{"$f":"IF(OR(新人入力!$H88=21,新人入力!$I88=21),\"○\",\"\")","v":""},{"$f":"IF(OR(新人入力!$H88=23,新人入力!$I88=23),\"○\",\"\")","v":""},{"$f":"IF(OR(新人入力!$H88=24,新人入力!$I88=24),\"○\",\"\")","v":""},{"$f":"IF(OR(新人入力!$H88=25,新人入力!$I88=25),\"○\",\"\")","v":""},{"$f":"IF(OR(新人入力!$H88=26,新人入力!$I88=26),\"○\",\"\")","v":""},{"$f":"IF(OR(新人入力!$H88=27,新人入力!$I88=27),\"○\",\"\")","v":""},{"$f":"IF(OR(新人入力!$H88=28,新人入力!$I88=28),\"○\",\"\")","v":""},{"$f":"IF(OR(新人入力!$H88=29,新人入力!$I88=29),\"○\",\"\")","v":""},{"$f":"IF(OR(新人入力!$H88=30,新人入力!$I88=30),\"○\",\"\")","v":""},null,null,{"$f":"IF(新人入力!$J88=38,\"○\",\"\")","v":""},{"$f":"IF(新人入力!N88=\"\",\"\",新人入力!N88)","v":""}]
[{"$f":"IF(新人入力!B89=\"\",\"\",新人入力!B89)","v":""},{"$f":"IF(新人入力!D89=\"\",\"\",新人入力!D89)","v":""},{"$f":"IF(新人入力!F89=\"\",\"\",新人入力!F89)","v":""},{"$f":"IF(新人入力!E89=\"\",\"\",新人入力!E89)","v":""},{"$f":"IF(OR(新人入力!$H89=31,新人入力!$I89=31),\"○\",\"\")","v":""},{"$f":"IF(OR(新人入力!$H89=21,新人入力!$I89=21),\"○\",\"\")","v":""},{"$f":"IF(OR(新人入力!$H89=23,新人入力!$I89=23),\"○\",\"\")","v":""},{"$f":"IF(OR(新人入力!$H89=24,新人入力!$I89=24),\"○\",\"\")","v":""},{"$f":"IF(OR(新人入力!$H89=25,新人入力!$I89=25),\"○\",\"\")","v":""},{"$f":"IF(OR(新人入力!$H89=26,新人入力!$I89=26),\"○\",\"\")","v":""},{"$f":"IF(OR(新人入力!$H89=27,新人入力!$I89=27),\"○\",\"\")","v":""},{"$f":"IF(OR(新人入力!$H89=28,新人入力!$I89=28),\"○\",\"\")","v":""},{"$f":"IF(OR(新人入力!$H89=29,新人入力!$I89=29),\"○\",\"\")","v":""},{"$f":"IF(OR(新人入力!$H89=30,新人入力!$I89=30),\"○\",\"\")","v":""},null,null,{"$f":"IF(新人入力!$J89=38,\"○\",\"\")","v":""},{"$f":"IF(新人入力!N89=\"\",\"\",新人入力!N89)","v":""}]
[{"$f":"IF(新人入力!B90=\"\",\"\",新人入力!B90)","v":""},{"$f":"IF(新人入力!D90=\"\",\"\",新人入力!D90)","v":""},{"$f":"IF(新人入力!F90=\"\",\"\",新人入力!F90)","v":""},{"$f":"IF(新人入力!E90=\"\",\"\",新人入力!E90)","v":""},{"$f":"IF(OR(新人入力!$H90=31,新人入力!$I90=31),\"○\",\"\")","v":""},{"$f":"IF(OR(新人入力!$H90=21,新人入力!$I90=21),\"○\",\"\")","v":""},{"$f":"IF(OR(新人入力!$H90=23,新人入力!$I90=23),\"○\",\"\")","v":""},{"$f":"IF(OR(新人入力!$H90=24,新人入力!$I90=24),\"○\",\"\")","v":""},{"$f":"IF(OR(新人入力!$H90=25,新人入力!$I90=25),\"○\",\"\")","v":""},{"$f":"IF(OR(新人入力!$H90=26,新人入力!$I90=26),\"○\",\"\")","v":""},{"$f":"IF(OR(新人入力!$H90=27,新人入力!$I90=27),\"○\",\"\")","v":""},{"$f":"IF(OR(新人入力!$H90=28,新人入力!$I90=28),\"○\",\"\")","v":""},{"$f":"IF(OR(新人入力!$H90=29,新人入力!$I90=29),\"○\",\"\")","v":""},{"$f":"IF(OR(新人入力!$H90=30,新人入力!$I90=30),\"○\",\"\")","v":""},null,null,{"$f":"IF(新人入力!$J90=38,\"○\",\"\")","v":""},{"$f":"IF(新人入力!N90=\"\",\"\",新人入力!N90)","v":""}]
[{"$f":"IF(新人入力!B91=\"\",\"\",新人入力!B91)","v":""},{"$f":"IF(新人入力!D91=\"\",\"\",新人入力!D91)","v":""},{"$f":"IF(新人入力!F91=\"\",\"\",新人入力!F91)","v":""},{"$f":"IF(新人入力!E91=\"\",\"\",新人入力!E91)","v":""},{"$f":"IF(OR(新人入力!$H91=31,新人入力!$I91=31),\"○\",\"\")","v":""},{"$f":"IF(OR(新人入力!$H91=21,新人入力!$I91=21),\"○\",\"\")","v":""},{"$f":"IF(OR(新人入力!$H91=23,新人入力!$I91=23),\"○\",\"\")","v":""},{"$f":"IF(OR(新人入力!$H91=24,新人入力!$I91=24),\"○\",\"\")","v":""},{"$f":"IF(OR(新人入力!$H91=25,新人入力!$I91=25),\"○\",\"\")","v":""},{"$f":"IF(OR(新人入力!$H91=26,新人入力!$I91=26),\"○\",\"\")","v":""},{"$f":"IF(OR(新人入力!$H91=27,新人入力!$I91=27),\"○\",\"\")","v":""},{"$f":"IF(OR(新人入力!$H91=28,新人入力!$I91=28),\"○\",\"\")","v":""},{"$f":"IF(OR(新人入力!$H91=29,新人入力!$I91=29),\"○\",\"\")","v":""},{"$f":"IF(OR(新人入力!$H91=30,新人入力!$I91=30),\"○\",\"\")","v":""},null,null,{"$f":"IF(新人入力!$J91=38,\"○\",\"\")","v":""},{"$f":"IF(新人入力!N91=\"\",\"\",新人入力!N91)","v":""}]
[{"$f":"IF(新人入力!B92=\"\",\"\",新人入力!B92)","v":""},{"$f":"IF(新人入力!D92=\"\",\"\",新人入力!D92)","v":""},{"$f":"IF(新人入力!F92=\"\",\"\",新人入力!F92)","v":""},{"$f":"IF(新人入力!E92=\"\",\"\",新人入力!E92)","v":""},{"$f":"IF(OR(新人入力!$H92=31,新人入力!$I92=31),\"○\",\"\")","v":""},{"$f":"IF(OR(新人入力!$H92=21,新人入力!$I92=21),\"○\",\"\")","v":""},{"$f":"IF(OR(新人入力!$H92=23,新人入力!$I92=23),\"○\",\"\")","v":""},{"$f":"IF(OR(新人入力!$H92=24,新人入力!$I92=24),\"○\",\"\")","v":""},{"$f":"IF(OR(新人入力!$H92=25,新人入力!$I92=25),\"○\",\"\")","v":""},{"$f":"IF(OR(新人入力!$H92=26,新人入力!$I92=26),\"○\",\"\")","v":""},{"$f":"IF(OR(新人入力!$H92=27,新人入力!$I92=27),\"○\",\"\")","v":""},{"$f":"IF(OR(新人入力!$H92=28,新人入力!$I92=28),\"○\",\"\")","v":""},{"$f":"IF(OR(新人入力!$H92=29,新人入力!$I92=29),\"○\",\"\")","v":""},{"$f":"IF(OR(新人入力!$H92=30,新人入力!$I92=30),\"○\",\"\")","v":""},null,null,{"$f":"IF(新人入力!$J92=38,\"○\",\"\")","v":""},{"$f":"IF(新人入力!N92=\"\",\"\",新人入力!N92)","v":""}]
[{"$f":"IF(新人入力!B93=\"\",\"\",新人入力!B93)","v":""},{"$f":"IF(新人入力!D93=\"\",\"\",新人入力!D93)","v":""},{"$f":"IF(新人入力!F93=\"\",\"\",新人入力!F93)","v":""},{"$f":"IF(新人入力!E93=\"\",\"\",新人入力!E93)","v":""},{"$f":"IF(OR(新人入力!$H93=31,新人入力!$I93=31),\"○\",\"\")","v":""},{"$f":"IF(OR(新人入力!$H93=21,新人入力!$I93=21),\"○\",\"\")","v":""},{"$f":"IF(OR(新人入力!$H93=23,新人入力!$I93=23),\"○\",\"\")","v":""},{"$f":"IF(OR(新人入力!$H93=24,新人入力!$I93=24),\"○\",\"\")","v":""},{"$f":"IF(OR(新人入力!$H93=25,新人入力!$I93=25),\"○\",\"\")","v":""},{"$f":"IF(OR(新人入力!$H93=26,新人入力!$I93=26),\"○\",\"\")","v":""},{"$f":"IF(OR(新人入力!$H93=27,新人入力!$I93=27),\"○\",\"\")","v":""},{"$f":"IF(OR(新人入力!$H93=28,新人入力!$I93=28),\"○\",\"\")","v":""},{"$f":"IF(OR(新人入力!$H93=29,新人入力!$I93=29),\"○\",\"\")","v":""},{"$f":"IF(OR(新人入力!$H93=30,新人入力!$I93=30),\"○\",\"\")","v":""},null,null,{"$f":"IF(新人入力!$J93=38,\"○\",\"\")","v":""},{"$f":"IF(新人入力!N93=\"\",\"\",新人入力!N93)","v":""}]
[{"$f":"IF(新人入力!B94=\"\",\"\",新人入力!B94)","v":""},{"$f":"IF(新人入力!D94=\"\",\"\",新人入力!D94)","v":""},{"$f":"IF(新人入力!F94=\"\",\"\",新人入力!F94)","v":""},{"$f":"IF(新人入力!E94=\"\",\"\",新人入力!E94)","v":""},{"$f":"IF(OR(新人入力!$H94=31,新人入力!$I94=31),\"○\",\"\")","v":""},{"$f":"IF(OR(新人入力!$H94=21,新人入力!$I94=21),\"○\",\"\")","v":""},{"$f":"IF(OR(新人入力!$H94=23,新人入力!$I94=23),\"○\",\"\")","v":""},{"$f":"IF(OR(新人入力!$H94=24,新人入力!$I94=24),\"○\",\"\")","v":""},{"$f":"IF(OR(新人入力!$H94=25,新人入力!$I94=25),\"○\",\"\")","v":""},{"$f":"IF(OR(新人入力!$H94=26,新人入力!$I94=26),\"○\",\"\")","v":""},{"$f":"IF(OR(新人入力!$H94=27,新人入力!$I94=27),\"○\",\"\")","v":""},{"$f":"IF(OR(新人入力!$H94=28,新人入力!$I94=28),\"○\",\"\")","v":""},{"$f":"IF(OR(新人入力!$H94=29,新人入力!$I94=29),\"○\",\"\")","v":""},{"$f":"IF(OR(新人入力!$H94=30,新人入力!$I94=30),\"○\",\"\")","v":""},null,null,{"$f":"IF(新人入力!$J94=38,\"○\",\"\")","v":""},{"$f":"IF(新人入力!N94=\"\",\"\",新人入力!N94)","v":""}]
[{"$f":"IF(新人入力!B95=\"\",\"\",新人入力!B95)","v":""},{"$f":"IF(新人入力!D95=\"\",\"\",新人入力!D95)","v":""},{"$f":"IF(新人入力!F95=\"\",\"\",新人入力!F95)","v":""},{"$f":"IF(新人入力!E95=\"\",\"\",新人入力!E95)","v":""},{"$f":"IF(OR(新人入力!$H95=31,新人入力!$I95=31),\"○\",\"\")","v":""},{"$f":"IF(OR(新人入力!$H95=21,新人入力!$I95=21),\"○\",\"\")","v":""},{"$f":"IF(OR(新人入力!$H95=23,新人入力!$I95=23),\"○\",\"\")","v":""},{"$f":"IF(OR(新人入力!$H95=24,新人入力!$I95=24),\"○\",\"\")","v":""},{"$f":"IF(OR(新人入力!$H95=25,新人入力!$I95=25),\"○\",\"\")","v":""},{"$f":"IF(OR(新人入力!$H95=26,新人入力!$I95=26),\"○\",\"\")","v":""},{"$f":"IF(OR(新人入力!$H95=27,新人入力!$I95=27),\"○\",\"\")","v":""},{"$f":"IF(OR(新人入力!$H95=28,新人入力!$I95=28),\"○\",\"\")","v":""},{"$f":"IF(OR(新人入力!$H95=29,新人入力!$I95=29),\"○\",\"\")","v":""},{"$f":"IF(OR(新人入力!$H95=30,新人入力!$I95=30),\"○\",\"\")","v":""},null,null,{"$f":"IF(新人入力!$J95=38,\"○\",\"\")","v":""},{"$f":"IF(新人入力!N95=\"\",\"\",新人入力!N95)","v":""}]
[{"$f":"IF(新人入力!B96=\"\",\"\",新人入力!B96)","v":""},{"$f":"IF(新人入力!D96=\"\",\"\",新人入力!D96)","v":""},{"$f":"IF(新人入力!F96=\"\",\"\",新人入力!F96)","v":""},{"$f":"IF(新人入力!E96=\"\",\"\",新人入力!E96)","v":""},{"$f":"IF(OR(新人入力!$H96=31,新人入力!$I96=31),\"○\",\"\")","v":""},{"$f":"IF(OR(新人入力!$H96=21,新人入力!$I96=21),\"○\",\"\")","v":""},{"$f":"IF(OR(新人入力!$H96=23,新人入力!$I96=23),\"○\",\"\")","v":""},{"$f":"IF(OR(新人入力!$H96=24,新人入力!$I96=24),\"○\",\"\")","v":""},{"$f":"IF(OR(新人入力!$H96=25,新人入力!$I96=25),\"○\",\"\")","v":""},{"$f":"IF(OR(新人入力!$H96=26,新人入力!$I96=26),\"○\",\"\")","v":""},{"$f":"IF(OR(新人入力!$H96=27,新人入力!$I96=27),\"○\",\"\")","v":""},{"$f":"IF(OR(新人入力!$H96=28,新人入力!$I96=28),\"○\",\"\")","v":""},{"$f":"IF(OR(新人入力!$H96=29,新人入力!$I96=29),\"○\",\"\")","v":""},{"$f":"IF(OR(新人入力!$H96=30,新人入力!$I96=30),\"○\",\"\")","v":""},null,null,{"$f":"IF(新人入力!$J96=38,\"○\",\"\")","v":""},{"$f":"IF(新人入力!N96=\"\",\"\",新人入力!N96)","v":""}]
[{"$f":"IF(新人入力!B97=\"\",\"\",新人入力!B97)","v":""},{"$f":"IF(新人入力!D97=\"\",\"\",新人入力!D97)","v":""},{"$f":"IF(新人入力!F97=\"\",\"\",新人入力!F97)","v":""},{"$f":"IF(新人入力!E97=\"\",\"\",新人入力!E97)","v":""},{"$f":"IF(OR(新人入力!$H97=31,新人入力!$I97=31),\"○\",\"\")","v":""},{"$f":"IF(OR(新人入力!$H97=21,新人入力!$I97=21),\"○\",\"\")","v":""},{"$f":"IF(OR(新人入力!$H97=23,新人入力!$I97=23),\"○\",\"\")","v":""},{"$f":"IF(OR(新人入力!$H97=24,新人入力!$I97=24),\"○\",\"\")","v":""},{"$f":"IF(OR(新人入力!$H97=25,新人入力!$I97=25),\"○\",\"\")","v":""},{"$f":"IF(OR(新人入力!$H97=26,新人入力!$I97=26),\"○\",\"\")","v":""},{"$f":"IF(OR(新人入力!$H97=27,新人入力!$I97=27),\"○\",\"\")","v":""},{"$f":"IF(OR(新人入力!$H97=28,新人入力!$I97=28),\"○\",\"\")","v":""},{"$f":"IF(OR(新人入力!$H97=29,新人入力!$I97=29),\"○\",\"\")","v":""},{"$f":"IF(OR(新人入力!$H97=30,新人入力!$I97=30),\"○\",\"\")","v":""},null,null,{"$f":"IF(新人入力!$J97=38,\"○\",\"\")","v":""},{"$f":"IF(新人入力!N97=\"\",\"\",新人入力!N97)","v":""}]
[{"$f":"IF(新人入力!B98=\"\",\"\",新人入力!B98)","v":""},{"$f":"IF(新人入力!D98=\"\",\"\",新人入力!D98)","v":""},{"$f":"IF(新人入力!F98=\"\",\"\",新人入力!F98)","v":""},{"$f":"IF(新人入力!E98=\"\",\"\",新人入力!E98)","v":""},{"$f":"IF(OR(新人入力!$H98=31,新人入力!$I98=31),\"○\",\"\")","v":""},{"$f":"IF(OR(新人入力!$H98=21,新人入力!$I98=21),\"○\",\"\")","v":""},{"$f":"IF(OR(新人入力!$H98=23,新人入力!$I98=23),\"○\",\"\")","v":""},{"$f":"IF(OR(新人入力!$H98=24,新人入力!$I98=24),\"○\",\"\")","v":""},{"$f":"IF(OR(新人入力!$H98=25,新人入力!$I98=25),\"○\",\"\")","v":""},{"$f":"IF(OR(新人入力!$H98=26,新人入力!$I98=26),\"○\",\"\")","v":""},{"$f":"IF(OR(新人入力!$H98=27,新人入力!$I98=27),\"○\",\"\")","v":""},{"$f":"IF(OR(新人入力!$H98=28,新人入力!$I98=28),\"○\",\"\")","v":""},{"$f":"IF(OR(新人入力!$H98=29,新人入力!$I98=29),\"○\",\"\")","v":""},{"$f":"IF(OR(新人入力!$H98=30,新人入力!$I98=30),\"○\",\"\")","v":""},null,null,{"$f":"IF(新人入力!$J98=38,\"○\",\"\")","v":""},{"$f":"IF(新人入力!N98=\"\",\"\",新人入力!N98)","v":""}]
[{"$f":"IF(新人入力!B99=\"\",\"\",新人入力!B99)","v":""},{"$f":"IF(新人入力!D99=\"\",\"\",新人入力!D99)","v":""},{"$f":"IF(新人入力!F99=\"\",\"\",新人入力!F99)","v":""},{"$f":"IF(新人入力!E99=\"\",\"\",新人入力!E99)","v":""},{"$f":"IF(OR(新人入力!$H99=31,新人入力!$I99=31),\"○\",\"\")","v":""},{"$f":"IF(OR(新人入力!$H99=21,新人入力!$I99=21),\"○\",\"\")","v":""},{"$f":"IF(OR(新人入力!$H99=23,新人入力!$I99=23),\"○\",\"\")","v":""},{"$f":"IF(OR(新人入力!$H99=24,新人入力!$I99=24),\"○\",\"\")","v":""},{"$f":"IF(OR(新人入力!$H99=25,新人入力!$I99=25),\"○\",\"\")","v":""},{"$f":"IF(OR(新人入力!$H99=26,新人入力!$I99=26),\"○\",\"\")","v":""},{"$f":"IF(OR(新人入力!$H99=27,新人入力!$I99=27),\"○\",\"\")","v":""},{"$f":"IF(OR(新人入力!$H99=28,新人入力!$I99=28),\"○\",\"\")","v":""},{"$f":"IF(OR(新人入力!$H99=29,新人入力!$I99=29),\"○\",\"\")","v":""},{"$f":"IF(OR(新人入力!$H99=30,新人入力!$I99=30),\"○\",\"\")","v":""},null,null,{"$f":"IF(新人入力!$J99=38,\"○\",\"\")","v":""},{"$f":"IF(新人入力!N99=\"\",\"\",新人入力!N99)","v":""}]
[{"$f":"IF(新人入力!B100=\"\",\"\",新人入力!B100)","v":""},{"$f":"IF(新人入力!D100=\"\",\"\",新人入力!D100)","v":""},{"$f":"IF(新人入力!F100=\"\",\"\",新人入力!F100)","v":""},{"$f":"IF(新人入力!E100=\"\",\"\",新人入力!E100)","v":""},{"$f":"IF(OR(新人入力!$H100=31,新人入力!$I100=31),\"○\",\"\")","v":""},{"$f":"IF(OR(新人入力!$H100=21,新人入力!$I100=21),\"○\",\"\")","v":""},{"$f":"IF(OR(新人入力!$H100=23,新人入力!$I100=23),\"○\",\"\")","v":""},{"$f":"IF(OR(新人入力!$H100=24,新人入力!$I100=24),\"○\",\"\")","v":""},{"$f":"IF(OR(新人入力!$H100=25,新人入力!$I100=25),\"○\",\"\")","v":""},{"$f":"IF(OR(新人入力!$H100=26,新人入力!$I100=26),\"○\",\"\")","v":""},{"$f":"IF(OR(新人入力!$H100=27,新人入力!$I100=27),\"○\",\"\")","v":""},{"$f":"IF(OR(新人入力!$H100=28,新人入力!$I100=28),\"○\",\"\")","v":""},{"$f":"IF(OR(新人入力!$H100=29,新人入力!$I100=29),\"○\",\"\")","v":""},{"$f":"IF(OR(新人入力!$H100=30,新人入力!$I100=30),\"○\",\"\")","v":""},null,null,{"$f":"IF(新人入力!$J100=38,\"○\",\"\")","v":""},{"$f":"IF(新人入力!N100=\"\",\"\",新人入力!N100)","v":""}]
[{"$f":"IF(新人入力!B101=\"\",\"\",新人入力!B101)","v":""},{"$f":"IF(新人入力!D101=\"\",\"\",新人入力!D101)","v":""},{"$f":"IF(新人入力!F101=\"\",\"\",新人入力!F101)","v":""},{"$f":"IF(新人入力!E101=\"\",\"\",新人入力!E101)","v":""},{"$f":"IF(OR(新人入力!$H101=31,新人入力!$I101=31),\"○\",\"\")","v":""},{"$f":"IF(OR(新人入力!$H101=21,新人入力!$I101=21),\"○\",\"\")","v":""},{"$f":"IF(OR(新人入力!$H101=23,新人入力!$I101=23),\"○\",\"\")","v":""},{"$f":"IF(OR(新人入力!$H101=24,新人入力!$I101=24),\"○\",\"\")","v":""},{"$f":"IF(OR(新人入力!$H101=25,新人入力!$I101=25),\"○\",\"\")","v":""},{"$f":"IF(OR(新人入力!$H101=26,新人入力!$I101=26),\"○\",\"\")","v":""},{"$f":"IF(OR(新人入力!$H101=27,新人入力!$I101=27),\"○\",\"\")","v":""},{"$f":"IF(OR(新人入力!$H101=28,新人入力!$I101=28),\"○\",\"\")","v":""},{"$f":"IF(OR(新人入力!$H101=29,新人入力!$I101=29),\"○\",\"\")","v":""},{"$f":"IF(OR(新人入力!$H101=30,新人入力!$I101=30),\"○\",\"\")","v":""},null,null,{"$f":"IF(新人入力!$J101=38,\"○\",\"\")","v":""},{"$f":"IF(新人入力!N101=\"\",\"\",新人入力!N101)","v":""}]
[{"$f":"IF(新人入力!B102=\"\",\"\",新人入力!B102)","v":""},{"$f":"IF(新人入力!D102=\"\",\"\",新人入力!D102)","v":""},{"$f":"IF(新人入力!F102=\"\",\"\",新人入力!F102)","v":""},{"$f":"IF(新人入力!E102=\"\",\"\",新人入力!E102)","v":""},{"$f":"IF(OR(新人入力!$H102=31,新人入力!$I102=31),\"○\",\"\")","v":""},{"$f":"IF(OR(新人入力!$H102=21,新人入力!$I102=21),\"○\",\"\")","v":""},{"$f":"IF(OR(新人入力!$H102=23,新人入力!$I102=23),\"○\",\"\")","v":""},{"$f":"IF(OR(新人入力!$H102=24,新人入力!$I102=24),\"○\",\"\")","v":""},{"$f":"IF(OR(新人入力!$H102=25,新人入力!$I102=25),\"○\",\"\")","v":""},{"$f":"IF(OR(新人入力!$H102=26,新人入力!$I102=26),\"○\",\"\")","v":""},{"$f":"IF(OR(新人入力!$H102=27,新人入力!$I102=27),\"○\",\"\")","v":""},{"$f":"IF(OR(新人入力!$H102=28,新人入力!$I102=28),\"○\",\"\")","v":""},{"$f":"IF(OR(新人入力!$H102=29,新人入力!$I102=29),\"○\",\"\")","v":""},{"$f":"IF(OR(新人入力!$H102=30,新人入力!$I102=30),\"○\",\"\")","v":""},null,null,{"$f":"IF(新人入力!$J102=38,\"○\",\"\")","v":""},{"$f":"IF(新人入力!N102=\"\",\"\",新人入力!N102)","v":""}]
[{"$f":"IF(新人入力!B103=\"\",\"\",新人入力!B103)","v":""},{"$f":"IF(新人入力!D103=\"\",\"\",新人入力!D103)","v":""},{"$f":"IF(新人入力!F103=\"\",\"\",新人入力!F103)","v":""},{"$f":"IF(新人入力!E103=\"\",\"\",新人入力!E103)","v":""},{"$f":"IF(OR(新人入力!$H103=31,新人入力!$I103=31),\"○\",\"\")","v":""},{"$f":"IF(OR(新人入力!$H103=21,新人入力!$I103=21),\"○\",\"\")","v":""},{"$f":"IF(OR(新人入力!$H103=23,新人入力!$I103=23),\"○\",\"\")","v":""},{"$f":"IF(OR(新人入力!$H103=24,新人入力!$I103=24),\"○\",\"\")","v":""},{"$f":"IF(OR(新人入力!$H103=25,新人入力!$I103=25),\"○\",\"\")","v":""},{"$f":"IF(OR(新人入力!$H103=26,新人入力!$I103=26),\"○\",\"\")","v":""},{"$f":"IF(OR(新人入力!$H103=27,新人入力!$I103=27),\"○\",\"\")","v":""},{"$f":"IF(OR(新人入力!$H103=28,新人入力!$I103=28),\"○\",\"\")","v":""},{"$f":"IF(OR(新人入力!$H103=29,新人入力!$I103=29),\"○\",\"\")","v":""},{"$f":"IF(OR(新人入力!$H103=30,新人入力!$I103=30),\"○\",\"\")","v":""},null,null,{"$f":"IF(新人入力!$J103=38,\"○\",\"\")","v":""},{"$f":"IF(新人入力!N103=\"\",\"\",新人入力!N103)","v":""}]
[{"$f":"IF(新人入力!B104=\"\",\"\",新人入力!B104)","v":""},{"$f":"IF(新人入力!D104=\"\",\"\",新人入力!D104)","v":""},{"$f":"IF(新人入力!F104=\"\",\"\",新人入力!F104)","v":""},{"$f":"IF(新人入力!E104=\"\",\"\",新人入力!E104)","v":""},{"$f":"IF(OR(新人入力!$H104=31,新人入力!$I104=31),\"○\",\"\")","v":""},{"$f":"IF(OR(新人入力!$H104=21,新人入力!$I104=21),\"○\",\"\")","v":""},{"$f":"IF(OR(新人入力!$H104=23,新人入力!$I104=23),\"○\",\"\")","v":""},{"$f":"IF(OR(新人入力!$H104=24,新人入力!$I104=24),\"○\",\"\")","v":""},{"$f":"IF(OR(新人入力!$H104=25,新人入力!$I104=25),\"○\",\"\")","v":""},{"$f":"IF(OR(新人入力!$H104=26,新人入力!$I104=26),\"○\",\"\")","v":""},{"$f":"IF(OR(新人入力!$H104=27,新人入力!$I104=27),\"○\",\"\")","v":""},{"$f":"IF(OR(新人入力!$H104=28,新人入力!$I104=28),\"○\",\"\")","v":""},{"$f":"IF(OR(新人入力!$H104=29,新人入力!$I104=29),\"○\",\"\")","v":""},{"$f":"IF(OR(新人入力!$H104=30,新人入力!$I104=30),\"○\",\"\")","v":""},null,null,{"$f":"IF(新人入力!$J104=38,\"○\",\"\")","v":""},{"$f":"IF(新人入力!N104=\"\",\"\",新人入力!N104)","v":""}]
[{"$f":"IF(新人入力!B105=\"\",\"\",新人入力!B105)","v":""},{"$f":"IF(新人入力!D105=\"\",\"\",新人入力!D105)","v":""},{"$f":"IF(新人入力!F105=\"\",\"\",新人入力!F105)","v":""},{"$f":"IF(新人入力!E105=\"\",\"\",新人入力!E105)","v":""},{"$f":"IF(OR(新人入力!$H105=31,新人入力!$I105=31),\"○\",\"\")","v":""},{"$f":"IF(OR(新人入力!$H105=21,新人入力!$I105=21),\"○\",\"\")","v":""},{"$f":"IF(OR(新人入力!$H105=23,新人入力!$I105=23),\"○\",\"\")","v":""},{"$f":"IF(OR(新人入力!$H105=24,新人入力!$I105=24),\"○\",\"\")","v":""},{"$f":"IF(OR(新人入力!$H105=25,新人入力!$I105=25),\"○\",\"\")","v":""},{"$f":"IF(OR(新人入力!$H105=26,新人入力!$I105=26),\"○\",\"\")","v":""},{"$f":"IF(OR(新人入力!$H105=27,新人入力!$I105=27),\"○\",\"\")","v":""},{"$f":"IF(OR(新人入力!$H105=28,新人入力!$I105=28),\"○\",\"\")","v":""},{"$f":"IF(OR(新人入力!$H105=29,新人入力!$I105=29),\"○\",\"\")","v":""},{"$f":"IF(OR(新人入力!$H105=30,新人入力!$I105=30),\"○\",\"\")","v":""},null,null,{"$f":"IF(新人入力!$J105=38,\"○\",\"\")","v":""},{"$f":"IF(新人入力!N105=\"\",\"\",新人入力!N105)","v":""}]
[{"$f":"IF(新人入力!B106=\"\",\"\",新人入力!B106)","v":""},{"$f":"IF(新人入力!D106=\"\",\"\",新人入力!D106)","v":""},{"$f":"IF(新人入力!F106=\"\",\"\",新人入力!F106)","v":""},{"$f":"IF(新人入力!E106=\"\",\"\",新人入力!E106)","v":""},{"$f":"IF(OR(新人入力!$H106=31,新人入力!$I106=31),\"○\",\"\")","v":""},{"$f":"IF(OR(新人入力!$H106=21,新人入力!$I106=21),\"○\",\"\")","v":""},{"$f":"IF(OR(新人入力!$H106=23,新人入力!$I106=23),\"○\",\"\")","v":""},{"$f":"IF(OR(新人入力!$H106=24,新人入力!$I106=24),\"○\",\"\")","v":""},{"$f":"IF(OR(新人入力!$H106=25,新人入力!$I106=25),\"○\",\"\")","v":""},{"$f":"IF(OR(新人入力!$H106=26,新人入力!$I106=26),\"○\",\"\")","v":""},{"$f":"IF(OR(新人入力!$H106=27,新人入力!$I106=27),\"○\",\"\")","v":""},{"$f":"IF(OR(新人入力!$H106=28,新人入力!$I106=28),\"○\",\"\")","v":""},{"$f":"IF(OR(新人入力!$H106=29,新人入力!$I106=29),\"○\",\"\")","v":""},{"$f":"IF(OR(新人入力!$H106=30,新人入力!$I106=30),\"○\",\"\")","v":""},null,null,{"$f":"IF(新人入力!$J106=38,\"○\",\"\")","v":""},{"$f":"IF(新人入力!N106=\"\",\"\",新人入力!N106)","v":""}]
[{"$f":"IF(新人入力!B107=\"\",\"\",新人入力!B107)","v":""},{"$f":"IF(新人入力!D107=\"\",\"\",新人入力!D107)","v":""},{"$f":"IF(新人入力!F107=\"\",\"\",新人入力!F107)","v":""},{"$f":"IF(新人入力!E107=\"\",\"\",新人入力!E107)","v":""},{"$f":"IF(OR(新人入力!$H107=31,新人入力!$I107=31),\"○\",\"\")","v":""},{"$f":"IF(OR(新人入力!$H107=21,新人入力!$I107=21),\"○\",\"\")","v":""},{"$f":"IF(OR(新人入力!$H107=23,新人入力!$I107=23),\"○\",\"\")","v":""},{"$f":"IF(OR(新人入力!$H107=24,新人入力!$I107=24),\"○\",\"\")","v":""},{"$f":"IF(OR(新人入力!$H107=25,新人入力!$I107=25),\"○\",\"\")","v":""},{"$f":"IF(OR(新人入力!$H107=26,新人入力!$I107=26),\"○\",\"\")","v":""},{"$f":"IF(OR(新人入力!$H107=27,新人入力!$I107=27),\"○\",\"\")","v":""},{"$f":"IF(OR(新人入力!$H107=28,新人入力!$I107=28),\"○\",\"\")","v":""},{"$f":"IF(OR(新人入力!$H107=29,新人入力!$I107=29),\"○\",\"\")","v":""},{"$f":"IF(OR(新人入力!$H107=30,新人入力!$I107=30),\"○\",\"\")","v":""},null,null,{"$f":"IF(新人入力!$J107=38,\"○\",\"\")","v":""},{"$f":"IF(新人入力!N107=\"\",\"\",新人入力!N107)","v":""}]
[{"$f":"IF(新人入力!B108=\"\",\"\",新人入力!B108)","v":""},{"$f":"IF(新人入力!D108=\"\",\"\",新人入力!D108)","v":""},{"$f":"IF(新人入力!F108=\"\",\"\",新人入力!F108)","v":""},{"$f":"IF(新人入力!E108=\"\",\"\",新人入力!E108)","v":""},{"$f":"IF(OR(新人入力!$H108=31,新人入力!$I108=31),\"○\",\"\")","v":""},{"$f":"IF(OR(新人入力!$H108=21,新人入力!$I108=21),\"○\",\"\")","v":""},{"$f":"IF(OR(新人入力!$H108=23,新人入力!$I108=23),\"○\",\"\")","v":""},{"$f":"IF(OR(新人入力!$H108=24,新人入力!$I108=24),\"○\",\"\")","v":""},{"$f":"IF(OR(新人入力!$H108=25,新人入力!$I108=25),\"○\",\"\")","v":""},{"$f":"IF(OR(新人入力!$H108=26,新人入力!$I108=26),\"○\",\"\")","v":""},{"$f":"IF(OR(新人入力!$H108=27,新人入力!$I108=27),\"○\",\"\")","v":""},{"$f":"IF(OR(新人入力!$H108=28,新人入力!$I108=28),\"○\",\"\")","v":""},{"$f":"IF(OR(新人入力!$H108=29,新人入力!$I108=29),\"○\",\"\")","v":""},{"$f":"IF(OR(新人入力!$H108=30,新人入力!$I108=30),\"○\",\"\")","v":""},null,null,{"$f":"IF(新人入力!$J108=38,\"○\",\"\")","v":""},{"$f":"IF(新人入力!N108=\"\",\"\",新人入力!N108)","v":""}]
[{"$f":"IF(新人入力!B109=\"\",\"\",新人入力!B109)","v":""},{"$f":"IF(新人入力!D109=\"\",\"\",新人入力!D109)","v":""},{"$f":"IF(新人入力!F109=\"\",\"\",新人入力!F109)","v":""},{"$f":"IF(新人入力!E109=\"\",\"\",新人入力!E109)","v":""},{"$f":"IF(OR(新人入力!$H109=31,新人入力!$I109=31),\"○\",\"\")","v":""},{"$f":"IF(OR(新人入力!$H109=21,新人入力!$I109=21),\"○\",\"\")","v":""},{"$f":"IF(OR(新人入力!$H109=23,新人入力!$I109=23),\"○\",\"\")","v":""},{"$f":"IF(OR(新人入力!$H109=24,新人入力!$I109=24),\"○\",\"\")","v":""},{"$f":"IF(OR(新人入力!$H109=25,新人入力!$I109=25),\"○\",\"\")","v":""},{"$f":"IF(OR(新人入力!$H109=26,新人入力!$I109=26),\"○\",\"\")","v":""},{"$f":"IF(OR(新人入力!$H109=27,新人入力!$I109=27),\"○\",\"\")","v":""},{"$f":"IF(OR(新人入力!$H109=28,新人入力!$I109=28),\"○\",\"\")","v":""},{"$f":"IF(OR(新人入力!$H109=29,新人入力!$I109=29),\"○\",\"\")","v":""},{"$f":"IF(OR(新人入力!$H109=30,新人入力!$I109=30),\"○\",\"\")","v":""},null,null,{"$f":"IF(新人入力!$J109=38,\"○\",\"\")","v":""},{"$f":"IF(新人入力!N109=\"\",\"\",新人入力!N109)","v":""}]
[{"$f":"IF(新人入力!B110=\"\",\"\",新人入力!B110)","v":""},{"$f":"IF(新人入力!D110=\"\",\"\",新人入力!D110)","v":""},{"$f":"IF(新人入力!F110=\"\",\"\",新人入力!F110)","v":""},{"$f":"IF(新人入力!E110=\"\",\"\",新人入力!E110)","v":""},{"$f":"IF(OR(新人入力!$H110=31,新人入力!$I110=31),\"○\",\"\")","v":""},{"$f":"IF(OR(新人入力!$H110=21,新人入力!$I110=21),\"○\",\"\")","v":""},{"$f":"IF(OR(新人入力!$H110=23,新人入力!$I110=23),\"○\",\"\")","v":""},{"$f":"IF(OR(新人入力!$H110=24,新人入力!$I110=24),\"○\",\"\")","v":""},{"$f":"IF(OR(新人入力!$H110=25,新人入力!$I110=25),\"○\",\"\")","v":""},{"$f":"IF(OR(新人入力!$H110=26,新人入力!$I110=26),\"○\",\"\")","v":""},{"$f":"IF(OR(新人入力!$H110=27,新人入力!$I110=27),\"○\",\"\")","v":""},{"$f":"IF(OR(新人入力!$H110=28,新人入力!$I110=28),\"○\",\"\")","v":""},{"$f":"IF(OR(新人入力!$H110=29,新人入力!$I110=29),\"○\",\"\")","v":""},{"$f":"IF(OR(新人入力!$H110=30,新人入力!$I110=30),\"○\",\"\")","v":""},null,null,{"$f":"IF(新人入力!$J110=38,\"○\",\"\")","v":""},{"$f":"IF(新人入力!N110=\"\",\"\",新人入力!N110)","v":""}]
[{"$f":"IF(新人入力!B111=\"\",\"\",新人入力!B111)","v":""},{"$f":"IF(新人入力!D111=\"\",\"\",新人入力!D111)","v":""},{"$f":"IF(新人入力!F111=\"\",\"\",新人入力!F111)","v":""},{"$f":"IF(新人入力!E111=\"\",\"\",新人入力!E111)","v":""},{"$f":"IF(OR(新人入力!$H111=31,新人入力!$I111=31),\"○\",\"\")","v":""},{"$f":"IF(OR(新人入力!$H111=21,新人入力!$I111=21),\"○\",\"\")","v":""},{"$f":"IF(OR(新人入力!$H111=23,新人入力!$I111=23),\"○\",\"\")","v":""},{"$f":"IF(OR(新人入力!$H111=24,新人入力!$I111=24),\"○\",\"\")","v":""},{"$f":"IF(OR(新人入力!$H111=25,新人入力!$I111=25),\"○\",\"\")","v":""},{"$f":"IF(OR(新人入力!$H111=26,新人入力!$I111=26),\"○\",\"\")","v":""},{"$f":"IF(OR(新人入力!$H111=27,新人入力!$I111=27),\"○\",\"\")","v":""},{"$f":"IF(OR(新人入力!$H111=28,新人入力!$I111=28),\"○\",\"\")","v":""},{"$f":"IF(OR(新人入力!$H111=29,新人入力!$I111=29),\"○\",\"\")","v":""},{"$f":"IF(OR(新人入力!$H111=30,新人入力!$I111=30),\"○\",\"\")","v":""},null,null,{"$f":"IF(新人入力!$J111=38,\"○\",\"\")","v":""},{"$f":"IF(新人入力!N111=\"\",\"\",新人入力!N111)","v":""}]
[{"$f":"IF(新人入力!B112=\"\",\"\",新人入力!B112)","v":""},{"$f":"IF(新人入力!D112=\"\",\"\",新人入力!D112)","v":""},{"$f":"IF(新人入力!F112=\"\",\"\",新人入力!F112)","v":""},{"$f":"IF(新人入力!E112=\"\",\"\",新人入力!E112)","v":""},{"$f":"IF(OR(新人入力!$H112=31,新人入力!$I112=31),\"○\",\"\")","v":""},{"$f":"IF(OR(新人入力!$H112=21,新人入力!$I112=21),\"○\",\"\")","v":""},{"$f":"IF(OR(新人入力!$H112=23,新人入力!$I112=23),\"○\",\"\")","v":""},{"$f":"IF(OR(新人入力!$H112=24,新人入力!$I112=24),\"○\",\"\")","v":""},{"$f":"IF(OR(新人入力!$H112=25,新人入力!$I112=25),\"○\",\"\")","v":""},{"$f":"IF(OR(新人入力!$H112=26,新人入力!$I112=26),\"○\",\"\")","v":""},{"$f":"IF(OR(新人入力!$H112=27,新人入力!$I112=27),\"○\",\"\")","v":""},{"$f":"IF(OR(新人入力!$H112=28,新人入力!$I112=28),\"○\",\"\")","v":""},{"$f":"IF(OR(新人入力!$H112=29,新人入力!$I112=29),\"○\",\"\")","v":""},{"$f":"IF(OR(新人入力!$H112=30,新人入力!$I112=30),\"○\",\"\")","v":""},null,null,{"$f":"IF(新人入力!$J112=38,\"○\",\"\")","v":""},{"$f":"IF(新人入力!N112=\"\",\"\",新人入力!N112)","v":""}]
[{"$f":"IF(新人入力!B113=\"\",\"\",新人入力!B113)","v":""},{"$f":"IF(新人入力!D113=\"\",\"\",新人入力!D113)","v":""},{"$f":"IF(新人入力!F113=\"\",\"\",新人入力!F113)","v":""},{"$f":"IF(新人入力!E113=\"\",\"\",新人入力!E113)","v":""},{"$f":"IF(OR(新人入力!$H113=31,新人入力!$I113=31),\"○\",\"\")","v":""},{"$f":"IF(OR(新人入力!$H113=21,新人入力!$I113=21),\"○\",\"\")","v":""},{"$f":"IF(OR(新人入力!$H113=23,新人入力!$I113=23),\"○\",\"\")","v":""},{"$f":"IF(OR(新人入力!$H113=24,新人入力!$I113=24),\"○\",\"\")","v":""},{"$f":"IF(OR(新人入力!$H113=25,新人入力!$I113=25),\"○\",\"\")","v":""},{"$f":"IF(OR(新人入力!$H113=26,新人入力!$I113=26),\"○\",\"\")","v":""},{"$f":"IF(OR(新人入力!$H113=27,新人入力!$I113=27),\"○\",\"\")","v":""},{"$f":"IF(OR(新人入力!$H113=28,新人入力!$I113=28),\"○\",\"\")","v":""},{"$f":"IF(OR(新人入力!$H113=29,新人入力!$I113=29),\"○\",\"\")","v":""},{"$f":"IF(OR(新人入力!$H113=30,新人入力!$I113=30),\"○\",\"\")","v":""},null,null,{"$f":"IF(新人入力!$J113=38,\"○\",\"\")","v":""},{"$f":"IF(新人入力!N113=\"\",\"\",新人入力!N113)","v":""}]
[{"$f":"IF(新人入力!B114=\"\",\"\",新人入力!B114)","v":""},{"$f":"IF(新人入力!D114=\"\",\"\",新人入力!D114)","v":""},{"$f":"IF(新人入力!F114=\"\",\"\",新人入力!F114)","v":""},{"$f":"IF(新人入力!E114=\"\",\"\",新人入力!E114)","v":""},{"$f":"IF(OR(新人入力!$H114=31,新人入力!$I114=31),\"○\",\"\")","v":""},{"$f":"IF(OR(新人入力!$H114=21,新人入力!$I114=21),\"○\",\"\")","v":""},{"$f":"IF(OR(新人入力!$H114=23,新人入力!$I114=23),\"○\",\"\")","v":""},{"$f":"IF(OR(新人入力!$H114=24,新人入力!$I114=24),\"○\",\"\")","v":""},{"$f":"IF(OR(新人入力!$H114=25,新人入力!$I114=25),\"○\",\"\")","v":""},{"$f":"IF(OR(新人入力!$H114=26,新人入力!$I114=26),\"○\",\"\")","v":""},{"$f":"IF(OR(新人入力!$H114=27,新人入力!$I114=27),\"○\",\"\")","v":""},{"$f":"IF(OR(新人入力!$H114=28,新人入力!$I114=28),\"○\",\"\")","v":""},{"$f":"IF(OR(新人入力!$H114=29,新人入力!$I114=29),\"○\",\"\")","v":""},{"$f":"IF(OR(新人入力!$H114=30,新人入力!$I114=30),\"○\",\"\")","v":""},null,null,{"$f":"IF(新人入力!$J114=38,\"○\",\"\")","v":""},{"$f":"IF(新人入力!N114=\"\",\"\",新人入力!N114)","v":""}]
[{"$f":"IF(新人入力!B115=\"\",\"\",新人入力!B115)","v":""},{"$f":"IF(新人入力!D115=\"\",\"\",新人入力!D115)","v":""},{"$f":"IF(新人入力!F115=\"\",\"\",新人入力!F115)","v":""},{"$f":"IF(新人入力!E115=\"\",\"\",新人入力!E115)","v":""},{"$f":"IF(OR(新人入力!$H115=31,新人入力!$I115=31),\"○\",\"\")","v":""},{"$f":"IF(OR(新人入力!$H115=21,新人入力!$I115=21),\"○\",\"\")","v":""},{"$f":"IF(OR(新人入力!$H115=23,新人入力!$I115=23),\"○\",\"\")","v":""},{"$f":"IF(OR(新人入力!$H115=24,新人入力!$I115=24),\"○\",\"\")","v":""},{"$f":"IF(OR(新人入力!$H115=25,新人入力!$I115=25),\"○\",\"\")","v":""},{"$f":"IF(OR(新人入力!$H115=26,新人入力!$I115=26),\"○\",\"\")","v":""},{"$f":"IF(OR(新人入力!$H115=27,新人入力!$I115=27),\"○\",\"\")","v":""},{"$f":"IF(OR(新人入力!$H115=28,新人入力!$I115=28),\"○\",\"\")","v":""},{"$f":"IF(OR(新人入力!$H115=29,新人入力!$I115=29),\"○\",\"\")","v":""},{"$f":"IF(OR(新人入力!$H115=30,新人入力!$I115=30),\"○\",\"\")","v":""},null,null,{"$f":"IF(新人入力!$J115=38,\"○\",\"\")","v":""},{"$f":"IF(新人入力!N115=\"\",\"\",新人入力!N115)","v":""}]
[{"$f":"IF(新人入力!B116=\"\",\"\",新人入力!B116)","v":""},{"$f":"IF(新人入力!D116=\"\",\"\",新人入力!D116)","v":""},{"$f":"IF(新人入力!F116=\"\",\"\",新人入力!F116)","v":""},{"$f":"IF(新人入力!E116=\"\",\"\",新人入力!E116)","v":""},{"$f":"IF(OR(新人入力!$H116=31,新人入力!$I116=31),\"○\",\"\")","v":""},{"$f":"IF(OR(新人入力!$H116=21,新人入力!$I116=21),\"○\",\"\")","v":""},{"$f":"IF(OR(新人入力!$H116=23,新人入力!$I116=23),\"○\",\"\")","v":""},{"$f":"IF(OR(新人入力!$H116=24,新人入力!$I116=24),\"○\",\"\")","v":""},{"$f":"IF(OR(新人入力!$H116=25,新人入力!$I116=25),\"○\",\"\")","v":""},{"$f":"IF(OR(新人入力!$H116=26,新人入力!$I116=26),\"○\",\"\")","v":""},{"$f":"IF(OR(新人入力!$H116=27,新人入力!$I116=27),\"○\",\"\")","v":""},{"$f":"IF(OR(新人入力!$H116=28,新人入力!$I116=28),\"○\",\"\")","v":""},{"$f":"IF(OR(新人入力!$H116=29,新人入力!$I116=29),\"○\",\"\")","v":""},{"$f":"IF(OR(新人入力!$H116=30,新人入力!$I116=30),\"○\",\"\")","v":""},null,null,{"$f":"IF(新人入力!$J116=38,\"○\",\"\")","v":""},{"$f":"IF(新人入力!N116=\"\",\"\",新人入力!N116)","v":""}]
[{"$f":"IF(新人入力!B117=\"\",\"\",新人入力!B117)","v":""},{"$f":"IF(新人入力!D117=\"\",\"\",新人入力!D117)","v":""},{"$f":"IF(新人入力!F117=\"\",\"\",新人入力!F117)","v":""},{"$f":"IF(新人入力!E117=\"\",\"\",新人入力!E117)","v":""},{"$f":"IF(OR(新人入力!$H117=31,新人入力!$I117=31),\"○\",\"\")","v":""},{"$f":"IF(OR(新人入力!$H117=21,新人入力!$I117=21),\"○\",\"\")","v":""},{"$f":"IF(OR(新人入力!$H117=23,新人入力!$I117=23),\"○\",\"\")","v":""},{"$f":"IF(OR(新人入力!$H117=24,新人入力!$I117=24),\"○\",\"\")","v":""},{"$f":"IF(OR(新人入力!$H117=25,新人入力!$I117=25),\"○\",\"\")","v":""},{"$f":"IF(OR(新人入力!$H117=26,新人入力!$I117=26),\"○\",\"\")","v":""},{"$f":"IF(OR(新人入力!$H117=27,新人入力!$I117=27),\"○\",\"\")","v":""},{"$f":"IF(OR(新人入力!$H117=28,新人入力!$I117=28),\"○\",\"\")","v":""},{"$f":"IF(OR(新人入力!$H117=29,新人入力!$I117=29),\"○\",\"\")","v":""},{"$f":"IF(OR(新人入力!$H117=30,新人入力!$I117=30),\"○\",\"\")","v":""},null,null,{"$f":"IF(新人入力!$J117=38,\"○\",\"\")","v":""},{"$f":"IF(新人入力!N117=\"\",\"\",新人入力!N117)","v":""}]
[{"$f":"IF(新人入力!B118=\"\",\"\",新人入力!B118)","v":""},{"$f":"IF(新人入力!D118=\"\",\"\",新人入力!D118)","v":""},{"$f":"IF(新人入力!F118=\"\",\"\",新人入力!F118)","v":""},{"$f":"IF(新人入力!E118=\"\",\"\",新人入力!E118)","v":""},{"$f":"IF(OR(新人入力!$H118=31,新人入力!$I118=31),\"○\",\"\")","v":""},{"$f":"IF(OR(新人入力!$H118=21,新人入力!$I118=21),\"○\",\"\")","v":""},{"$f":"IF(OR(新人入力!$H118=23,新人入力!$I118=23),\"○\",\"\")","v":""},{"$f":"IF(OR(新人入力!$H118=24,新人入力!$I118=24),\"○\",\"\")","v":""},{"$f":"IF(OR(新人入力!$H118=25,新人入力!$I118=25),\"○\",\"\")","v":""},{"$f":"IF(OR(新人入力!$H118=26,新人入力!$I118=26),\"○\",\"\")","v":""},{"$f":"IF(OR(新人入力!$H118=27,新人入力!$I118=27),\"○\",\"\")","v":""},{"$f":"IF(OR(新人入力!$H118=28,新人入力!$I118=28),\"○\",\"\")","v":""},{"$f":"IF(OR(新人入力!$H118=29,新人入力!$I118=29),\"○\",\"\")","v":""},{"$f":"IF(OR(新人入力!$H118=30,新人入力!$I118=30),\"○\",\"\")","v":""},null,null,{"$f":"IF(新人入力!$J118=38,\"○\",\"\")","v":""},{"$f":"IF(新人入力!N118=\"\",\"\",新人入力!N118)","v":""}]
[{"$f":"IF(新人入力!B119=\"\",\"\",新人入力!B119)","v":""},{"$f":"IF(新人入力!D119=\"\",\"\",新人入力!D119)","v":""},{"$f":"IF(新人入力!F119=\"\",\"\",新人入力!F119)","v":""},{"$f":"IF(新人入力!E119=\"\",\"\",新人入力!E119)","v":""},{"$f":"IF(OR(新人入力!$H119=31,新人入力!$I119=31),\"○\",\"\")","v":""},{"$f":"IF(OR(新人入力!$H119=21,新人入力!$I119=21),\"○\",\"\")","v":""},{"$f":"IF(OR(新人入力!$H119=23,新人入力!$I119=23),\"○\",\"\")","v":""},{"$f":"IF(OR(新人入力!$H119=24,新人入力!$I119=24),\"○\",\"\")","v":""},{"$f":"IF(OR(新人入力!$H119=25,新人入力!$I119=25),\"○\",\"\")","v":""},{"$f":"IF(OR(新人入力!$H119=26,新人入力!$I119=26),\"○\",\"\")","v":""},{"$f":"IF(OR(新人入力!$H119=27,新人入力!$I119=27),\"○\",\"\")","v":""},{"$f":"IF(OR(新人入力!$H119=28,新人入力!$I119=28),\"○\",\"\")","v":""},{"$f":"IF(OR(新人入力!$H119=29,新人入力!$I119=29),\"○\",\"\")","v":""},{"$f":"IF(OR(新人入力!$H119=30,新人入力!$I119=30),\"○\",\"\")","v":""},null,null,{"$f":"IF(新人入力!$J119=38,\"○\",\"\")","v":""},{"$f":"IF(新人入力!N119=\"\",\"\",新人入力!N119)","v":""}]
[{"$f":"IF(新人入力!B120=\"\",\"\",新人入力!B120)","v":""},{"$f":"IF(新人入力!D120=\"\",\"\",新人入力!D120)","v":""},{"$f":"IF(新人入力!F120=\"\",\"\",新人入力!F120)","v":""},{"$f":"IF(新人入力!E120=\"\",\"\",新人入力!E120)","v":""},{"$f":"IF(OR(新人入力!$H120=31,新人入力!$I120=31),\"○\",\"\")","v":""},{"$f":"IF(OR(新人入力!$H120=21,新人入力!$I120=21),\"○\",\"\")","v":""},{"$f":"IF(OR(新人入力!$H120=23,新人入力!$I120=23),\"○\",\"\")","v":""},{"$f":"IF(OR(新人入力!$H120=24,新人入力!$I120=24),\"○\",\"\")","v":""},{"$f":"IF(OR(新人入力!$H120=25,新人入力!$I120=25),\"○\",\"\")","v":""},{"$f":"IF(OR(新人入力!$H120=26,新人入力!$I120=26),\"○\",\"\")","v":""},{"$f":"IF(OR(新人入力!$H120=27,新人入力!$I120=27),\"○\",\"\")","v":""},{"$f":"IF(OR(新人入力!$H120=28,新人入力!$I120=28),\"○\",\"\")","v":""},{"$f":"IF(OR(新人入力!$H120=29,新人入力!$I120=29),\"○\",\"\")","v":""},{"$f":"IF(OR(新人入力!$H120=30,新人入力!$I120=30),\"○\",\"\")","v":""},null,null,{"$f":"IF(新人入力!$J120=38,\"○\",\"\")","v":""},{"$f":"IF(新人入力!N120=\"\",\"\",新人入力!N120)","v":""}]
[{"$f":"IF(新人入力!B121=\"\",\"\",新人入力!B121)","v":""},{"$f":"IF(新人入力!D121=\"\",\"\",新人入力!D121)","v":""},{"$f":"IF(新人入力!F121=\"\",\"\",新人入力!F121)","v":""},{"$f":"IF(新人入力!E121=\"\",\"\",新人入力!E121)","v":""},{"$f":"IF(OR(新人入力!$H121=31,新人入力!$I121=31),\"○\",\"\")","v":""},{"$f":"IF(OR(新人入力!$H121=21,新人入力!$I121=21),\"○\",\"\")","v":""},{"$f":"IF(OR(新人入力!$H121=23,新人入力!$I121=23),\"○\",\"\")","v":""},{"$f":"IF(OR(新人入力!$H121=24,新人入力!$I121=24),\"○\",\"\")","v":""},{"$f":"IF(OR(新人入力!$H121=25,新人入力!$I121=25),\"○\",\"\")","v":""},{"$f":"IF(OR(新人入力!$H121=26,新人入力!$I121=26),\"○\",\"\")","v":""},{"$f":"IF(OR(新人入力!$H121=27,新人入力!$I121=27),\"○\",\"\")","v":""},{"$f":"IF(OR(新人入力!$H121=28,新人入力!$I121=28),\"○\",\"\")","v":""},{"$f":"IF(OR(新人入力!$H121=29,新人入力!$I121=29),\"○\",\"\")","v":""},{"$f":"IF(OR(新人入力!$H121=30,新人入力!$I121=30),\"○\",\"\")","v":""},null,null,{"$f":"IF(新人入力!$J121=38,\"○\",\"\")","v":""},{"$f":"IF(新人入力!N121=\"\",\"\",新人入力!N121)","v":""}]
[{"$f":"IF(新人入力!B122=\"\",\"\",新人入力!B122)","v":""},{"$f":"IF(新人入力!D122=\"\",\"\",新人入力!D122)","v":""},{"$f":"IF(新人入力!F122=\"\",\"\",新人入力!F122)","v":""},{"$f":"IF(新人入力!E122=\"\",\"\",新人入力!E122)","v":""},{"$f":"IF(OR(新人入力!$H122=31,新人入力!$I122=31),\"○\",\"\")","v":""},{"$f":"IF(OR(新人入力!$H122=21,新人入力!$I122=21),\"○\",\"\")","v":""},{"$f":"IF(OR(新人入力!$H122=23,新人入力!$I122=23),\"○\",\"\")","v":""},{"$f":"IF(OR(新人入力!$H122=24,新人入力!$I122=24),\"○\",\"\")","v":""},{"$f":"IF(OR(新人入力!$H122=25,新人入力!$I122=25),\"○\",\"\")","v":""},{"$f":"IF(OR(新人入力!$H122=26,新人入力!$I122=26),\"○\",\"\")","v":""},{"$f":"IF(OR(新人入力!$H122=27,新人入力!$I122=27),\"○\",\"\")","v":""},{"$f":"IF(OR(新人入力!$H122=28,新人入力!$I122=28),\"○\",\"\")","v":""},{"$f":"IF(OR(新人入力!$H122=29,新人入力!$I122=29),\"○\",\"\")","v":""},{"$f":"IF(OR(新人入力!$H122=30,新人入力!$I122=30),\"○\",\"\")","v":""},null,null,{"$f":"IF(新人入力!$J122=38,\"○\",\"\")","v":""},{"$f":"IF(新人入力!N122=\"\",\"\",新人入力!N122)","v":""}]
[{"$f":"IF(新人入力!B123=\"\",\"\",新人入力!B123)","v":""},{"$f":"IF(新人入力!D123=\"\",\"\",新人入力!D123)","v":""},{"$f":"IF(新人入力!F123=\"\",\"\",新人入力!F123)","v":""},{"$f":"IF(新人入力!E123=\"\",\"\",新人入力!E123)","v":""},{"$f":"IF(OR(新人入力!$H123=31,新人入力!$I123=31),\"○\",\"\")","v":""},{"$f":"IF(OR(新人入力!$H123=21,新人入力!$I123=21),\"○\",\"\")","v":""},{"$f":"IF(OR(新人入力!$H123=23,新人入力!$I123=23),\"○\",\"\")","v":""},{"$f":"IF(OR(新人入力!$H123=24,新人入力!$I123=24),\"○\",\"\")","v":""},{"$f":"IF(OR(新人入力!$H123=25,新人入力!$I123=25),\"○\",\"\")","v":""},{"$f":"IF(OR(新人入力!$H123=26,新人入力!$I123=26),\"○\",\"\")","v":""},{"$f":"IF(OR(新人入力!$H123=27,新人入力!$I123=27),\"○\",\"\")","v":""},{"$f":"IF(OR(新人入力!$H123=28,新人入力!$I123=28),\"○\",\"\")","v":""},{"$f":"IF(OR(新人入力!$H123=29,新人入力!$I123=29),\"○\",\"\")","v":""},{"$f":"IF(OR(新人入力!$H123=30,新人入力!$I123=30),\"○\",\"\")","v":""},null,null,{"$f":"IF(新人入力!$J123=38,\"○\",\"\")","v":""},{"$f":"IF(新人入力!N123=\"\",\"\",新人入力!N123)","v":""}]
[]
[]
[null,null,null,null,null,null,null,null,null,{"$f":"TODAY()","v":"2026-08-24"}]
[{"$f":"男一覧!A49","v":"　秋田市中学校体育連盟 会 長　熊 谷　直 邦 様"}]
[]
[null,"　上記の生徒は要項に照らし適格者であり，学校代表としてもふさわしく，また，保護者の同意を得ておりますので，大会への参加を申し込みいたします。"]
[]
[null,{"$f":"IF(新人入力!D79=\"\",\"\",新人入力!D79)","v":""},null,null,null,null,"校長",null,{"$f":"IF(新人入力!D81=\"\",\"\",新人入力!D81)","v":""},null,null,null,null,null,"印"]
[]
[null,"※引率・監督者の特例を適用する場合は氏名を記入"]
[]
[null,"（引率者氏名",{"$f":"IF(新人入力!D82=\"\",\"\",新人入力!D82)","v":""},null,null,"）","（代理監督者氏名",null,null,null,{"$f":"IF(新人入力!D83=\"\",\"\",新人入力!D83)","v":""},null,null,null,null,"）"]
[]
["　※男子は黒，女子は赤で記入すること。"]
[null,null,"エラーチェック",null,"１年\n100","２年\n100","共通\n200","共通\n800","１年\n1500","２年\n1500","共通\n100H","共通\n走高","共通\n走幅","共通\n砲丸",null,"１年\n400R","共通\n400R"]
[null,null,null,null,{"$f":"IF(E64>3,\"×\",\"○\")","v":"○"},{"$f":"IF(F64>3,\"×\",\"○\")","v":"○"},"○","○","○","○","○","○","○","○",null,{"$f":"IF(P64>6,\"×\",\"○\")","v":"○"},{"$f":"IF(Q64>6,\"×\",\"○\")","v":"○"}]
[null,null,null,null,"各種目○ならok。×の場合は人数が超過している。"]
[]
[]
[]
[]
[]
[null,null,null,null,{"$f":"COUNTIF(E$5:E$36,\"○\")","v":0},{"$f":"COUNTIF(F$5:F$36,\"○\")","v":0},0,0,0,0,0,0,0,0,0,null,0,0]

{"sheet":"男個票","index":4,"n_rows":86,"n_cols":42,"rows_kept":86,"cut":false,"hidden":false,"merged":[[66,0,66,1],[66,10,66,11],[62,0,62,1],[62,10,62,11],[64,0,64,1],[64,10,64,11],[58,0,58,1],[58,10,58,11],[60,0,60,1],[60,10,60,11],[54,0,54,1],[54,10,54,11],[56,0,56,1],[56,10,56,11],[50,0,50,1],[50,10,50,11],[52,0,52,1],[52,10,52,11],[46,0,46,1],[46,10,46,11],[48,0,48,1],[48,10,48,11],[42,0,42,1],[42,10,42,11],[44,0,44,1],[44,10,44,11],[38,0,38,1],[38,10,38,11],[40,0,40,1],[40,10,40,11],[34,0,34,1],[34,10,34,11],[36,0,36,1],[36,10,36,11],[30,0,30,1],[30,10,30,11],[32,0,32,1],[32,10,32,11],[26,0,26,1],[26,10,26,11],[28,0,28,1],[28,10,28,11],[22,0,22,1],[22,10,22,11],[24,0,24,1],[24,10,24,11],[20,10,20,11],[14,0,14,1],[14,10,14,11],[16,0,16,1],[16,10,16,11],[4,0,4,1],[4,10,4,11],[0,10,1,11],[0,0,1,1],[68,0,68,1],[10,0,10,1],[10,10,10,11],[12,0,12,1],[12,10,12,11],[6,0,6,1],[6,10,6,11],[8,0,8,1],[8,10,8,11],[18,0,18,1],[18,10,18,11],[20,0,20,1],[72,0,72,1],[74,0,74,1],[68,10,68,11],[70,10,70,11],[72,10,72,11],[74,10,74,11],[70,0,70,1],[76,0,76,1],[76,10,76,11],[78,0,78,1],[78,10,78,11],[84,0,84,1],[84,10,84,11],[80,0,80,1],[80,10,80,11],[82,0,82,1],[82,10,82,11]]}
["第一種目個票",null,null,null,null,null,null,null,null,null,"第二種目個票"]
[]
[]
[]
["種　　　目",null,"組","ﾚｰﾝ・順","ナンバーカード","名　　　　前","学　　校","学年","ベスト記録",null,"種　　　目",null,"組","ﾚｰﾝ・順","ナンバーカード","名　　　　前","学　　校","学年","ベスト記録",null,null,"個人種目１","個人種目２",null,13,1,3,4,5,14,6,7,8,9,10,11,12,14,15,16,17,18]
["男",{"$f":"IF(V6=\"\",\"\",HLOOKUP(V6,$Y$5:$AP$6,2,FALSE))","v":""},null,null,{"$f":"IF(男一覧!A5=\"\",\"\",男一覧!A5)","v":""},{"$f":"IF(男一覧!B5=\"\",\"\",男一覧!B5)","v":""},{"$f":"IF(F6=\"\",\"\",新人入力!$M$3)","v":""},{"$f":"IF(男一覧!D5=\"\",\"\",男一覧!D5)","v":""},null,1,"男",{"$f":"IF(W6=\"\",\"\",HLOOKUP(W6,$Y$5:$AP$6,2,FALSE))","v":""},null,null,{"$f":"IF(E6=\"\",\"\",E6)","v":""},{"$f":"IF(F6=\"\",\"\",F6)","v":""},{"$f":"IF(G6=\"\",\"\",G6)","v":""},{"$f":"IF(H6=\"\",\"\",H6)","v":""},null,null,1,{"$f":"IF(新人入力!H11=\"\",\"\",新人入力!H11)","v":""},{"$f":"IF(新人入力!I11=\"\",\"\",新人入力!I11)","v":""},null,"１年\n100","２年\n100","共通\n200","共通\n400","共通\n800","１年\n1500","２年\n1500","共通\n3000","共通\n110H","共通\n走高","共通\n棒高","共通\n走幅","共通\n砲丸"]
["種　　　目",null,"組","ﾚｰﾝ・順","ナンバーカード","名　　　　前","学　　校","学年","ベスト記録",null,"種　　　目",null,"組","ﾚｰﾝ・順","ナンバーカード","名　　　　前","学　　校","学年","ベスト記録"]
["男",{"$f":"IF(V8=\"\",\"\",HLOOKUP(V8,$Y$5:$AP$6,2,FALSE))","v":""},null,null,{"$f":"IF(男一覧!A6=\"\",\"\",男一覧!A6)","v":""},{"$f":"IF(男一覧!B6=\"\",\"\",男一覧!B6)","v":""},{"$f":"IF(F8=\"\",\"\",新人入力!$M$3)","v":""},{"$f":"IF(男一覧!D6=\"\",\"\",男一覧!D6)","v":""},null,2,"男",{"$f":"IF(W8=\"\",\"\",HLOOKUP(W8,$Y$5:$AP$6,2,FALSE))","v":""},null,null,{"$f":"IF(E8=\"\",\"\",E8)","v":""},{"$f":"IF(F8=\"\",\"\",F8)","v":""},{"$f":"IF(G8=\"\",\"\",G8)","v":""},{"$f":"IF(H8=\"\",\"\",H8)","v":""},null,null,2,{"$f":"IF(新人入力!H12=\"\",\"\",新人入力!H12)","v":""},{"$f":"IF(新人入力!I12=\"\",\"\",新人入力!I12)","v":""}]
["種　　　目",null,"組","ﾚｰﾝ・順","ナンバーカード","名　　　　前","学　　校","学年","ベスト記録",null,"種　　　目",null,"組","ﾚｰﾝ・順","ナンバーカード","名　　　　前","学　　校","学年","ベスト記録"]
["男",{"$f":"IF(V10=\"\",\"\",HLOOKUP(V10,$Y$5:$AP$6,2,FALSE))","v":""},null,null,{"$f":"IF(男一覧!A7=\"\",\"\",男一覧!A7)","v":""},{"$f":"IF(男一覧!B7=\"\",\"\",男一覧!B7)","v":""},{"$f":"IF(F10=\"\",\"\",新人入力!$M$3)","v":""},{"$f":"IF(男一覧!D7=\"\",\"\",男一覧!D7)","v":""},null,3,"男",{"$f":"IF(W10=\"\",\"\",HLOOKUP(W10,$Y$5:$AP$6,2,FALSE))","v":""},null,null,{"$f":"IF(E10=\"\",\"\",E10)","v":""},{"$f":"IF(F10=\"\",\"\",F10)","v":""},{"$f":"IF(G10=\"\",\"\",G10)","v":""},{"$f":"IF(H10=\"\",\"\",H10)","v":""},null,null,3,{"$f":"IF(新人入力!H13=\"\",\"\",新人入力!H13)","v":""},{"$f":"IF(新人入力!I13=\"\",\"\",新人入力!I13)","v":""}]
["種　　　目",null,"組","ﾚｰﾝ・順","ナンバーカード","名　　　　前","学　　校","学年","ベスト記録",null,"種　　　目",null,"組","ﾚｰﾝ・順","ナンバーカード","名　　　　前","学　　校","学年","ベスト記録"]
["男",{"$f":"IF(V12=\"\",\"\",HLOOKUP(V12,$Y$5:$AP$6,2,FALSE))","v":""},null,null,{"$f":"IF(男一覧!A8=\"\",\"\",男一覧!A8)","v":""},{"$f":"IF(男一覧!B8=\"\",\"\",男一覧!B8)","v":""},{"$f":"IF(F12=\"\",\"\",新人入力!$M$3)","v":""},{"$f":"IF(男一覧!D8=\"\",\"\",男一覧!D8)","v":""},null,4,"男",{"$f":"IF(W12=\"\",\"\",HLOOKUP(W12,$Y$5:$AP$6,2,FALSE))","v":""},null,null,{"$f":"IF(E12=\"\",\"\",E12)","v":""},{"$f":"IF(F12=\"\",\"\",F12)","v":""},{"$f":"IF(G12=\"\",\"\",G12)","v":""},{"$f":"IF(H12=\"\",\"\",H12)","v":""},null,null,4,{"$f":"IF(新人入力!H14=\"\",\"\",新人入力!H14)","v":""},{"$f":"IF(新人入力!I14=\"\",\"\",新人入力!I14)","v":""}]
["種　　　目",null,"組","ﾚｰﾝ・順","ナンバーカード","名　　　　前","学　　校","学年","ベスト記録",null,"種　　　目",null,"組","ﾚｰﾝ・順","ナンバーカード","名　　　　前","学　　校","学年","ベスト記録"]
["男",{"$f":"IF(V14=\"\",\"\",HLOOKUP(V14,$Y$5:$AP$6,2,FALSE))","v":""},null,null,{"$f":"IF(男一覧!A9=\"\",\"\",男一覧!A9)","v":""},{"$f":"IF(男一覧!B9=\"\",\"\",男一覧!B9)","v":""},{"$f":"IF(F14=\"\",\"\",新人入力!$M$3)","v":""},{"$f":"IF(男一覧!D9=\"\",\"\",男一覧!D9)","v":""},null,5,"男",{"$f":"IF(W14=\"\",\"\",HLOOKUP(W14,$Y$5:$AP$6,2,FALSE))","v":""},null,null,{"$f":"IF(E14=\"\",\"\",E14)","v":""},{"$f":"IF(F14=\"\",\"\",F14)","v":""},{"$f":"IF(G14=\"\",\"\",G14)","v":""},{"$f":"IF(H14=\"\",\"\",H14)","v":""},null,null,5,{"$f":"IF(新人入力!H15=\"\",\"\",新人入力!H15)","v":""},{"$f":"IF(新人入力!I15=\"\",\"\",新人入力!I15)","v":""}]
["種　　　目",null,"組","ﾚｰﾝ・順","ナンバーカード","名　　　　前","学　　校","学年","ベスト記録",null,"種　　　目",null,"組","ﾚｰﾝ・順","ナンバーカード","名　　　　前","学　　校","学年","ベスト記録"]
["男",{"$f":"IF(V16=\"\",\"\",HLOOKUP(V16,$Y$5:$AP$6,2,FALSE))","v":""},null,null,{"$f":"IF(男一覧!A10=\"\",\"\",男一覧!A10)","v":""},{"$f":"IF(男一覧!B10=\"\",\"\",男一覧!B10)","v":""},{"$f":"IF(F16=\"\",\"\",新人入力!$M$3)","v":""},{"$f":"IF(男一覧!D10=\"\",\"\",男一覧!D10)","v":""},null,6,"男",{"$f":"IF(W16=\"\",\"\",HLOOKUP(W16,$Y$5:$AP$6,2,FALSE))","v":""},null,null,{"$f":"IF(E16=\"\",\"\",E16)","v":""},{"$f":"IF(F16=\"\",\"\",F16)","v":""},{"$f":"IF(G16=\"\",\"\",G16)","v":""},{"$f":"IF(H16=\"\",\"\",H16)","v":""},null,null,6,{"$f":"IF(新人入力!H16=\"\",\"\",新人入力!H16)","v":""},{"$f":"IF(新人入力!I16=\"\",\"\",新人入力!I16)","v":""}]
["種　　　目",null,"組","ﾚｰﾝ・順","ナンバーカード","名　　　　前","学　　校","学年","ベスト記録",null,"種　　　目",null,"組","ﾚｰﾝ・順","ナンバーカード","名　　　　前","学　　校","学年","ベスト記録"]
["男",{"$f":"IF(V18=\"\",\"\",HLOOKUP(V18,$Y$5:$AP$6,2,FALSE))","v":""},null,null,{"$f":"IF(男一覧!A11=\"\",\"\",男一覧!A11)","v":""},{"$f":"IF(男一覧!B11=\"\",\"\",男一覧!B11)","v":""},{"$f":"IF(F18=\"\",\"\",新人入力!$M$3)","v":""},{"$f":"IF(男一覧!D11=\"\",\"\",男一覧!D11)","v":""},null,7,"男",{"$f":"IF(W18=\"\",\"\",HLOOKUP(W18,$Y$5:$AP$6,2,FALSE))","v":""},null,null,{"$f":"IF(E18=\"\",\"\",E18)","v":""},{"$f":"IF(F18=\"\",\"\",F18)","v":""},{"$f":"IF(G18=\"\",\"\",G18)","v":""},{"$f":"IF(H18=\"\",\"\",H18)","v":""},null,null,7,{"$f":"IF(新人入力!H17=\"\",\"\",新人入力!H17)","v":""},{"$f":"IF(新人入力!I17=\"\",\"\",新人入力!I17)","v":""}]
["種　　　目",null,"組","ﾚｰﾝ・順","ナンバーカード","名　　　　前","学　　校","学年","ベスト記録",null,"種　　　目",null,"組","ﾚｰﾝ・順","ナンバーカード","名　　　　前","学　　校","学年","ベスト記録"]
["男",{"$f":"IF(V20=\"\",\"\",HLOOKUP(V20,$Y$5:$AP$6,2,FALSE))","v":""},null,null,{"$f":"IF(男一覧!A12=\"\",\"\",男一覧!A12)","v":""},{"$f":"IF(男一覧!B12=\"\",\"\",男一覧!B12)","v":""},{"$f":"IF(F20=\"\",\"\",新人入力!$M$3)","v":""},{"$f":"IF(男一覧!D12=\"\",\"\",男一覧!D12)","v":""},null,8,"男",{"$f":"IF(W20=\"\",\"\",HLOOKUP(W20,$Y$5:$AP$6,2,FALSE))","v":""},null,null,{"$f":"IF(E20=\"\",\"\",E20)","v":""},{"$f":"IF(F20=\"\",\"\",F20)","v":""},{"$f":"IF(G20=\"\",\"\",G20)","v":""},{"$f":"IF(H20=\"\",\"\",H20)","v":""},null,null,8,{"$f":"IF(新人入力!H18=\"\",\"\",新人入力!H18)","v":""},{"$f":"IF(新人入力!I18=\"\",\"\",新人入力!I18)","v":""}]
["種　　　目",null,"組","ﾚｰﾝ・順","ナンバーカード","名　　　　前","学　　校","学年","ベスト記録",null,"種　　　目",null,"組","ﾚｰﾝ・順","ナンバーカード","名　　　　前","学　　校","学年","ベスト記録"]
["男",{"$f":"IF(V22=\"\",\"\",HLOOKUP(V22,$Y$5:$AP$6,2,FALSE))","v":""},null,null,{"$f":"IF(男一覧!A13=\"\",\"\",男一覧!A13)","v":""},{"$f":"IF(男一覧!B13=\"\",\"\",男一覧!B13)","v":""},{"$f":"IF(F22=\"\",\"\",新人入力!$M$3)","v":""},{"$f":"IF(男一覧!D13=\"\",\"\",男一覧!D13)","v":""},null,9,"男",{"$f":"IF(W22=\"\",\"\",HLOOKUP(W22,$Y$5:$AP$6,2,FALSE))","v":""},null,null,{"$f":"IF(E22=\"\",\"\",E22)","v":""},{"$f":"IF(F22=\"\",\"\",F22)","v":""},{"$f":"IF(G22=\"\",\"\",G22)","v":""},{"$f":"IF(H22=\"\",\"\",H22)","v":""},null,null,9,{"$f":"IF(新人入力!H19=\"\",\"\",新人入力!H19)","v":""},{"$f":"IF(新人入力!I19=\"\",\"\",新人入力!I19)","v":""}]
["種　　　目",null,"組","ﾚｰﾝ・順","ナンバーカード","名　　　　前","学　　校","学年","ベスト記録",null,"種　　　目",null,"組","ﾚｰﾝ・順","ナンバーカード","名　　　　前","学　　校","学年","ベスト記録"]
["男",{"$f":"IF(V24=\"\",\"\",HLOOKUP(V24,$Y$5:$AP$6,2,FALSE))","v":""},null,null,{"$f":"IF(男一覧!A14=\"\",\"\",男一覧!A14)","v":""},{"$f":"IF(男一覧!B14=\"\",\"\",男一覧!B14)","v":""},{"$f":"IF(F24=\"\",\"\",新人入力!$M$3)","v":""},{"$f":"IF(男一覧!D14=\"\",\"\",男一覧!D14)","v":""},null,10,"男",{"$f":"IF(W24=\"\",\"\",HLOOKUP(W24,$Y$5:$AP$6,2,FALSE))","v":""},null,null,{"$f":"IF(E24=\"\",\"\",E24)","v":""},{"$f":"IF(F24=\"\",\"\",F24)","v":""},{"$f":"IF(G24=\"\",\"\",G24)","v":""},{"$f":"IF(H24=\"\",\"\",H24)","v":""},null,null,10,{"$f":"IF(新人入力!H20=\"\",\"\",新人入力!H20)","v":""},{"$f":"IF(新人入力!I20=\"\",\"\",新人入力!I20)","v":""}]
["種　　　目",null,"組","ﾚｰﾝ・順","ナンバーカード","名　　　　前","学　　校","学年","ベスト記録",null,"種　　　目",null,"組","ﾚｰﾝ・順","ナンバーカード","名　　　　前","学　　校","学年","ベスト記録"]
["男",{"$f":"IF(V26=\"\",\"\",HLOOKUP(V26,$Y$5:$AP$6,2,FALSE))","v":""},null,null,{"$f":"IF(男一覧!A15=\"\",\"\",男一覧!A15)","v":""},{"$f":"IF(男一覧!B15=\"\",\"\",男一覧!B15)","v":""},{"$f":"IF(F26=\"\",\"\",新人入力!$M$3)","v":""},{"$f":"IF(男一覧!D15=\"\",\"\",男一覧!D15)","v":""},null,11,"男",{"$f":"IF(W26=\"\",\"\",HLOOKUP(W26,$Y$5:$AP$6,2,FALSE))","v":""},null,null,{"$f":"IF(E26=\"\",\"\",E26)","v":""},{"$f":"IF(F26=\"\",\"\",F26)","v":""},{"$f":"IF(G26=\"\",\"\",G26)","v":""},{"$f":"IF(H26=\"\",\"\",H26)","v":""},null,null,11,{"$f":"IF(新人入力!H21=\"\",\"\",新人入力!H21)","v":""},{"$f":"IF(新人入力!I21=\"\",\"\",新人入力!I21)","v":""}]
["種　　　目",null,"組","ﾚｰﾝ・順","ナンバーカード","名　　　　前","学　　校","学年","ベスト記録",null,"種　　　目",null,"組","ﾚｰﾝ・順","ナンバーカード","名　　　　前","学　　校","学年","ベスト記録"]
["男",{"$f":"IF(V28=\"\",\"\",HLOOKUP(V28,$Y$5:$AP$6,2,FALSE))","v":""},null,null,{"$f":"IF(男一覧!A16=\"\",\"\",男一覧!A16)","v":""},{"$f":"IF(男一覧!B16=\"\",\"\",男一覧!B16)","v":""},{"$f":"IF(F28=\"\",\"\",新人入力!$M$3)","v":""},{"$f":"IF(男一覧!D16=\"\",\"\",男一覧!D16)","v":""},null,12,"男",{"$f":"IF(W28=\"\",\"\",HLOOKUP(W28,$Y$5:$AP$6,2,FALSE))","v":""},null,null,{"$f":"IF(E28=\"\",\"\",E28)","v":""},{"$f":"IF(F28=\"\",\"\",F28)","v":""},{"$f":"IF(G28=\"\",\"\",G28)","v":""},{"$f":"IF(H28=\"\",\"\",H28)","v":""},null,null,12,{"$f":"IF(新人入力!H22=\"\",\"\",新人入力!H22)","v":""},{"$f":"IF(新人入力!I22=\"\",\"\",新人入力!I22)","v":""}]
["種　　　目",null,"組","ﾚｰﾝ・順","ナンバーカード","名　　　　前","学　　校","学年","ベスト記録",null,"種　　　目",null,"組","ﾚｰﾝ・順","ナンバーカード","名　　　　前","学　　校","学年","ベスト記録"]
["男",{"$f":"IF(V30=\"\",\"\",HLOOKUP(V30,$Y$5:$AP$6,2,FALSE))","v":""},null,null,{"$f":"IF(男一覧!A17=\"\",\"\",男一覧!A17)","v":""},{"$f":"IF(男一覧!B17=\"\",\"\",男一覧!B17)","v":""},{"$f":"IF(F30=\"\",\"\",新人入力!$M$3)","v":""},{"$f":"IF(男一覧!D17=\"\",\"\",男一覧!D17)","v":""},null,13,"男",{"$f":"IF(W30=\"\",\"\",HLOOKUP(W30,$Y$5:$AP$6,2,FALSE))","v":""},null,null,{"$f":"IF(E30=\"\",\"\",E30)","v":""},{"$f":"IF(F30=\"\",\"\",F30)","v":""},{"$f":"IF(G30=\"\",\"\",G30)","v":""},{"$f":"IF(H30=\"\",\"\",H30)","v":""},null,null,13,{"$f":"IF(新人入力!H23=\"\",\"\",新人入力!H23)","v":""},{"$f":"IF(新人入力!I23=\"\",\"\",新人入力!I23)","v":""}]
["種　　　目",null,"組","ﾚｰﾝ・順","ナンバーカード","名　　　　前","学　　校","学年","ベスト記録",null,"種　　　目",null,"組","ﾚｰﾝ・順","ナンバーカード","名　　　　前","学　　校","学年","ベスト記録"]
["男",{"$f":"IF(V32=\"\",\"\",HLOOKUP(V32,$Y$5:$AP$6,2,FALSE))","v":""},null,null,{"$f":"IF(男一覧!A18=\"\",\"\",男一覧!A18)","v":""},{"$f":"IF(男一覧!B18=\"\",\"\",男一覧!B18)","v":""},{"$f":"IF(F32=\"\",\"\",新人入力!$M$3)","v":""},{"$f":"IF(男一覧!D18=\"\",\"\",男一覧!D18)","v":""},null,14,"男",{"$f":"IF(W32=\"\",\"\",HLOOKUP(W32,$Y$5:$AP$6,2,FALSE))","v":""},null,null,{"$f":"IF(E32=\"\",\"\",E32)","v":""},{"$f":"IF(F32=\"\",\"\",F32)","v":""},{"$f":"IF(G32=\"\",\"\",G32)","v":""},{"$f":"IF(H32=\"\",\"\",H32)","v":""},null,null,14,{"$f":"IF(新人入力!H24=\"\",\"\",新人入力!H24)","v":""},{"$f":"IF(新人入力!I24=\"\",\"\",新人入力!I24)","v":""}]
["種　　　目",null,"組","ﾚｰﾝ・順","ナンバーカード","名　　　　前","学　　校","学年","ベスト記録",null,"種　　　目",null,"組","ﾚｰﾝ・順","ナンバーカード","名　　　　前","学　　校","学年","ベスト記録"]
["男",{"$f":"IF(V34=\"\",\"\",HLOOKUP(V34,$Y$5:$AP$6,2,FALSE))","v":""},null,null,{"$f":"IF(男一覧!A19=\"\",\"\",男一覧!A19)","v":""},{"$f":"IF(男一覧!B19=\"\",\"\",男一覧!B19)","v":""},{"$f":"IF(F34=\"\",\"\",新人入力!$M$3)","v":""},{"$f":"IF(男一覧!D19=\"\",\"\",男一覧!D19)","v":""},null,15,"男",{"$f":"IF(W34=\"\",\"\",HLOOKUP(W34,$Y$5:$AP$6,2,FALSE))","v":""},null,null,{"$f":"IF(E34=\"\",\"\",E34)","v":""},{"$f":"IF(F34=\"\",\"\",F34)","v":""},{"$f":"IF(G34=\"\",\"\",G34)","v":""},{"$f":"IF(H34=\"\",\"\",H34)","v":""},null,null,15,{"$f":"IF(新人入力!H25=\"\",\"\",新人入力!H25)","v":""},{"$f":"IF(新人入力!I25=\"\",\"\",新人入力!I25)","v":""}]
["種　　　目",null,"組","ﾚｰﾝ・順","ナンバーカード","名　　　　前","学　　校","学年","ベスト記録",null,"種　　　目",null,"組","ﾚｰﾝ・順","ナンバーカード","名　　　　前","学　　校","学年","ベスト記録"]
["男",{"$f":"IF(V36=\"\",\"\",HLOOKUP(V36,$Y$5:$AP$6,2,FALSE))","v":""},null,null,{"$f":"IF(男一覧!A20=\"\",\"\",男一覧!A20)","v":""},{"$f":"IF(男一覧!B20=\"\",\"\",男一覧!B20)","v":""},{"$f":"IF(F36=\"\",\"\",新人入力!$M$3)","v":""},{"$f":"IF(男一覧!D20=\"\",\"\",男一覧!D20)","v":""},null,16,"男",{"$f":"IF(W36=\"\",\"\",HLOOKUP(W36,$Y$5:$AP$6,2,FALSE))","v":""},null,null,{"$f":"IF(E36=\"\",\"\",E36)","v":""},{"$f":"IF(F36=\"\",\"\",F36)","v":""},{"$f":"IF(G36=\"\",\"\",G36)","v":""},{"$f":"IF(H36=\"\",\"\",H36)","v":""},null,null,16,{"$f":"IF(新人入力!H26=\"\",\"\",新人入力!H26)","v":""},{"$f":"IF(新人入力!I26=\"\",\"\",新人入力!I26)","v":""}]
["種　　　目",null,"組","ﾚｰﾝ・順","ナンバーカード","名　　　　前","学　　校","学年","ベスト記録",null,"種　　　目",null,"組","ﾚｰﾝ・順","ナンバーカード","名　　　　前","学　　校","学年","ベスト記録"]
["男",{"$f":"IF(V38=\"\",\"\",HLOOKUP(V38,$Y$5:$AP$6,2,FALSE))","v":""},null,null,{"$f":"IF(男一覧!A21=\"\",\"\",男一覧!A21)","v":""},{"$f":"IF(男一覧!B21=\"\",\"\",男一覧!B21)","v":""},{"$f":"IF(F38=\"\",\"\",新人入力!$M$3)","v":""},{"$f":"IF(男一覧!D21=\"\",\"\",男一覧!D21)","v":""},null,17,"男",{"$f":"IF(W38=\"\",\"\",HLOOKUP(W38,$Y$5:$AP$6,2,FALSE))","v":""},null,null,{"$f":"IF(E38=\"\",\"\",E38)","v":""},{"$f":"IF(F38=\"\",\"\",F38)","v":""},{"$f":"IF(G38=\"\",\"\",G38)","v":""},{"$f":"IF(H38=\"\",\"\",H38)","v":""},null,null,17,{"$f":"IF(新人入力!H27=\"\",\"\",新人入力!H27)","v":""},{"$f":"IF(新人入力!I27=\"\",\"\",新人入力!I27)","v":""}]
["種　　　目",null,"組","ﾚｰﾝ・順","ナンバーカード","名　　　　前","学　　校","学年","ベスト記録",null,"種　　　目",null,"組","ﾚｰﾝ・順","ナンバーカード","名　　　　前","学　　校","学年","ベスト記録"]
["男",{"$f":"IF(V40=\"\",\"\",HLOOKUP(V40,$Y$5:$AP$6,2,FALSE))","v":""},null,null,{"$f":"IF(男一覧!A22=\"\",\"\",男一覧!A22)","v":""},{"$f":"IF(男一覧!B22=\"\",\"\",男一覧!B22)","v":""},{"$f":"IF(F40=\"\",\"\",新人入力!$M$3)","v":""},{"$f":"IF(男一覧!D22=\"\",\"\",男一覧!D22)","v":""},null,18,"男",{"$f":"IF(W40=\"\",\"\",HLOOKUP(W40,$Y$5:$AP$6,2,FALSE))","v":""},null,null,{"$f":"IF(E40=\"\",\"\",E40)","v":""},{"$f":"IF(F40=\"\",\"\",F40)","v":""},{"$f":"IF(G40=\"\",\"\",G40)","v":""},{"$f":"IF(H40=\"\",\"\",H40)","v":""},null,null,18,{"$f":"IF(新人入力!H28=\"\",\"\",新人入力!H28)","v":""},{"$f":"IF(新人入力!I28=\"\",\"\",新人入力!I28)","v":""}]
["種　　　目",null,"組","ﾚｰﾝ・順","ナンバーカード","名　　　　前","学　　校","学年","ベスト記録",null,"種　　　目",null,"組","ﾚｰﾝ・順","ナンバーカード","名　　　　前","学　　校","学年","ベスト記録"]
["男",{"$f":"IF(V42=\"\",\"\",HLOOKUP(V42,$Y$5:$AP$6,2,FALSE))","v":""},null,null,{"$f":"IF(男一覧!A23=\"\",\"\",男一覧!A23)","v":""},{"$f":"IF(男一覧!B23=\"\",\"\",男一覧!B23)","v":""},{"$f":"IF(F42=\"\",\"\",新人入力!$M$3)","v":""},{"$f":"IF(男一覧!D23=\"\",\"\",男一覧!D23)","v":""},null,19,"男",{"$f":"IF(W42=\"\",\"\",HLOOKUP(W42,$Y$5:$AP$6,2,FALSE))","v":""},null,null,{"$f":"IF(E42=\"\",\"\",E42)","v":""},{"$f":"IF(F42=\"\",\"\",F42)","v":""},{"$f":"IF(G42=\"\",\"\",G42)","v":""},{"$f":"IF(H42=\"\",\"\",H42)","v":""},null,null,19,{"$f":"IF(新人入力!H29=\"\",\"\",新人入力!H29)","v":""},{"$f":"IF(新人入力!I29=\"\",\"\",新人入力!I29)","v":""}]
["種　　　目",null,"組","ﾚｰﾝ・順","ナンバーカード","名　　　　前","学　　校","学年","ベスト記録",null,"種　　　目",null,"組","ﾚｰﾝ・順","ナンバーカード","名　　　　前","学　　校","学年","ベスト記録"]
["男",{"$f":"IF(V44=\"\",\"\",HLOOKUP(V44,$Y$5:$AP$6,2,FALSE))","v":""},null,null,{"$f":"IF(男一覧!A24=\"\",\"\",男一覧!A24)","v":""},{"$f":"IF(男一覧!B24=\"\",\"\",男一覧!B24)","v":""},{"$f":"IF(F44=\"\",\"\",新人入力!$M$3)","v":""},{"$f":"IF(男一覧!D24=\"\",\"\",男一覧!D24)","v":""},null,20,"男",{"$f":"IF(W44=\"\",\"\",HLOOKUP(W44,$Y$5:$AP$6,2,FALSE))","v":""},null,null,{"$f":"IF(E44=\"\",\"\",E44)","v":""},{"$f":"IF(F44=\"\",\"\",F44)","v":""},{"$f":"IF(G44=\"\",\"\",G44)","v":""},{"$f":"IF(H44=\"\",\"\",H44)","v":""},null,null,20,{"$f":"IF(新人入力!H30=\"\",\"\",新人入力!H30)","v":""},{"$f":"IF(新人入力!I30=\"\",\"\",新人入力!I30)","v":""}]
["種　　　目",null,"組","ﾚｰﾝ・順","ナンバーカード","名　　　　前","学　　校","学年","ベスト記録",null,"種　　　目",null,"組","ﾚｰﾝ・順","ナンバーカード","名　　　　前","学　　校","学年","ベスト記録"]
["男",{"$f":"IF(V46=\"\",\"\",HLOOKUP(V46,$Y$5:$AP$6,2,FALSE))","v":""},null,null,{"$f":"IF(男一覧!A25=\"\",\"\",男一覧!A25)","v":""},{"$f":"IF(男一覧!B25=\"\",\"\",男一覧!B25)","v":""},{"$f":"IF(F46=\"\",\"\",新人入力!$M$3)","v":""},{"$f":"IF(男一覧!D25=\"\",\"\",男一覧!D25)","v":""},null,21,"男",{"$f":"IF(W46=\"\",\"\",HLOOKUP(W46,$Y$5:$AP$6,2,FALSE))","v":""},null,null,{"$f":"IF(E46=\"\",\"\",E46)","v":""},{"$f":"IF(F46=\"\",\"\",F46)","v":""},{"$f":"IF(G46=\"\",\"\",G46)","v":""},{"$f":"IF(H46=\"\",\"\",H46)","v":""},null,null,21,{"$f":"IF(新人入力!H31=\"\",\"\",新人入力!H31)","v":""},{"$f":"IF(新人入力!I31=\"\",\"\",新人入力!I31)","v":""}]
["種　　　目",null,"組","ﾚｰﾝ・順","ナンバーカード","名　　　　前","学　　校","学年","ベスト記録",null,"種　　　目",null,"組","ﾚｰﾝ・順","ナンバーカード","名　　　　前","学　　校","学年","ベスト記録"]
["男",{"$f":"IF(V48=\"\",\"\",HLOOKUP(V48,$Y$5:$AP$6,2,FALSE))","v":""},null,null,{"$f":"IF(男一覧!A26=\"\",\"\",男一覧!A26)","v":""},{"$f":"IF(男一覧!B26=\"\",\"\",男一覧!B26)","v":""},{"$f":"IF(F48=\"\",\"\",新人入力!$M$3)","v":""},{"$f":"IF(男一覧!D26=\"\",\"\",男一覧!D26)","v":""},null,22,"男",{"$f":"IF(W48=\"\",\"\",HLOOKUP(W48,$Y$5:$AP$6,2,FALSE))","v":""},null,null,{"$f":"IF(E48=\"\",\"\",E48)","v":""},{"$f":"IF(F48=\"\",\"\",F48)","v":""},{"$f":"IF(G48=\"\",\"\",G48)","v":""},{"$f":"IF(H48=\"\",\"\",H48)","v":""},null,null,22,{"$f":"IF(新人入力!H32=\"\",\"\",新人入力!H32)","v":""},{"$f":"IF(新人入力!I32=\"\",\"\",新人入力!I32)","v":""}]
["種　　　目",null,"組","ﾚｰﾝ・順","ナンバーカード","名　　　　前","学　　校","学年","ベスト記録",null,"種　　　目",null,"組","ﾚｰﾝ・順","ナンバーカード","名　　　　前","学　　校","学年","ベスト記録"]
["男",{"$f":"IF(V50=\"\",\"\",HLOOKUP(V50,$Y$5:$AP$6,2,FALSE))","v":""},null,null,{"$f":"IF(男一覧!A27=\"\",\"\",男一覧!A27)","v":""},{"$f":"IF(男一覧!B27=\"\",\"\",男一覧!B27)","v":""},{"$f":"IF(F50=\"\",\"\",新人入力!$M$3)","v":""},{"$f":"IF(男一覧!D27=\"\",\"\",男一覧!D27)","v":""},null,23,"男",{"$f":"IF(W50=\"\",\"\",HLOOKUP(W50,$Y$5:$AP$6,2,FALSE))","v":""},null,null,{"$f":"IF(E50=\"\",\"\",E50)","v":""},{"$f":"IF(F50=\"\",\"\",F50)","v":""},{"$f":"IF(G50=\"\",\"\",G50)","v":""},{"$f":"IF(H50=\"\",\"\",H50)","v":""},null,null,23,{"$f":"IF(新人入力!H33=\"\",\"\",新人入力!H33)","v":""},{"$f":"IF(新人入力!I33=\"\",\"\",新人入力!I33)","v":""}]
["種　　　目",null,"組","ﾚｰﾝ・順","ナンバーカード","名　　　　前","学　　校","学年","ベスト記録",null,"種　　　目",null,"組","ﾚｰﾝ・順","ナンバーカード","名　　　　前","学　　校","学年","ベスト記録"]
["男",{"$f":"IF(V52=\"\",\"\",HLOOKUP(V52,$Y$5:$AP$6,2,FALSE))","v":""},null,null,{"$f":"IF(男一覧!A28=\"\",\"\",男一覧!A28)","v":""},{"$f":"IF(男一覧!B28=\"\",\"\",男一覧!B28)","v":""},{"$f":"IF(F52=\"\",\"\",新人入力!$M$3)","v":""},{"$f":"IF(男一覧!D28=\"\",\"\",男一覧!D28)","v":""},null,24,"男",{"$f":"IF(W52=\"\",\"\",HLOOKUP(W52,$Y$5:$AP$6,2,FALSE))","v":""},null,null,{"$f":"IF(E52=\"\",\"\",E52)","v":""},{"$f":"IF(F52=\"\",\"\",F52)","v":""},{"$f":"IF(G52=\"\",\"\",G52)","v":""},{"$f":"IF(H52=\"\",\"\",H52)","v":""},null,null,24,{"$f":"IF(新人入力!H34=\"\",\"\",新人入力!H34)","v":""},{"$f":"IF(新人入力!I34=\"\",\"\",新人入力!I34)","v":""}]
["種　　　目",null,"組","ﾚｰﾝ・順","ナンバーカード","名　　　　前","学　　校","学年","ベスト記録",null,"種　　　目",null,"組","ﾚｰﾝ・順","ナンバーカード","名　　　　前","学　　校","学年","ベスト記録"]
["男",{"$f":"IF(V54=\"\",\"\",HLOOKUP(V54,$Y$5:$AP$6,2,FALSE))","v":""},null,null,{"$f":"IF(男一覧!A29=\"\",\"\",男一覧!A29)","v":""},{"$f":"IF(男一覧!B29=\"\",\"\",男一覧!B29)","v":""},{"$f":"IF(F54=\"\",\"\",新人入力!$M$3)","v":""},{"$f":"IF(男一覧!D29=\"\",\"\",男一覧!D29)","v":""},null,25,"男",{"$f":"IF(W54=\"\",\"\",HLOOKUP(W54,$Y$5:$AP$6,2,FALSE))","v":""},null,null,{"$f":"IF(E54=\"\",\"\",E54)","v":""},{"$f":"IF(F54=\"\",\"\",F54)","v":""},{"$f":"IF(G54=\"\",\"\",G54)","v":""},{"$f":"IF(H54=\"\",\"\",H54)","v":""},null,null,25,{"$f":"IF(新人入力!H35=\"\",\"\",新人入力!H35)","v":""},{"$f":"IF(新人入力!I35=\"\",\"\",新人入力!I35)","v":""}]
["種　　　目",null,"組","ﾚｰﾝ・順","ナンバーカード","名　　　　前","学　　校","学年","ベスト記録",null,"種　　　目",null,"組","ﾚｰﾝ・順","ナンバーカード","名　　　　前","学　　校","学年","ベスト記録"]
["男",{"$f":"IF(V56=\"\",\"\",HLOOKUP(V56,$Y$5:$AP$6,2,FALSE))","v":""},null,null,{"$f":"IF(男一覧!A30=\"\",\"\",男一覧!A30)","v":""},{"$f":"IF(男一覧!B30=\"\",\"\",男一覧!B30)","v":""},{"$f":"IF(F56=\"\",\"\",新人入力!$M$3)","v":""},{"$f":"IF(男一覧!D30=\"\",\"\",男一覧!D30)","v":""},null,26,"男",{"$f":"IF(W56=\"\",\"\",HLOOKUP(W56,$Y$5:$AP$6,2,FALSE))","v":""},null,null,{"$f":"IF(E56=\"\",\"\",E56)","v":""},{"$f":"IF(F56=\"\",\"\",F56)","v":""},{"$f":"IF(G56=\"\",\"\",G56)","v":""},{"$f":"IF(H56=\"\",\"\",H56)","v":""},null,null,26,{"$f":"IF(新人入力!H36=\"\",\"\",新人入力!H36)","v":""},{"$f":"IF(新人入力!I36=\"\",\"\",新人入力!I36)","v":""}]
["種　　　目",null,"組","ﾚｰﾝ・順","ナンバーカード","名　　　　前","学　　校","学年","ベスト記録",null,"種　　　目",null,"組","ﾚｰﾝ・順","ナンバーカード","名　　　　前","学　　校","学年","ベスト記録"]
["男",{"$f":"IF(V58=\"\",\"\",HLOOKUP(V58,$Y$5:$AP$6,2,FALSE))","v":""},null,null,{"$f":"IF(男一覧!A31=\"\",\"\",男一覧!A31)","v":""},{"$f":"IF(男一覧!B31=\"\",\"\",男一覧!B31)","v":""},{"$f":"IF(F58=\"\",\"\",新人入力!$M$3)","v":""},{"$f":"IF(男一覧!D31=\"\",\"\",男一覧!D31)","v":""},null,27,"男",{"$f":"IF(W58=\"\",\"\",HLOOKUP(W58,$Y$5:$AP$6,2,FALSE))","v":""},null,null,{"$f":"IF(E58=\"\",\"\",E58)","v":""},{"$f":"IF(F58=\"\",\"\",F58)","v":""},{"$f":"IF(G58=\"\",\"\",G58)","v":""},{"$f":"IF(H58=\"\",\"\",H58)","v":""},null,null,27,{"$f":"IF(新人入力!H37=\"\",\"\",新人入力!H37)","v":""},{"$f":"IF(新人入力!I37=\"\",\"\",新人入力!I37)","v":""}]
["種　　　目",null,"組","ﾚｰﾝ・順","ナンバーカード","名　　　　前","学　　校","学年","ベスト記録",null,"種　　　目",null,"組","ﾚｰﾝ・順","ナンバーカード","名　　　　前","学　　校","学年","ベスト記録"]
["男",{"$f":"IF(V60=\"\",\"\",HLOOKUP(V60,$Y$5:$AP$6,2,FALSE))","v":""},null,null,{"$f":"IF(男一覧!A32=\"\",\"\",男一覧!A32)","v":""},{"$f":"IF(男一覧!B32=\"\",\"\",男一覧!B32)","v":""},{"$f":"IF(F60=\"\",\"\",新人入力!$M$3)","v":""},{"$f":"IF(男一覧!D32=\"\",\"\",男一覧!D32)","v":""},null,28,"男",{"$f":"IF(W60=\"\",\"\",HLOOKUP(W60,$Y$5:$AP$6,2,FALSE))","v":""},null,null,{"$f":"IF(E60=\"\",\"\",E60)","v":""},{"$f":"IF(F60=\"\",\"\",F60)","v":""},{"$f":"IF(G60=\"\",\"\",G60)","v":""},{"$f":"IF(H60=\"\",\"\",H60)","v":""},null,null,28,{"$f":"IF(新人入力!H38=\"\",\"\",新人入力!H38)","v":""},{"$f":"IF(新人入力!I38=\"\",\"\",新人入力!I38)","v":""}]
["種　　　目",null,"組","ﾚｰﾝ・順","ナンバーカード","名　　　　前","学　　校","学年","ベスト記録",null,"種　　　目",null,"組","ﾚｰﾝ・順","ナンバーカード","名　　　　前","学　　校","学年","ベスト記録"]
["男",{"$f":"IF(V62=\"\",\"\",HLOOKUP(V62,$Y$5:$AP$6,2,FALSE))","v":""},null,null,{"$f":"IF(男一覧!A33=\"\",\"\",男一覧!A33)","v":""},{"$f":"IF(男一覧!B33=\"\",\"\",男一覧!B33)","v":""},{"$f":"IF(F62=\"\",\"\",新人入力!$M$3)","v":""},{"$f":"IF(男一覧!D33=\"\",\"\",男一覧!D33)","v":""},null,29,"男",{"$f":"IF(W62=\"\",\"\",HLOOKUP(W62,$Y$5:$AP$6,2,FALSE))","v":""},null,null,{"$f":"IF(E62=\"\",\"\",E62)","v":""},{"$f":"IF(F62=\"\",\"\",F62)","v":""},{"$f":"IF(G62=\"\",\"\",G62)","v":""},{"$f":"IF(H62=\"\",\"\",H62)","v":""},null,null,29,{"$f":"IF(新人入力!H39=\"\",\"\",新人入力!H39)","v":""},{"$f":"IF(新人入力!I39=\"\",\"\",新人入力!I39)","v":""}]
["種　　　目",null,"組","ﾚｰﾝ・順","ナンバーカード","名　　　　前","学　　校","学年","ベスト記録",null,"種　　　目",null,"組","ﾚｰﾝ・順","ナンバーカード","名　　　　前","学　　校","学年","ベスト記録"]
["男",{"$f":"IF(V64=\"\",\"\",HLOOKUP(V64,$Y$5:$AP$6,2,FALSE))","v":""},null,null,{"$f":"IF(男一覧!A34=\"\",\"\",男一覧!A34)","v":""},{"$f":"IF(男一覧!B34=\"\",\"\",男一覧!B34)","v":""},{"$f":"IF(F64=\"\",\"\",新人入力!$M$3)","v":""},{"$f":"IF(男一覧!D34=\"\",\"\",男一覧!D34)","v":""},null,30,"男",{"$f":"IF(W64=\"\",\"\",HLOOKUP(W64,$Y$5:$AP$6,2,FALSE))","v":""},null,null,{"$f":"IF(E64=\"\",\"\",E64)","v":""},{"$f":"IF(F64=\"\",\"\",F64)","v":""},{"$f":"IF(G64=\"\",\"\",G64)","v":""},{"$f":"IF(H64=\"\",\"\",H64)","v":""},null,null,30,{"$f":"IF(新人入力!H40=\"\",\"\",新人入力!H40)","v":""},{"$f":"IF(新人入力!I40=\"\",\"\",新人入力!I40)","v":""}]
["種　　　目",null,"組","ﾚｰﾝ・順","ナンバーカード","名　　　　前","学　　校","学年","ベスト記録",null,"種　　　目",null,"組","ﾚｰﾝ・順","ナンバーカード","名　　　　前","学　　校","学年","ベスト記録"]
["男",{"$f":"IF(V66=\"\",\"\",HLOOKUP(V66,$Y$5:$AP$6,2,FALSE))","v":""},null,null,{"$f":"IF(男一覧!A35=\"\",\"\",男一覧!A35)","v":""},{"$f":"IF(男一覧!B35=\"\",\"\",男一覧!B35)","v":""},{"$f":"IF(F66=\"\",\"\",新人入力!$M$3)","v":""},{"$f":"IF(男一覧!D35=\"\",\"\",男一覧!D35)","v":""},null,31,"男",{"$f":"IF(W66=\"\",\"\",HLOOKUP(W66,$Y$5:$AP$6,2,FALSE))","v":""},null,null,{"$f":"IF(E66=\"\",\"\",E66)","v":""},{"$f":"IF(F66=\"\",\"\",F66)","v":""},{"$f":"IF(G66=\"\",\"\",G66)","v":""},{"$f":"IF(H66=\"\",\"\",H66)","v":""},null,null,31,{"$f":"IF(新人入力!H41=\"\",\"\",新人入力!H41)","v":""},{"$f":"IF(新人入力!I41=\"\",\"\",新人入力!I41)","v":""}]
["種　　　目",null,"組","ﾚｰﾝ・順","ナンバーカード","名　　　　前","学　　校","学年","ベスト記録",null,"種　　　目",null,"組","ﾚｰﾝ・順","ナンバーカード","名　　　　前","学　　校","学年","ベスト記録"]
["男",{"$f":"IF(V68=\"\",\"\",HLOOKUP(V68,$Y$5:$AP$6,2,FALSE))","v":""},null,null,{"$f":"IF(男一覧!A36=\"\",\"\",男一覧!A36)","v":""},{"$f":"IF(男一覧!B36=\"\",\"\",男一覧!B36)","v":""},{"$f":"IF(F68=\"\",\"\",新人入力!$M$3)","v":""},{"$f":"IF(男一覧!D36=\"\",\"\",男一覧!D36)","v":""},null,32,"男",{"$f":"IF(W68=\"\",\"\",HLOOKUP(W68,$Y$5:$AP$6,2,FALSE))","v":""},null,null,{"$f":"IF(E68=\"\",\"\",E68)","v":""},{"$f":"IF(F68=\"\",\"\",F68)","v":""},{"$f":"IF(G68=\"\",\"\",G68)","v":""},{"$f":"IF(H68=\"\",\"\",H68)","v":""},null,null,32,{"$f":"IF(新人入力!H42=\"\",\"\",新人入力!H42)","v":""},{"$f":"IF(新人入力!I42=\"\",\"\",新人入力!I42)","v":""}]
["種　　　目",null,"組","ﾚｰﾝ・順","ナンバーカード","名　　　　前","学　　校","学年","ベスト記録",null,"種　　　目",null,"組","ﾚｰﾝ・順","ナンバーカード","名　　　　前","学　　校","学年","ベスト記録"]
["男",{"$f":"IF(V70=\"\",\"\",HLOOKUP(V70,$Y$5:$AP$6,2,FALSE))","v":""},null,null,{"$f":"IF(男一覧!A37=\"\",\"\",男一覧!A37)","v":""},{"$f":"IF(男一覧!B37=\"\",\"\",男一覧!B37)","v":""},{"$f":"IF(F70=\"\",\"\",新人入力!$M$3)","v":""},{"$f":"IF(男一覧!D37=\"\",\"\",男一覧!D37)","v":""},null,33,"男",{"$f":"IF(W70=\"\",\"\",HLOOKUP(W70,$Y$5:$AP$6,2,FALSE))","v":""},null,null,{"$f":"IF(E70=\"\",\"\",E70)","v":""},{"$f":"IF(F70=\"\",\"\",F70)","v":""},{"$f":"IF(G70=\"\",\"\",G70)","v":""},{"$f":"IF(H70=\"\",\"\",H70)","v":""},null,null,33,{"$f":"IF(新人入力!H43=\"\",\"\",新人入力!H43)","v":""},{"$f":"IF(新人入力!I43=\"\",\"\",新人入力!I43)","v":""}]
["種　　　目",null,"組","ﾚｰﾝ・順","ナンバーカード","名　　　　前","学　　校","学年","ベスト記録",null,"種　　　目",null,"組","ﾚｰﾝ・順","ナンバーカード","名　　　　前","学　　校","学年","ベスト記録"]
["男",{"$f":"IF(V72=\"\",\"\",HLOOKUP(V72,$Y$5:$AP$6,2,FALSE))","v":""},null,null,{"$f":"IF(男一覧!A38=\"\",\"\",男一覧!A38)","v":""},{"$f":"IF(男一覧!B38=\"\",\"\",男一覧!B38)","v":""},{"$f":"IF(F72=\"\",\"\",新人入力!$M$3)","v":""},{"$f":"IF(男一覧!D38=\"\",\"\",男一覧!D38)","v":""},null,34,"男",{"$f":"IF(W72=\"\",\"\",HLOOKUP(W72,$Y$5:$AP$6,2,FALSE))","v":""},null,null,{"$f":"IF(E72=\"\",\"\",E72)","v":""},{"$f":"IF(F72=\"\",\"\",F72)","v":""},{"$f":"IF(G72=\"\",\"\",G72)","v":""},{"$f":"IF(H72=\"\",\"\",H72)","v":""},null,null,34,{"$f":"IF(新人入力!H44=\"\",\"\",新人入力!H44)","v":""},{"$f":"IF(新人入力!I44=\"\",\"\",新人入力!I44)","v":""}]
["種　　　目",null,"組","ﾚｰﾝ・順","ナンバーカード","名　　　　前","学　　校","学年","ベスト記録",null,"種　　　目",null,"組","ﾚｰﾝ・順","ナンバーカード","名　　　　前","学　　校","学年","ベスト記録"]
["男",{"$f":"IF(V74=\"\",\"\",HLOOKUP(V74,$Y$5:$AP$6,2,FALSE))","v":""},null,null,{"$f":"IF(男一覧!A39=\"\",\"\",男一覧!A39)","v":""},{"$f":"IF(男一覧!B39=\"\",\"\",男一覧!B39)","v":""},{"$f":"IF(F74=\"\",\"\",新人入力!$M$3)","v":""},{"$f":"IF(男一覧!D39=\"\",\"\",男一覧!D39)","v":""},null,35,"男",{"$f":"IF(W74=\"\",\"\",HLOOKUP(W74,$Y$5:$AP$6,2,FALSE))","v":""},null,null,{"$f":"IF(E74=\"\",\"\",E74)","v":""},{"$f":"IF(F74=\"\",\"\",F74)","v":""},{"$f":"IF(G74=\"\",\"\",G74)","v":""},{"$f":"IF(H74=\"\",\"\",H74)","v":""},null,null,35,{"$f":"IF(新人入力!H45=\"\",\"\",新人入力!H45)","v":""},{"$f":"IF(新人入力!I45=\"\",\"\",新人入力!I45)","v":""}]
["種　　　目",null,"組","ﾚｰﾝ・順","ナンバーカード","名　　　　前","学　　校","学年","ベスト記録",null,"種　　　目",null,"組","ﾚｰﾝ・順","ナンバーカード","名　　　　前","学　　校","学年","ベスト記録"]
["男",{"$f":"IF(V76=\"\",\"\",HLOOKUP(V76,$Y$5:$AP$6,2,FALSE))","v":""},null,null,{"$f":"IF(男一覧!A40=\"\",\"\",男一覧!A40)","v":""},{"$f":"IF(男一覧!B40=\"\",\"\",男一覧!B40)","v":""},{"$f":"IF(F76=\"\",\"\",新人入力!$M$3)","v":""},{"$f":"IF(男一覧!D40=\"\",\"\",男一覧!D40)","v":""},null,36,"男",{"$f":"IF(W76=\"\",\"\",HLOOKUP(W76,$Y$5:$AP$6,2,FALSE))","v":""},null,null,{"$f":"IF(E76=\"\",\"\",E76)","v":""},{"$f":"IF(F76=\"\",\"\",F76)","v":""},{"$f":"IF(G76=\"\",\"\",G76)","v":""},{"$f":"IF(H76=\"\",\"\",H76)","v":""},null,null,36,{"$f":"IF(新人入力!H46=\"\",\"\",新人入力!H46)","v":""},{"$f":"IF(新人入力!I46=\"\",\"\",新人入力!I46)","v":""}]
["種　　　目",null,"組","ﾚｰﾝ・順","ナンバーカード","名　　　　前","学　　校","学年","ベスト記録",null,"種　　　目",null,"組","ﾚｰﾝ・順","ナンバーカード","名　　　　前","学　　校","学年","ベスト記録"]
["男",{"$f":"IF(V78=\"\",\"\",HLOOKUP(V78,$Y$5:$AP$6,2,FALSE))","v":""},null,null,{"$f":"IF(男一覧!A41=\"\",\"\",男一覧!A41)","v":""},{"$f":"IF(男一覧!B41=\"\",\"\",男一覧!B41)","v":""},{"$f":"IF(F78=\"\",\"\",新人入力!$M$3)","v":""},{"$f":"IF(男一覧!D41=\"\",\"\",男一覧!D41)","v":""},null,37,"男",{"$f":"IF(W78=\"\",\"\",HLOOKUP(W78,$Y$5:$AP$6,2,FALSE))","v":""},null,null,{"$f":"IF(E78=\"\",\"\",E78)","v":""},{"$f":"IF(F78=\"\",\"\",F78)","v":""},{"$f":"IF(G78=\"\",\"\",G78)","v":""},{"$f":"IF(H78=\"\",\"\",H78)","v":""},null,null,37,{"$f":"IF(新人入力!H47=\"\",\"\",新人入力!H47)","v":""},{"$f":"IF(新人入力!I47=\"\",\"\",新人入力!I47)","v":""}]
["種　　　目",null,"組","ﾚｰﾝ・順","ナンバーカード","名　　　　前","学　　校","学年","ベスト記録",null,"種　　　目",null,"組","ﾚｰﾝ・順","ナンバーカード","名　　　　前","学　　校","学年","ベスト記録"]
["男",{"$f":"IF(V80=\"\",\"\",HLOOKUP(V80,$Y$5:$AP$6,2,FALSE))","v":""},null,null,{"$f":"IF(男一覧!A42=\"\",\"\",男一覧!A42)","v":""},{"$f":"IF(男一覧!B42=\"\",\"\",男一覧!B42)","v":""},{"$f":"IF(F80=\"\",\"\",新人入力!$M$3)","v":""},{"$f":"IF(男一覧!D42=\"\",\"\",男一覧!D42)","v":""},null,38,"男",{"$f":"IF(W80=\"\",\"\",HLOOKUP(W80,$Y$5:$AP$6,2,FALSE))","v":""},null,null,{"$f":"IF(E80=\"\",\"\",E80)","v":""},{"$f":"IF(F80=\"\",\"\",F80)","v":""},{"$f":"IF(G80=\"\",\"\",G80)","v":""},{"$f":"IF(H80=\"\",\"\",H80)","v":""},null,null,38,{"$f":"IF(新人入力!H48=\"\",\"\",新人入力!H48)","v":""},{"$f":"IF(新人入力!I48=\"\",\"\",新人入力!I48)","v":""}]
["種　　　目",null,"組","ﾚｰﾝ・順","ナンバーカード","名　　　　前","学　　校","学年","ベスト記録",null,"種　　　目",null,"組","ﾚｰﾝ・順","ナンバーカード","名　　　　前","学　　校","学年","ベスト記録"]
["男",{"$f":"IF(V82=\"\",\"\",HLOOKUP(V82,$Y$5:$AP$6,2,FALSE))","v":""},null,null,{"$f":"IF(男一覧!A43=\"\",\"\",男一覧!A43)","v":""},{"$f":"IF(男一覧!B43=\"\",\"\",男一覧!B43)","v":""},{"$f":"IF(F82=\"\",\"\",新人入力!$M$3)","v":""},{"$f":"IF(男一覧!D43=\"\",\"\",男一覧!D43)","v":""},null,39,"男",{"$f":"IF(W82=\"\",\"\",HLOOKUP(W82,$Y$5:$AP$6,2,FALSE))","v":""},null,null,{"$f":"IF(E82=\"\",\"\",E82)","v":""},{"$f":"IF(F82=\"\",\"\",F82)","v":""},{"$f":"IF(G82=\"\",\"\",G82)","v":""},{"$f":"IF(H82=\"\",\"\",H82)","v":""},null,null,39,{"$f":"IF(新人入力!H49=\"\",\"\",新人入力!H49)","v":""},{"$f":"IF(新人入力!I49=\"\",\"\",新人入力!I49)","v":""}]
["種　　　目",null,"組","ﾚｰﾝ・順","ナンバーカード","名　　　　前","学　　校","学年","ベスト記録",null,"種　　　目",null,"組","ﾚｰﾝ・順","ナンバーカード","名　　　　前","学　　校","学年","ベスト記録"]
["男",{"$f":"IF(V84=\"\",\"\",HLOOKUP(V84,$Y$5:$AP$6,2,FALSE))","v":""},null,null,{"$f":"IF(男一覧!A44=\"\",\"\",男一覧!A44)","v":""},{"$f":"IF(男一覧!B44=\"\",\"\",男一覧!B44)","v":""},{"$f":"IF(F84=\"\",\"\",新人入力!$M$3)","v":""},{"$f":"IF(男一覧!D44=\"\",\"\",男一覧!D44)","v":""},null,40,"男",{"$f":"IF(W84=\"\",\"\",HLOOKUP(W84,$Y$5:$AP$6,2,FALSE))","v":""},null,null,{"$f":"IF(E84=\"\",\"\",E84)","v":""},{"$f":"IF(F84=\"\",\"\",F84)","v":""},{"$f":"IF(G84=\"\",\"\",G84)","v":""},{"$f":"IF(H84=\"\",\"\",H84)","v":""},null,null,40,{"$f":"IF(新人入力!H50=\"\",\"\",新人入力!H50)","v":""},{"$f":"IF(新人入力!I50=\"\",\"\",新人入力!I50)","v":""}]
["種　　　目",null,"組","ﾚｰﾝ・順","ナンバーカード","名　　　　前","学　　校","学年","ベスト記録",null,"種　　　目",null,"組","ﾚｰﾝ・順","ナンバーカード","名　　　　前","学　　校","学年","ベスト記録"]
["男",{"$f":"IF(V86=\"\",\"\",HLOOKUP(V86,$Y$5:$AP$6,2,FALSE))","v":""},null,null,{"$f":"IF(男一覧!A45=\"\",\"\",男一覧!A45)","v":""},{"$f":"IF(男一覧!B45=\"\",\"\",男一覧!B45)","v":""},{"$f":"IF(F86=\"\",\"\",新人入力!$M$3)","v":""},{"$f":"IF(男一覧!D45=\"\",\"\",男一覧!D45)","v":""},null,41,"男",{"$f":"IF(W86=\"\",\"\",HLOOKUP(W86,$Y$5:$AP$6,2,FALSE))","v":""},null,null,{"$f":"IF(E86=\"\",\"\",E86)","v":""},{"$f":"IF(F86=\"\",\"\",F86)","v":""},{"$f":"IF(G86=\"\",\"\",G86)","v":""},{"$f":"IF(H86=\"\",\"\",H86)","v":""},null,null,41,{"$f":"IF(新人入力!H51=\"\",\"\",新人入力!H51)","v":""},{"$f":"IF(新人入力!I51=\"\",\"\",新人入力!I51)","v":""}]

{"sheet":"女個票","index":5,"n_rows":78,"n_cols":39,"rows_kept":78,"cut":false,"hidden":false,"merged":[[66,0,66,1],[66,10,66,11],[62,0,62,1],[62,10,62,11],[64,0,64,1],[64,10,64,11],[58,0,58,1],[58,10,58,11],[60,0,60,1],[60,10,60,11],[54,0,54,1],[54,10,54,11],[56,0,56,1],[56,10,56,11],[50,0,50,1],[50,10,50,11],[52,0,52,1],[52,10,52,11],[46,0,46,1],[46,10,46,11],[48,0,48,1],[48,10,48,11],[42,0,42,1],[42,10,42,11],[44,0,44,1],[44,10,44,11],[38,0,38,1],[38,10,38,11],[40,0,40,1],[40,10,40,11],[34,0,34,1],[34,10,34,11],[36,0,36,1],[36,10,36,11],[30,0,30,1],[30,10,30,11],[32,0,32,1],[32,10,32,11],[26,0,26,1],[26,10,26,11],[28,0,28,1],[28,10,28,11],[22,0,22,1],[22,10,22,11],[24,0,24,1],[24,10,24,11],[0,0,1,1],[0,10,1,11],[6,0,6,1],[6,10,6,11],[8,0,8,1],[8,10,8,11],[4,0,4,1],[4,10,4,11],[10,0,10,1],[10,10,10,11],[68,0,68,1],[68,10,68,11],[70,0,70,1],[70,10,70,11],[12,0,12,1],[12,10,12,11],[18,0,18,1],[18,10,18,11],[20,0,20,1],[20,10,20,11],[14,0,14,1],[14,10,14,11],[16,0,16,1],[16,10,16,11],[76,0,76,1],[76,10,76,11],[72,0,72,1],[72,10,72,11],[74,0,74,1],[74,10,74,11]]}
["第一種目個票",null,null,null,null,null,null,null,null,null,"第二種目個票"]
[]
[]
[]
["種　　　目",null,"組","ﾚｰﾝ・順","ナンバーカード","名　　　　前","学　　校","学年","ベスト記録",null,"種　　　目",null,"組","ﾚｰﾝ・順","ナンバーカード","名　　　　前","学　　校","学年","ベスト記録",null,null,"個人種目１","個人種目２",null,31,21,23,24,25,26,27,28,29,30,11,12,13,14,15]
["女",{"$f":"IF(V6=\"\",\"\",HLOOKUP(V6,$Y$5:$AP$6,2,FALSE))","v":""},null,null,{"$f":"IF(新人入力!B87=\"\",\"\",新人入力!B87)","v":""},{"$f":"IF(女一覧!B5=\"\",\"\",女一覧!B5)","v":""},{"$f":"IF(F6=\"\",\"\",新人入力!$M$3)","v":""},{"$f":"IF(女一覧!D5=\"\",\"\",女一覧!D5)","v":""},null,1,"女",{"$f":"IF(W6=\"\",\"\",HLOOKUP(W6,$Y$5:$AP$6,2,FALSE))","v":""},null,null,{"$f":"IF(E6=\"\",\"\",E6)","v":""},{"$f":"IF(F6=\"\",\"\",F6)","v":""},{"$f":"IF(G6=\"\",\"\",G6)","v":""},{"$f":"IF(H6=\"\",\"\",H6)","v":""},null,null,1,{"$f":"IF(新人入力!H87=\"\",\"\",新人入力!H87)","v":""},{"$f":"IF(新人入力!I87=\"\",\"\",新人入力!I87)","v":""},null,"１年\n100","２年\n100","共通\n200","共通\n800","１年\n1500","２年\n1500","共通\n100H","共通\n走高","共通\n走幅","共通\n砲丸"]
["種　　　目",null,"組","ﾚｰﾝ・順","ナンバーカード","名　　　　前","学　　校","学年","ベスト記録",null,"種　　　目",null,"組","ﾚｰﾝ・順","ナンバーカード","名　　　　前","学　　校","学年","ベスト記録"]
["女",{"$f":"IF(V8=\"\",\"\",HLOOKUP(V8,$Y$5:$AP$6,2,FALSE))","v":""},null,null,{"$f":"IF(新人入力!B88=\"\",\"\",新人入力!B88)","v":""},{"$f":"IF(女一覧!B6=\"\",\"\",女一覧!B6)","v":""},{"$f":"IF(F8=\"\",\"\",新人入力!$M$3)","v":""},{"$f":"IF(女一覧!D6=\"\",\"\",女一覧!D6)","v":""},null,2,"女",{"$f":"IF(W8=\"\",\"\",HLOOKUP(W8,$Y$5:$AP$6,2,FALSE))","v":""},null,null,{"$f":"IF(E8=\"\",\"\",E8)","v":""},{"$f":"IF(F8=\"\",\"\",F8)","v":""},{"$f":"IF(G8=\"\",\"\",G8)","v":""},{"$f":"IF(H8=\"\",\"\",H8)","v":""},null,null,2,{"$f":"IF(新人入力!H88=\"\",\"\",新人入力!H88)","v":""},{"$f":"IF(新人入力!I88=\"\",\"\",新人入力!I88)","v":""}]
["種　　　目",null,"組","ﾚｰﾝ・順","ナンバーカード","名　　　　前","学　　校","学年","ベスト記録",null,"種　　　目",null,"組","ﾚｰﾝ・順","ナンバーカード","名　　　　前","学　　校","学年","ベスト記録"]
["女",{"$f":"IF(V10=\"\",\"\",HLOOKUP(V10,$Y$5:$AP$6,2,FALSE))","v":""},null,null,{"$f":"IF(新人入力!B89=\"\",\"\",新人入力!B89)","v":""},{"$f":"IF(女一覧!B7=\"\",\"\",女一覧!B7)","v":""},{"$f":"IF(F10=\"\",\"\",新人入力!$M$3)","v":""},{"$f":"IF(女一覧!D7=\"\",\"\",女一覧!D7)","v":""},null,3,"女",{"$f":"IF(W10=\"\",\"\",HLOOKUP(W10,$Y$5:$AP$6,2,FALSE))","v":""},null,null,{"$f":"IF(E10=\"\",\"\",E10)","v":""},{"$f":"IF(F10=\"\",\"\",F10)","v":""},{"$f":"IF(G10=\"\",\"\",G10)","v":""},{"$f":"IF(H10=\"\",\"\",H10)","v":""},null,null,3,{"$f":"IF(新人入力!H89=\"\",\"\",新人入力!H89)","v":""},{"$f":"IF(新人入力!I89=\"\",\"\",新人入力!I89)","v":""}]
["種　　　目",null,"組","ﾚｰﾝ・順","ナンバーカード","名　　　　前","学　　校","学年","ベスト記録",null,"種　　　目",null,"組","ﾚｰﾝ・順","ナンバーカード","名　　　　前","学　　校","学年","ベスト記録"]
["女",{"$f":"IF(V12=\"\",\"\",HLOOKUP(V12,$Y$5:$AP$6,2,FALSE))","v":""},null,null,{"$f":"IF(新人入力!B90=\"\",\"\",新人入力!B90)","v":""},{"$f":"IF(女一覧!B8=\"\",\"\",女一覧!B8)","v":""},{"$f":"IF(F12=\"\",\"\",新人入力!$M$3)","v":""},{"$f":"IF(女一覧!D8=\"\",\"\",女一覧!D8)","v":""},null,4,"女",{"$f":"IF(W12=\"\",\"\",HLOOKUP(W12,$Y$5:$AP$6,2,FALSE))","v":""},null,null,{"$f":"IF(E12=\"\",\"\",E12)","v":""},{"$f":"IF(F12=\"\",\"\",F12)","v":""},{"$f":"IF(G12=\"\",\"\",G12)","v":""},{"$f":"IF(H12=\"\",\"\",H12)","v":""},null,null,4,{"$f":"IF(新人入力!H90=\"\",\"\",新人入力!H90)","v":""},{"$f":"IF(新人入力!I90=\"\",\"\",新人入力!I90)","v":""}]
["種　　　目",null,"組","ﾚｰﾝ・順","ナンバーカード","名　　　　前","学　　校","学年","ベスト記録",null,"種　　　目",null,"組","ﾚｰﾝ・順","ナンバーカード","名　　　　前","学　　校","学年","ベスト記録"]
["女",{"$f":"IF(V14=\"\",\"\",HLOOKUP(V14,$Y$5:$AP$6,2,FALSE))","v":""},null,null,{"$f":"IF(新人入力!B91=\"\",\"\",新人入力!B91)","v":""},{"$f":"IF(女一覧!B9=\"\",\"\",女一覧!B9)","v":""},{"$f":"IF(F14=\"\",\"\",新人入力!$M$3)","v":""},{"$f":"IF(女一覧!D9=\"\",\"\",女一覧!D9)","v":""},null,5,"女",{"$f":"IF(W14=\"\",\"\",HLOOKUP(W14,$Y$5:$AP$6,2,FALSE))","v":""},null,null,{"$f":"IF(E14=\"\",\"\",E14)","v":""},{"$f":"IF(F14=\"\",\"\",F14)","v":""},{"$f":"IF(G14=\"\",\"\",G14)","v":""},{"$f":"IF(H14=\"\",\"\",H14)","v":""},null,null,5,{"$f":"IF(新人入力!H91=\"\",\"\",新人入力!H91)","v":""},{"$f":"IF(新人入力!I91=\"\",\"\",新人入力!I91)","v":""}]
["種　　　目",null,"組","ﾚｰﾝ・順","ナンバーカード","名　　　　前","学　　校","学年","ベスト記録",null,"種　　　目",null,"組","ﾚｰﾝ・順","ナンバーカード","名　　　　前","学　　校","学年","ベスト記録"]
["女",{"$f":"IF(V16=\"\",\"\",HLOOKUP(V16,$Y$5:$AP$6,2,FALSE))","v":""},null,null,{"$f":"IF(新人入力!B92=\"\",\"\",新人入力!B92)","v":""},{"$f":"IF(女一覧!B10=\"\",\"\",女一覧!B10)","v":""},{"$f":"IF(F16=\"\",\"\",新人入力!$M$3)","v":""},{"$f":"IF(女一覧!D10=\"\",\"\",女一覧!D10)","v":""},null,6,"女",{"$f":"IF(W16=\"\",\"\",HLOOKUP(W16,$Y$5:$AP$6,2,FALSE))","v":""},null,null,{"$f":"IF(E16=\"\",\"\",E16)","v":""},{"$f":"IF(F16=\"\",\"\",F16)","v":""},{"$f":"IF(G16=\"\",\"\",G16)","v":""},{"$f":"IF(H16=\"\",\"\",H16)","v":""},null,null,6,{"$f":"IF(新人入力!H92=\"\",\"\",新人入力!H92)","v":""},{"$f":"IF(新人入力!I92=\"\",\"\",新人入力!I92)","v":""}]
["種　　　目",null,"組","ﾚｰﾝ・順","ナンバーカード","名　　　　前","学　　校","学年","ベスト記録",null,"種　　　目",null,"組","ﾚｰﾝ・順","ナンバーカード","名　　　　前","学　　校","学年","ベスト記録"]
["女",{"$f":"IF(V18=\"\",\"\",HLOOKUP(V18,$Y$5:$AP$6,2,FALSE))","v":""},null,null,{"$f":"IF(新人入力!B93=\"\",\"\",新人入力!B93)","v":""},{"$f":"IF(女一覧!B11=\"\",\"\",女一覧!B11)","v":""},{"$f":"IF(F18=\"\",\"\",新人入力!$M$3)","v":""},{"$f":"IF(女一覧!D11=\"\",\"\",女一覧!D11)","v":""},null,7,"女",{"$f":"IF(W18=\"\",\"\",HLOOKUP(W18,$Y$5:$AP$6,2,FALSE))","v":""},null,null,{"$f":"IF(E18=\"\",\"\",E18)","v":""},{"$f":"IF(F18=\"\",\"\",F18)","v":""},{"$f":"IF(G18=\"\",\"\",G18)","v":""},{"$f":"IF(H18=\"\",\"\",H18)","v":""},null,null,7,{"$f":"IF(新人入力!H93=\"\",\"\",新人入力!H93)","v":""},{"$f":"IF(新人入力!I93=\"\",\"\",新人入力!I93)","v":""}]
["種　　　目",null,"組","ﾚｰﾝ・順","ナンバーカード","名　　　　前","学　　校","学年","ベスト記録",null,"種　　　目",null,"組","ﾚｰﾝ・順","ナンバーカード","名　　　　前","学　　校","学年","ベスト記録"]
["女",{"$f":"IF(V20=\"\",\"\",HLOOKUP(V20,$Y$5:$AP$6,2,FALSE))","v":""},null,null,{"$f":"IF(新人入力!B94=\"\",\"\",新人入力!B94)","v":""},{"$f":"IF(女一覧!B12=\"\",\"\",女一覧!B12)","v":""},{"$f":"IF(F20=\"\",\"\",新人入力!$M$3)","v":""},{"$f":"IF(女一覧!D12=\"\",\"\",女一覧!D12)","v":""},null,8,"女",{"$f":"IF(W20=\"\",\"\",HLOOKUP(W20,$Y$5:$AP$6,2,FALSE))","v":""},null,null,{"$f":"IF(E20=\"\",\"\",E20)","v":""},{"$f":"IF(F20=\"\",\"\",F20)","v":""},{"$f":"IF(G20=\"\",\"\",G20)","v":""},{"$f":"IF(H20=\"\",\"\",H20)","v":""},null,null,8,{"$f":"IF(新人入力!H94=\"\",\"\",新人入力!H94)","v":""},{"$f":"IF(新人入力!I94=\"\",\"\",新人入力!I94)","v":""}]
["種　　　目",null,"組","ﾚｰﾝ・順","ナンバーカード","名　　　　前","学　　校","学年","ベスト記録",null,"種　　　目",null,"組","ﾚｰﾝ・順","ナンバーカード","名　　　　前","学　　校","学年","ベスト記録"]
["女",{"$f":"IF(V22=\"\",\"\",HLOOKUP(V22,$Y$5:$AP$6,2,FALSE))","v":""},null,null,{"$f":"IF(新人入力!B95=\"\",\"\",新人入力!B95)","v":""},{"$f":"IF(女一覧!B13=\"\",\"\",女一覧!B13)","v":""},{"$f":"IF(F22=\"\",\"\",新人入力!$M$3)","v":""},{"$f":"IF(女一覧!D13=\"\",\"\",女一覧!D13)","v":""},null,9,"女",{"$f":"IF(W22=\"\",\"\",HLOOKUP(W22,$Y$5:$AP$6,2,FALSE))","v":""},null,null,{"$f":"IF(E22=\"\",\"\",E22)","v":""},{"$f":"IF(F22=\"\",\"\",F22)","v":""},{"$f":"IF(G22=\"\",\"\",G22)","v":""},{"$f":"IF(H22=\"\",\"\",H22)","v":""},null,null,9,{"$f":"IF(新人入力!H95=\"\",\"\",新人入力!H95)","v":""},{"$f":"IF(新人入力!I95=\"\",\"\",新人入力!I95)","v":""}]
["種　　　目",null,"組","ﾚｰﾝ・順","ナンバーカード","名　　　　前","学　　校","学年","ベスト記録",null,"種　　　目",null,"組","ﾚｰﾝ・順","ナンバーカード","名　　　　前","学　　校","学年","ベスト記録"]
["女",{"$f":"IF(V24=\"\",\"\",HLOOKUP(V24,$Y$5:$AP$6,2,FALSE))","v":""},null,null,{"$f":"IF(新人入力!B96=\"\",\"\",新人入力!B96)","v":""},{"$f":"IF(女一覧!B14=\"\",\"\",女一覧!B14)","v":""},{"$f":"IF(F24=\"\",\"\",新人入力!$M$3)","v":""},{"$f":"IF(女一覧!D14=\"\",\"\",女一覧!D14)","v":""},null,10,"女",{"$f":"IF(W24=\"\",\"\",HLOOKUP(W24,$Y$5:$AP$6,2,FALSE))","v":""},null,null,{"$f":"IF(E24=\"\",\"\",E24)","v":""},{"$f":"IF(F24=\"\",\"\",F24)","v":""},{"$f":"IF(G24=\"\",\"\",G24)","v":""},{"$f":"IF(H24=\"\",\"\",H24)","v":""},null,null,10,{"$f":"IF(新人入力!H96=\"\",\"\",新人入力!H96)","v":""},{"$f":"IF(新人入力!I96=\"\",\"\",新人入力!I96)","v":""}]
["種　　　目",null,"組","ﾚｰﾝ・順","ナンバーカード","名　　　　前","学　　校","学年","ベスト記録",null,"種　　　目",null,"組","ﾚｰﾝ・順","ナンバーカード","名　　　　前","学　　校","学年","ベスト記録"]
["女",{"$f":"IF(V26=\"\",\"\",HLOOKUP(V26,$Y$5:$AP$6,2,FALSE))","v":""},null,null,{"$f":"IF(新人入力!B97=\"\",\"\",新人入力!B97)","v":""},{"$f":"IF(女一覧!B15=\"\",\"\",女一覧!B15)","v":""},{"$f":"IF(F26=\"\",\"\",新人入力!$M$3)","v":""},{"$f":"IF(女一覧!D15=\"\",\"\",女一覧!D15)","v":""},null,11,"女",{"$f":"IF(W26=\"\",\"\",HLOOKUP(W26,$Y$5:$AP$6,2,FALSE))","v":""},null,null,{"$f":"IF(E26=\"\",\"\",E26)","v":""},{"$f":"IF(F26=\"\",\"\",F26)","v":""},{"$f":"IF(G26=\"\",\"\",G26)","v":""},{"$f":"IF(H26=\"\",\"\",H26)","v":""},null,null,11,{"$f":"IF(新人入力!H97=\"\",\"\",新人入力!H97)","v":""},{"$f":"IF(新人入力!I97=\"\",\"\",新人入力!I97)","v":""}]
["種　　　目",null,"組","ﾚｰﾝ・順","ナンバーカード","名　　　　前","学　　校","学年","ベスト記録",null,"種　　　目",null,"組","ﾚｰﾝ・順","ナンバーカード","名　　　　前","学　　校","学年","ベスト記録"]
["女",{"$f":"IF(V28=\"\",\"\",HLOOKUP(V28,$Y$5:$AP$6,2,FALSE))","v":""},null,null,{"$f":"IF(新人入力!B98=\"\",\"\",新人入力!B98)","v":""},{"$f":"IF(女一覧!B16=\"\",\"\",女一覧!B16)","v":""},{"$f":"IF(F28=\"\",\"\",新人入力!$M$3)","v":""},{"$f":"IF(女一覧!D16=\"\",\"\",女一覧!D16)","v":""},null,12,"女",{"$f":"IF(W28=\"\",\"\",HLOOKUP(W28,$Y$5:$AP$6,2,FALSE))","v":""},null,null,{"$f":"IF(E28=\"\",\"\",E28)","v":""},{"$f":"IF(F28=\"\",\"\",F28)","v":""},{"$f":"IF(G28=\"\",\"\",G28)","v":""},{"$f":"IF(H28=\"\",\"\",H28)","v":""},null,null,12,{"$f":"IF(新人入力!H98=\"\",\"\",新人入力!H98)","v":""},{"$f":"IF(新人入力!I98=\"\",\"\",新人入力!I98)","v":""}]
["種　　　目",null,"組","ﾚｰﾝ・順","ナンバーカード","名　　　　前","学　　校","学年","ベスト記録",null,"種　　　目",null,"組","ﾚｰﾝ・順","ナンバーカード","名　　　　前","学　　校","学年","ベスト記録"]
["女",{"$f":"IF(V30=\"\",\"\",HLOOKUP(V30,$Y$5:$AP$6,2,FALSE))","v":""},null,null,{"$f":"IF(新人入力!B99=\"\",\"\",新人入力!B99)","v":""},{"$f":"IF(女一覧!B17=\"\",\"\",女一覧!B17)","v":""},{"$f":"IF(F30=\"\",\"\",新人入力!$M$3)","v":""},{"$f":"IF(女一覧!D17=\"\",\"\",女一覧!D17)","v":""},null,13,"女",{"$f":"IF(W30=\"\",\"\",HLOOKUP(W30,$Y$5:$AP$6,2,FALSE))","v":""},null,null,{"$f":"IF(E30=\"\",\"\",E30)","v":""},{"$f":"IF(F30=\"\",\"\",F30)","v":""},{"$f":"IF(G30=\"\",\"\",G30)","v":""},{"$f":"IF(H30=\"\",\"\",H30)","v":""},null,null,13,{"$f":"IF(新人入力!H99=\"\",\"\",新人入力!H99)","v":""},{"$f":"IF(新人入力!I99=\"\",\"\",新人入力!I99)","v":""}]
["種　　　目",null,"組","ﾚｰﾝ・順","ナンバーカード","名　　　　前","学　　校","学年","ベスト記録",null,"種　　　目",null,"組","ﾚｰﾝ・順","ナンバーカード","名　　　　前","学　　校","学年","ベスト記録"]
["女",{"$f":"IF(V32=\"\",\"\",HLOOKUP(V32,$Y$5:$AP$6,2,FALSE))","v":""},null,null,{"$f":"IF(新人入力!B100=\"\",\"\",新人入力!B100)","v":""},{"$f":"IF(女一覧!B18=\"\",\"\",女一覧!B18)","v":""},{"$f":"IF(F32=\"\",\"\",新人入力!$M$3)","v":""},{"$f":"IF(女一覧!D18=\"\",\"\",女一覧!D18)","v":""},null,14,"女",{"$f":"IF(W32=\"\",\"\",HLOOKUP(W32,$Y$5:$AP$6,2,FALSE))","v":""},null,null,{"$f":"IF(E32=\"\",\"\",E32)","v":""},{"$f":"IF(F32=\"\",\"\",F32)","v":""},{"$f":"IF(G32=\"\",\"\",G32)","v":""},{"$f":"IF(H32=\"\",\"\",H32)","v":""},null,null,14,{"$f":"IF(新人入力!H100=\"\",\"\",新人入力!H100)","v":""},{"$f":"IF(新人入力!I100=\"\",\"\",新人入力!I100)","v":""}]
["種　　　目",null,"組","ﾚｰﾝ・順","ナンバーカード","名　　　　前","学　　校","学年","ベスト記録",null,"種　　　目",null,"組","ﾚｰﾝ・順","ナンバーカード","名　　　　前","学　　校","学年","ベスト記録"]
["女",{"$f":"IF(V34=\"\",\"\",HLOOKUP(V34,$Y$5:$AP$6,2,FALSE))","v":""},null,null,{"$f":"IF(新人入力!B101=\"\",\"\",新人入力!B101)","v":""},{"$f":"IF(女一覧!B19=\"\",\"\",女一覧!B19)","v":""},{"$f":"IF(F34=\"\",\"\",新人入力!$M$3)","v":""},{"$f":"IF(女一覧!D19=\"\",\"\",女一覧!D19)","v":""},null,15,"女",{"$f":"IF(W34=\"\",\"\",HLOOKUP(W34,$Y$5:$AP$6,2,FALSE))","v":""},null,null,{"$f":"IF(E34=\"\",\"\",E34)","v":""},{"$f":"IF(F34=\"\",\"\",F34)","v":""},{"$f":"IF(G34=\"\",\"\",G34)","v":""},{"$f":"IF(H34=\"\",\"\",H34)","v":""},null,null,15,{"$f":"IF(新人入力!H101=\"\",\"\",新人入力!H101)","v":""},{"$f":"IF(新人入力!I101=\"\",\"\",新人入力!I101)","v":""}]
["種　　　目",null,"組","ﾚｰﾝ・順","ナンバーカード","名　　　　前","学　　校","学年","ベスト記録",null,"種　　　目",null,"組","ﾚｰﾝ・順","ナンバーカード","名　　　　前","学　　校","学年","ベスト記録"]
["女",{"$f":"IF(V36=\"\",\"\",HLOOKUP(V36,$Y$5:$AP$6,2,FALSE))","v":""},null,null,{"$f":"IF(新人入力!B102=\"\",\"\",新人入力!B102)","v":""},{"$f":"IF(女一覧!B20=\"\",\"\",女一覧!B20)","v":""},{"$f":"IF(F36=\"\",\"\",新人入力!$M$3)","v":""},{"$f":"IF(女一覧!D20=\"\",\"\",女一覧!D20)","v":""},null,16,"女",{"$f":"IF(W36=\"\",\"\",HLOOKUP(W36,$Y$5:$AP$6,2,FALSE))","v":""},null,null,{"$f":"IF(E36=\"\",\"\",E36)","v":""},{"$f":"IF(F36=\"\",\"\",F36)","v":""},{"$f":"IF(G36=\"\",\"\",G36)","v":""},{"$f":"IF(H36=\"\",\"\",H36)","v":""},null,null,16,{"$f":"IF(新人入力!H102=\"\",\"\",新人入力!H102)","v":""},{"$f":"IF(新人入力!I102=\"\",\"\",新人入力!I102)","v":""}]
["種　　　目",null,"組","ﾚｰﾝ・順","ナンバーカード","名　　　　前","学　　校","学年","ベスト記録",null,"種　　　目",null,"組","ﾚｰﾝ・順","ナンバーカード","名　　　　前","学　　校","学年","ベスト記録"]
["女",{"$f":"IF(V38=\"\",\"\",HLOOKUP(V38,$Y$5:$AP$6,2,FALSE))","v":""},null,null,{"$f":"IF(新人入力!B103=\"\",\"\",新人入力!B103)","v":""},{"$f":"IF(女一覧!B21=\"\",\"\",女一覧!B21)","v":""},{"$f":"IF(F38=\"\",\"\",新人入力!$M$3)","v":""},{"$f":"IF(女一覧!D21=\"\",\"\",女一覧!D21)","v":""},null,17,"女",{"$f":"IF(W38=\"\",\"\",HLOOKUP(W38,$Y$5:$AP$6,2,FALSE))","v":""},null,null,{"$f":"IF(E38=\"\",\"\",E38)","v":""},{"$f":"IF(F38=\"\",\"\",F38)","v":""},{"$f":"IF(G38=\"\",\"\",G38)","v":""},{"$f":"IF(H38=\"\",\"\",H38)","v":""},null,null,17,{"$f":"IF(新人入力!H103=\"\",\"\",新人入力!H103)","v":""},{"$f":"IF(新人入力!I103=\"\",\"\",新人入力!I103)","v":""}]
["種　　　目",null,"組","ﾚｰﾝ・順","ナンバーカード","名　　　　前","学　　校","学年","ベスト記録",null,"種　　　目",null,"組","ﾚｰﾝ・順","ナンバーカード","名　　　　前","学　　校","学年","ベスト記録"]
["女",{"$f":"IF(V40=\"\",\"\",HLOOKUP(V40,$Y$5:$AP$6,2,FALSE))","v":""},null,null,{"$f":"IF(新人入力!B104=\"\",\"\",新人入力!B104)","v":""},{"$f":"IF(女一覧!B22=\"\",\"\",女一覧!B22)","v":""},{"$f":"IF(F40=\"\",\"\",新人入力!$M$3)","v":""},{"$f":"IF(女一覧!D22=\"\",\"\",女一覧!D22)","v":""},null,18,"女",{"$f":"IF(W40=\"\",\"\",HLOOKUP(W40,$Y$5:$AP$6,2,FALSE))","v":""},null,null,{"$f":"IF(E40=\"\",\"\",E40)","v":""},{"$f":"IF(F40=\"\",\"\",F40)","v":""},{"$f":"IF(G40=\"\",\"\",G40)","v":""},{"$f":"IF(H40=\"\",\"\",H40)","v":""},null,null,18,{"$f":"IF(新人入力!H104=\"\",\"\",新人入力!H104)","v":""},{"$f":"IF(新人入力!I104=\"\",\"\",新人入力!I104)","v":""}]
["種　　　目",null,"組","ﾚｰﾝ・順","ナンバーカード","名　　　　前","学　　校","学年","ベスト記録",null,"種　　　目",null,"組","ﾚｰﾝ・順","ナンバーカード","名　　　　前","学　　校","学年","ベスト記録"]
["女",{"$f":"IF(V42=\"\",\"\",HLOOKUP(V42,$Y$5:$AP$6,2,FALSE))","v":""},null,null,{"$f":"IF(新人入力!B105=\"\",\"\",新人入力!B105)","v":""},{"$f":"IF(女一覧!B23=\"\",\"\",女一覧!B23)","v":""},{"$f":"IF(F42=\"\",\"\",新人入力!$M$3)","v":""},{"$f":"IF(女一覧!D23=\"\",\"\",女一覧!D23)","v":""},null,19,"女",{"$f":"IF(W42=\"\",\"\",HLOOKUP(W42,$Y$5:$AP$6,2,FALSE))","v":""},null,null,{"$f":"IF(E42=\"\",\"\",E42)","v":""},{"$f":"IF(F42=\"\",\"\",F42)","v":""},{"$f":"IF(G42=\"\",\"\",G42)","v":""},{"$f":"IF(H42=\"\",\"\",H42)","v":""},null,null,19,{"$f":"IF(新人入力!H105=\"\",\"\",新人入力!H105)","v":""},{"$f":"IF(新人入力!I105=\"\",\"\",新人入力!I105)","v":""}]
["種　　　目",null,"組","ﾚｰﾝ・順","ナンバーカード","名　　　　前","学　　校","学年","ベスト記録",null,"種　　　目",null,"組","ﾚｰﾝ・順","ナンバーカード","名　　　　前","学　　校","学年","ベスト記録"]
["女",{"$f":"IF(V44=\"\",\"\",HLOOKUP(V44,$Y$5:$AP$6,2,FALSE))","v":""},null,null,{"$f":"IF(新人入力!B106=\"\",\"\",新人入力!B106)","v":""},{"$f":"IF(女一覧!B24=\"\",\"\",女一覧!B24)","v":""},{"$f":"IF(F44=\"\",\"\",新人入力!$M$3)","v":""},{"$f":"IF(女一覧!D24=\"\",\"\",女一覧!D24)","v":""},null,20,"女",{"$f":"IF(W44=\"\",\"\",HLOOKUP(W44,$Y$5:$AP$6,2,FALSE))","v":""},null,null,{"$f":"IF(E44=\"\",\"\",E44)","v":""},{"$f":"IF(F44=\"\",\"\",F44)","v":""},{"$f":"IF(G44=\"\",\"\",G44)","v":""},{"$f":"IF(H44=\"\",\"\",H44)","v":""},null,null,20,{"$f":"IF(新人入力!H106=\"\",\"\",新人入力!H106)","v":""},{"$f":"IF(新人入力!I106=\"\",\"\",新人入力!I106)","v":""}]
["種　　　目",null,"組","ﾚｰﾝ・順","ナンバーカード","名　　　　前","学　　校","学年","ベスト記録",null,"種　　　目",null,"組","ﾚｰﾝ・順","ナンバーカード","名　　　　前","学　　校","学年","ベスト記録"]
["女",{"$f":"IF(V46=\"\",\"\",HLOOKUP(V46,$Y$5:$AP$6,2,FALSE))","v":""},null,null,{"$f":"IF(新人入力!B107=\"\",\"\",新人入力!B107)","v":""},{"$f":"IF(女一覧!B25=\"\",\"\",女一覧!B25)","v":""},{"$f":"IF(F46=\"\",\"\",新人入力!$M$3)","v":""},{"$f":"IF(女一覧!D25=\"\",\"\",女一覧!D25)","v":""},null,21,"女",{"$f":"IF(W46=\"\",\"\",HLOOKUP(W46,$Y$5:$AP$6,2,FALSE))","v":""},null,null,{"$f":"IF(E46=\"\",\"\",E46)","v":""},{"$f":"IF(F46=\"\",\"\",F46)","v":""},{"$f":"IF(G46=\"\",\"\",G46)","v":""},{"$f":"IF(H46=\"\",\"\",H46)","v":""},null,null,21,{"$f":"IF(新人入力!H107=\"\",\"\",新人入力!H107)","v":""},{"$f":"IF(新人入力!I107=\"\",\"\",新人入力!I107)","v":""}]
["種　　　目",null,"組","ﾚｰﾝ・順","ナンバーカード","名　　　　前","学　　校","学年","ベスト記録",null,"種　　　目",null,"組","ﾚｰﾝ・順","ナンバーカード","名　　　　前","学　　校","学年","ベスト記録"]
["女",{"$f":"IF(V48=\"\",\"\",HLOOKUP(V48,$Y$5:$AP$6,2,FALSE))","v":""},null,null,{"$f":"IF(新人入力!B108=\"\",\"\",新人入力!B108)","v":""},{"$f":"IF(女一覧!B26=\"\",\"\",女一覧!B26)","v":""},{"$f":"IF(F48=\"\",\"\",新人入力!$M$3)","v":""},{"$f":"IF(女一覧!D26=\"\",\"\",女一覧!D26)","v":""},null,22,"女",{"$f":"IF(W48=\"\",\"\",HLOOKUP(W48,$Y$5:$AP$6,2,FALSE))","v":""},null,null,{"$f":"IF(E48=\"\",\"\",E48)","v":""},{"$f":"IF(F48=\"\",\"\",F48)","v":""},{"$f":"IF(G48=\"\",\"\",G48)","v":""},{"$f":"IF(H48=\"\",\"\",H48)","v":""},null,null,22,{"$f":"IF(新人入力!H108=\"\",\"\",新人入力!H108)","v":""},{"$f":"IF(新人入力!I108=\"\",\"\",新人入力!I108)","v":""}]
["種　　　目",null,"組","ﾚｰﾝ・順","ナンバーカード","名　　　　前","学　　校","学年","ベスト記録",null,"種　　　目",null,"組","ﾚｰﾝ・順","ナンバーカード","名　　　　前","学　　校","学年","ベスト記録"]
["女",{"$f":"IF(V50=\"\",\"\",HLOOKUP(V50,$Y$5:$AP$6,2,FALSE))","v":""},null,null,{"$f":"IF(新人入力!B109=\"\",\"\",新人入力!B109)","v":""},{"$f":"IF(女一覧!B27=\"\",\"\",女一覧!B27)","v":""},{"$f":"IF(F50=\"\",\"\",新人入力!$M$3)","v":""},{"$f":"IF(女一覧!D27=\"\",\"\",女一覧!D27)","v":""},null,23,"女",{"$f":"IF(W50=\"\",\"\",HLOOKUP(W50,$Y$5:$AP$6,2,FALSE))","v":""},null,null,{"$f":"IF(E50=\"\",\"\",E50)","v":""},{"$f":"IF(F50=\"\",\"\",F50)","v":""},{"$f":"IF(G50=\"\",\"\",G50)","v":""},{"$f":"IF(H50=\"\",\"\",H50)","v":""},null,null,23,{"$f":"IF(新人入力!H109=\"\",\"\",新人入力!H109)","v":""},{"$f":"IF(新人入力!I109=\"\",\"\",新人入力!I109)","v":""}]
["種　　　目",null,"組","ﾚｰﾝ・順","ナンバーカード","名　　　　前","学　　校","学年","ベスト記録",null,"種　　　目",null,"組","ﾚｰﾝ・順","ナンバーカード","名　　　　前","学　　校","学年","ベスト記録"]
["女",{"$f":"IF(V52=\"\",\"\",HLOOKUP(V52,$Y$5:$AP$6,2,FALSE))","v":""},null,null,{"$f":"IF(新人入力!B110=\"\",\"\",新人入力!B110)","v":""},{"$f":"IF(女一覧!B28=\"\",\"\",女一覧!B28)","v":""},{"$f":"IF(F52=\"\",\"\",新人入力!$M$3)","v":""},{"$f":"IF(女一覧!D28=\"\",\"\",女一覧!D28)","v":""},null,24,"女",{"$f":"IF(W52=\"\",\"\",HLOOKUP(W52,$Y$5:$AP$6,2,FALSE))","v":""},null,null,{"$f":"IF(E52=\"\",\"\",E52)","v":""},{"$f":"IF(F52=\"\",\"\",F52)","v":""},{"$f":"IF(G52=\"\",\"\",G52)","v":""},{"$f":"IF(H52=\"\",\"\",H52)","v":""},null,null,24,{"$f":"IF(新人入力!H110=\"\",\"\",新人入力!H110)","v":""},{"$f":"IF(新人入力!I110=\"\",\"\",新人入力!I110)","v":""}]
["種　　　目",null,"組","ﾚｰﾝ・順","ナンバーカード","名　　　　前","学　　校","学年","ベスト記録",null,"種　　　目",null,"組","ﾚｰﾝ・順","ナンバーカード","名　　　　前","学　　校","学年","ベスト記録"]
["女",{"$f":"IF(V54=\"\",\"\",HLOOKUP(V54,$Y$5:$AP$6,2,FALSE))","v":""},null,null,{"$f":"IF(新人入力!B111=\"\",\"\",新人入力!B111)","v":""},{"$f":"IF(女一覧!B29=\"\",\"\",女一覧!B29)","v":""},{"$f":"IF(F54=\"\",\"\",新人入力!$M$3)","v":""},{"$f":"IF(女一覧!D29=\"\",\"\",女一覧!D29)","v":""},null,25,"女",{"$f":"IF(W54=\"\",\"\",HLOOKUP(W54,$Y$5:$AP$6,2,FALSE))","v":""},null,null,{"$f":"IF(E54=\"\",\"\",E54)","v":""},{"$f":"IF(F54=\"\",\"\",F54)","v":""},{"$f":"IF(G54=\"\",\"\",G54)","v":""},{"$f":"IF(H54=\"\",\"\",H54)","v":""},null,null,25,{"$f":"IF(新人入力!H111=\"\",\"\",新人入力!H111)","v":""},{"$f":"IF(新人入力!I111=\"\",\"\",新人入力!I111)","v":""}]
["種　　　目",null,"組","ﾚｰﾝ・順","ナンバーカード","名　　　　前","学　　校","学年","ベスト記録",null,"種　　　目",null,"組","ﾚｰﾝ・順","ナンバーカード","名　　　　前","学　　校","学年","ベスト記録"]
["女",{"$f":"IF(V56=\"\",\"\",HLOOKUP(V56,$Y$5:$AP$6,2,FALSE))","v":""},null,null,{"$f":"IF(新人入力!B112=\"\",\"\",新人入力!B112)","v":""},{"$f":"IF(女一覧!B30=\"\",\"\",女一覧!B30)","v":""},{"$f":"IF(F56=\"\",\"\",新人入力!$M$3)","v":""},{"$f":"IF(女一覧!D30=\"\",\"\",女一覧!D30)","v":""},null,26,"女",{"$f":"IF(W56=\"\",\"\",HLOOKUP(W56,$Y$5:$AP$6,2,FALSE))","v":""},null,null,{"$f":"IF(E56=\"\",\"\",E56)","v":""},{"$f":"IF(F56=\"\",\"\",F56)","v":""},{"$f":"IF(G56=\"\",\"\",G56)","v":""},{"$f":"IF(H56=\"\",\"\",H56)","v":""},null,null,26,{"$f":"IF(新人入力!H112=\"\",\"\",新人入力!H112)","v":""},{"$f":"IF(新人入力!I112=\"\",\"\",新人入力!I112)","v":""}]
["種　　　目",null,"組","ﾚｰﾝ・順","ナンバーカード","名　　　　前","学　　校","学年","ベスト記録",null,"種　　　目",null,"組","ﾚｰﾝ・順","ナンバーカード","名　　　　前","学　　校","学年","ベスト記録"]
["女",{"$f":"IF(V58=\"\",\"\",HLOOKUP(V58,$Y$5:$AP$6,2,FALSE))","v":""},null,null,{"$f":"IF(新人入力!B113=\"\",\"\",新人入力!B113)","v":""},{"$f":"IF(女一覧!B31=\"\",\"\",女一覧!B31)","v":""},{"$f":"IF(F58=\"\",\"\",新人入力!$M$3)","v":""},{"$f":"IF(女一覧!D31=\"\",\"\",女一覧!D31)","v":""},null,27,"女",{"$f":"IF(W58=\"\",\"\",HLOOKUP(W58,$Y$5:$AP$6,2,FALSE))","v":""},null,null,{"$f":"IF(E58=\"\",\"\",E58)","v":""},{"$f":"IF(F58=\"\",\"\",F58)","v":""},{"$f":"IF(G58=\"\",\"\",G58)","v":""},{"$f":"IF(H58=\"\",\"\",H58)","v":""},null,null,27,{"$f":"IF(新人入力!H113=\"\",\"\",新人入力!H113)","v":""},{"$f":"IF(新人入力!I113=\"\",\"\",新人入力!I113)","v":""}]
["種　　　目",null,"組","ﾚｰﾝ・順","ナンバーカード","名　　　　前","学　　校","学年","ベスト記録",null,"種　　　目",null,"組","ﾚｰﾝ・順","ナンバーカード","名　　　　前","学　　校","学年","ベスト記録"]
["女",{"$f":"IF(V60=\"\",\"\",HLOOKUP(V60,$Y$5:$AP$6,2,FALSE))","v":""},null,null,{"$f":"IF(新人入力!B114=\"\",\"\",新人入力!B114)","v":""},{"$f":"IF(女一覧!B32=\"\",\"\",女一覧!B32)","v":""},{"$f":"IF(F60=\"\",\"\",新人入力!$M$3)","v":""},{"$f":"IF(女一覧!D32=\"\",\"\",女一覧!D32)","v":""},null,28,"女",{"$f":"IF(W60=\"\",\"\",HLOOKUP(W60,$Y$5:$AP$6,2,FALSE))","v":""},null,null,{"$f":"IF(E60=\"\",\"\",E60)","v":""},{"$f":"IF(F60=\"\",\"\",F60)","v":""},{"$f":"IF(G60=\"\",\"\",G60)","v":""},{"$f":"IF(H60=\"\",\"\",H60)","v":""},null,null,28,{"$f":"IF(新人入力!H114=\"\",\"\",新人入力!H114)","v":""},{"$f":"IF(新人入力!I114=\"\",\"\",新人入力!I114)","v":""}]
["種　　　目",null,"組","ﾚｰﾝ・順","ナンバーカード","名　　　　前","学　　校","学年","ベスト記録",null,"種　　　目",null,"組","ﾚｰﾝ・順","ナンバーカード","名　　　　前","学　　校","学年","ベスト記録"]
["女",{"$f":"IF(V62=\"\",\"\",HLOOKUP(V62,$Y$5:$AP$6,2,FALSE))","v":""},null,null,{"$f":"IF(新人入力!B115=\"\",\"\",新人入力!B115)","v":""},{"$f":"IF(女一覧!B33=\"\",\"\",女一覧!B33)","v":""},{"$f":"IF(F62=\"\",\"\",新人入力!$M$3)","v":""},{"$f":"IF(女一覧!D33=\"\",\"\",女一覧!D33)","v":""},null,29,"女",{"$f":"IF(W62=\"\",\"\",HLOOKUP(W62,$Y$5:$AP$6,2,FALSE))","v":""},null,null,{"$f":"IF(E62=\"\",\"\",E62)","v":""},{"$f":"IF(F62=\"\",\"\",F62)","v":""},{"$f":"IF(G62=\"\",\"\",G62)","v":""},{"$f":"IF(H62=\"\",\"\",H62)","v":""},null,null,29,{"$f":"IF(新人入力!H115=\"\",\"\",新人入力!H115)","v":""},{"$f":"IF(新人入力!I115=\"\",\"\",新人入力!I115)","v":""}]
["種　　　目",null,"組","ﾚｰﾝ・順","ナンバーカード","名　　　　前","学　　校","学年","ベスト記録",null,"種　　　目",null,"組","ﾚｰﾝ・順","ナンバーカード","名　　　　前","学　　校","学年","ベスト記録"]
["女",{"$f":"IF(V64=\"\",\"\",HLOOKUP(V64,$Y$5:$AP$6,2,FALSE))","v":""},null,null,{"$f":"IF(新人入力!B116=\"\",\"\",新人入力!B116)","v":""},{"$f":"IF(女一覧!B34=\"\",\"\",女一覧!B34)","v":""},{"$f":"IF(F64=\"\",\"\",新人入力!$M$3)","v":""},{"$f":"IF(女一覧!D34=\"\",\"\",女一覧!D34)","v":""},null,30,"女",{"$f":"IF(W64=\"\",\"\",HLOOKUP(W64,$Y$5:$AP$6,2,FALSE))","v":""},null,null,{"$f":"IF(E64=\"\",\"\",E64)","v":""},{"$f":"IF(F64=\"\",\"\",F64)","v":""},{"$f":"IF(G64=\"\",\"\",G64)","v":""},{"$f":"IF(H64=\"\",\"\",H64)","v":""},null,null,30,{"$f":"IF(新人入力!H116=\"\",\"\",新人入力!H116)","v":""},{"$f":"IF(新人入力!I116=\"\",\"\",新人入力!I116)","v":""}]
["種　　　目",null,"組","ﾚｰﾝ・順","ナンバーカード","名　　　　前","学　　校","学年","ベスト記録",null,"種　　　目",null,"組","ﾚｰﾝ・順","ナンバーカード","名　　　　前","学　　校","学年","ベスト記録"]
["女",{"$f":"IF(V66=\"\",\"\",HLOOKUP(V66,$Y$5:$AP$6,2,FALSE))","v":""},null,null,{"$f":"IF(新人入力!B117=\"\",\"\",新人入力!B117)","v":""},{"$f":"IF(女一覧!B35=\"\",\"\",女一覧!B35)","v":""},{"$f":"IF(F66=\"\",\"\",新人入力!$M$3)","v":""},{"$f":"IF(女一覧!D35=\"\",\"\",女一覧!D35)","v":""},null,31,"女",{"$f":"IF(W66=\"\",\"\",HLOOKUP(W66,$Y$5:$AP$6,2,FALSE))","v":""},null,null,{"$f":"IF(E66=\"\",\"\",E66)","v":""},{"$f":"IF(F66=\"\",\"\",F66)","v":""},{"$f":"IF(G66=\"\",\"\",G66)","v":""},{"$f":"IF(H66=\"\",\"\",H66)","v":""},null,null,31,{"$f":"IF(新人入力!H117=\"\",\"\",新人入力!H117)","v":""},{"$f":"IF(新人入力!I117=\"\",\"\",新人入力!I117)","v":""}]
["種　　　目",null,"組","ﾚｰﾝ・順","ナンバーカード","名　　　　前","学　　校","学年","ベスト記録",null,"種　　　目",null,"組","ﾚｰﾝ・順","ナンバーカード","名　　　　前","学　　校","学年","ベスト記録"]
["女",{"$f":"IF(V68=\"\",\"\",HLOOKUP(V68,$Y$5:$AP$6,2,FALSE))","v":""},null,null,{"$f":"IF(新人入力!B118=\"\",\"\",新人入力!B118)","v":""},{"$f":"IF(女一覧!B36=\"\",\"\",女一覧!B36)","v":""},{"$f":"IF(F68=\"\",\"\",新人入力!$M$3)","v":""},{"$f":"IF(女一覧!D36=\"\",\"\",女一覧!D36)","v":""},null,32,"女",{"$f":"IF(W68=\"\",\"\",HLOOKUP(W68,$Y$5:$AP$6,2,FALSE))","v":""},null,null,{"$f":"IF(E68=\"\",\"\",E68)","v":""},{"$f":"IF(F68=\"\",\"\",F68)","v":""},{"$f":"IF(G68=\"\",\"\",G68)","v":""},{"$f":"IF(H68=\"\",\"\",H68)","v":""},null,null,32,{"$f":"IF(新人入力!H118=\"\",\"\",新人入力!H118)","v":""},{"$f":"IF(新人入力!I118=\"\",\"\",新人入力!I118)","v":""}]
["種　　　目",null,"組","ﾚｰﾝ・順","ナンバーカード","名　　　　前","学　　校","学年","ベスト記録",null,"種　　　目",null,"組","ﾚｰﾝ・順","ナンバーカード","名　　　　前","学　　校","学年","ベスト記録"]
["女",{"$f":"IF(V70=\"\",\"\",HLOOKUP(V70,$Y$5:$AP$6,2,FALSE))","v":""},null,null,{"$f":"IF(新人入力!B119=\"\",\"\",新人入力!B119)","v":""},{"$f":"IF(女一覧!B37=\"\",\"\",女一覧!B37)","v":""},{"$f":"IF(F70=\"\",\"\",新人入力!$M$3)","v":""},{"$f":"IF(女一覧!D37=\"\",\"\",女一覧!D37)","v":""},null,33,"女",{"$f":"IF(W70=\"\",\"\",HLOOKUP(W70,$Y$5:$AP$6,2,FALSE))","v":""},null,null,{"$f":"IF(E70=\"\",\"\",E70)","v":""},{"$f":"IF(F70=\"\",\"\",F70)","v":""},{"$f":"IF(G70=\"\",\"\",G70)","v":""},{"$f":"IF(H70=\"\",\"\",H70)","v":""},null,null,33,{"$f":"IF(新人入力!H119=\"\",\"\",新人入力!H119)","v":""},{"$f":"IF(新人入力!I119=\"\",\"\",新人入力!I119)","v":""}]
["種　　　目",null,"組","ﾚｰﾝ・順","ナンバーカード","名　　　　前","学　　校","学年","ベスト記録",null,"種　　　目",null,"組","ﾚｰﾝ・順","ナンバーカード","名　　　　前","学　　校","学年","ベスト記録"]
["女",{"$f":"IF(V72=\"\",\"\",HLOOKUP(V72,$Y$5:$AP$6,2,FALSE))","v":""},null,null,{"$f":"IF(新人入力!B120=\"\",\"\",新人入力!B120)","v":""},{"$f":"IF(女一覧!B38=\"\",\"\",女一覧!B38)","v":""},{"$f":"IF(F72=\"\",\"\",新人入力!$M$3)","v":""},{"$f":"IF(女一覧!D38=\"\",\"\",女一覧!D38)","v":""},null,34,"女",{"$f":"IF(W72=\"\",\"\",HLOOKUP(W72,$Y$5:$AP$6,2,FALSE))","v":""},null,null,{"$f":"IF(E72=\"\",\"\",E72)","v":""},{"$f":"IF(F72=\"\",\"\",F72)","v":""},{"$f":"IF(G72=\"\",\"\",G72)","v":""},{"$f":"IF(H72=\"\",\"\",H72)","v":""},null,null,34,{"$f":"IF(新人入力!H120=\"\",\"\",新人入力!H120)","v":""},{"$f":"IF(新人入力!I120=\"\",\"\",新人入力!I120)","v":""}]
["種　　　目",null,"組","ﾚｰﾝ・順","ナンバーカード","名　　　　前","学　　校","学年","ベスト記録",null,"種　　　目",null,"組","ﾚｰﾝ・順","ナンバーカード","名　　　　前","学　　校","学年","ベスト記録"]
["女",{"$f":"IF(V74=\"\",\"\",HLOOKUP(V74,$Y$5:$AP$6,2,FALSE))","v":""},null,null,{"$f":"IF(新人入力!B121=\"\",\"\",新人入力!B121)","v":""},{"$f":"IF(女一覧!B39=\"\",\"\",女一覧!B39)","v":""},{"$f":"IF(F74=\"\",\"\",新人入力!$M$3)","v":""},{"$f":"IF(女一覧!D39=\"\",\"\",女一覧!D39)","v":""},null,35,"女",{"$f":"IF(W74=\"\",\"\",HLOOKUP(W74,$Y$5:$AP$6,2,FALSE))","v":""},null,null,{"$f":"IF(E74=\"\",\"\",E74)","v":""},{"$f":"IF(F74=\"\",\"\",F74)","v":""},{"$f":"IF(G74=\"\",\"\",G74)","v":""},{"$f":"IF(H74=\"\",\"\",H74)","v":""},null,null,35,{"$f":"IF(新人入力!H121=\"\",\"\",新人入力!H121)","v":""},{"$f":"IF(新人入力!I121=\"\",\"\",新人入力!I121)","v":""}]
["種　　　目",null,"組","ﾚｰﾝ・順","ナンバーカード","名　　　　前","学　　校","学年","ベスト記録",null,"種　　　目",null,"組","ﾚｰﾝ・順","ナンバーカード","名　　　　前","学　　校","学年","ベスト記録"]
["女",{"$f":"IF(V76=\"\",\"\",HLOOKUP(V76,$Y$5:$AP$6,2,FALSE))","v":""},null,null,{"$f":"IF(新人入力!B122=\"\",\"\",新人入力!B122)","v":""},{"$f":"IF(女一覧!B40=\"\",\"\",女一覧!B40)","v":""},{"$f":"IF(F76=\"\",\"\",新人入力!$M$3)","v":""},{"$f":"IF(女一覧!D40=\"\",\"\",女一覧!D40)","v":""},null,36,"女",{"$f":"IF(W76=\"\",\"\",HLOOKUP(W76,$Y$5:$AP$6,2,FALSE))","v":""},null,null,{"$f":"IF(E76=\"\",\"\",E76)","v":""},{"$f":"IF(F76=\"\",\"\",F76)","v":""},{"$f":"IF(G76=\"\",\"\",G76)","v":""},{"$f":"IF(H76=\"\",\"\",H76)","v":""},null,null,36,{"$f":"IF(新人入力!H122=\"\",\"\",新人入力!H122)","v":""},{"$f":"IF(新人入力!I122=\"\",\"\",新人入力!I122)","v":""}]
["種　　　目",null,"組","ﾚｰﾝ・順","ナンバーカード","名　　　　前","学　　校","学年","ベスト記録",null,"種　　　目",null,"組","ﾚｰﾝ・順","ナンバーカード","名　　　　前","学　　校","学年","ベスト記録"]
["女",{"$f":"IF(V78=\"\",\"\",HLOOKUP(V78,$Y$5:$AP$6,2,FALSE))","v":""},null,null,{"$f":"IF(新人入力!B123=\"\",\"\",新人入力!B123)","v":""},{"$f":"IF(女一覧!B41=\"\",\"\",女一覧!B41)","v":""},{"$f":"IF(F78=\"\",\"\",新人入力!$M$3)","v":""},{"$f":"IF(女一覧!D41=\"\",\"\",女一覧!D41)","v":""},null,37,"女",{"$f":"IF(W78=\"\",\"\",HLOOKUP(W78,$Y$5:$AP$6,2,FALSE))","v":""},null,null,{"$f":"IF(E78=\"\",\"\",E78)","v":""},{"$f":"IF(F78=\"\",\"\",F78)","v":""},{"$f":"IF(G78=\"\",\"\",G78)","v":""},{"$f":"IF(H78=\"\",\"\",H78)","v":""},null,null,37,{"$f":"IF(新人入力!H123=\"\",\"\",新人入力!H123)","v":""},{"$f":"IF(新人入力!I123=\"\",\"\",新人入力!I123)","v":""}]

{"sheet":"ﾘﾚｰ個票","index":6,"n_rows":40,"n_cols":8,"rows_kept":40,"cut":false,"hidden":false,"merged":[[0,0,1,0],[24,0,25,0],[7,0,8,0],[18,0,19,0],[5,7,10,7],[16,7,21,7],[29,7,34,7],[40,2,45,2],[40,3,45,3],[29,1,34,1],[40,7,45,7],[29,2,34,2],[29,3,34,3],[42,0,43,0],[40,1,45,1],[16,3,21,3],[31,0,32,0],[5,1,10,1],[5,2,10,2],[5,3,10,3],[16,1,21,1],[16,2,21,2]]}
["男子"]
[]
[]
[]
["種　　　目","組","レーン","学校名","ナンバーカード","名　　　前","学年","ベスト記録"]
[null,null,null,{"$f":"IF(必ずお読み下さい!I9=\"\",\"\",必ずお読み下さい!I9)","v":""},{"$f":"IF(新人入力!B58=\"\",\"\",新人入力!B58)","v":""},{"$f":"IF(新人入力!D58=\"\",\"\",新人入力!D58)","v":""},{"$f":"IF(新人入力!E58=\"\",\"\",新人入力!E58)","v":""}]
["男",null,null,null,{"$f":"IF(新人入力!B59=\"\",\"\",新人入力!B59)","v":""},{"$f":"IF(新人入力!D59=\"\",\"\",新人入力!D59)","v":""},{"$f":"IF(新人入力!E59=\"\",\"\",新人入力!E59)","v":""}]
["共　通\n\n４×１００ｍＲ",null,null,null,{"$f":"IF(新人入力!B60=\"\",\"\",新人入力!B60)","v":""},{"$f":"IF(新人入力!D60=\"\",\"\",新人入力!D60)","v":""},{"$f":"IF(新人入力!E60=\"\",\"\",新人入力!E60)","v":""}]
[null,null,null,null,{"$f":"IF(新人入力!B61=\"\",\"\",新人入力!B61)","v":""},{"$f":"IF(新人入力!D61=\"\",\"\",新人入力!D61)","v":""},{"$f":"IF(新人入力!E61=\"\",\"\",新人入力!E61)","v":""}]
[null,null,null,null,{"$f":"IF(新人入力!B62=\"\",\"\",新人入力!B62)","v":""},{"$f":"IF(新人入力!D62=\"\",\"\",新人入力!D62)","v":""},{"$f":"IF(新人入力!E62=\"\",\"\",新人入力!E62)","v":""}]
[null,null,null,null,{"$f":"IF(新人入力!B63=\"\",\"\",新人入力!B63)","v":""},{"$f":"IF(新人入力!D63=\"\",\"\",新人入力!D63)","v":""},{"$f":"IF(新人入力!E63=\"\",\"\",新人入力!E63)","v":""}]
[]
[]
[]
[]
["種　　　目","組","レーン","学校名","ナンバーカード","名　　　前","学年","ベスト記録"]
[]
[]
[]
[]
[]
[]
[]
[]
["女子"]
[]
[]
[]
["種　　　目","組","レーン","学校名","ナンバーカード","名　　　前","学年","ベスト記録"]
[null,null,null,{"$f":"IF(D6=\"\",\"\",D6)","v":""},{"$f":"IF(新人入力!B130=\"\",\"\",新人入力!B130)","v":""},{"$f":"IF(新人入力!D130=\"\",\"\",新人入力!D130)","v":""},{"$f":"IF(新人入力!E130=\"\",\"\",新人入力!E130)","v":""}]
["女",null,null,null,{"$f":"IF(新人入力!B131=\"\",\"\",新人入力!B131)","v":""},{"$f":"IF(新人入力!D131=\"\",\"\",新人入力!D131)","v":""},{"$f":"IF(新人入力!E131=\"\",\"\",新人入力!E131)","v":""}]
["共　通\n\n４×１００ｍＲ",null,null,null,{"$f":"IF(新人入力!B132=\"\",\"\",新人入力!B132)","v":""},{"$f":"IF(新人入力!D132=\"\",\"\",新人入力!D132)","v":""},{"$f":"IF(新人入力!E132=\"\",\"\",新人入力!E132)","v":""}]
[null,null,null,null,{"$f":"IF(新人入力!B133=\"\",\"\",新人入力!B133)","v":""},{"$f":"IF(新人入力!D133=\"\",\"\",新人入力!D133)","v":""},{"$f":"IF(新人入力!E133=\"\",\"\",新人入力!E133)","v":""}]
[null,null,null,null,{"$f":"IF(新人入力!B134=\"\",\"\",新人入力!B134)","v":""},{"$f":"IF(新人入力!D134=\"\",\"\",新人入力!D134)","v":""},{"$f":"IF(新人入力!E134=\"\",\"\",新人入力!E134)","v":""}]
[null,null,null,null,{"$f":"IF(新人入力!B135=\"\",\"\",新人入力!B135)","v":""},{"$f":"IF(新人入力!D135=\"\",\"\",新人入力!D135)","v":""},{"$f":"IF(新人入力!E135=\"\",\"\",新人入力!E135)","v":""}]
[]
[]
[]
[]
["種　　　目","組","レーン","学校名","ナンバーカード","名　　　前","学年","ベスト記録"]

{"sheet":"部員名簿","index":7,"n_rows":103,"n_cols":29,"rows_kept":103,"cut":false,"hidden":false,"merged":[[4,24,4,25]]}
["部員名簿（通年ナンバー）一覧"]
[{"$f":"VLOOKUP(W5,U8:AA34,6,FALSE)","v":{"$error":"#N/A"}}]
[]
["通年ナンバー","JAAF ID","氏　名","フリガナ","氏名英語表記","学年","性別",null,null,null,"氏名","フリガナ","ﾌﾘｶﾞﾅ","英字","学年","性別","生年月日"]
[{"$f":"IF(登録データ貼付!E2=\"\",\"\",登録データ貼付!E2)","v":""},{"$f":"IF(登録データ貼付!B2=\"\",\"\",登録データ貼付!B2)","v":""},{"$f":"IF(K5=\"\",\"\",K5)","v":""},{"$f":"IF(M5=\"\",\"\",M5)","v":""},{"$f":"IF(N5=\"\",\"\",N5)","v":""},{"$f":"IF(O5=\"\",\"\",O5)","v":""},{"$f":"IF(P5=\"\",\"\",P5)","v":""},null,null,null,{"$f":"IF(登録データ貼付!C2=\"\",\"\",登録データ貼付!C2&\"　\"&登録データ貼付!D2)","v":""},{"$f":"IF(登録データ貼付!F2=\"\",\"\",登録データ貼付!F2&\"　\"&登録データ貼付!G2)","v":""},{"$f":"ASC(L5)","v":""},{"$f":"IF(登録データ貼付!H2=\"\",\"\",登録データ貼付!H2&\" \"&登録データ貼付!I2)","v":""},{"$f":"IF(登録データ貼付!V2=\"\",\"\",RIGHT(登録データ貼付!V2,1))","v":""},{"$f":"IF(登録データ貼付!K2=\"\",\"\",LEFT(登録データ貼付!K2,1))","v":""},{"$f":"IF(登録データ貼付!S2=\"\",\"\",登録データ貼付!S2)","v":""},null,null,"01",null,"学校名",{"$f":"IF(必ずお読み下さい!G9=\"\",\"\",必ずお読み下さい!G9)","v":29}]
[{"$f":"IF(登録データ貼付!E3=\"\",\"\",登録データ貼付!E3)","v":""},{"$f":"IF(登録データ貼付!B3=\"\",\"\",登録データ貼付!B3)","v":""},{"$f":"IF(K6=\"\",\"\",K6)","v":""},{"$f":"IF(M6=\"\",\"\",M6)","v":""},{"$f":"IF(N6=\"\",\"\",N6)","v":""},{"$f":"IF(O6=\"\",\"\",O6)","v":""},{"$f":"IF(P6=\"\",\"\",P6)","v":""},null,null,null,{"$f":"IF(登録データ貼付!C3=\"\",\"\",登録データ貼付!C3&\"　\"&登録データ貼付!D3)","v":""},{"$f":"IF(登録データ貼付!F3=\"\",\"\",登録データ貼付!F3&\"　\"&登録データ貼付!G3)","v":""},{"$f":"ASC(L6)","v":""},{"$f":"IF(登録データ貼付!H3=\"\",\"\",登録データ貼付!H3&\" \"&登録データ貼付!I3)","v":""},{"$f":"IF(登録データ貼付!V3=\"\",\"\",RIGHT(登録データ貼付!V3,1))","v":""},{"$f":"IF(登録データ貼付!K3=\"\",\"\",LEFT(登録データ貼付!K3,1))","v":""},{"$f":"IF(登録データ貼付!S3=\"\",\"\",登録データ貼付!S3)","v":""},null,null,"02",null,"学校コード",{"$f":"IF(W5=\"\",\"\",VLOOKUP(W5,U8:Y103,5,FALSE))","v":{"$error":"#N/A"}}]
[{"$f":"IF(登録データ貼付!E4=\"\",\"\",登録データ貼付!E4)","v":""},{"$f":"IF(登録データ貼付!B4=\"\",\"\",登録データ貼付!B4)","v":""},"","","","","",null,null,null,{"$f":"IF(登録データ貼付!C4=\"\",\"\",登録データ貼付!C4&\"　\"&登録データ貼付!D4)","v":""},{"$f":"IF(登録データ貼付!F4=\"\",\"\",登録データ貼付!F4&\"　\"&登録データ貼付!G4)","v":""},"",{"$f":"IF(登録データ貼付!H4=\"\",\"\",登録データ貼付!H4&\" \"&登録データ貼付!I4)","v":""},{"$f":"IF(登録データ貼付!V4=\"\",\"\",RIGHT(登録データ貼付!V4,1))","v":""},{"$f":"IF(登録データ貼付!K4=\"\",\"\",LEFT(登録データ貼付!K4,1))","v":""},{"$f":"IF(登録データ貼付!S4=\"\",\"\",登録データ貼付!S4)","v":""},null,null,"03"]
[{"$f":"IF(登録データ貼付!E5=\"\",\"\",登録データ貼付!E5)","v":""},{"$f":"IF(登録データ貼付!B5=\"\",\"\",登録データ貼付!B5)","v":""},"","","","","",null,null,null,{"$f":"IF(登録データ貼付!C5=\"\",\"\",登録データ貼付!C5&\"　\"&登録データ貼付!D5)","v":""},{"$f":"IF(登録データ貼付!F5=\"\",\"\",登録データ貼付!F5&\"　\"&登録データ貼付!G5)","v":""},"",{"$f":"IF(登録データ貼付!H5=\"\",\"\",登録データ貼付!H5&\" \"&登録データ貼付!I5)","v":""},{"$f":"IF(登録データ貼付!V5=\"\",\"\",RIGHT(登録データ貼付!V5,1))","v":""},{"$f":"IF(登録データ貼付!K5=\"\",\"\",LEFT(登録データ貼付!K5,1))","v":""},{"$f":"IF(登録データ貼付!S5=\"\",\"\",登録データ貼付!S5)","v":""},null,null,"04",1,"秋田東",null,null,1,"秋田市立秋田東中学校",null,"東",1]
[{"$f":"IF(登録データ貼付!E6=\"\",\"\",登録データ貼付!E6)","v":""},{"$f":"IF(登録データ貼付!B6=\"\",\"\",登録データ貼付!B6)","v":""},"","","","","",null,null,null,{"$f":"IF(登録データ貼付!C6=\"\",\"\",登録データ貼付!C6&\"　\"&登録データ貼付!D6)","v":""},{"$f":"IF(登録データ貼付!F6=\"\",\"\",登録データ貼付!F6&\"　\"&登録データ貼付!G6)","v":""},"",{"$f":"IF(登録データ貼付!H6=\"\",\"\",登録データ貼付!H6&\" \"&登録データ貼付!I6)","v":""},{"$f":"IF(登録データ貼付!V6=\"\",\"\",RIGHT(登録データ貼付!V6,1))","v":""},{"$f":"IF(登録データ貼付!K6=\"\",\"\",LEFT(登録データ貼付!K6,1))","v":""},{"$f":"IF(登録データ貼付!S6=\"\",\"\",登録データ貼付!S6)","v":""},null,null,"05",2,"秋田南",null,null,101,"秋田市立秋田南中学校",null,"南",101]
[{"$f":"IF(登録データ貼付!E7=\"\",\"\",登録データ貼付!E7)","v":""},{"$f":"IF(登録データ貼付!B7=\"\",\"\",登録データ貼付!B7)","v":""},"","","","","",null,null,null,{"$f":"IF(登録データ貼付!C7=\"\",\"\",登録データ貼付!C7&\"　\"&登録データ貼付!D7)","v":""},{"$f":"IF(登録データ貼付!F7=\"\",\"\",登録データ貼付!F7&\"　\"&登録データ貼付!G7)","v":""},"",{"$f":"IF(登録データ貼付!H7=\"\",\"\",登録データ貼付!H7&\" \"&登録データ貼付!I7)","v":""},{"$f":"IF(登録データ貼付!V7=\"\",\"\",RIGHT(登録データ貼付!V7,1))","v":""},{"$f":"IF(登録データ貼付!K7=\"\",\"\",LEFT(登録データ貼付!K7,1))","v":""},{"$f":"IF(登録データ貼付!S7=\"\",\"\",登録データ貼付!S7)","v":""},null,null,"06",3,"山王",null,null,201,"秋田市立山王中学校",null,"山王",201]
[{"$f":"IF(登録データ貼付!E8=\"\",\"\",登録データ貼付!E8)","v":""},{"$f":"IF(登録データ貼付!B8=\"\",\"\",登録データ貼付!B8)","v":""},"","","","","",null,null,null,{"$f":"IF(登録データ貼付!C8=\"\",\"\",登録データ貼付!C8&\"　\"&登録データ貼付!D8)","v":""},{"$f":"IF(登録データ貼付!F8=\"\",\"\",登録データ貼付!F8&\"　\"&登録データ貼付!G8)","v":""},"",{"$f":"IF(登録データ貼付!H8=\"\",\"\",登録データ貼付!H8&\" \"&登録データ貼付!I8)","v":""},{"$f":"IF(登録データ貼付!V8=\"\",\"\",RIGHT(登録データ貼付!V8,1))","v":""},{"$f":"IF(登録データ貼付!K8=\"\",\"\",LEFT(登録データ貼付!K8,1))","v":""},{"$f":"IF(登録データ貼付!S8=\"\",\"\",登録データ貼付!S8)","v":""},null,null,"07",4,"土崎",null,null,301,"秋田市立土崎中学校",null,"土崎",301]
[{"$f":"IF(登録データ貼付!E9=\"\",\"\",登録データ貼付!E9)","v":""},{"$f":"IF(登録データ貼付!B9=\"\",\"\",登録データ貼付!B9)","v":""},"","","","","",null,null,null,{"$f":"IF(登録データ貼付!C9=\"\",\"\",登録データ貼付!C9&\"　\"&登録データ貼付!D9)","v":""},{"$f":"IF(登録データ貼付!F9=\"\",\"\",登録データ貼付!F9&\"　\"&登録データ貼付!G9)","v":""},"",{"$f":"IF(登録データ貼付!H9=\"\",\"\",登録データ貼付!H9&\" \"&登録データ貼付!I9)","v":""},{"$f":"IF(登録データ貼付!V9=\"\",\"\",RIGHT(登録データ貼付!V9,1))","v":""},{"$f":"IF(登録データ貼付!K9=\"\",\"\",LEFT(登録データ貼付!K9,1))","v":""},{"$f":"IF(登録データ貼付!S9=\"\",\"\",登録データ貼付!S9)","v":""},null,null,"08",5,"将軍野",null,null,401,"秋田市立将軍野中学校",null,"将軍野",401]
[{"$f":"IF(登録データ貼付!E10=\"\",\"\",登録データ貼付!E10)","v":""},{"$f":"IF(登録データ貼付!B10=\"\",\"\",登録データ貼付!B10)","v":""},"","","","","",null,null,null,{"$f":"IF(登録データ貼付!C10=\"\",\"\",登録データ貼付!C10&\"　\"&登録データ貼付!D10)","v":""},{"$f":"IF(登録データ貼付!F10=\"\",\"\",登録データ貼付!F10&\"　\"&登録データ貼付!G10)","v":""},"",{"$f":"IF(登録データ貼付!H10=\"\",\"\",登録データ貼付!H10&\" \"&登録データ貼付!I10)","v":""},{"$f":"IF(登録データ貼付!V10=\"\",\"\",RIGHT(登録データ貼付!V10,1))","v":""},{"$f":"IF(登録データ貼付!K10=\"\",\"\",LEFT(登録データ貼付!K10,1))","v":""},{"$f":"IF(登録データ貼付!S10=\"\",\"\",登録データ貼付!S10)","v":""},null,null,"09",6,"秋田西",null,null,501,"秋田市立秋田西中学校",null,"西",501]
[{"$f":"IF(登録データ貼付!E11=\"\",\"\",登録データ貼付!E11)","v":""},{"$f":"IF(登録データ貼付!B11=\"\",\"\",登録データ貼付!B11)","v":""},"","","","","",null,null,null,{"$f":"IF(登録データ貼付!C11=\"\",\"\",登録データ貼付!C11&\"　\"&登録データ貼付!D11)","v":""},{"$f":"IF(登録データ貼付!F11=\"\",\"\",登録データ貼付!F11&\"　\"&登録データ貼付!G11)","v":""},"",{"$f":"IF(登録データ貼付!H11=\"\",\"\",登録データ貼付!H11&\" \"&登録データ貼付!I11)","v":""},{"$f":"IF(登録データ貼付!V11=\"\",\"\",RIGHT(登録データ貼付!V11,1))","v":""},{"$f":"IF(登録データ貼付!K11=\"\",\"\",LEFT(登録データ貼付!K11,1))","v":""},{"$f":"IF(登録データ貼付!S11=\"\",\"\",登録データ貼付!S11)","v":""},null,null,"10",7,"外旭川",null,null,601,"秋田市立外旭川中学校",null,"外旭川",601]
[{"$f":"IF(登録データ貼付!E12=\"\",\"\",登録データ貼付!E12)","v":""},{"$f":"IF(登録データ貼付!B12=\"\",\"\",登録データ貼付!B12)","v":""},"","","","","",null,null,null,{"$f":"IF(登録データ貼付!C12=\"\",\"\",登録データ貼付!C12&\"　\"&登録データ貼付!D12)","v":""},{"$f":"IF(登録データ貼付!F12=\"\",\"\",登録データ貼付!F12&\"　\"&登録データ貼付!G12)","v":""},"",{"$f":"IF(登録データ貼付!H12=\"\",\"\",登録データ貼付!H12&\" \"&登録データ貼付!I12)","v":""},{"$f":"IF(登録データ貼付!V12=\"\",\"\",RIGHT(登録データ貼付!V12,1))","v":""},{"$f":"IF(登録データ貼付!K12=\"\",\"\",LEFT(登録データ貼付!K12,1))","v":""},{"$f":"IF(登録データ貼付!S12=\"\",\"\",登録データ貼付!S12)","v":""},null,null,"11",8,"秋田北",null,null,701,"秋田市立秋田北中学校",null,"北",701]
[{"$f":"IF(登録データ貼付!E13=\"\",\"\",登録データ貼付!E13)","v":""},{"$f":"IF(登録データ貼付!B13=\"\",\"\",登録データ貼付!B13)","v":""},"","","","","",null,null,null,{"$f":"IF(登録データ貼付!C13=\"\",\"\",登録データ貼付!C13&\"　\"&登録データ貼付!D13)","v":""},{"$f":"IF(登録データ貼付!F13=\"\",\"\",登録データ貼付!F13&\"　\"&登録データ貼付!G13)","v":""},"",{"$f":"IF(登録データ貼付!H13=\"\",\"\",登録データ貼付!H13&\" \"&登録データ貼付!I13)","v":""},{"$f":"IF(登録データ貼付!V13=\"\",\"\",RIGHT(登録データ貼付!V13,1))","v":""},{"$f":"IF(登録データ貼付!K13=\"\",\"\",LEFT(登録データ貼付!K13,1))","v":""},{"$f":"IF(登録データ貼付!S13=\"\",\"\",登録データ貼付!S13)","v":""},null,null,"12",9,"豊岩",null,null,801,"秋田市立豊岩中学校",null,"豊岩",801]
[{"$f":"IF(登録データ貼付!E14=\"\",\"\",登録データ貼付!E14)","v":""},{"$f":"IF(登録データ貼付!B14=\"\",\"\",登録データ貼付!B14)","v":""},"","","","","",null,null,null,{"$f":"IF(登録データ貼付!C14=\"\",\"\",登録データ貼付!C14&\"　\"&登録データ貼付!D14)","v":""},{"$f":"IF(登録データ貼付!F14=\"\",\"\",登録データ貼付!F14&\"　\"&登録データ貼付!G14)","v":""},"",{"$f":"IF(登録データ貼付!H14=\"\",\"\",登録データ貼付!H14&\" \"&登録データ貼付!I14)","v":""},{"$f":"IF(登録データ貼付!V14=\"\",\"\",RIGHT(登録データ貼付!V14,1))","v":""},{"$f":"IF(登録データ貼付!K14=\"\",\"\",LEFT(登録データ貼付!K14,1))","v":""},{"$f":"IF(登録データ貼付!S14=\"\",\"\",登録データ貼付!S14)","v":""},null,null,"13",10,"城南",null,null,901,"秋田市立城南中学校",null,"城南",901]
[{"$f":"IF(登録データ貼付!E15=\"\",\"\",登録データ貼付!E15)","v":""},{"$f":"IF(登録データ貼付!B15=\"\",\"\",登録データ貼付!B15)","v":""},"","","","","",null,null,null,{"$f":"IF(登録データ貼付!C15=\"\",\"\",登録データ貼付!C15&\"　\"&登録データ貼付!D15)","v":""},{"$f":"IF(登録データ貼付!F15=\"\",\"\",登録データ貼付!F15&\"　\"&登録データ貼付!G15)","v":""},"",{"$f":"IF(登録データ貼付!H15=\"\",\"\",登録データ貼付!H15&\" \"&登録データ貼付!I15)","v":""},{"$f":"IF(登録データ貼付!V15=\"\",\"\",RIGHT(登録データ貼付!V15,1))","v":""},{"$f":"IF(登録データ貼付!K15=\"\",\"\",LEFT(登録データ貼付!K15,1))","v":""},{"$f":"IF(登録データ貼付!S15=\"\",\"\",登録データ貼付!S15)","v":""},null,null,"14",11,"城東",null,null,1001,"秋田市立城東中学校",null,"城東",1001]
[{"$f":"IF(登録データ貼付!E16=\"\",\"\",登録データ貼付!E16)","v":""},{"$f":"IF(登録データ貼付!B16=\"\",\"\",登録データ貼付!B16)","v":""},"","","","","",null,null,null,{"$f":"IF(登録データ貼付!C16=\"\",\"\",登録データ貼付!C16&\"　\"&登録データ貼付!D16)","v":""},{"$f":"IF(登録データ貼付!F16=\"\",\"\",登録データ貼付!F16&\"　\"&登録データ貼付!G16)","v":""},"",{"$f":"IF(登録データ貼付!H16=\"\",\"\",登録データ貼付!H16&\" \"&登録データ貼付!I16)","v":""},{"$f":"IF(登録データ貼付!V16=\"\",\"\",RIGHT(登録データ貼付!V16,1))","v":""},{"$f":"IF(登録データ貼付!K16=\"\",\"\",LEFT(登録データ貼付!K16,1))","v":""},{"$f":"IF(登録データ貼付!S16=\"\",\"\",登録データ貼付!S16)","v":""},null,null,"15",12,"泉",null,null,1101,"秋田市立泉中学校",null,"泉",1101]
[{"$f":"IF(登録データ貼付!E17=\"\",\"\",登録データ貼付!E17)","v":""},{"$f":"IF(登録データ貼付!B17=\"\",\"\",登録データ貼付!B17)","v":""},"","","","","",null,null,null,{"$f":"IF(登録データ貼付!C17=\"\",\"\",登録データ貼付!C17&\"　\"&登録データ貼付!D17)","v":""},{"$f":"IF(登録データ貼付!F17=\"\",\"\",登録データ貼付!F17&\"　\"&登録データ貼付!G17)","v":""},"",{"$f":"IF(登録データ貼付!H17=\"\",\"\",登録データ貼付!H17&\" \"&登録データ貼付!I17)","v":""},{"$f":"IF(登録データ貼付!V17=\"\",\"\",RIGHT(登録データ貼付!V17,1))","v":""},{"$f":"IF(登録データ貼付!K17=\"\",\"\",LEFT(登録データ貼付!K17,1))","v":""},{"$f":"IF(登録データ貼付!S17=\"\",\"\",登録データ貼付!S17)","v":""},null,null,"16",13,"御野場",null,null,1201,"秋田市立御野場中学校",null,"御野場",1201]
[{"$f":"IF(登録データ貼付!E18=\"\",\"\",登録データ貼付!E18)","v":""},{"$f":"IF(登録データ貼付!B18=\"\",\"\",登録データ貼付!B18)","v":""},"","","","","",null,null,null,{"$f":"IF(登録データ貼付!C18=\"\",\"\",登録データ貼付!C18&\"　\"&登録データ貼付!D18)","v":""},{"$f":"IF(登録データ貼付!F18=\"\",\"\",登録データ貼付!F18&\"　\"&登録データ貼付!G18)","v":""},"",{"$f":"IF(登録データ貼付!H18=\"\",\"\",登録データ貼付!H18&\" \"&登録データ貼付!I18)","v":""},{"$f":"IF(登録データ貼付!V18=\"\",\"\",RIGHT(登録データ貼付!V18,1))","v":""},{"$f":"IF(登録データ貼付!K18=\"\",\"\",LEFT(登録データ貼付!K18,1))","v":""},{"$f":"IF(登録データ貼付!S18=\"\",\"\",登録データ貼付!S18)","v":""},null,null,"17",14,"飯島",null,null,1301,"秋田市立飯島中学校",null,"飯島",1301]
[{"$f":"IF(登録データ貼付!E19=\"\",\"\",登録データ貼付!E19)","v":""},{"$f":"IF(登録データ貼付!B19=\"\",\"\",登録データ貼付!B19)","v":""},"","","","","",null,null,null,{"$f":"IF(登録データ貼付!C19=\"\",\"\",登録データ貼付!C19&\"　\"&登録データ貼付!D19)","v":""},{"$f":"IF(登録データ貼付!F19=\"\",\"\",登録データ貼付!F19&\"　\"&登録データ貼付!G19)","v":""},"",{"$f":"IF(登録データ貼付!H19=\"\",\"\",登録データ貼付!H19&\" \"&登録データ貼付!I19)","v":""},{"$f":"IF(登録データ貼付!V19=\"\",\"\",RIGHT(登録データ貼付!V19,1))","v":""},{"$f":"IF(登録データ貼付!K19=\"\",\"\",LEFT(登録データ貼付!K19,1))","v":""},{"$f":"IF(登録データ貼付!S19=\"\",\"\",登録データ貼付!S19)","v":""},null,null,"18",15,"桜",null,null,1401,"秋田市立桜中学校",null,"桜",1401]
[{"$f":"IF(登録データ貼付!E20=\"\",\"\",登録データ貼付!E20)","v":""},{"$f":"IF(登録データ貼付!B20=\"\",\"\",登録データ貼付!B20)","v":""},"","","","","",null,null,null,{"$f":"IF(登録データ貼付!C20=\"\",\"\",登録データ貼付!C20&\"　\"&登録データ貼付!D20)","v":""},{"$f":"IF(登録データ貼付!F20=\"\",\"\",登録データ貼付!F20&\"　\"&登録データ貼付!G20)","v":""},"",{"$f":"IF(登録データ貼付!H20=\"\",\"\",登録データ貼付!H20&\" \"&登録データ貼付!I20)","v":""},{"$f":"IF(登録データ貼付!V20=\"\",\"\",RIGHT(登録データ貼付!V20,1))","v":""},{"$f":"IF(登録データ貼付!K20=\"\",\"\",LEFT(登録データ貼付!K20,1))","v":""},{"$f":"IF(登録データ貼付!S20=\"\",\"\",登録データ貼付!S20)","v":""},null,null,"19",16,"御所野学院",null,null,1501,"秋田市立御所野学院中学校",null,"御所野学院",1501]
[{"$f":"IF(登録データ貼付!E21=\"\",\"\",登録データ貼付!E21)","v":""},{"$f":"IF(登録データ貼付!B21=\"\",\"\",登録データ貼付!B21)","v":""},"","","","","",null,null,null,{"$f":"IF(登録データ貼付!C21=\"\",\"\",登録データ貼付!C21&\"　\"&登録データ貼付!D21)","v":""},{"$f":"IF(登録データ貼付!F21=\"\",\"\",登録データ貼付!F21&\"　\"&登録データ貼付!G21)","v":""},"",{"$f":"IF(登録データ貼付!H21=\"\",\"\",登録データ貼付!H21&\" \"&登録データ貼付!I21)","v":""},{"$f":"IF(登録データ貼付!V21=\"\",\"\",RIGHT(登録データ貼付!V21,1))","v":""},{"$f":"IF(登録データ貼付!K21=\"\",\"\",LEFT(登録データ貼付!K21,1))","v":""},{"$f":"IF(登録データ貼付!S21=\"\",\"\",登録データ貼付!S21)","v":""},null,null,"20",17,"秋大附属",null,null,1601,"秋田大学教育文化学部附属中学校",null,"秋大附",1601]
[{"$f":"IF(登録データ貼付!E22=\"\",\"\",登録データ貼付!E22)","v":""},{"$f":"IF(登録データ貼付!B22=\"\",\"\",登録データ貼付!B22)","v":""},"","","","","",null,null,null,{"$f":"IF(登録データ貼付!C22=\"\",\"\",登録データ貼付!C22&\"　\"&登録データ貼付!D22)","v":""},{"$f":"IF(登録データ貼付!F22=\"\",\"\",登録データ貼付!F22&\"　\"&登録データ貼付!G22)","v":""},"",{"$f":"IF(登録データ貼付!H22=\"\",\"\",登録データ貼付!H22&\" \"&登録データ貼付!I22)","v":""},{"$f":"IF(登録データ貼付!V22=\"\",\"\",RIGHT(登録データ貼付!V22,1))","v":""},{"$f":"IF(登録データ貼付!K22=\"\",\"\",LEFT(登録データ貼付!K22,1))","v":""},{"$f":"IF(登録データ貼付!S22=\"\",\"\",登録データ貼付!S22)","v":""},null,null,"21",18,"秋田南中等部",null,null,1701,"秋田県立秋田南高等学校中等部",null,"秋田南中等部",1701]
[{"$f":"IF(登録データ貼付!E23=\"\",\"\",登録データ貼付!E23)","v":""},{"$f":"IF(登録データ貼付!B23=\"\",\"\",登録データ貼付!B23)","v":""},"","","","","",null,null,null,{"$f":"IF(登録データ貼付!C23=\"\",\"\",登録データ貼付!C23&\"　\"&登録データ貼付!D23)","v":""},{"$f":"IF(登録データ貼付!F23=\"\",\"\",登録データ貼付!F23&\"　\"&登録データ貼付!G23)","v":""},"",{"$f":"IF(登録データ貼付!H23=\"\",\"\",登録データ貼付!H23&\" \"&登録データ貼付!I23)","v":""},{"$f":"IF(登録データ貼付!V23=\"\",\"\",RIGHT(登録データ貼付!V23,1))","v":""},{"$f":"IF(登録データ貼付!K23=\"\",\"\",LEFT(登録データ貼付!K23,1))","v":""},{"$f":"IF(登録データ貼付!S23=\"\",\"\",登録データ貼付!S23)","v":""},null,null,"22",19,"聴覚支援",null,null,1801,"秋田県立聴覚支援学校",null,"聴覚支援",1801]
[{"$f":"IF(登録データ貼付!E24=\"\",\"\",登録データ貼付!E24)","v":""},{"$f":"IF(登録データ貼付!B24=\"\",\"\",登録データ貼付!B24)","v":""},"","","","","",null,null,null,{"$f":"IF(登録データ貼付!C24=\"\",\"\",登録データ貼付!C24&\"　\"&登録データ貼付!D24)","v":""},{"$f":"IF(登録データ貼付!F24=\"\",\"\",登録データ貼付!F24&\"　\"&登録データ貼付!G24)","v":""},"",{"$f":"IF(登録データ貼付!H24=\"\",\"\",登録データ貼付!H24&\" \"&登録データ貼付!I24)","v":""},{"$f":"IF(登録データ貼付!V24=\"\",\"\",RIGHT(登録データ貼付!V24,1))","v":""},{"$f":"IF(登録データ貼付!K24=\"\",\"\",LEFT(登録データ貼付!K24,1))","v":""},{"$f":"IF(登録データ貼付!S24=\"\",\"\",登録データ貼付!S24)","v":""},null,null,"23",20]
[{"$f":"IF(登録データ貼付!E25=\"\",\"\",登録データ貼付!E25)","v":""},{"$f":"IF(登録データ貼付!B25=\"\",\"\",登録データ貼付!B25)","v":""},"","","","","",null,null,null,{"$f":"IF(登録データ貼付!C25=\"\",\"\",登録データ貼付!C25&\"　\"&登録データ貼付!D25)","v":""},{"$f":"IF(登録データ貼付!F25=\"\",\"\",登録データ貼付!F25&\"　\"&登録データ貼付!G25)","v":""},"",{"$f":"IF(登録データ貼付!H25=\"\",\"\",登録データ貼付!H25&\" \"&登録データ貼付!I25)","v":""},{"$f":"IF(登録データ貼付!V25=\"\",\"\",RIGHT(登録データ貼付!V25,1))","v":""},{"$f":"IF(登録データ貼付!K25=\"\",\"\",LEFT(登録データ貼付!K25,1))","v":""},{"$f":"IF(登録データ貼付!S25=\"\",\"\",登録データ貼付!S25)","v":""},null,null,"24",21,"太平",null,null,null,"秋田市立太平中学校",null,"太平"]
[{"$f":"IF(登録データ貼付!E26=\"\",\"\",登録データ貼付!E26)","v":""},{"$f":"IF(登録データ貼付!B26=\"\",\"\",登録データ貼付!B26)","v":""},"","","","","",null,null,null,{"$f":"IF(登録データ貼付!C26=\"\",\"\",登録データ貼付!C26&\"　\"&登録データ貼付!D26)","v":""},{"$f":"IF(登録データ貼付!F26=\"\",\"\",登録データ貼付!F26&\"　\"&登録データ貼付!G26)","v":""},"",{"$f":"IF(登録データ貼付!H26=\"\",\"\",登録データ貼付!H26&\" \"&登録データ貼付!I26)","v":""},{"$f":"IF(登録データ貼付!V26=\"\",\"\",RIGHT(登録データ貼付!V26,1))","v":""},{"$f":"IF(登録データ貼付!K26=\"\",\"\",LEFT(登録データ貼付!K26,1))","v":""},{"$f":"IF(登録データ貼付!S26=\"\",\"\",登録データ貼付!S26)","v":""},null,null,"25",22,"下北手",null,null,null,"秋田市立下北手中学校",null,"下北手"]
[{"$f":"IF(登録データ貼付!E27=\"\",\"\",登録データ貼付!E27)","v":""},{"$f":"IF(登録データ貼付!B27=\"\",\"\",登録データ貼付!B27)","v":""},"","","","","",null,null,null,{"$f":"IF(登録データ貼付!C27=\"\",\"\",登録データ貼付!C27&\"　\"&登録データ貼付!D27)","v":""},{"$f":"IF(登録データ貼付!F27=\"\",\"\",登録データ貼付!F27&\"　\"&登録データ貼付!G27)","v":""},"",{"$f":"IF(登録データ貼付!H27=\"\",\"\",登録データ貼付!H27&\" \"&登録データ貼付!I27)","v":""},{"$f":"IF(登録データ貼付!V27=\"\",\"\",RIGHT(登録データ貼付!V27,1))","v":""},{"$f":"IF(登録データ貼付!K27=\"\",\"\",LEFT(登録データ貼付!K27,1))","v":""},{"$f":"IF(登録データ貼付!S27=\"\",\"\",登録データ貼付!S27)","v":""},null,null,"26",23,"下浜",null,null,null,"秋田市立下浜中学校",null,"下浜"]
[{"$f":"IF(登録データ貼付!E28=\"\",\"\",登録データ貼付!E28)","v":""},{"$f":"IF(登録データ貼付!B28=\"\",\"\",登録データ貼付!B28)","v":""},"","","","","",null,null,null,{"$f":"IF(登録データ貼付!C28=\"\",\"\",登録データ貼付!C28&\"　\"&登録データ貼付!D28)","v":""},{"$f":"IF(登録データ貼付!F28=\"\",\"\",登録データ貼付!F28&\"　\"&登録データ貼付!G28)","v":""},"",{"$f":"IF(登録データ貼付!H28=\"\",\"\",登録データ貼付!H28&\" \"&登録データ貼付!I28)","v":""},{"$f":"IF(登録データ貼付!V28=\"\",\"\",RIGHT(登録データ貼付!V28,1))","v":""},{"$f":"IF(登録データ貼付!K28=\"\",\"\",LEFT(登録データ貼付!K28,1))","v":""},{"$f":"IF(登録データ貼付!S28=\"\",\"\",登録データ貼付!S28)","v":""},null,null,"27",24,"勝平",null,null,null,"秋田市立勝平中学校",null,"勝平"]
[{"$f":"IF(登録データ貼付!E29=\"\",\"\",登録データ貼付!E29)","v":""},{"$f":"IF(登録データ貼付!B29=\"\",\"\",登録データ貼付!B29)","v":""},"","","","","",null,null,null,{"$f":"IF(登録データ貼付!C29=\"\",\"\",登録データ貼付!C29&\"　\"&登録データ貼付!D29)","v":""},{"$f":"IF(登録データ貼付!F29=\"\",\"\",登録データ貼付!F29&\"　\"&登録データ貼付!G29)","v":""},"",{"$f":"IF(登録データ貼付!H29=\"\",\"\",登録データ貼付!H29&\" \"&登録データ貼付!I29)","v":""},{"$f":"IF(登録データ貼付!V29=\"\",\"\",RIGHT(登録データ貼付!V29,1))","v":""},{"$f":"IF(登録データ貼付!K29=\"\",\"\",LEFT(登録データ貼付!K29,1))","v":""},{"$f":"IF(登録データ貼付!S29=\"\",\"\",登録データ貼付!S29)","v":""},null,null,"28",25,"岩見三内",null,null,null,"秋田市立岩見三内中学校",null,"岩見山内"]
[{"$f":"IF(登録データ貼付!E30=\"\",\"\",登録データ貼付!E30)","v":""},{"$f":"IF(登録データ貼付!B30=\"\",\"\",登録データ貼付!B30)","v":""},"","","","","",null,null,null,{"$f":"IF(登録データ貼付!C30=\"\",\"\",登録データ貼付!C30&\"　\"&登録データ貼付!D30)","v":""},{"$f":"IF(登録データ貼付!F30=\"\",\"\",登録データ貼付!F30&\"　\"&登録データ貼付!G30)","v":""},"",{"$f":"IF(登録データ貼付!H30=\"\",\"\",登録データ貼付!H30&\" \"&登録データ貼付!I30)","v":""},{"$f":"IF(登録データ貼付!V30=\"\",\"\",RIGHT(登録データ貼付!V30,1))","v":""},{"$f":"IF(登録データ貼付!K30=\"\",\"\",LEFT(登録データ貼付!K30,1))","v":""},{"$f":"IF(登録データ貼付!S30=\"\",\"\",登録データ貼付!S30)","v":""},null,null,"29",26,"河辺",null,null,null,"秋田市立河辺中学校",null,"河辺"]
[{"$f":"IF(登録データ貼付!E31=\"\",\"\",登録データ貼付!E31)","v":""},{"$f":"IF(登録データ貼付!B31=\"\",\"\",登録データ貼付!B31)","v":""},"","","","","",null,null,null,{"$f":"IF(登録データ貼付!C31=\"\",\"\",登録データ貼付!C31&\"　\"&登録データ貼付!D31)","v":""},{"$f":"IF(登録データ貼付!F31=\"\",\"\",登録データ貼付!F31&\"　\"&登録データ貼付!G31)","v":""},"",{"$f":"IF(登録データ貼付!H31=\"\",\"\",登録データ貼付!H31&\" \"&登録データ貼付!I31)","v":""},{"$f":"IF(登録データ貼付!V31=\"\",\"\",RIGHT(登録データ貼付!V31,1))","v":""},{"$f":"IF(登録データ貼付!K31=\"\",\"\",LEFT(登録データ貼付!K31,1))","v":""},{"$f":"IF(登録データ貼付!S31=\"\",\"\",登録データ貼付!S31)","v":""},null,null,"30",27,"雄和",null,null,null,"秋田市立雄和中学校",null,"雄和"]
[{"$f":"IF(登録データ貼付!E32=\"\",\"\",登録データ貼付!E32)","v":""},{"$f":"IF(登録データ貼付!B32=\"\",\"\",登録データ貼付!B32)","v":""},"","","","","",null,null,null,{"$f":"IF(登録データ貼付!C32=\"\",\"\",登録データ貼付!C32&\"　\"&登録データ貼付!D32)","v":""},{"$f":"IF(登録データ貼付!F32=\"\",\"\",登録データ貼付!F32&\"　\"&登録データ貼付!G32)","v":""},"",{"$f":"IF(登録データ貼付!H32=\"\",\"\",登録データ貼付!H32&\" \"&登録データ貼付!I32)","v":""},{"$f":"IF(登録データ貼付!V32=\"\",\"\",RIGHT(登録データ貼付!V32,1))","v":""},{"$f":"IF(登録データ貼付!K32=\"\",\"\",LEFT(登録データ貼付!K32,1))","v":""},{"$f":"IF(登録データ貼付!S32=\"\",\"\",登録データ貼付!S32)","v":""},null,null,"31"]
[{"$f":"IF(登録データ貼付!E33=\"\",\"\",登録データ貼付!E33)","v":""},{"$f":"IF(登録データ貼付!B33=\"\",\"\",登録データ貼付!B33)","v":""},"","","","","",null,null,null,{"$f":"IF(登録データ貼付!C33=\"\",\"\",登録データ貼付!C33&\"　\"&登録データ貼付!D33)","v":""},{"$f":"IF(登録データ貼付!F33=\"\",\"\",登録データ貼付!F33&\"　\"&登録データ貼付!G33)","v":""},"",{"$f":"IF(登録データ貼付!H33=\"\",\"\",登録データ貼付!H33&\" \"&登録データ貼付!I33)","v":""},{"$f":"IF(登録データ貼付!V33=\"\",\"\",RIGHT(登録データ貼付!V33,1))","v":""},{"$f":"IF(登録データ貼付!K33=\"\",\"\",LEFT(登録データ貼付!K33,1))","v":""},{"$f":"IF(登録データ貼付!S33=\"\",\"\",登録データ貼付!S33)","v":""},null,null,"32"]
[{"$f":"IF(登録データ貼付!E34=\"\",\"\",登録データ貼付!E34)","v":""},{"$f":"IF(登録データ貼付!B34=\"\",\"\",登録データ貼付!B34)","v":""},"","","","","",null,null,null,{"$f":"IF(登録データ貼付!C34=\"\",\"\",登録データ貼付!C34&\"　\"&登録データ貼付!D34)","v":""},{"$f":"IF(登録データ貼付!F34=\"\",\"\",登録データ貼付!F34&\"　\"&登録データ貼付!G34)","v":""},"",{"$f":"IF(登録データ貼付!H34=\"\",\"\",登録データ貼付!H34&\" \"&登録データ貼付!I34)","v":""},{"$f":"IF(登録データ貼付!V34=\"\",\"\",RIGHT(登録データ貼付!V34,1))","v":""},{"$f":"IF(登録データ貼付!K34=\"\",\"\",LEFT(登録データ貼付!K34,1))","v":""},{"$f":"IF(登録データ貼付!S34=\"\",\"\",登録データ貼付!S34)","v":""},null,null,"33"]
[{"$f":"IF(登録データ貼付!E35=\"\",\"\",登録データ貼付!E35)","v":""},{"$f":"IF(登録データ貼付!B35=\"\",\"\",登録データ貼付!B35)","v":""},"","","","","",null,null,null,{"$f":"IF(登録データ貼付!C35=\"\",\"\",登録データ貼付!C35&\"　\"&登録データ貼付!D35)","v":""},{"$f":"IF(登録データ貼付!F35=\"\",\"\",登録データ貼付!F35&\"　\"&登録データ貼付!G35)","v":""},"",{"$f":"IF(登録データ貼付!H35=\"\",\"\",登録データ貼付!H35&\" \"&登録データ貼付!I35)","v":""},{"$f":"IF(登録データ貼付!V35=\"\",\"\",RIGHT(登録データ貼付!V35,1))","v":""},{"$f":"IF(登録データ貼付!K35=\"\",\"\",LEFT(登録データ貼付!K35,1))","v":""},{"$f":"IF(登録データ貼付!S35=\"\",\"\",登録データ貼付!S35)","v":""},null,null,"34"]
[{"$f":"IF(登録データ貼付!E36=\"\",\"\",登録データ貼付!E36)","v":""},{"$f":"IF(登録データ貼付!B36=\"\",\"\",登録データ貼付!B36)","v":""},"","","","","",null,null,null,{"$f":"IF(登録データ貼付!C36=\"\",\"\",登録データ貼付!C36&\"　\"&登録データ貼付!D36)","v":""},{"$f":"IF(登録データ貼付!F36=\"\",\"\",登録データ貼付!F36&\"　\"&登録データ貼付!G36)","v":""},"",{"$f":"IF(登録データ貼付!H36=\"\",\"\",登録データ貼付!H36&\" \"&登録データ貼付!I36)","v":""},{"$f":"IF(登録データ貼付!V36=\"\",\"\",RIGHT(登録データ貼付!V36,1))","v":""},{"$f":"IF(登録データ貼付!K36=\"\",\"\",LEFT(登録データ貼付!K36,1))","v":""},{"$f":"IF(登録データ貼付!S36=\"\",\"\",登録データ貼付!S36)","v":""},null,null,"35"]
[{"$f":"IF(登録データ貼付!E37=\"\",\"\",登録データ貼付!E37)","v":""},{"$f":"IF(登録データ貼付!B37=\"\",\"\",登録データ貼付!B37)","v":""},"","","","","",null,null,null,{"$f":"IF(登録データ貼付!C37=\"\",\"\",登録データ貼付!C37&\"　\"&登録データ貼付!D37)","v":""},{"$f":"IF(登録データ貼付!F37=\"\",\"\",登録データ貼付!F37&\"　\"&登録データ貼付!G37)","v":""},"",{"$f":"IF(登録データ貼付!H37=\"\",\"\",登録データ貼付!H37&\" \"&登録データ貼付!I37)","v":""},{"$f":"IF(登録データ貼付!V37=\"\",\"\",RIGHT(登録データ貼付!V37,1))","v":""},{"$f":"IF(登録データ貼付!K37=\"\",\"\",LEFT(登録データ貼付!K37,1))","v":""},{"$f":"IF(登録データ貼付!S37=\"\",\"\",登録データ貼付!S37)","v":""},null,null,"36"]
[{"$f":"IF(登録データ貼付!E38=\"\",\"\",登録データ貼付!E38)","v":""},{"$f":"IF(登録データ貼付!B38=\"\",\"\",登録データ貼付!B38)","v":""},"","","","","",null,null,null,{"$f":"IF(登録データ貼付!C38=\"\",\"\",登録データ貼付!C38&\"　\"&登録データ貼付!D38)","v":""},{"$f":"IF(登録データ貼付!F38=\"\",\"\",登録データ貼付!F38&\"　\"&登録データ貼付!G38)","v":""},"",{"$f":"IF(登録データ貼付!H38=\"\",\"\",登録データ貼付!H38&\" \"&登録データ貼付!I38)","v":""},{"$f":"IF(登録データ貼付!V38=\"\",\"\",RIGHT(登録データ貼付!V38,1))","v":""},{"$f":"IF(登録データ貼付!K38=\"\",\"\",LEFT(登録データ貼付!K38,1))","v":""},{"$f":"IF(登録データ貼付!S38=\"\",\"\",登録データ貼付!S38)","v":""},null,null,"37"]
[{"$f":"IF(登録データ貼付!E39=\"\",\"\",登録データ貼付!E39)","v":""},{"$f":"IF(登録データ貼付!B39=\"\",\"\",登録データ貼付!B39)","v":""},"","","","","",null,null,null,{"$f":"IF(登録データ貼付!C39=\"\",\"\",登録データ貼付!C39&\"　\"&登録データ貼付!D39)","v":""},{"$f":"IF(登録データ貼付!F39=\"\",\"\",登録データ貼付!F39&\"　\"&登録データ貼付!G39)","v":""},"",{"$f":"IF(登録データ貼付!H39=\"\",\"\",登録データ貼付!H39&\" \"&登録データ貼付!I39)","v":""},{"$f":"IF(登録データ貼付!V39=\"\",\"\",RIGHT(登録データ貼付!V39,1))","v":""},{"$f":"IF(登録データ貼付!K39=\"\",\"\",LEFT(登録データ貼付!K39,1))","v":""},{"$f":"IF(登録データ貼付!S39=\"\",\"\",登録データ貼付!S39)","v":""},null,null,"38"]
[{"$f":"IF(登録データ貼付!E40=\"\",\"\",登録データ貼付!E40)","v":""},{"$f":"IF(登録データ貼付!B40=\"\",\"\",登録データ貼付!B40)","v":""},"","","","","",null,null,null,{"$f":"IF(登録データ貼付!C40=\"\",\"\",登録データ貼付!C40&\"　\"&登録データ貼付!D40)","v":""},{"$f":"IF(登録データ貼付!F40=\"\",\"\",登録データ貼付!F40&\"　\"&登録データ貼付!G40)","v":""},"",{"$f":"IF(登録データ貼付!H40=\"\",\"\",登録データ貼付!H40&\" \"&登録データ貼付!I40)","v":""},{"$f":"IF(登録データ貼付!V40=\"\",\"\",RIGHT(登録データ貼付!V40,1))","v":""},{"$f":"IF(登録データ貼付!K40=\"\",\"\",LEFT(登録データ貼付!K40,1))","v":""},{"$f":"IF(登録データ貼付!S40=\"\",\"\",登録データ貼付!S40)","v":""},null,null,"39"]
[{"$f":"IF(登録データ貼付!E41=\"\",\"\",登録データ貼付!E41)","v":""},{"$f":"IF(登録データ貼付!B41=\"\",\"\",登録データ貼付!B41)","v":""},"","","","","",null,null,null,{"$f":"IF(登録データ貼付!C41=\"\",\"\",登録データ貼付!C41&\"　\"&登録データ貼付!D41)","v":""},{"$f":"IF(登録データ貼付!F41=\"\",\"\",登録データ貼付!F41&\"　\"&登録データ貼付!G41)","v":""},"",{"$f":"IF(登録データ貼付!H41=\"\",\"\",登録データ貼付!H41&\" \"&登録データ貼付!I41)","v":""},{"$f":"IF(登録データ貼付!V41=\"\",\"\",RIGHT(登録データ貼付!V41,1))","v":""},{"$f":"IF(登録データ貼付!K41=\"\",\"\",LEFT(登録データ貼付!K41,1))","v":""},{"$f":"IF(登録データ貼付!S41=\"\",\"\",登録データ貼付!S41)","v":""},null,null,"40"]
[{"$f":"IF(登録データ貼付!E42=\"\",\"\",登録データ貼付!E42)","v":""},{"$f":"IF(登録データ貼付!B42=\"\",\"\",登録データ貼付!B42)","v":""},"","","","","",null,null,null,{"$f":"IF(登録データ貼付!C42=\"\",\"\",登録データ貼付!C42&\"　\"&登録データ貼付!D42)","v":""},{"$f":"IF(登録データ貼付!F42=\"\",\"\",登録データ貼付!F42&\"　\"&登録データ貼付!G42)","v":""},"",{"$f":"IF(登録データ貼付!H42=\"\",\"\",登録データ貼付!H42&\" \"&登録データ貼付!I42)","v":""},{"$f":"IF(登録データ貼付!V42=\"\",\"\",RIGHT(登録データ貼付!V42,1))","v":""},{"$f":"IF(登録データ貼付!K42=\"\",\"\",LEFT(登録データ貼付!K42,1))","v":""},{"$f":"IF(登録データ貼付!S42=\"\",\"\",登録データ貼付!S42)","v":""},null,null,"41"]
[{"$f":"IF(登録データ貼付!E43=\"\",\"\",登録データ貼付!E43)","v":""},{"$f":"IF(登録データ貼付!B43=\"\",\"\",登録データ貼付!B43)","v":""},"","","","","",null,null,null,{"$f":"IF(登録データ貼付!C43=\"\",\"\",登録データ貼付!C43&\"　\"&登録データ貼付!D43)","v":""},{"$f":"IF(登録データ貼付!F43=\"\",\"\",登録データ貼付!F43&\"　\"&登録データ貼付!G43)","v":""},"",{"$f":"IF(登録データ貼付!H43=\"\",\"\",登録データ貼付!H43&\" \"&登録データ貼付!I43)","v":""},{"$f":"IF(登録データ貼付!V43=\"\",\"\",RIGHT(登録データ貼付!V43,1))","v":""},{"$f":"IF(登録データ貼付!K43=\"\",\"\",LEFT(登録データ貼付!K43,1))","v":""},{"$f":"IF(登録データ貼付!S43=\"\",\"\",登録データ貼付!S43)","v":""},null,null,"42"]
[{"$f":"IF(登録データ貼付!E44=\"\",\"\",登録データ貼付!E44)","v":""},{"$f":"IF(登録データ貼付!B44=\"\",\"\",登録データ貼付!B44)","v":""},"","","","","",null,null,null,{"$f":"IF(登録データ貼付!C44=\"\",\"\",登録データ貼付!C44&\"　\"&登録データ貼付!D44)","v":""},{"$f":"IF(登録データ貼付!F44=\"\",\"\",登録データ貼付!F44&\"　\"&登録データ貼付!G44)","v":""},"",{"$f":"IF(登録データ貼付!H44=\"\",\"\",登録データ貼付!H44&\" \"&登録データ貼付!I44)","v":""},{"$f":"IF(登録データ貼付!V44=\"\",\"\",RIGHT(登録データ貼付!V44,1))","v":""},{"$f":"IF(登録データ貼付!K44=\"\",\"\",LEFT(登録データ貼付!K44,1))","v":""},{"$f":"IF(登録データ貼付!S44=\"\",\"\",登録データ貼付!S44)","v":""},null,null,"43"]
[{"$f":"IF(登録データ貼付!E45=\"\",\"\",登録データ貼付!E45)","v":""},{"$f":"IF(登録データ貼付!B45=\"\",\"\",登録データ貼付!B45)","v":""},"","","","","",null,null,null,{"$f":"IF(登録データ貼付!C45=\"\",\"\",登録データ貼付!C45&\"　\"&登録データ貼付!D45)","v":""},{"$f":"IF(登録データ貼付!F45=\"\",\"\",登録データ貼付!F45&\"　\"&登録データ貼付!G45)","v":""},"",{"$f":"IF(登録データ貼付!H45=\"\",\"\",登録データ貼付!H45&\" \"&登録データ貼付!I45)","v":""},{"$f":"IF(登録データ貼付!V45=\"\",\"\",RIGHT(登録データ貼付!V45,1))","v":""},{"$f":"IF(登録データ貼付!K45=\"\",\"\",LEFT(登録データ貼付!K45,1))","v":""},{"$f":"IF(登録データ貼付!S45=\"\",\"\",登録データ貼付!S45)","v":""},null,null,"44"]
[{"$f":"IF(登録データ貼付!E46=\"\",\"\",登録データ貼付!E46)","v":""},{"$f":"IF(登録データ貼付!B46=\"\",\"\",登録データ貼付!B46)","v":""},"","","","","",null,null,null,{"$f":"IF(登録データ貼付!C46=\"\",\"\",登録データ貼付!C46&\"　\"&登録データ貼付!D46)","v":""},{"$f":"IF(登録データ貼付!F46=\"\",\"\",登録データ貼付!F46&\"　\"&登録データ貼付!G46)","v":""},"",{"$f":"IF(登録データ貼付!H46=\"\",\"\",登録データ貼付!H46&\" \"&登録データ貼付!I46)","v":""},{"$f":"IF(登録データ貼付!V46=\"\",\"\",RIGHT(登録データ貼付!V46,1))","v":""},{"$f":"IF(登録データ貼付!K46=\"\",\"\",LEFT(登録データ貼付!K46,1))","v":""},{"$f":"IF(登録データ貼付!S46=\"\",\"\",登録データ貼付!S46)","v":""},null,null,"45"]
[{"$f":"IF(登録データ貼付!E47=\"\",\"\",登録データ貼付!E47)","v":""},{"$f":"IF(登録データ貼付!B47=\"\",\"\",登録データ貼付!B47)","v":""},"","","","","",null,null,null,{"$f":"IF(登録データ貼付!C47=\"\",\"\",登録データ貼付!C47&\"　\"&登録データ貼付!D47)","v":""},{"$f":"IF(登録データ貼付!F47=\"\",\"\",登録データ貼付!F47&\"　\"&登録データ貼付!G47)","v":""},"",{"$f":"IF(登録データ貼付!H47=\"\",\"\",登録データ貼付!H47&\" \"&登録データ貼付!I47)","v":""},{"$f":"IF(登録データ貼付!V47=\"\",\"\",RIGHT(登録データ貼付!V47,1))","v":""},{"$f":"IF(登録データ貼付!K47=\"\",\"\",LEFT(登録データ貼付!K47,1))","v":""},{"$f":"IF(登録データ貼付!S47=\"\",\"\",登録データ貼付!S47)","v":""},null,null,"46"]
[{"$f":"IF(登録データ貼付!E48=\"\",\"\",登録データ貼付!E48)","v":""},{"$f":"IF(登録データ貼付!B48=\"\",\"\",登録データ貼付!B48)","v":""},"","","","","",null,null,null,{"$f":"IF(登録データ貼付!C48=\"\",\"\",登録データ貼付!C48&\"　\"&登録データ貼付!D48)","v":""},{"$f":"IF(登録データ貼付!F48=\"\",\"\",登録データ貼付!F48&\"　\"&登録データ貼付!G48)","v":""},"",{"$f":"IF(登録データ貼付!H48=\"\",\"\",登録データ貼付!H48&\" \"&登録データ貼付!I48)","v":""},{"$f":"IF(登録データ貼付!V48=\"\",\"\",RIGHT(登録データ貼付!V48,1))","v":""},{"$f":"IF(登録データ貼付!K48=\"\",\"\",LEFT(登録データ貼付!K48,1))","v":""},{"$f":"IF(登録データ貼付!S48=\"\",\"\",登録データ貼付!S48)","v":""},null,null,"47"]
[{"$f":"IF(登録データ貼付!E49=\"\",\"\",登録データ貼付!E49)","v":""},{"$f":"IF(登録データ貼付!B49=\"\",\"\",登録データ貼付!B49)","v":""},"","","","","",null,null,null,{"$f":"IF(登録データ貼付!C49=\"\",\"\",登録データ貼付!C49&\"　\"&登録データ貼付!D49)","v":""},{"$f":"IF(登録データ貼付!F49=\"\",\"\",登録データ貼付!F49&\"　\"&登録データ貼付!G49)","v":""},"",{"$f":"IF(登録データ貼付!H49=\"\",\"\",登録データ貼付!H49&\" \"&登録データ貼付!I49)","v":""},{"$f":"IF(登録データ貼付!V49=\"\",\"\",RIGHT(登録データ貼付!V49,1))","v":""},{"$f":"IF(登録データ貼付!K49=\"\",\"\",LEFT(登録データ貼付!K49,1))","v":""},{"$f":"IF(登録データ貼付!S49=\"\",\"\",登録データ貼付!S49)","v":""},null,null,"48"]
[{"$f":"IF(登録データ貼付!E50=\"\",\"\",登録データ貼付!E50)","v":""},{"$f":"IF(登録データ貼付!B50=\"\",\"\",登録データ貼付!B50)","v":""},"","","","","",null,null,null,{"$f":"IF(登録データ貼付!C50=\"\",\"\",登録データ貼付!C50&\"　\"&登録データ貼付!D50)","v":""},{"$f":"IF(登録データ貼付!F50=\"\",\"\",登録データ貼付!F50&\"　\"&登録データ貼付!G50)","v":""},"",{"$f":"IF(登録データ貼付!H50=\"\",\"\",登録データ貼付!H50&\" \"&登録データ貼付!I50)","v":""},{"$f":"IF(登録データ貼付!V50=\"\",\"\",RIGHT(登録データ貼付!V50,1))","v":""},{"$f":"IF(登録データ貼付!K50=\"\",\"\",LEFT(登録データ貼付!K50,1))","v":""},{"$f":"IF(登録データ貼付!S50=\"\",\"\",登録データ貼付!S50)","v":""},null,null,"49"]
[{"$f":"IF(登録データ貼付!E51=\"\",\"\",登録データ貼付!E51)","v":""},{"$f":"IF(登録データ貼付!B51=\"\",\"\",登録データ貼付!B51)","v":""},"","","","","",null,null,null,{"$f":"IF(登録データ貼付!C51=\"\",\"\",登録データ貼付!C51&\"　\"&登録データ貼付!D51)","v":""},{"$f":"IF(登録データ貼付!F51=\"\",\"\",登録データ貼付!F51&\"　\"&登録データ貼付!G51)","v":""},"",{"$f":"IF(登録データ貼付!H51=\"\",\"\",登録データ貼付!H51&\" \"&登録データ貼付!I51)","v":""},{"$f":"IF(登録データ貼付!V51=\"\",\"\",RIGHT(登録データ貼付!V51,1))","v":""},{"$f":"IF(登録データ貼付!K51=\"\",\"\",LEFT(登録データ貼付!K51,1))","v":""},{"$f":"IF(登録データ貼付!S51=\"\",\"\",登録データ貼付!S51)","v":""},null,null,"50"]
[{"$f":"IF(登録データ貼付!E52=\"\",\"\",登録データ貼付!E52)","v":""},{"$f":"IF(登録データ貼付!B52=\"\",\"\",登録データ貼付!B52)","v":""},"","","","","",null,null,null,{"$f":"IF(登録データ貼付!C52=\"\",\"\",登録データ貼付!C52&\"　\"&登録データ貼付!D52)","v":""},{"$f":"IF(登録データ貼付!F52=\"\",\"\",登録データ貼付!F52&\"　\"&登録データ貼付!G52)","v":""},"",{"$f":"IF(登録データ貼付!H52=\"\",\"\",登録データ貼付!H52&\" \"&登録データ貼付!I52)","v":""},{"$f":"IF(登録データ貼付!V52=\"\",\"\",RIGHT(登録データ貼付!V52,1))","v":""},{"$f":"IF(登録データ貼付!K52=\"\",\"\",LEFT(登録データ貼付!K52,1))","v":""},{"$f":"IF(登録データ貼付!S52=\"\",\"\",登録データ貼付!S52)","v":""},null,null,"51"]
[{"$f":"IF(登録データ貼付!E53=\"\",\"\",登録データ貼付!E53)","v":""},{"$f":"IF(登録データ貼付!B53=\"\",\"\",登録データ貼付!B53)","v":""},"","","","","",null,null,null,{"$f":"IF(登録データ貼付!C53=\"\",\"\",登録データ貼付!C53&\"　\"&登録データ貼付!D53)","v":""},{"$f":"IF(登録データ貼付!F53=\"\",\"\",登録データ貼付!F53&\"　\"&登録データ貼付!G53)","v":""},"",{"$f":"IF(登録データ貼付!H53=\"\",\"\",登録データ貼付!H53&\" \"&登録データ貼付!I53)","v":""},{"$f":"IF(登録データ貼付!V53=\"\",\"\",RIGHT(登録データ貼付!V53,1))","v":""},{"$f":"IF(登録データ貼付!K53=\"\",\"\",LEFT(登録データ貼付!K53,1))","v":""},{"$f":"IF(登録データ貼付!S53=\"\",\"\",登録データ貼付!S53)","v":""},null,null,"52"]
[{"$f":"IF(登録データ貼付!E54=\"\",\"\",登録データ貼付!E54)","v":""},{"$f":"IF(登録データ貼付!B54=\"\",\"\",登録データ貼付!B54)","v":""},"","","","","",null,null,null,{"$f":"IF(登録データ貼付!C54=\"\",\"\",登録データ貼付!C54&\"　\"&登録データ貼付!D54)","v":""},{"$f":"IF(登録データ貼付!F54=\"\",\"\",登録データ貼付!F54&\"　\"&登録データ貼付!G54)","v":""},"",{"$f":"IF(登録データ貼付!H54=\"\",\"\",登録データ貼付!H54&\" \"&登録データ貼付!I54)","v":""},{"$f":"IF(登録データ貼付!V54=\"\",\"\",RIGHT(登録データ貼付!V54,1))","v":""},{"$f":"IF(登録データ貼付!K54=\"\",\"\",LEFT(登録データ貼付!K54,1))","v":""},{"$f":"IF(登録データ貼付!S54=\"\",\"\",登録データ貼付!S54)","v":""},null,null,"53"]
[{"$f":"IF(登録データ貼付!E55=\"\",\"\",登録データ貼付!E55)","v":""},{"$f":"IF(登録データ貼付!B55=\"\",\"\",登録データ貼付!B55)","v":""},"","","","","",null,null,null,{"$f":"IF(登録データ貼付!C55=\"\",\"\",登録データ貼付!C55&\"　\"&登録データ貼付!D55)","v":""},{"$f":"IF(登録データ貼付!F55=\"\",\"\",登録データ貼付!F55&\"　\"&登録データ貼付!G55)","v":""},"",{"$f":"IF(登録データ貼付!H55=\"\",\"\",登録データ貼付!H55&\" \"&登録データ貼付!I55)","v":""},{"$f":"IF(登録データ貼付!V55=\"\",\"\",RIGHT(登録データ貼付!V55,1))","v":""},{"$f":"IF(登録データ貼付!K55=\"\",\"\",LEFT(登録データ貼付!K55,1))","v":""},{"$f":"IF(登録データ貼付!S55=\"\",\"\",登録データ貼付!S55)","v":""},null,null,"54"]
[{"$f":"IF(登録データ貼付!E56=\"\",\"\",登録データ貼付!E56)","v":""},{"$f":"IF(登録データ貼付!B56=\"\",\"\",登録データ貼付!B56)","v":""},"","","","","",null,null,null,{"$f":"IF(登録データ貼付!C56=\"\",\"\",登録データ貼付!C56&\"　\"&登録データ貼付!D56)","v":""},{"$f":"IF(登録データ貼付!F56=\"\",\"\",登録データ貼付!F56&\"　\"&登録データ貼付!G56)","v":""},"",{"$f":"IF(登録データ貼付!H56=\"\",\"\",登録データ貼付!H56&\" \"&登録データ貼付!I56)","v":""},{"$f":"IF(登録データ貼付!V56=\"\",\"\",RIGHT(登録データ貼付!V56,1))","v":""},{"$f":"IF(登録データ貼付!K56=\"\",\"\",LEFT(登録データ貼付!K56,1))","v":""},{"$f":"IF(登録データ貼付!S56=\"\",\"\",登録データ貼付!S56)","v":""},null,null,"55"]
[{"$f":"IF(登録データ貼付!E57=\"\",\"\",登録データ貼付!E57)","v":""},{"$f":"IF(登録データ貼付!B57=\"\",\"\",登録データ貼付!B57)","v":""},"","","","","",null,null,null,{"$f":"IF(登録データ貼付!C57=\"\",\"\",登録データ貼付!C57&\"　\"&登録データ貼付!D57)","v":""},{"$f":"IF(登録データ貼付!F57=\"\",\"\",登録データ貼付!F57&\"　\"&登録データ貼付!G57)","v":""},"",{"$f":"IF(登録データ貼付!H57=\"\",\"\",登録データ貼付!H57&\" \"&登録データ貼付!I57)","v":""},{"$f":"IF(登録データ貼付!V57=\"\",\"\",RIGHT(登録データ貼付!V57,1))","v":""},{"$f":"IF(登録データ貼付!K57=\"\",\"\",LEFT(登録データ貼付!K57,1))","v":""},{"$f":"IF(登録データ貼付!S57=\"\",\"\",登録データ貼付!S57)","v":""},null,null,"56"]
[{"$f":"IF(登録データ貼付!E58=\"\",\"\",登録データ貼付!E58)","v":""},{"$f":"IF(登録データ貼付!B58=\"\",\"\",登録データ貼付!B58)","v":""},"","","","","",null,null,null,{"$f":"IF(登録データ貼付!C58=\"\",\"\",登録データ貼付!C58&\"　\"&登録データ貼付!D58)","v":""},{"$f":"IF(登録データ貼付!F58=\"\",\"\",登録データ貼付!F58&\"　\"&登録データ貼付!G58)","v":""},"",{"$f":"IF(登録データ貼付!H58=\"\",\"\",登録データ貼付!H58&\" \"&登録データ貼付!I58)","v":""},{"$f":"IF(登録データ貼付!V58=\"\",\"\",RIGHT(登録データ貼付!V58,1))","v":""},{"$f":"IF(登録データ貼付!K58=\"\",\"\",LEFT(登録データ貼付!K58,1))","v":""},{"$f":"IF(登録データ貼付!S58=\"\",\"\",登録データ貼付!S58)","v":""},null,null,"57"]
[{"$f":"IF(登録データ貼付!E59=\"\",\"\",登録データ貼付!E59)","v":""},{"$f":"IF(登録データ貼付!B59=\"\",\"\",登録データ貼付!B59)","v":""},"","","","","",null,null,null,{"$f":"IF(登録データ貼付!C59=\"\",\"\",登録データ貼付!C59&\"　\"&登録データ貼付!D59)","v":""},{"$f":"IF(登録データ貼付!F59=\"\",\"\",登録データ貼付!F59&\"　\"&登録データ貼付!G59)","v":""},"",{"$f":"IF(登録データ貼付!H59=\"\",\"\",登録データ貼付!H59&\" \"&登録データ貼付!I59)","v":""},{"$f":"IF(登録データ貼付!V59=\"\",\"\",RIGHT(登録データ貼付!V59,1))","v":""},{"$f":"IF(登録データ貼付!K59=\"\",\"\",LEFT(登録データ貼付!K59,1))","v":""},{"$f":"IF(登録データ貼付!S59=\"\",\"\",登録データ貼付!S59)","v":""},null,null,"58"]
[{"$f":"IF(登録データ貼付!E60=\"\",\"\",登録データ貼付!E60)","v":""},{"$f":"IF(登録データ貼付!B60=\"\",\"\",登録データ貼付!B60)","v":""},"","","","","",null,null,null,{"$f":"IF(登録データ貼付!C60=\"\",\"\",登録データ貼付!C60&\"　\"&登録データ貼付!D60)","v":""},{"$f":"IF(登録データ貼付!F60=\"\",\"\",登録データ貼付!F60&\"　\"&登録データ貼付!G60)","v":""},"",{"$f":"IF(登録データ貼付!H60=\"\",\"\",登録データ貼付!H60&\" \"&登録データ貼付!I60)","v":""},{"$f":"IF(登録データ貼付!V60=\"\",\"\",RIGHT(登録データ貼付!V60,1))","v":""},{"$f":"IF(登録データ貼付!K60=\"\",\"\",LEFT(登録データ貼付!K60,1))","v":""},{"$f":"IF(登録データ貼付!S60=\"\",\"\",登録データ貼付!S60)","v":""},null,null,"59"]
[{"$f":"IF(登録データ貼付!E61=\"\",\"\",登録データ貼付!E61)","v":""},{"$f":"IF(登録データ貼付!B61=\"\",\"\",登録データ貼付!B61)","v":""},"","","","","",null,null,null,{"$f":"IF(登録データ貼付!C61=\"\",\"\",登録データ貼付!C61&\"　\"&登録データ貼付!D61)","v":""},{"$f":"IF(登録データ貼付!F61=\"\",\"\",登録データ貼付!F61&\"　\"&登録データ貼付!G61)","v":""},"",{"$f":"IF(登録データ貼付!H61=\"\",\"\",登録データ貼付!H61&\" \"&登録データ貼付!I61)","v":""},{"$f":"IF(登録データ貼付!V61=\"\",\"\",RIGHT(登録データ貼付!V61,1))","v":""},{"$f":"IF(登録データ貼付!K61=\"\",\"\",LEFT(登録データ貼付!K61,1))","v":""},{"$f":"IF(登録データ貼付!S61=\"\",\"\",登録データ貼付!S61)","v":""},null,null,"60"]
[{"$f":"IF(登録データ貼付!E62=\"\",\"\",登録データ貼付!E62)","v":""},{"$f":"IF(登録データ貼付!B62=\"\",\"\",登録データ貼付!B62)","v":""},"","","","","",null,null,null,{"$f":"IF(登録データ貼付!C62=\"\",\"\",登録データ貼付!C62&\"　\"&登録データ貼付!D62)","v":""},{"$f":"IF(登録データ貼付!F62=\"\",\"\",登録データ貼付!F62&\"　\"&登録データ貼付!G62)","v":""},"",{"$f":"IF(登録データ貼付!H62=\"\",\"\",登録データ貼付!H62&\" \"&登録データ貼付!I62)","v":""},{"$f":"IF(登録データ貼付!V62=\"\",\"\",RIGHT(登録データ貼付!V62,1))","v":""},{"$f":"IF(登録データ貼付!K62=\"\",\"\",LEFT(登録データ貼付!K62,1))","v":""},{"$f":"IF(登録データ貼付!S62=\"\",\"\",登録データ貼付!S62)","v":""},null,null,"61"]
[{"$f":"IF(登録データ貼付!E63=\"\",\"\",登録データ貼付!E63)","v":""},{"$f":"IF(登録データ貼付!B63=\"\",\"\",登録データ貼付!B63)","v":""},"","","","","",null,null,null,{"$f":"IF(登録データ貼付!C63=\"\",\"\",登録データ貼付!C63&\"　\"&登録データ貼付!D63)","v":""},{"$f":"IF(登録データ貼付!F63=\"\",\"\",登録データ貼付!F63&\"　\"&登録データ貼付!G63)","v":""},"",{"$f":"IF(登録データ貼付!H63=\"\",\"\",登録データ貼付!H63&\" \"&登録データ貼付!I63)","v":""},{"$f":"IF(登録データ貼付!V63=\"\",\"\",RIGHT(登録データ貼付!V63,1))","v":""},{"$f":"IF(登録データ貼付!K63=\"\",\"\",LEFT(登録データ貼付!K63,1))","v":""},{"$f":"IF(登録データ貼付!S63=\"\",\"\",登録データ貼付!S63)","v":""},null,null,"62"]
[{"$f":"IF(登録データ貼付!E64=\"\",\"\",登録データ貼付!E64)","v":""},{"$f":"IF(登録データ貼付!B64=\"\",\"\",登録データ貼付!B64)","v":""},"","","","","",null,null,null,{"$f":"IF(登録データ貼付!C64=\"\",\"\",登録データ貼付!C64&\"　\"&登録データ貼付!D64)","v":""},{"$f":"IF(登録データ貼付!F64=\"\",\"\",登録データ貼付!F64&\"　\"&登録データ貼付!G64)","v":""},"",{"$f":"IF(登録データ貼付!H64=\"\",\"\",登録データ貼付!H64&\" \"&登録データ貼付!I64)","v":""},{"$f":"IF(登録データ貼付!V64=\"\",\"\",RIGHT(登録データ貼付!V64,1))","v":""},{"$f":"IF(登録データ貼付!K64=\"\",\"\",LEFT(登録データ貼付!K64,1))","v":""},{"$f":"IF(登録データ貼付!S64=\"\",\"\",登録データ貼付!S64)","v":""},null,null,"63"]
[{"$f":"IF(登録データ貼付!E65=\"\",\"\",登録データ貼付!E65)","v":""},{"$f":"IF(登録データ貼付!B65=\"\",\"\",登録データ貼付!B65)","v":""},"","","","","",null,null,null,{"$f":"IF(登録データ貼付!C65=\"\",\"\",登録データ貼付!C65&\"　\"&登録データ貼付!D65)","v":""},{"$f":"IF(登録データ貼付!F65=\"\",\"\",登録データ貼付!F65&\"　\"&登録データ貼付!G65)","v":""},"",{"$f":"IF(登録データ貼付!H65=\"\",\"\",登録データ貼付!H65&\" \"&登録データ貼付!I65)","v":""},{"$f":"IF(登録データ貼付!V65=\"\",\"\",RIGHT(登録データ貼付!V65,1))","v":""},{"$f":"IF(登録データ貼付!K65=\"\",\"\",LEFT(登録データ貼付!K65,1))","v":""},{"$f":"IF(登録データ貼付!S65=\"\",\"\",登録データ貼付!S65)","v":""},null,null,"64"]
[{"$f":"IF(登録データ貼付!E66=\"\",\"\",登録データ貼付!E66)","v":""},{"$f":"IF(登録データ貼付!B66=\"\",\"\",登録データ貼付!B66)","v":""},"","","","","",null,null,null,{"$f":"IF(登録データ貼付!C66=\"\",\"\",登録データ貼付!C66&\"　\"&登録データ貼付!D66)","v":""},{"$f":"IF(登録データ貼付!F66=\"\",\"\",登録データ貼付!F66&\"　\"&登録データ貼付!G66)","v":""},"",{"$f":"IF(登録データ貼付!H66=\"\",\"\",登録データ貼付!H66&\" \"&登録データ貼付!I66)","v":""},{"$f":"IF(登録データ貼付!V66=\"\",\"\",RIGHT(登録データ貼付!V66,1))","v":""},{"$f":"IF(登録データ貼付!K66=\"\",\"\",LEFT(登録データ貼付!K66,1))","v":""},{"$f":"IF(登録データ貼付!S66=\"\",\"\",登録データ貼付!S66)","v":""},null,null,"65"]
[{"$f":"IF(登録データ貼付!E67=\"\",\"\",登録データ貼付!E67)","v":""},{"$f":"IF(登録データ貼付!B67=\"\",\"\",登録データ貼付!B67)","v":""},{"$f":"IF(K70=\"\",\"\",K70)","v":""},{"$f":"IF(M70=\"\",\"\",M70)","v":""},{"$f":"IF(N70=\"\",\"\",N70)","v":""},{"$f":"IF(O70=\"\",\"\",O70)","v":""},{"$f":"IF(P70=\"\",\"\",P70)","v":""},null,null,null,{"$f":"IF(登録データ貼付!C67=\"\",\"\",登録データ貼付!C67&\"　\"&登録データ貼付!D67)","v":""},{"$f":"IF(登録データ貼付!F67=\"\",\"\",登録データ貼付!F67&\"　\"&登録データ貼付!G67)","v":""},{"$f":"ASC(L70)","v":""},{"$f":"IF(登録データ貼付!H67=\"\",\"\",登録データ貼付!H67&\" \"&登録データ貼付!I67)","v":""},{"$f":"IF(登録データ貼付!V67=\"\",\"\",RIGHT(登録データ貼付!V67,1))","v":""},{"$f":"IF(登録データ貼付!K67=\"\",\"\",LEFT(登録データ貼付!K67,1))","v":""},{"$f":"IF(登録データ貼付!S67=\"\",\"\",登録データ貼付!S67)","v":""},null,null,"66"]
[{"$f":"IF(登録データ貼付!E68=\"\",\"\",登録データ貼付!E68)","v":""},{"$f":"IF(登録データ貼付!B68=\"\",\"\",登録データ貼付!B68)","v":""},"","","","","",null,null,null,{"$f":"IF(登録データ貼付!C68=\"\",\"\",登録データ貼付!C68&\"　\"&登録データ貼付!D68)","v":""},{"$f":"IF(登録データ貼付!F68=\"\",\"\",登録データ貼付!F68&\"　\"&登録データ貼付!G68)","v":""},"",{"$f":"IF(登録データ貼付!H68=\"\",\"\",登録データ貼付!H68&\" \"&登録データ貼付!I68)","v":""},{"$f":"IF(登録データ貼付!V68=\"\",\"\",RIGHT(登録データ貼付!V68,1))","v":""},{"$f":"IF(登録データ貼付!K68=\"\",\"\",LEFT(登録データ貼付!K68,1))","v":""},{"$f":"IF(登録データ貼付!S68=\"\",\"\",登録データ貼付!S68)","v":""},null,null,"67"]
[{"$f":"IF(登録データ貼付!E69=\"\",\"\",登録データ貼付!E69)","v":""},{"$f":"IF(登録データ貼付!B69=\"\",\"\",登録データ貼付!B69)","v":""},"","","","","",null,null,null,{"$f":"IF(登録データ貼付!C69=\"\",\"\",登録データ貼付!C69&\"　\"&登録データ貼付!D69)","v":""},{"$f":"IF(登録データ貼付!F69=\"\",\"\",登録データ貼付!F69&\"　\"&登録データ貼付!G69)","v":""},"",{"$f":"IF(登録データ貼付!H69=\"\",\"\",登録データ貼付!H69&\" \"&登録データ貼付!I69)","v":""},{"$f":"IF(登録データ貼付!V69=\"\",\"\",RIGHT(登録データ貼付!V69,1))","v":""},{"$f":"IF(登録データ貼付!K69=\"\",\"\",LEFT(登録データ貼付!K69,1))","v":""},{"$f":"IF(登録データ貼付!S69=\"\",\"\",登録データ貼付!S69)","v":""},null,null,"68"]
[{"$f":"IF(登録データ貼付!E70=\"\",\"\",登録データ貼付!E70)","v":""},{"$f":"IF(登録データ貼付!B70=\"\",\"\",登録データ貼付!B70)","v":""},"","","","","",null,null,null,{"$f":"IF(登録データ貼付!C70=\"\",\"\",登録データ貼付!C70&\"　\"&登録データ貼付!D70)","v":""},{"$f":"IF(登録データ貼付!F70=\"\",\"\",登録データ貼付!F70&\"　\"&登録データ貼付!G70)","v":""},"",{"$f":"IF(登録データ貼付!H70=\"\",\"\",登録データ貼付!H70&\" \"&登録データ貼付!I70)","v":""},{"$f":"IF(登録データ貼付!V70=\"\",\"\",RIGHT(登録データ貼付!V70,1))","v":""},{"$f":"IF(登録データ貼付!K70=\"\",\"\",LEFT(登録データ貼付!K70,1))","v":""},{"$f":"IF(登録データ貼付!S70=\"\",\"\",登録データ貼付!S70)","v":""},null,null,"69"]
[{"$f":"IF(登録データ貼付!E71=\"\",\"\",登録データ貼付!E71)","v":""},{"$f":"IF(登録データ貼付!B71=\"\",\"\",登録データ貼付!B71)","v":""},"","","","","",null,null,null,{"$f":"IF(登録データ貼付!C71=\"\",\"\",登録データ貼付!C71&\"　\"&登録データ貼付!D71)","v":""},{"$f":"IF(登録データ貼付!F71=\"\",\"\",登録データ貼付!F71&\"　\"&登録データ貼付!G71)","v":""},"",{"$f":"IF(登録データ貼付!H71=\"\",\"\",登録データ貼付!H71&\" \"&登録データ貼付!I71)","v":""},{"$f":"IF(登録データ貼付!V71=\"\",\"\",RIGHT(登録データ貼付!V71,1))","v":""},{"$f":"IF(登録データ貼付!K71=\"\",\"\",LEFT(登録データ貼付!K71,1))","v":""},{"$f":"IF(登録データ貼付!S71=\"\",\"\",登録データ貼付!S71)","v":""},null,null,"70"]
[{"$f":"IF(登録データ貼付!E72=\"\",\"\",登録データ貼付!E72)","v":""},{"$f":"IF(登録データ貼付!B72=\"\",\"\",登録データ貼付!B72)","v":""},"","","","","",null,null,null,{"$f":"IF(登録データ貼付!C72=\"\",\"\",登録データ貼付!C72&\"　\"&登録データ貼付!D72)","v":""},{"$f":"IF(登録データ貼付!F72=\"\",\"\",登録データ貼付!F72&\"　\"&登録データ貼付!G72)","v":""},"",{"$f":"IF(登録データ貼付!H72=\"\",\"\",登録データ貼付!H72&\" \"&登録データ貼付!I72)","v":""},{"$f":"IF(登録データ貼付!V72=\"\",\"\",RIGHT(登録データ貼付!V72,1))","v":""},{"$f":"IF(登録データ貼付!K72=\"\",\"\",LEFT(登録データ貼付!K72,1))","v":""},{"$f":"IF(登録データ貼付!S72=\"\",\"\",登録データ貼付!S72)","v":""},null,null,"71"]
[{"$f":"IF(登録データ貼付!E73=\"\",\"\",登録データ貼付!E73)","v":""},{"$f":"IF(登録データ貼付!B73=\"\",\"\",登録データ貼付!B73)","v":""},"","","","","",null,null,null,{"$f":"IF(登録データ貼付!C73=\"\",\"\",登録データ貼付!C73&\"　\"&登録データ貼付!D73)","v":""},{"$f":"IF(登録データ貼付!F73=\"\",\"\",登録データ貼付!F73&\"　\"&登録データ貼付!G73)","v":""},"",{"$f":"IF(登録データ貼付!H73=\"\",\"\",登録データ貼付!H73&\" \"&登録データ貼付!I73)","v":""},{"$f":"IF(登録データ貼付!V73=\"\",\"\",RIGHT(登録データ貼付!V73,1))","v":""},{"$f":"IF(登録データ貼付!K73=\"\",\"\",LEFT(登録データ貼付!K73,1))","v":""},{"$f":"IF(登録データ貼付!S73=\"\",\"\",登録データ貼付!S73)","v":""},null,null,"72"]
[{"$f":"IF(登録データ貼付!E74=\"\",\"\",登録データ貼付!E74)","v":""},{"$f":"IF(登録データ貼付!B74=\"\",\"\",登録データ貼付!B74)","v":""},"","","","","",null,null,null,{"$f":"IF(登録データ貼付!C74=\"\",\"\",登録データ貼付!C74&\"　\"&登録データ貼付!D74)","v":""},{"$f":"IF(登録データ貼付!F74=\"\",\"\",登録データ貼付!F74&\"　\"&登録データ貼付!G74)","v":""},"",{"$f":"IF(登録データ貼付!H74=\"\",\"\",登録データ貼付!H74&\" \"&登録データ貼付!I74)","v":""},{"$f":"IF(登録データ貼付!V74=\"\",\"\",RIGHT(登録データ貼付!V74,1))","v":""},{"$f":"IF(登録データ貼付!K74=\"\",\"\",LEFT(登録データ貼付!K74,1))","v":""},{"$f":"IF(登録データ貼付!S74=\"\",\"\",登録データ貼付!S74)","v":""},null,null,"73"]
[{"$f":"IF(登録データ貼付!E75=\"\",\"\",登録データ貼付!E75)","v":""},{"$f":"IF(登録データ貼付!B75=\"\",\"\",登録データ貼付!B75)","v":""},"","","","","",null,null,null,{"$f":"IF(登録データ貼付!C75=\"\",\"\",登録データ貼付!C75&\"　\"&登録データ貼付!D75)","v":""},{"$f":"IF(登録データ貼付!F75=\"\",\"\",登録データ貼付!F75&\"　\"&登録データ貼付!G75)","v":""},"",{"$f":"IF(登録データ貼付!H75=\"\",\"\",登録データ貼付!H75&\" \"&登録データ貼付!I75)","v":""},{"$f":"IF(登録データ貼付!V75=\"\",\"\",RIGHT(登録データ貼付!V75,1))","v":""},{"$f":"IF(登録データ貼付!K75=\"\",\"\",LEFT(登録データ貼付!K75,1))","v":""},{"$f":"IF(登録データ貼付!S75=\"\",\"\",登録データ貼付!S75)","v":""},null,null,"74"]
[{"$f":"IF(登録データ貼付!E76=\"\",\"\",登録データ貼付!E76)","v":""},{"$f":"IF(登録データ貼付!B76=\"\",\"\",登録データ貼付!B76)","v":""},"","","","","",null,null,null,{"$f":"IF(登録データ貼付!C76=\"\",\"\",登録データ貼付!C76&\"　\"&登録データ貼付!D76)","v":""},{"$f":"IF(登録データ貼付!F76=\"\",\"\",登録データ貼付!F76&\"　\"&登録データ貼付!G76)","v":""},"",{"$f":"IF(登録データ貼付!H76=\"\",\"\",登録データ貼付!H76&\" \"&登録データ貼付!I76)","v":""},{"$f":"IF(登録データ貼付!V76=\"\",\"\",RIGHT(登録データ貼付!V76,1))","v":""},{"$f":"IF(登録データ貼付!K76=\"\",\"\",LEFT(登録データ貼付!K76,1))","v":""},{"$f":"IF(登録データ貼付!S76=\"\",\"\",登録データ貼付!S76)","v":""},null,null,"75"]
[{"$f":"IF(登録データ貼付!E77=\"\",\"\",登録データ貼付!E77)","v":""},{"$f":"IF(登録データ貼付!B77=\"\",\"\",登録データ貼付!B77)","v":""},"","","","","",null,null,null,{"$f":"IF(登録データ貼付!C77=\"\",\"\",登録データ貼付!C77&\"　\"&登録データ貼付!D77)","v":""},{"$f":"IF(登録データ貼付!F77=\"\",\"\",登録データ貼付!F77&\"　\"&登録データ貼付!G77)","v":""},"",{"$f":"IF(登録データ貼付!H77=\"\",\"\",登録データ貼付!H77&\" \"&登録データ貼付!I77)","v":""},{"$f":"IF(登録データ貼付!V77=\"\",\"\",RIGHT(登録データ貼付!V77,1))","v":""},{"$f":"IF(登録データ貼付!K77=\"\",\"\",LEFT(登録データ貼付!K77,1))","v":""},{"$f":"IF(登録データ貼付!S77=\"\",\"\",登録データ貼付!S77)","v":""},null,null,"76"]
[{"$f":"IF(登録データ貼付!E78=\"\",\"\",登録データ貼付!E78)","v":""},{"$f":"IF(登録データ貼付!B78=\"\",\"\",登録データ貼付!B78)","v":""},"","","","","",null,null,null,{"$f":"IF(登録データ貼付!C78=\"\",\"\",登録データ貼付!C78&\"　\"&登録データ貼付!D78)","v":""},{"$f":"IF(登録データ貼付!F78=\"\",\"\",登録データ貼付!F78&\"　\"&登録データ貼付!G78)","v":""},"",{"$f":"IF(登録データ貼付!H78=\"\",\"\",登録データ貼付!H78&\" \"&登録データ貼付!I78)","v":""},{"$f":"IF(登録データ貼付!V78=\"\",\"\",RIGHT(登録データ貼付!V78,1))","v":""},{"$f":"IF(登録データ貼付!K78=\"\",\"\",LEFT(登録データ貼付!K78,1))","v":""},{"$f":"IF(登録データ貼付!S78=\"\",\"\",登録データ貼付!S78)","v":""},null,null,"77"]
[{"$f":"IF(登録データ貼付!E79=\"\",\"\",登録データ貼付!E79)","v":""},{"$f":"IF(登録データ貼付!B79=\"\",\"\",登録データ貼付!B79)","v":""},"","","","","",null,null,null,{"$f":"IF(登録データ貼付!C79=\"\",\"\",登録データ貼付!C79&\"　\"&登録データ貼付!D79)","v":""},{"$f":"IF(登録データ貼付!F79=\"\",\"\",登録データ貼付!F79&\"　\"&登録データ貼付!G79)","v":""},"",{"$f":"IF(登録データ貼付!H79=\"\",\"\",登録データ貼付!H79&\" \"&登録データ貼付!I79)","v":""},{"$f":"IF(登録データ貼付!V79=\"\",\"\",RIGHT(登録データ貼付!V79,1))","v":""},{"$f":"IF(登録データ貼付!K79=\"\",\"\",LEFT(登録データ貼付!K79,1))","v":""},{"$f":"IF(登録データ貼付!S79=\"\",\"\",登録データ貼付!S79)","v":""},null,null,"78"]
[{"$f":"IF(登録データ貼付!E80=\"\",\"\",登録データ貼付!E80)","v":""},{"$f":"IF(登録データ貼付!B80=\"\",\"\",登録データ貼付!B80)","v":""},"","","","","",null,null,null,{"$f":"IF(登録データ貼付!C80=\"\",\"\",登録データ貼付!C80&\"　\"&登録データ貼付!D80)","v":""},{"$f":"IF(登録データ貼付!F80=\"\",\"\",登録データ貼付!F80&\"　\"&登録データ貼付!G80)","v":""},"",{"$f":"IF(登録データ貼付!H80=\"\",\"\",登録データ貼付!H80&\" \"&登録データ貼付!I80)","v":""},{"$f":"IF(登録データ貼付!V80=\"\",\"\",RIGHT(登録データ貼付!V80,1))","v":""},{"$f":"IF(登録データ貼付!K80=\"\",\"\",LEFT(登録データ貼付!K80,1))","v":""},{"$f":"IF(登録データ貼付!S80=\"\",\"\",登録データ貼付!S80)","v":""},null,null,"79"]
[{"$f":"IF(登録データ貼付!E81=\"\",\"\",登録データ貼付!E81)","v":""},{"$f":"IF(登録データ貼付!B81=\"\",\"\",登録データ貼付!B81)","v":""},"","","","","",null,null,null,{"$f":"IF(登録データ貼付!C81=\"\",\"\",登録データ貼付!C81&\"　\"&登録データ貼付!D81)","v":""},{"$f":"IF(登録データ貼付!F81=\"\",\"\",登録データ貼付!F81&\"　\"&登録データ貼付!G81)","v":""},"",{"$f":"IF(登録データ貼付!H81=\"\",\"\",登録データ貼付!H81&\" \"&登録データ貼付!I81)","v":""},{"$f":"IF(登録データ貼付!V81=\"\",\"\",RIGHT(登録データ貼付!V81,1))","v":""},{"$f":"IF(登録データ貼付!K81=\"\",\"\",LEFT(登録データ貼付!K81,1))","v":""},{"$f":"IF(登録データ貼付!S81=\"\",\"\",登録データ貼付!S81)","v":""},null,null,"80"]
[{"$f":"IF(登録データ貼付!E82=\"\",\"\",登録データ貼付!E82)","v":""},{"$f":"IF(登録データ貼付!B82=\"\",\"\",登録データ貼付!B82)","v":""},"","","","","",null,null,null,{"$f":"IF(登録データ貼付!C82=\"\",\"\",登録データ貼付!C82&\"　\"&登録データ貼付!D82)","v":""},{"$f":"IF(登録データ貼付!F82=\"\",\"\",登録データ貼付!F82&\"　\"&登録データ貼付!G82)","v":""},"",{"$f":"IF(登録データ貼付!H82=\"\",\"\",登録データ貼付!H82&\" \"&登録データ貼付!I82)","v":""},{"$f":"IF(登録データ貼付!V82=\"\",\"\",RIGHT(登録データ貼付!V82,1))","v":""},{"$f":"IF(登録データ貼付!K82=\"\",\"\",LEFT(登録データ貼付!K82,1))","v":""},{"$f":"IF(登録データ貼付!S82=\"\",\"\",登録データ貼付!S82)","v":""},null,null,"81"]
[{"$f":"IF(登録データ貼付!E83=\"\",\"\",登録データ貼付!E83)","v":""},{"$f":"IF(登録データ貼付!B83=\"\",\"\",登録データ貼付!B83)","v":""},"","","","","",null,null,null,{"$f":"IF(登録データ貼付!C83=\"\",\"\",登録データ貼付!C83&\"　\"&登録データ貼付!D83)","v":""},{"$f":"IF(登録データ貼付!F83=\"\",\"\",登録データ貼付!F83&\"　\"&登録データ貼付!G83)","v":""},"",{"$f":"IF(登録データ貼付!H83=\"\",\"\",登録データ貼付!H83&\" \"&登録データ貼付!I83)","v":""},{"$f":"IF(登録データ貼付!V83=\"\",\"\",RIGHT(登録データ貼付!V83,1))","v":""},{"$f":"IF(登録データ貼付!K83=\"\",\"\",LEFT(登録データ貼付!K83,1))","v":""},{"$f":"IF(登録データ貼付!S83=\"\",\"\",登録データ貼付!S83)","v":""},null,null,"82"]
[{"$f":"IF(登録データ貼付!E84=\"\",\"\",登録データ貼付!E84)","v":""},{"$f":"IF(登録データ貼付!B84=\"\",\"\",登録データ貼付!B84)","v":""},"","","","","",null,null,null,{"$f":"IF(登録データ貼付!C84=\"\",\"\",登録データ貼付!C84&\"　\"&登録データ貼付!D84)","v":""},{"$f":"IF(登録データ貼付!F84=\"\",\"\",登録データ貼付!F84&\"　\"&登録データ貼付!G84)","v":""},"",{"$f":"IF(登録データ貼付!H84=\"\",\"\",登録データ貼付!H84&\" \"&登録データ貼付!I84)","v":""},{"$f":"IF(登録データ貼付!V84=\"\",\"\",RIGHT(登録データ貼付!V84,1))","v":""},{"$f":"IF(登録データ貼付!K84=\"\",\"\",LEFT(登録データ貼付!K84,1))","v":""},{"$f":"IF(登録データ貼付!S84=\"\",\"\",登録データ貼付!S84)","v":""},null,null,"83"]
[{"$f":"IF(登録データ貼付!E85=\"\",\"\",登録データ貼付!E85)","v":""},{"$f":"IF(登録データ貼付!B85=\"\",\"\",登録データ貼付!B85)","v":""},"","","","","",null,null,null,{"$f":"IF(登録データ貼付!C85=\"\",\"\",登録データ貼付!C85&\"　\"&登録データ貼付!D85)","v":""},{"$f":"IF(登録データ貼付!F85=\"\",\"\",登録データ貼付!F85&\"　\"&登録データ貼付!G85)","v":""},"",{"$f":"IF(登録データ貼付!H85=\"\",\"\",登録データ貼付!H85&\" \"&登録データ貼付!I85)","v":""},{"$f":"IF(登録データ貼付!V85=\"\",\"\",RIGHT(登録データ貼付!V85,1))","v":""},{"$f":"IF(登録データ貼付!K85=\"\",\"\",LEFT(登録データ貼付!K85,1))","v":""},{"$f":"IF(登録データ貼付!S85=\"\",\"\",登録データ貼付!S85)","v":""},null,null,"84"]
[{"$f":"IF(登録データ貼付!E86=\"\",\"\",登録データ貼付!E86)","v":""},{"$f":"IF(登録データ貼付!B86=\"\",\"\",登録データ貼付!B86)","v":""},"","","","","",null,null,null,{"$f":"IF(登録データ貼付!C86=\"\",\"\",登録データ貼付!C86&\"　\"&登録データ貼付!D86)","v":""},{"$f":"IF(登録データ貼付!F86=\"\",\"\",登録データ貼付!F86&\"　\"&登録データ貼付!G86)","v":""},"",{"$f":"IF(登録データ貼付!H86=\"\",\"\",登録データ貼付!H86&\" \"&登録データ貼付!I86)","v":""},{"$f":"IF(登録データ貼付!V86=\"\",\"\",RIGHT(登録データ貼付!V86,1))","v":""},{"$f":"IF(登録データ貼付!K86=\"\",\"\",LEFT(登録データ貼付!K86,1))","v":""},{"$f":"IF(登録データ貼付!S86=\"\",\"\",登録データ貼付!S86)","v":""},null,null,"85"]
[{"$f":"IF(登録データ貼付!E87=\"\",\"\",登録データ貼付!E87)","v":""},{"$f":"IF(登録データ貼付!B87=\"\",\"\",登録データ貼付!B87)","v":""},"","","","","",null,null,null,{"$f":"IF(登録データ貼付!C87=\"\",\"\",登録データ貼付!C87&\"　\"&登録データ貼付!D87)","v":""},{"$f":"IF(登録データ貼付!F87=\"\",\"\",登録データ貼付!F87&\"　\"&登録データ貼付!G87)","v":""},"",{"$f":"IF(登録データ貼付!H87=\"\",\"\",登録データ貼付!H87&\" \"&登録データ貼付!I87)","v":""},{"$f":"IF(登録データ貼付!V87=\"\",\"\",RIGHT(登録データ貼付!V87,1))","v":""},{"$f":"IF(登録データ貼付!K87=\"\",\"\",LEFT(登録データ貼付!K87,1))","v":""},{"$f":"IF(登録データ貼付!S87=\"\",\"\",登録データ貼付!S87)","v":""},null,null,"86"]
[{"$f":"IF(登録データ貼付!E88=\"\",\"\",登録データ貼付!E88)","v":""},{"$f":"IF(登録データ貼付!B88=\"\",\"\",登録データ貼付!B88)","v":""},"","","","","",null,null,null,{"$f":"IF(登録データ貼付!C88=\"\",\"\",登録データ貼付!C88&\"　\"&登録データ貼付!D88)","v":""},{"$f":"IF(登録データ貼付!F88=\"\",\"\",登録データ貼付!F88&\"　\"&登録データ貼付!G88)","v":""},"",{"$f":"IF(登録データ貼付!H88=\"\",\"\",登録データ貼付!H88&\" \"&登録データ貼付!I88)","v":""},{"$f":"IF(登録データ貼付!V88=\"\",\"\",RIGHT(登録データ貼付!V88,1))","v":""},{"$f":"IF(登録データ貼付!K88=\"\",\"\",LEFT(登録データ貼付!K88,1))","v":""},{"$f":"IF(登録データ貼付!S88=\"\",\"\",登録データ貼付!S88)","v":""},null,null,"87"]
[{"$f":"IF(登録データ貼付!E89=\"\",\"\",登録データ貼付!E89)","v":""},{"$f":"IF(登録データ貼付!B89=\"\",\"\",登録データ貼付!B89)","v":""},"","","","","",null,null,null,{"$f":"IF(登録データ貼付!C89=\"\",\"\",登録データ貼付!C89&\"　\"&登録データ貼付!D89)","v":""},{"$f":"IF(登録データ貼付!F89=\"\",\"\",登録データ貼付!F89&\"　\"&登録データ貼付!G89)","v":""},"",{"$f":"IF(登録データ貼付!H89=\"\",\"\",登録データ貼付!H89&\" \"&登録データ貼付!I89)","v":""},{"$f":"IF(登録データ貼付!V89=\"\",\"\",RIGHT(登録データ貼付!V89,1))","v":""},{"$f":"IF(登録データ貼付!K89=\"\",\"\",LEFT(登録データ貼付!K89,1))","v":""},{"$f":"IF(登録データ貼付!S89=\"\",\"\",登録データ貼付!S89)","v":""},null,null,"88"]
[{"$f":"IF(登録データ貼付!E90=\"\",\"\",登録データ貼付!E90)","v":""},{"$f":"IF(登録データ貼付!B90=\"\",\"\",登録データ貼付!B90)","v":""},"","","","","",null,null,null,{"$f":"IF(登録データ貼付!C90=\"\",\"\",登録データ貼付!C90&\"　\"&登録データ貼付!D90)","v":""},{"$f":"IF(登録データ貼付!F90=\"\",\"\",登録データ貼付!F90&\"　\"&登録データ貼付!G90)","v":""},"",{"$f":"IF(登録データ貼付!H90=\"\",\"\",登録データ貼付!H90&\" \"&登録データ貼付!I90)","v":""},{"$f":"IF(登録データ貼付!V90=\"\",\"\",RIGHT(登録データ貼付!V90,1))","v":""},{"$f":"IF(登録データ貼付!K90=\"\",\"\",LEFT(登録データ貼付!K90,1))","v":""},{"$f":"IF(登録データ貼付!S90=\"\",\"\",登録データ貼付!S90)","v":""},null,null,"89"]
[{"$f":"IF(登録データ貼付!E91=\"\",\"\",登録データ貼付!E91)","v":""},{"$f":"IF(登録データ貼付!B91=\"\",\"\",登録データ貼付!B91)","v":""},"","","","","",null,null,null,{"$f":"IF(登録データ貼付!C91=\"\",\"\",登録データ貼付!C91&\"　\"&登録データ貼付!D91)","v":""},{"$f":"IF(登録データ貼付!F91=\"\",\"\",登録データ貼付!F91&\"　\"&登録データ貼付!G91)","v":""},"",{"$f":"IF(登録データ貼付!H91=\"\",\"\",登録データ貼付!H91&\" \"&登録データ貼付!I91)","v":""},{"$f":"IF(登録データ貼付!V91=\"\",\"\",RIGHT(登録データ貼付!V91,1))","v":""},{"$f":"IF(登録データ貼付!K91=\"\",\"\",LEFT(登録データ貼付!K91,1))","v":""},{"$f":"IF(登録データ貼付!S91=\"\",\"\",登録データ貼付!S91)","v":""},null,null,"90"]
[{"$f":"IF(登録データ貼付!E92=\"\",\"\",登録データ貼付!E92)","v":""},{"$f":"IF(登録データ貼付!B92=\"\",\"\",登録データ貼付!B92)","v":""},"","","","","",null,null,null,{"$f":"IF(登録データ貼付!C92=\"\",\"\",登録データ貼付!C92&\"　\"&登録データ貼付!D92)","v":""},{"$f":"IF(登録データ貼付!F92=\"\",\"\",登録データ貼付!F92&\"　\"&登録データ貼付!G92)","v":""},"",{"$f":"IF(登録データ貼付!H92=\"\",\"\",登録データ貼付!H92&\" \"&登録データ貼付!I92)","v":""},{"$f":"IF(登録データ貼付!V92=\"\",\"\",RIGHT(登録データ貼付!V92,1))","v":""},{"$f":"IF(登録データ貼付!K92=\"\",\"\",LEFT(登録データ貼付!K92,1))","v":""},{"$f":"IF(登録データ貼付!S92=\"\",\"\",登録データ貼付!S92)","v":""},null,null,"91"]
[{"$f":"IF(登録データ貼付!E93=\"\",\"\",登録データ貼付!E93)","v":""},{"$f":"IF(登録データ貼付!B93=\"\",\"\",登録データ貼付!B93)","v":""},"","","","","",null,null,null,{"$f":"IF(登録データ貼付!C93=\"\",\"\",登録データ貼付!C93&\"　\"&登録データ貼付!D93)","v":""},{"$f":"IF(登録データ貼付!F93=\"\",\"\",登録データ貼付!F93&\"　\"&登録データ貼付!G93)","v":""},"",{"$f":"IF(登録データ貼付!H93=\"\",\"\",登録データ貼付!H93&\" \"&登録データ貼付!I93)","v":""},{"$f":"IF(登録データ貼付!V93=\"\",\"\",RIGHT(登録データ貼付!V93,1))","v":""},{"$f":"IF(登録データ貼付!K93=\"\",\"\",LEFT(登録データ貼付!K93,1))","v":""},{"$f":"IF(登録データ貼付!S93=\"\",\"\",登録データ貼付!S93)","v":""},null,null,"92"]
[{"$f":"IF(登録データ貼付!E94=\"\",\"\",登録データ貼付!E94)","v":""},{"$f":"IF(登録データ貼付!B94=\"\",\"\",登録データ貼付!B94)","v":""},"","","","","",null,null,null,{"$f":"IF(登録データ貼付!C94=\"\",\"\",登録データ貼付!C94&\"　\"&登録データ貼付!D94)","v":""},{"$f":"IF(登録データ貼付!F94=\"\",\"\",登録データ貼付!F94&\"　\"&登録データ貼付!G94)","v":""},"",{"$f":"IF(登録データ貼付!H94=\"\",\"\",登録データ貼付!H94&\" \"&登録データ貼付!I94)","v":""},{"$f":"IF(登録データ貼付!V94=\"\",\"\",RIGHT(登録データ貼付!V94,1))","v":""},{"$f":"IF(登録データ貼付!K94=\"\",\"\",LEFT(登録データ貼付!K94,1))","v":""},{"$f":"IF(登録データ貼付!S94=\"\",\"\",登録データ貼付!S94)","v":""},null,null,"93"]
[{"$f":"IF(登録データ貼付!E95=\"\",\"\",登録データ貼付!E95)","v":""},{"$f":"IF(登録データ貼付!B95=\"\",\"\",登録データ貼付!B95)","v":""},"","","","","",null,null,null,{"$f":"IF(登録データ貼付!C95=\"\",\"\",登録データ貼付!C95&\"　\"&登録データ貼付!D95)","v":""},{"$f":"IF(登録データ貼付!F95=\"\",\"\",登録データ貼付!F95&\"　\"&登録データ貼付!G95)","v":""},"",{"$f":"IF(登録データ貼付!H95=\"\",\"\",登録データ貼付!H95&\" \"&登録データ貼付!I95)","v":""},{"$f":"IF(登録データ貼付!V95=\"\",\"\",RIGHT(登録データ貼付!V95,1))","v":""},{"$f":"IF(登録データ貼付!K95=\"\",\"\",LEFT(登録データ貼付!K95,1))","v":""},{"$f":"IF(登録データ貼付!S95=\"\",\"\",登録データ貼付!S95)","v":""},null,null,"94"]
[{"$f":"IF(登録データ貼付!E96=\"\",\"\",登録データ貼付!E96)","v":""},{"$f":"IF(登録データ貼付!B96=\"\",\"\",登録データ貼付!B96)","v":""},"","","","","",null,null,null,{"$f":"IF(登録データ貼付!C96=\"\",\"\",登録データ貼付!C96&\"　\"&登録データ貼付!D96)","v":""},{"$f":"IF(登録データ貼付!F96=\"\",\"\",登録データ貼付!F96&\"　\"&登録データ貼付!G96)","v":""},"",{"$f":"IF(登録データ貼付!H96=\"\",\"\",登録データ貼付!H96&\" \"&登録データ貼付!I96)","v":""},{"$f":"IF(登録データ貼付!V96=\"\",\"\",RIGHT(登録データ貼付!V96,1))","v":""},{"$f":"IF(登録データ貼付!K96=\"\",\"\",LEFT(登録データ貼付!K96,1))","v":""},{"$f":"IF(登録データ貼付!S96=\"\",\"\",登録データ貼付!S96)","v":""},null,null,"95"]
[{"$f":"IF(登録データ貼付!E97=\"\",\"\",登録データ貼付!E97)","v":""},{"$f":"IF(登録データ貼付!B97=\"\",\"\",登録データ貼付!B97)","v":""},"","","","","",null,null,null,{"$f":"IF(登録データ貼付!C97=\"\",\"\",登録データ貼付!C97&\"　\"&登録データ貼付!D97)","v":""},{"$f":"IF(登録データ貼付!F97=\"\",\"\",登録データ貼付!F97&\"　\"&登録データ貼付!G97)","v":""},"",{"$f":"IF(登録データ貼付!H97=\"\",\"\",登録データ貼付!H97&\" \"&登録データ貼付!I97)","v":""},{"$f":"IF(登録データ貼付!V97=\"\",\"\",RIGHT(登録データ貼付!V97,1))","v":""},{"$f":"IF(登録データ貼付!K97=\"\",\"\",LEFT(登録データ貼付!K97,1))","v":""},{"$f":"IF(登録データ貼付!S97=\"\",\"\",登録データ貼付!S97)","v":""},null,null,"96"]
[{"$f":"IF(登録データ貼付!E98=\"\",\"\",登録データ貼付!E98)","v":""},{"$f":"IF(登録データ貼付!B98=\"\",\"\",登録データ貼付!B98)","v":""},"","","","","",null,null,null,{"$f":"IF(登録データ貼付!C98=\"\",\"\",登録データ貼付!C98&\"　\"&登録データ貼付!D98)","v":""},{"$f":"IF(登録データ貼付!F98=\"\",\"\",登録データ貼付!F98&\"　\"&登録データ貼付!G98)","v":""},"",{"$f":"IF(登録データ貼付!H98=\"\",\"\",登録データ貼付!H98&\" \"&登録データ貼付!I98)","v":""},{"$f":"IF(登録データ貼付!V98=\"\",\"\",RIGHT(登録データ貼付!V98,1))","v":""},{"$f":"IF(登録データ貼付!K98=\"\",\"\",LEFT(登録データ貼付!K98,1))","v":""},{"$f":"IF(登録データ貼付!S98=\"\",\"\",登録データ貼付!S98)","v":""},null,null,"97"]
[{"$f":"IF(登録データ貼付!E99=\"\",\"\",登録データ貼付!E99)","v":""},{"$f":"IF(登録データ貼付!B99=\"\",\"\",登録データ貼付!B99)","v":""},"","","","","",null,null,null,{"$f":"IF(登録データ貼付!C99=\"\",\"\",登録データ貼付!C99&\"　\"&登録データ貼付!D99)","v":""},{"$f":"IF(登録データ貼付!F99=\"\",\"\",登録データ貼付!F99&\"　\"&登録データ貼付!G99)","v":""},"",{"$f":"IF(登録データ貼付!H99=\"\",\"\",登録データ貼付!H99&\" \"&登録データ貼付!I99)","v":""},{"$f":"IF(登録データ貼付!V99=\"\",\"\",RIGHT(登録データ貼付!V99,1))","v":""},{"$f":"IF(登録データ貼付!K99=\"\",\"\",LEFT(登録データ貼付!K99,1))","v":""},{"$f":"IF(登録データ貼付!S99=\"\",\"\",登録データ貼付!S99)","v":""},null,null,"98"]
[{"$f":"IF(登録データ貼付!E100=\"\",\"\",登録データ貼付!E100)","v":""},{"$f":"IF(登録データ貼付!B100=\"\",\"\",登録データ貼付!B100)","v":""},"","","","","",null,null,null,{"$f":"IF(登録データ貼付!C100=\"\",\"\",登録データ貼付!C100&\"　\"&登録データ貼付!D100)","v":""},{"$f":"IF(登録データ貼付!F100=\"\",\"\",登録データ貼付!F100&\"　\"&登録データ貼付!G100)","v":""},"",{"$f":"IF(登録データ貼付!H100=\"\",\"\",登録データ貼付!H100&\" \"&登録データ貼付!I100)","v":""},{"$f":"IF(登録データ貼付!V100=\"\",\"\",RIGHT(登録データ貼付!V100,1))","v":""},{"$f":"IF(登録データ貼付!K100=\"\",\"\",LEFT(登録データ貼付!K100,1))","v":""},{"$f":"IF(登録データ貼付!S100=\"\",\"\",登録データ貼付!S100)","v":""},null,null,"99"]

{"sheet":"登録データ貼付","index":8,"n_rows":1,"n_cols":43,"rows_kept":1,"cut":false,"hidden":false,"merged":[]}
["年度","JAAF ID","氏名（姓）","氏名（名）","登録番号","フリガナ（姓）","フリガナ（名）","英字（姓）","英字（名）","国籍","性別","登録都道府県番号","登録都道府県名","団体UID","団体ID","団体名","団体名略称1","団体名略称2","生年月日","旧団体コード","備考","学年","団体区分","承認団体名","郵便番号","住所","携帯電話番号","卒業高校名","卒業中学名","メールアドレス","E-mail配信希望","勤務先名","勤務先郵便番号","勤務先都道府県","勤務先市区町村 / 番地 / 建物名","在籍学校都道府県","障がいのクラス","実施している種目","興味がある種目","指導者チェック","役職名","管理者","状態"]

{"sheet":"競技者マスタ（nans）","index":9,"n_rows":81,"n_cols":36,"rows_kept":81,"cut":false,"hidden":false,"merged":[]}
["競技者NO","所属コード1","所属コード2","ナンバー","ナンバー2","競技者名","競技者名カナ","競技者名略称","競技者名英字","国籍","性別","学年","生年","月日","個人所属地名","陸連コード","参加競技-競技コード1","参加競技-自己記録1","参加競技-オープン参加FLG1","参加競技-記録FLG1","参加競技-競技コード2","参加競技-自己記録2","参加競技-オープン参加FLG2","参加競技-記録FLG2","参加競技-競技コード3","参加競技-自己記録3","参加競技-オープン参加FLG3","参加競技-記録FLG3","参加競技-競技コード4","参加競技-自己記録4","参加競技-オープン参加FLG4","参加競技-記録FLG4","参加競技-競技コード5","参加競技-自己記録5","参加競技-オープン参加FLG5","参加競技-記録FLG5"]
[null,{"$f":"IF(E2=\"\",\"\",部員名簿!$W$5)","v":""},null,null,{"$f":"IF(新人入力!B11=\"\",\"\",新人入力!B11)","v":""},{"$f":"IF(新人入力!D11=\"\",\"\",新人入力!D11)","v":""},{"$f":"IF(新人入力!F11=\"\",\"\",新人入力!F11)","v":""},{"$f":"IF(F2=\"\",\"\",F2)","v":""},{"$f":"IF(新人入力!G11=\"\",\"\",新人入力!G11)","v":""},{"$f":"IF(E2=\"\",\"\",\"JPN\")","v":""},{"$f":"IF(E2=\"\",\"\",1)","v":""},{"$f":"IF(新人入力!E11=\"\",\"\",新人入力!E11)","v":""},{"$f":"IF(E2=\"\",\"\",VLOOKUP($E2,部員名簿!$A$5:$R$103,17,FALSE))","v":""},{"$f":"IF(E2=\"\",\"\",VLOOKUP($E2,部員名簿!$A$5:$R$103,17,FALSE))","v":""},null,{"$f":"IF(E2=\"\",\"\",VLOOKUP($E2,部員名簿!$A$5:$G$103,2,FALSE))","v":""},{"$f":"IF(新人入力!H11=\"\",\"\",新人入力!H11)","v":""},null,{"$f":"IF(Q2=\"\",\"\",0)","v":""},{"$f":"IF(Q2=\"\",\"\",0)","v":""},{"$f":"IF(新人入力!I11=\"\",\"\",新人入力!I11)","v":""},null,{"$f":"IF(U2=\"\",\"\",0)","v":""},{"$f":"IF(U2=\"\",\"\",0)","v":""},{"$f":"IF(新人入力!J11=\"\",\"\",新人入力!J11)","v":""},null,{"$f":"IF(Y2=\"\",\"\",0)","v":""},{"$f":"IF(Y2=\"\",\"\",0)","v":""}]
[null,{"$f":"IF(E3=\"\",\"\",部員名簿!$W$5)","v":""},null,null,{"$f":"IF(新人入力!B12=\"\",\"\",新人入力!B12)","v":""},{"$f":"IF(新人入力!D12=\"\",\"\",新人入力!D12)","v":""},{"$f":"IF(新人入力!F12=\"\",\"\",新人入力!F12)","v":""},{"$f":"IF(F3=\"\",\"\",F3)","v":""},{"$f":"IF(新人入力!G12=\"\",\"\",新人入力!G12)","v":""},{"$f":"IF(E3=\"\",\"\",\"JPN\")","v":""},{"$f":"IF(E3=\"\",\"\",1)","v":""},{"$f":"IF(新人入力!E12=\"\",\"\",新人入力!E12)","v":""},{"$f":"IF(E3=\"\",\"\",VLOOKUP($E3,部員名簿!$A$5:$R$103,17,FALSE))","v":""},{"$f":"IF(E3=\"\",\"\",VLOOKUP($E3,部員名簿!$A$5:$R$103,17,FALSE))","v":""},null,{"$f":"IF(E3=\"\",\"\",VLOOKUP($E3,部員名簿!$A$5:$G$103,2,FALSE))","v":""},{"$f":"IF(新人入力!H12=\"\",\"\",新人入力!H12)","v":""},null,{"$f":"IF(Q3=\"\",\"\",0)","v":""},{"$f":"IF(Q3=\"\",\"\",0)","v":""},{"$f":"IF(新人入力!I12=\"\",\"\",新人入力!I12)","v":""},null,{"$f":"IF(U3=\"\",\"\",0)","v":""},{"$f":"IF(U3=\"\",\"\",0)","v":""},{"$f":"IF(新人入力!J12=\"\",\"\",新人入力!J12)","v":""},null,{"$f":"IF(Y3=\"\",\"\",0)","v":""},{"$f":"IF(Y3=\"\",\"\",0)","v":""}]
[null,{"$f":"IF(E4=\"\",\"\",部員名簿!$W$5)","v":""},null,null,{"$f":"IF(新人入力!B13=\"\",\"\",新人入力!B13)","v":""},{"$f":"IF(新人入力!D13=\"\",\"\",新人入力!D13)","v":""},{"$f":"IF(新人入力!F13=\"\",\"\",新人入力!F13)","v":""},"",{"$f":"IF(新人入力!G13=\"\",\"\",新人入力!G13)","v":""},"","",{"$f":"IF(新人入力!E13=\"\",\"\",新人入力!E13)","v":""},{"$f":"IF(E4=\"\",\"\",VLOOKUP($E4,部員名簿!$A$5:$R$103,17,FALSE))","v":""},{"$f":"IF(E4=\"\",\"\",VLOOKUP($E4,部員名簿!$A$5:$R$103,17,FALSE))","v":""},null,{"$f":"IF(E4=\"\",\"\",VLOOKUP($E4,部員名簿!$A$5:$G$103,2,FALSE))","v":""},{"$f":"IF(新人入力!H13=\"\",\"\",新人入力!H13)","v":""},null,"","",{"$f":"IF(新人入力!I13=\"\",\"\",新人入力!I13)","v":""},null,"","",{"$f":"IF(新人入力!J13=\"\",\"\",新人入力!J13)","v":""},null,"",""]
[null,{"$f":"IF(E5=\"\",\"\",部員名簿!$W$5)","v":""},null,null,{"$f":"IF(新人入力!B14=\"\",\"\",新人入力!B14)","v":""},{"$f":"IF(新人入力!D14=\"\",\"\",新人入力!D14)","v":""},{"$f":"IF(新人入力!F14=\"\",\"\",新人入力!F14)","v":""},"",{"$f":"IF(新人入力!G14=\"\",\"\",新人入力!G14)","v":""},"","",{"$f":"IF(新人入力!E14=\"\",\"\",新人入力!E14)","v":""},{"$f":"IF(E5=\"\",\"\",VLOOKUP($E5,部員名簿!$A$5:$R$103,17,FALSE))","v":""},{"$f":"IF(E5=\"\",\"\",VLOOKUP($E5,部員名簿!$A$5:$R$103,17,FALSE))","v":""},null,{"$f":"IF(E5=\"\",\"\",VLOOKUP($E5,部員名簿!$A$5:$G$103,2,FALSE))","v":""},{"$f":"IF(新人入力!H14=\"\",\"\",新人入力!H14)","v":""},null,"","",{"$f":"IF(新人入力!I14=\"\",\"\",新人入力!I14)","v":""},null,"","",{"$f":"IF(新人入力!J14=\"\",\"\",新人入力!J14)","v":""},null,"",""]
[null,{"$f":"IF(E6=\"\",\"\",部員名簿!$W$5)","v":""},null,null,{"$f":"IF(新人入力!B15=\"\",\"\",新人入力!B15)","v":""},{"$f":"IF(新人入力!D15=\"\",\"\",新人入力!D15)","v":""},{"$f":"IF(新人入力!F15=\"\",\"\",新人入力!F15)","v":""},"",{"$f":"IF(新人入力!G15=\"\",\"\",新人入力!G15)","v":""},"","",{"$f":"IF(新人入力!E15=\"\",\"\",新人入力!E15)","v":""},{"$f":"IF(E6=\"\",\"\",VLOOKUP($E6,部員名簿!$A$5:$R$103,17,FALSE))","v":""},{"$f":"IF(E6=\"\",\"\",VLOOKUP($E6,部員名簿!$A$5:$R$103,17,FALSE))","v":""},null,{"$f":"IF(E6=\"\",\"\",VLOOKUP($E6,部員名簿!$A$5:$G$103,2,FALSE))","v":""},{"$f":"IF(新人入力!H15=\"\",\"\",新人入力!H15)","v":""},null,"","",{"$f":"IF(新人入力!I15=\"\",\"\",新人入力!I15)","v":""},null,"","",{"$f":"IF(新人入力!J15=\"\",\"\",新人入力!J15)","v":""},null,"",""]
[null,{"$f":"IF(E7=\"\",\"\",部員名簿!$W$5)","v":""},null,null,{"$f":"IF(新人入力!B16=\"\",\"\",新人入力!B16)","v":""},{"$f":"IF(新人入力!D16=\"\",\"\",新人入力!D16)","v":""},{"$f":"IF(新人入力!F16=\"\",\"\",新人入力!F16)","v":""},"",{"$f":"IF(新人入力!G16=\"\",\"\",新人入力!G16)","v":""},"","",{"$f":"IF(新人入力!E16=\"\",\"\",新人入力!E16)","v":""},{"$f":"IF(E7=\"\",\"\",VLOOKUP($E7,部員名簿!$A$5:$R$103,17,FALSE))","v":""},{"$f":"IF(E7=\"\",\"\",VLOOKUP($E7,部員名簿!$A$5:$R$103,17,FALSE))","v":""},null,{"$f":"IF(E7=\"\",\"\",VLOOKUP($E7,部員名簿!$A$5:$G$103,2,FALSE))","v":""},{"$f":"IF(新人入力!H16=\"\",\"\",新人入力!H16)","v":""},null,"","",{"$f":"IF(新人入力!I16=\"\",\"\",新人入力!I16)","v":""},null,"","",{"$f":"IF(新人入力!J16=\"\",\"\",新人入力!J16)","v":""},null,"",""]
[null,{"$f":"IF(E8=\"\",\"\",部員名簿!$W$5)","v":""},null,null,{"$f":"IF(新人入力!B17=\"\",\"\",新人入力!B17)","v":""},{"$f":"IF(新人入力!D17=\"\",\"\",新人入力!D17)","v":""},{"$f":"IF(新人入力!F17=\"\",\"\",新人入力!F17)","v":""},"",{"$f":"IF(新人入力!G17=\"\",\"\",新人入力!G17)","v":""},"","",{"$f":"IF(新人入力!E17=\"\",\"\",新人入力!E17)","v":""},{"$f":"IF(E8=\"\",\"\",VLOOKUP($E8,部員名簿!$A$5:$R$103,17,FALSE))","v":""},{"$f":"IF(E8=\"\",\"\",VLOOKUP($E8,部員名簿!$A$5:$R$103,17,FALSE))","v":""},null,{"$f":"IF(E8=\"\",\"\",VLOOKUP($E8,部員名簿!$A$5:$G$103,2,FALSE))","v":""},{"$f":"IF(新人入力!H17=\"\",\"\",新人入力!H17)","v":""},null,"","",{"$f":"IF(新人入力!I17=\"\",\"\",新人入力!I17)","v":""},null,"","",{"$f":"IF(新人入力!J17=\"\",\"\",新人入力!J17)","v":""},null,"",""]
[null,{"$f":"IF(E9=\"\",\"\",部員名簿!$W$5)","v":""},null,null,{"$f":"IF(新人入力!B18=\"\",\"\",新人入力!B18)","v":""},{"$f":"IF(新人入力!D18=\"\",\"\",新人入力!D18)","v":""},{"$f":"IF(新人入力!F18=\"\",\"\",新人入力!F18)","v":""},"",{"$f":"IF(新人入力!G18=\"\",\"\",新人入力!G18)","v":""},"","",{"$f":"IF(新人入力!E18=\"\",\"\",新人入力!E18)","v":""},{"$f":"IF(E9=\"\",\"\",VLOOKUP($E9,部員名簿!$A$5:$R$103,17,FALSE))","v":""},{"$f":"IF(E9=\"\",\"\",VLOOKUP($E9,部員名簿!$A$5:$R$103,17,FALSE))","v":""},null,{"$f":"IF(E9=\"\",\"\",VLOOKUP($E9,部員名簿!$A$5:$G$103,2,FALSE))","v":""},{"$f":"IF(新人入力!H18=\"\",\"\",新人入力!H18)","v":""},null,"","",{"$f":"IF(新人入力!I18=\"\",\"\",新人入力!I18)","v":""},null,"","",{"$f":"IF(新人入力!J18=\"\",\"\",新人入力!J18)","v":""},null,"",""]
[null,{"$f":"IF(E10=\"\",\"\",部員名簿!$W$5)","v":""},null,null,{"$f":"IF(新人入力!B19=\"\",\"\",新人入力!B19)","v":""},{"$f":"IF(新人入力!D19=\"\",\"\",新人入力!D19)","v":""},{"$f":"IF(新人入力!F19=\"\",\"\",新人入力!F19)","v":""},"",{"$f":"IF(新人入力!G19=\"\",\"\",新人入力!G19)","v":""},"","",{"$f":"IF(新人入力!E19=\"\",\"\",新人入力!E19)","v":""},{"$f":"IF(E10=\"\",\"\",VLOOKUP($E10,部員名簿!$A$5:$R$103,17,FALSE))","v":""},{"$f":"IF(E10=\"\",\"\",VLOOKUP($E10,部員名簿!$A$5:$R$103,17,FALSE))","v":""},null,{"$f":"IF(E10=\"\",\"\",VLOOKUP($E10,部員名簿!$A$5:$G$103,2,FALSE))","v":""},{"$f":"IF(新人入力!H19=\"\",\"\",新人入力!H19)","v":""},null,"","",{"$f":"IF(新人入力!I19=\"\",\"\",新人入力!I19)","v":""},null,"","",{"$f":"IF(新人入力!J19=\"\",\"\",新人入力!J19)","v":""},null,"",""]
[null,{"$f":"IF(E11=\"\",\"\",部員名簿!$W$5)","v":""},null,null,{"$f":"IF(新人入力!B20=\"\",\"\",新人入力!B20)","v":""},{"$f":"IF(新人入力!D20=\"\",\"\",新人入力!D20)","v":""},{"$f":"IF(新人入力!F20=\"\",\"\",新人入力!F20)","v":""},"",{"$f":"IF(新人入力!G20=\"\",\"\",新人入力!G20)","v":""},"","",{"$f":"IF(新人入力!E20=\"\",\"\",新人入力!E20)","v":""},{"$f":"IF(E11=\"\",\"\",VLOOKUP($E11,部員名簿!$A$5:$R$103,17,FALSE))","v":""},{"$f":"IF(E11=\"\",\"\",VLOOKUP($E11,部員名簿!$A$5:$R$103,17,FALSE))","v":""},null,{"$f":"IF(E11=\"\",\"\",VLOOKUP($E11,部員名簿!$A$5:$G$103,2,FALSE))","v":""},{"$f":"IF(新人入力!H20=\"\",\"\",新人入力!H20)","v":""},null,"","",{"$f":"IF(新人入力!I20=\"\",\"\",新人入力!I20)","v":""},null,"","",{"$f":"IF(新人入力!J20=\"\",\"\",新人入力!J20)","v":""},null,"",""]
[null,{"$f":"IF(E12=\"\",\"\",部員名簿!$W$5)","v":""},null,null,{"$f":"IF(新人入力!B21=\"\",\"\",新人入力!B21)","v":""},{"$f":"IF(新人入力!D21=\"\",\"\",新人入力!D21)","v":""},{"$f":"IF(新人入力!F21=\"\",\"\",新人入力!F21)","v":""},"",{"$f":"IF(新人入力!G21=\"\",\"\",新人入力!G21)","v":""},"","",{"$f":"IF(新人入力!E21=\"\",\"\",新人入力!E21)","v":""},{"$f":"IF(E12=\"\",\"\",VLOOKUP($E12,部員名簿!$A$5:$R$103,17,FALSE))","v":""},{"$f":"IF(E12=\"\",\"\",VLOOKUP($E12,部員名簿!$A$5:$R$103,17,FALSE))","v":""},null,{"$f":"IF(E12=\"\",\"\",VLOOKUP($E12,部員名簿!$A$5:$G$103,2,FALSE))","v":""},{"$f":"IF(新人入力!H21=\"\",\"\",新人入力!H21)","v":""},null,"","",{"$f":"IF(新人入力!I21=\"\",\"\",新人入力!I21)","v":""},null,"","",{"$f":"IF(新人入力!J21=\"\",\"\",新人入力!J21)","v":""},null,"",""]
[null,{"$f":"IF(E13=\"\",\"\",部員名簿!$W$5)","v":""},null,null,{"$f":"IF(新人入力!B22=\"\",\"\",新人入力!B22)","v":""},{"$f":"IF(新人入力!D22=\"\",\"\",新人入力!D22)","v":""},{"$f":"IF(新人入力!F22=\"\",\"\",新人入力!F22)","v":""},"",{"$f":"IF(新人入力!G22=\"\",\"\",新人入力!G22)","v":""},"","",{"$f":"IF(新人入力!E22=\"\",\"\",新人入力!E22)","v":""},{"$f":"IF(E13=\"\",\"\",VLOOKUP($E13,部員名簿!$A$5:$R$103,17,FALSE))","v":""},{"$f":"IF(E13=\"\",\"\",VLOOKUP($E13,部員名簿!$A$5:$R$103,17,FALSE))","v":""},null,{"$f":"IF(E13=\"\",\"\",VLOOKUP($E13,部員名簿!$A$5:$G$103,2,FALSE))","v":""},{"$f":"IF(新人入力!H22=\"\",\"\",新人入力!H22)","v":""},null,"","",{"$f":"IF(新人入力!I22=\"\",\"\",新人入力!I22)","v":""},null,"","",{"$f":"IF(新人入力!J22=\"\",\"\",新人入力!J22)","v":""},null,"",""]
[null,{"$f":"IF(E14=\"\",\"\",部員名簿!$W$5)","v":""},null,null,{"$f":"IF(新人入力!B23=\"\",\"\",新人入力!B23)","v":""},{"$f":"IF(新人入力!D23=\"\",\"\",新人入力!D23)","v":""},{"$f":"IF(新人入力!F23=\"\",\"\",新人入力!F23)","v":""},"",{"$f":"IF(新人入力!G23=\"\",\"\",新人入力!G23)","v":""},"","",{"$f":"IF(新人入力!E23=\"\",\"\",新人入力!E23)","v":""},{"$f":"IF(E14=\"\",\"\",VLOOKUP($E14,部員名簿!$A$5:$R$103,17,FALSE))","v":""},{"$f":"IF(E14=\"\",\"\",VLOOKUP($E14,部員名簿!$A$5:$R$103,17,FALSE))","v":""},null,{"$f":"IF(E14=\"\",\"\",VLOOKUP($E14,部員名簿!$A$5:$G$103,2,FALSE))","v":""},{"$f":"IF(新人入力!H23=\"\",\"\",新人入力!H23)","v":""},null,"","",{"$f":"IF(新人入力!I23=\"\",\"\",新人入力!I23)","v":""},null,"","",{"$f":"IF(新人入力!J23=\"\",\"\",新人入力!J23)","v":""},null,"",""]
[null,{"$f":"IF(E15=\"\",\"\",部員名簿!$W$5)","v":""},null,null,{"$f":"IF(新人入力!B24=\"\",\"\",新人入力!B24)","v":""},{"$f":"IF(新人入力!D24=\"\",\"\",新人入力!D24)","v":""},{"$f":"IF(新人入力!F24=\"\",\"\",新人入力!F24)","v":""},"",{"$f":"IF(新人入力!G24=\"\",\"\",新人入力!G24)","v":""},"","",{"$f":"IF(新人入力!E24=\"\",\"\",新人入力!E24)","v":""},{"$f":"IF(E15=\"\",\"\",VLOOKUP($E15,部員名簿!$A$5:$R$103,17,FALSE))","v":""},{"$f":"IF(E15=\"\",\"\",VLOOKUP($E15,部員名簿!$A$5:$R$103,17,FALSE))","v":""},null,{"$f":"IF(E15=\"\",\"\",VLOOKUP($E15,部員名簿!$A$5:$G$103,2,FALSE))","v":""},{"$f":"IF(新人入力!H24=\"\",\"\",新人入力!H24)","v":""},null,"","",{"$f":"IF(新人入力!I24=\"\",\"\",新人入力!I24)","v":""},null,"","",{"$f":"IF(新人入力!J24=\"\",\"\",新人入力!J24)","v":""},null,"",""]
[null,{"$f":"IF(E16=\"\",\"\",部員名簿!$W$5)","v":""},null,null,{"$f":"IF(新人入力!B25=\"\",\"\",新人入力!B25)","v":""},{"$f":"IF(新人入力!D25=\"\",\"\",新人入力!D25)","v":""},{"$f":"IF(新人入力!F25=\"\",\"\",新人入力!F25)","v":""},"",{"$f":"IF(新人入力!G25=\"\",\"\",新人入力!G25)","v":""},"","",{"$f":"IF(新人入力!E25=\"\",\"\",新人入力!E25)","v":""},{"$f":"IF(E16=\"\",\"\",VLOOKUP($E16,部員名簿!$A$5:$R$103,17,FALSE))","v":""},{"$f":"IF(E16=\"\",\"\",VLOOKUP($E16,部員名簿!$A$5:$R$103,17,FALSE))","v":""},null,{"$f":"IF(E16=\"\",\"\",VLOOKUP($E16,部員名簿!$A$5:$G$103,2,FALSE))","v":""},{"$f":"IF(新人入力!H25=\"\",\"\",新人入力!H25)","v":""},null,"","",{"$f":"IF(新人入力!I25=\"\",\"\",新人入力!I25)","v":""},null,"","",{"$f":"IF(新人入力!J25=\"\",\"\",新人入力!J25)","v":""},null,"",""]
[null,{"$f":"IF(E17=\"\",\"\",部員名簿!$W$5)","v":""},null,null,{"$f":"IF(新人入力!B26=\"\",\"\",新人入力!B26)","v":""},{"$f":"IF(新人入力!D26=\"\",\"\",新人入力!D26)","v":""},{"$f":"IF(新人入力!F26=\"\",\"\",新人入力!F26)","v":""},"",{"$f":"IF(新人入力!G26=\"\",\"\",新人入力!G26)","v":""},"","",{"$f":"IF(新人入力!E26=\"\",\"\",新人入力!E26)","v":""},{"$f":"IF(E17=\"\",\"\",VLOOKUP($E17,部員名簿!$A$5:$R$103,17,FALSE))","v":""},{"$f":"IF(E17=\"\",\"\",VLOOKUP($E17,部員名簿!$A$5:$R$103,17,FALSE))","v":""},null,{"$f":"IF(E17=\"\",\"\",VLOOKUP($E17,部員名簿!$A$5:$G$103,2,FALSE))","v":""},{"$f":"IF(新人入力!H26=\"\",\"\",新人入力!H26)","v":""},null,"","",{"$f":"IF(新人入力!I26=\"\",\"\",新人入力!I26)","v":""},null,"","",{"$f":"IF(新人入力!J26=\"\",\"\",新人入力!J26)","v":""},null,"",""]
[null,{"$f":"IF(E18=\"\",\"\",部員名簿!$W$5)","v":""},null,null,{"$f":"IF(新人入力!B27=\"\",\"\",新人入力!B27)","v":""},{"$f":"IF(新人入力!D27=\"\",\"\",新人入力!D27)","v":""},{"$f":"IF(新人入力!F27=\"\",\"\",新人入力!F27)","v":""},"",{"$f":"IF(新人入力!G27=\"\",\"\",新人入力!G27)","v":""},"","",{"$f":"IF(新人入力!E27=\"\",\"\",新人入力!E27)","v":""},{"$f":"IF(E18=\"\",\"\",VLOOKUP($E18,部員名簿!$A$5:$R$103,17,FALSE))","v":""},{"$f":"IF(E18=\"\",\"\",VLOOKUP($E18,部員名簿!$A$5:$R$103,17,FALSE))","v":""},null,{"$f":"IF(E18=\"\",\"\",VLOOKUP($E18,部員名簿!$A$5:$G$103,2,FALSE))","v":""},{"$f":"IF(新人入力!H27=\"\",\"\",新人入力!H27)","v":""},null,"","",{"$f":"IF(新人入力!I27=\"\",\"\",新人入力!I27)","v":""},null,"","",{"$f":"IF(新人入力!J27=\"\",\"\",新人入力!J27)","v":""},null,"",""]
[null,{"$f":"IF(E19=\"\",\"\",部員名簿!$W$5)","v":""},null,null,{"$f":"IF(新人入力!B28=\"\",\"\",新人入力!B28)","v":""},{"$f":"IF(新人入力!D28=\"\",\"\",新人入力!D28)","v":""},{"$f":"IF(新人入力!F28=\"\",\"\",新人入力!F28)","v":""},"",{"$f":"IF(新人入力!G28=\"\",\"\",新人入力!G28)","v":""},"","",{"$f":"IF(新人入力!E28=\"\",\"\",新人入力!E28)","v":""},{"$f":"IF(E19=\"\",\"\",VLOOKUP($E19,部員名簿!$A$5:$R$103,17,FALSE))","v":""},{"$f":"IF(E19=\"\",\"\",VLOOKUP($E19,部員名簿!$A$5:$R$103,17,FALSE))","v":""},null,{"$f":"IF(E19=\"\",\"\",VLOOKUP($E19,部員名簿!$A$5:$G$103,2,FALSE))","v":""},{"$f":"IF(新人入力!H28=\"\",\"\",新人入力!H28)","v":""},null,"","",{"$f":"IF(新人入力!I28=\"\",\"\",新人入力!I28)","v":""},null,"","",{"$f":"IF(新人入力!J28=\"\",\"\",新人入力!J28)","v":""},null,"",""]
[null,{"$f":"IF(E20=\"\",\"\",部員名簿!$W$5)","v":""},null,null,{"$f":"IF(新人入力!B29=\"\",\"\",新人入力!B29)","v":""},{"$f":"IF(新人入力!D29=\"\",\"\",新人入力!D29)","v":""},{"$f":"IF(新人入力!F29=\"\",\"\",新人入力!F29)","v":""},"",{"$f":"IF(新人入力!G29=\"\",\"\",新人入力!G29)","v":""},"","",{"$f":"IF(新人入力!E29=\"\",\"\",新人入力!E29)","v":""},{"$f":"IF(E20=\"\",\"\",VLOOKUP($E20,部員名簿!$A$5:$R$103,17,FALSE))","v":""},{"$f":"IF(E20=\"\",\"\",VLOOKUP($E20,部員名簿!$A$5:$R$103,17,FALSE))","v":""},null,{"$f":"IF(E20=\"\",\"\",VLOOKUP($E20,部員名簿!$A$5:$G$103,2,FALSE))","v":""},{"$f":"IF(新人入力!H29=\"\",\"\",新人入力!H29)","v":""},null,"","",{"$f":"IF(新人入力!I29=\"\",\"\",新人入力!I29)","v":""},null,"","",{"$f":"IF(新人入力!J29=\"\",\"\",新人入力!J29)","v":""},null,"",""]
[null,{"$f":"IF(E21=\"\",\"\",部員名簿!$W$5)","v":""},null,null,{"$f":"IF(新人入力!B30=\"\",\"\",新人入力!B30)","v":""},{"$f":"IF(新人入力!D30=\"\",\"\",新人入力!D30)","v":""},{"$f":"IF(新人入力!F30=\"\",\"\",新人入力!F30)","v":""},"",{"$f":"IF(新人入力!G30=\"\",\"\",新人入力!G30)","v":""},"","",{"$f":"IF(新人入力!E30=\"\",\"\",新人入力!E30)","v":""},{"$f":"IF(E21=\"\",\"\",VLOOKUP($E21,部員名簿!$A$5:$R$103,17,FALSE))","v":""},{"$f":"IF(E21=\"\",\"\",VLOOKUP($E21,部員名簿!$A$5:$R$103,17,FALSE))","v":""},null,{"$f":"IF(E21=\"\",\"\",VLOOKUP($E21,部員名簿!$A$5:$G$103,2,FALSE))","v":""},{"$f":"IF(新人入力!H30=\"\",\"\",新人入力!H30)","v":""},null,"","",{"$f":"IF(新人入力!I30=\"\",\"\",新人入力!I30)","v":""},null,"","",{"$f":"IF(新人入力!J30=\"\",\"\",新人入力!J30)","v":""},null,"",""]
[null,{"$f":"IF(E22=\"\",\"\",部員名簿!$W$5)","v":""},null,null,{"$f":"IF(新人入力!B31=\"\",\"\",新人入力!B31)","v":""},{"$f":"IF(新人入力!D31=\"\",\"\",新人入力!D31)","v":""},{"$f":"IF(新人入力!F31=\"\",\"\",新人入力!F31)","v":""},"",{"$f":"IF(新人入力!G31=\"\",\"\",新人入力!G31)","v":""},"","",{"$f":"IF(新人入力!E31=\"\",\"\",新人入力!E31)","v":""},{"$f":"IF(E22=\"\",\"\",VLOOKUP($E22,部員名簿!$A$5:$R$103,17,FALSE))","v":""},{"$f":"IF(E22=\"\",\"\",VLOOKUP($E22,部員名簿!$A$5:$R$103,17,FALSE))","v":""},null,{"$f":"IF(E22=\"\",\"\",VLOOKUP($E22,部員名簿!$A$5:$G$103,2,FALSE))","v":""},{"$f":"IF(新人入力!H31=\"\",\"\",新人入力!H31)","v":""},null,"","",{"$f":"IF(新人入力!I31=\"\",\"\",新人入力!I31)","v":""},null,"","",{"$f":"IF(新人入力!J31=\"\",\"\",新人入力!J31)","v":""},null,"",""]
[null,{"$f":"IF(E23=\"\",\"\",部員名簿!$W$5)","v":""},null,null,{"$f":"IF(新人入力!B32=\"\",\"\",新人入力!B32)","v":""},{"$f":"IF(新人入力!D32=\"\",\"\",新人入力!D32)","v":""},{"$f":"IF(新人入力!F32=\"\",\"\",新人入力!F32)","v":""},"",{"$f":"IF(新人入力!G32=\"\",\"\",新人入力!G32)","v":""},"","",{"$f":"IF(新人入力!E32=\"\",\"\",新人入力!E32)","v":""},{"$f":"IF(E23=\"\",\"\",VLOOKUP($E23,部員名簿!$A$5:$R$103,17,FALSE))","v":""},{"$f":"IF(E23=\"\",\"\",VLOOKUP($E23,部員名簿!$A$5:$R$103,17,FALSE))","v":""},null,{"$f":"IF(E23=\"\",\"\",VLOOKUP($E23,部員名簿!$A$5:$G$103,2,FALSE))","v":""},{"$f":"IF(新人入力!H32=\"\",\"\",新人入力!H32)","v":""},null,"","",{"$f":"IF(新人入力!I32=\"\",\"\",新人入力!I32)","v":""},null,"","",{"$f":"IF(新人入力!J32=\"\",\"\",新人入力!J32)","v":""},null,"",""]
[null,{"$f":"IF(E24=\"\",\"\",部員名簿!$W$5)","v":""},null,null,{"$f":"IF(新人入力!B33=\"\",\"\",新人入力!B33)","v":""},{"$f":"IF(新人入力!D33=\"\",\"\",新人入力!D33)","v":""},{"$f":"IF(新人入力!F33=\"\",\"\",新人入力!F33)","v":""},"",{"$f":"IF(新人入力!G33=\"\",\"\",新人入力!G33)","v":""},"","",{"$f":"IF(新人入力!E33=\"\",\"\",新人入力!E33)","v":""},{"$f":"IF(E24=\"\",\"\",VLOOKUP($E24,部員名簿!$A$5:$R$103,17,FALSE))","v":""},{"$f":"IF(E24=\"\",\"\",VLOOKUP($E24,部員名簿!$A$5:$R$103,17,FALSE))","v":""},null,{"$f":"IF(E24=\"\",\"\",VLOOKUP($E24,部員名簿!$A$5:$G$103,2,FALSE))","v":""},{"$f":"IF(新人入力!H33=\"\",\"\",新人入力!H33)","v":""},null,"","",{"$f":"IF(新人入力!I33=\"\",\"\",新人入力!I33)","v":""},null,"","",{"$f":"IF(新人入力!J33=\"\",\"\",新人入力!J33)","v":""},null,"",""]
[null,{"$f":"IF(E25=\"\",\"\",部員名簿!$W$5)","v":""},null,null,{"$f":"IF(新人入力!B34=\"\",\"\",新人入力!B34)","v":""},{"$f":"IF(新人入力!D34=\"\",\"\",新人入力!D34)","v":""},{"$f":"IF(新人入力!F34=\"\",\"\",新人入力!F34)","v":""},"",{"$f":"IF(新人入力!G34=\"\",\"\",新人入力!G34)","v":""},"","",{"$f":"IF(新人入力!E34=\"\",\"\",新人入力!E34)","v":""},{"$f":"IF(E25=\"\",\"\",VLOOKUP($E25,部員名簿!$A$5:$R$103,17,FALSE))","v":""},{"$f":"IF(E25=\"\",\"\",VLOOKUP($E25,部員名簿!$A$5:$R$103,17,FALSE))","v":""},null,{"$f":"IF(E25=\"\",\"\",VLOOKUP($E25,部員名簿!$A$5:$G$103,2,FALSE))","v":""},{"$f":"IF(新人入力!H34=\"\",\"\",新人入力!H34)","v":""},null,"","",{"$f":"IF(新人入力!I34=\"\",\"\",新人入力!I34)","v":""},null,"","",{"$f":"IF(新人入力!J34=\"\",\"\",新人入力!J34)","v":""},null,"",""]
[null,{"$f":"IF(E26=\"\",\"\",部員名簿!$W$5)","v":""},null,null,{"$f":"IF(新人入力!B35=\"\",\"\",新人入力!B35)","v":""},{"$f":"IF(新人入力!D35=\"\",\"\",新人入力!D35)","v":""},{"$f":"IF(新人入力!F35=\"\",\"\",新人入力!F35)","v":""},"",{"$f":"IF(新人入力!G35=\"\",\"\",新人入力!G35)","v":""},"","",{"$f":"IF(新人入力!E35=\"\",\"\",新人入力!E35)","v":""},{"$f":"IF(E26=\"\",\"\",VLOOKUP($E26,部員名簿!$A$5:$R$103,17,FALSE))","v":""},{"$f":"IF(E26=\"\",\"\",VLOOKUP($E26,部員名簿!$A$5:$R$103,17,FALSE))","v":""},null,{"$f":"IF(E26=\"\",\"\",VLOOKUP($E26,部員名簿!$A$5:$G$103,2,FALSE))","v":""},{"$f":"IF(新人入力!H35=\"\",\"\",新人入力!H35)","v":""},null,"","",{"$f":"IF(新人入力!I35=\"\",\"\",新人入力!I35)","v":""},null,"","",{"$f":"IF(新人入力!J35=\"\",\"\",新人入力!J35)","v":""},null,"",""]
[null,{"$f":"IF(E27=\"\",\"\",部員名簿!$W$5)","v":""},null,null,{"$f":"IF(新人入力!B36=\"\",\"\",新人入力!B36)","v":""},{"$f":"IF(新人入力!D36=\"\",\"\",新人入力!D36)","v":""},{"$f":"IF(新人入力!F36=\"\",\"\",新人入力!F36)","v":""},"",{"$f":"IF(新人入力!G36=\"\",\"\",新人入力!G36)","v":""},"","",{"$f":"IF(新人入力!E36=\"\",\"\",新人入力!E36)","v":""},{"$f":"IF(E27=\"\",\"\",VLOOKUP($E27,部員名簿!$A$5:$R$103,17,FALSE))","v":""},{"$f":"IF(E27=\"\",\"\",VLOOKUP($E27,部員名簿!$A$5:$R$103,17,FALSE))","v":""},null,{"$f":"IF(E27=\"\",\"\",VLOOKUP($E27,部員名簿!$A$5:$G$103,2,FALSE))","v":""},{"$f":"IF(新人入力!H36=\"\",\"\",新人入力!H36)","v":""},null,"","",{"$f":"IF(新人入力!I36=\"\",\"\",新人入力!I36)","v":""},null,"","",{"$f":"IF(新人入力!J36=\"\",\"\",新人入力!J36)","v":""},null,"",""]
[null,{"$f":"IF(E28=\"\",\"\",部員名簿!$W$5)","v":""},null,null,{"$f":"IF(新人入力!B37=\"\",\"\",新人入力!B37)","v":""},{"$f":"IF(新人入力!D37=\"\",\"\",新人入力!D37)","v":""},{"$f":"IF(新人入力!F37=\"\",\"\",新人入力!F37)","v":""},"",{"$f":"IF(新人入力!G37=\"\",\"\",新人入力!G37)","v":""},"","",{"$f":"IF(新人入力!E37=\"\",\"\",新人入力!E37)","v":""},{"$f":"IF(E28=\"\",\"\",VLOOKUP($E28,部員名簿!$A$5:$R$103,17,FALSE))","v":""},{"$f":"IF(E28=\"\",\"\",VLOOKUP($E28,部員名簿!$A$5:$R$103,17,FALSE))","v":""},null,{"$f":"IF(E28=\"\",\"\",VLOOKUP($E28,部員名簿!$A$5:$G$103,2,FALSE))","v":""},{"$f":"IF(新人入力!H37=\"\",\"\",新人入力!H37)","v":""},null,"","",{"$f":"IF(新人入力!I37=\"\",\"\",新人入力!I37)","v":""},null,"","",{"$f":"IF(新人入力!J37=\"\",\"\",新人入力!J37)","v":""},null,"",""]
[null,{"$f":"IF(E29=\"\",\"\",部員名簿!$W$5)","v":""},null,null,{"$f":"IF(新人入力!B38=\"\",\"\",新人入力!B38)","v":""},{"$f":"IF(新人入力!D38=\"\",\"\",新人入力!D38)","v":""},{"$f":"IF(新人入力!F38=\"\",\"\",新人入力!F38)","v":""},"",{"$f":"IF(新人入力!G38=\"\",\"\",新人入力!G38)","v":""},"","",{"$f":"IF(新人入力!E38=\"\",\"\",新人入力!E38)","v":""},{"$f":"IF(E29=\"\",\"\",VLOOKUP($E29,部員名簿!$A$5:$R$103,17,FALSE))","v":""},{"$f":"IF(E29=\"\",\"\",VLOOKUP($E29,部員名簿!$A$5:$R$103,17,FALSE))","v":""},null,{"$f":"IF(E29=\"\",\"\",VLOOKUP($E29,部員名簿!$A$5:$G$103,2,FALSE))","v":""},{"$f":"IF(新人入力!H38=\"\",\"\",新人入力!H38)","v":""},null,"","",{"$f":"IF(新人入力!I38=\"\",\"\",新人入力!I38)","v":""},null,"","",{"$f":"IF(新人入力!J38=\"\",\"\",新人入力!J38)","v":""},null,"",""]
[null,{"$f":"IF(E30=\"\",\"\",部員名簿!$W$5)","v":""},null,null,{"$f":"IF(新人入力!B39=\"\",\"\",新人入力!B39)","v":""},{"$f":"IF(新人入力!D39=\"\",\"\",新人入力!D39)","v":""},{"$f":"IF(新人入力!F39=\"\",\"\",新人入力!F39)","v":""},"",{"$f":"IF(新人入力!G39=\"\",\"\",新人入力!G39)","v":""},"","",{"$f":"IF(新人入力!E39=\"\",\"\",新人入力!E39)","v":""},{"$f":"IF(E30=\"\",\"\",VLOOKUP($E30,部員名簿!$A$5:$R$103,17,FALSE))","v":""},{"$f":"IF(E30=\"\",\"\",VLOOKUP($E30,部員名簿!$A$5:$R$103,17,FALSE))","v":""},null,{"$f":"IF(E30=\"\",\"\",VLOOKUP($E30,部員名簿!$A$5:$G$103,2,FALSE))","v":""},{"$f":"IF(新人入力!H39=\"\",\"\",新人入力!H39)","v":""},null,"","",{"$f":"IF(新人入力!I39=\"\",\"\",新人入力!I39)","v":""},null,"","",{"$f":"IF(新人入力!J39=\"\",\"\",新人入力!J39)","v":""},null,"",""]
[null,{"$f":"IF(E31=\"\",\"\",部員名簿!$W$5)","v":""},null,null,{"$f":"IF(新人入力!B40=\"\",\"\",新人入力!B40)","v":""},{"$f":"IF(新人入力!D40=\"\",\"\",新人入力!D40)","v":""},{"$f":"IF(新人入力!F40=\"\",\"\",新人入力!F40)","v":""},"",{"$f":"IF(新人入力!G40=\"\",\"\",新人入力!G40)","v":""},"","",{"$f":"IF(新人入力!E40=\"\",\"\",新人入力!E40)","v":""},{"$f":"IF(E31=\"\",\"\",VLOOKUP($E31,部員名簿!$A$5:$R$103,17,FALSE))","v":""},{"$f":"IF(E31=\"\",\"\",VLOOKUP($E31,部員名簿!$A$5:$R$103,17,FALSE))","v":""},null,{"$f":"IF(E31=\"\",\"\",VLOOKUP($E31,部員名簿!$A$5:$G$103,2,FALSE))","v":""},{"$f":"IF(新人入力!H40=\"\",\"\",新人入力!H40)","v":""},null,"","",{"$f":"IF(新人入力!I40=\"\",\"\",新人入力!I40)","v":""},null,"","",{"$f":"IF(新人入力!J40=\"\",\"\",新人入力!J40)","v":""},null,"",""]
[null,{"$f":"IF(E32=\"\",\"\",部員名簿!$W$5)","v":""},null,null,{"$f":"IF(新人入力!B41=\"\",\"\",新人入力!B41)","v":""},{"$f":"IF(新人入力!D41=\"\",\"\",新人入力!D41)","v":""},{"$f":"IF(新人入力!F41=\"\",\"\",新人入力!F41)","v":""},"",{"$f":"IF(新人入力!G41=\"\",\"\",新人入力!G41)","v":""},"","",{"$f":"IF(新人入力!E41=\"\",\"\",新人入力!E41)","v":""},{"$f":"IF(E32=\"\",\"\",VLOOKUP($E32,部員名簿!$A$5:$R$103,17,FALSE))","v":""},{"$f":"IF(E32=\"\",\"\",VLOOKUP($E32,部員名簿!$A$5:$R$103,17,FALSE))","v":""},null,{"$f":"IF(E32=\"\",\"\",VLOOKUP($E32,部員名簿!$A$5:$G$103,2,FALSE))","v":""},{"$f":"IF(新人入力!H41=\"\",\"\",新人入力!H41)","v":""},null,"","",{"$f":"IF(新人入力!I41=\"\",\"\",新人入力!I41)","v":""},null,"","",{"$f":"IF(新人入力!J41=\"\",\"\",新人入力!J41)","v":""},null,"",""]
[null,{"$f":"IF(E33=\"\",\"\",部員名簿!$W$5)","v":""},null,null,{"$f":"IF(新人入力!B42=\"\",\"\",新人入力!B42)","v":""},{"$f":"IF(新人入力!D42=\"\",\"\",新人入力!D42)","v":""},{"$f":"IF(新人入力!F42=\"\",\"\",新人入力!F42)","v":""},"",{"$f":"IF(新人入力!G42=\"\",\"\",新人入力!G42)","v":""},"","",{"$f":"IF(新人入力!E42=\"\",\"\",新人入力!E42)","v":""},{"$f":"IF(E33=\"\",\"\",VLOOKUP($E33,部員名簿!$A$5:$R$103,17,FALSE))","v":""},{"$f":"IF(E33=\"\",\"\",VLOOKUP($E33,部員名簿!$A$5:$R$103,17,FALSE))","v":""},null,{"$f":"IF(E33=\"\",\"\",VLOOKUP($E33,部員名簿!$A$5:$G$103,2,FALSE))","v":""},{"$f":"IF(新人入力!H42=\"\",\"\",新人入力!H42)","v":""},null,"","",{"$f":"IF(新人入力!I42=\"\",\"\",新人入力!I42)","v":""},null,"","",{"$f":"IF(新人入力!J42=\"\",\"\",新人入力!J42)","v":""},null,"",""]
[null,{"$f":"IF(E34=\"\",\"\",部員名簿!$W$5)","v":""},null,null,{"$f":"IF(新人入力!B43=\"\",\"\",新人入力!B43)","v":""},{"$f":"IF(新人入力!D43=\"\",\"\",新人入力!D43)","v":""},{"$f":"IF(新人入力!F43=\"\",\"\",新人入力!F43)","v":""},"",{"$f":"IF(新人入力!G43=\"\",\"\",新人入力!G43)","v":""},"","",{"$f":"IF(新人入力!E43=\"\",\"\",新人入力!E43)","v":""},{"$f":"IF(E34=\"\",\"\",VLOOKUP($E34,部員名簿!$A$5:$R$103,17,FALSE))","v":""},{"$f":"IF(E34=\"\",\"\",VLOOKUP($E34,部員名簿!$A$5:$R$103,17,FALSE))","v":""},null,{"$f":"IF(E34=\"\",\"\",VLOOKUP($E34,部員名簿!$A$5:$G$103,2,FALSE))","v":""},{"$f":"IF(新人入力!H43=\"\",\"\",新人入力!H43)","v":""},null,"","",{"$f":"IF(新人入力!I43=\"\",\"\",新人入力!I43)","v":""},null,"","",{"$f":"IF(新人入力!J43=\"\",\"\",新人入力!J43)","v":""},null,"",""]
[null,{"$f":"IF(E35=\"\",\"\",部員名簿!$W$5)","v":""},null,null,{"$f":"IF(新人入力!B44=\"\",\"\",新人入力!B44)","v":""},{"$f":"IF(新人入力!D44=\"\",\"\",新人入力!D44)","v":""},{"$f":"IF(新人入力!F44=\"\",\"\",新人入力!F44)","v":""},"",{"$f":"IF(新人入力!G44=\"\",\"\",新人入力!G44)","v":""},"","",{"$f":"IF(新人入力!E44=\"\",\"\",新人入力!E44)","v":""},{"$f":"IF(E35=\"\",\"\",VLOOKUP($E35,部員名簿!$A$5:$R$103,17,FALSE))","v":""},{"$f":"IF(E35=\"\",\"\",VLOOKUP($E35,部員名簿!$A$5:$R$103,17,FALSE))","v":""},null,{"$f":"IF(E35=\"\",\"\",VLOOKUP($E35,部員名簿!$A$5:$G$103,2,FALSE))","v":""},{"$f":"IF(新人入力!H44=\"\",\"\",新人入力!H44)","v":""},null,"","",{"$f":"IF(新人入力!I44=\"\",\"\",新人入力!I44)","v":""},null,"","",{"$f":"IF(新人入力!J44=\"\",\"\",新人入力!J44)","v":""},null,"",""]
[null,{"$f":"IF(E36=\"\",\"\",部員名簿!$W$5)","v":""},null,null,{"$f":"IF(新人入力!B45=\"\",\"\",新人入力!B45)","v":""},{"$f":"IF(新人入力!D45=\"\",\"\",新人入力!D45)","v":""},{"$f":"IF(新人入力!F45=\"\",\"\",新人入力!F45)","v":""},"",{"$f":"IF(新人入力!G45=\"\",\"\",新人入力!G45)","v":""},"","",{"$f":"IF(新人入力!E45=\"\",\"\",新人入力!E45)","v":""},{"$f":"IF(E36=\"\",\"\",VLOOKUP($E36,部員名簿!$A$5:$R$103,17,FALSE))","v":""},{"$f":"IF(E36=\"\",\"\",VLOOKUP($E36,部員名簿!$A$5:$R$103,17,FALSE))","v":""},null,{"$f":"IF(E36=\"\",\"\",VLOOKUP($E36,部員名簿!$A$5:$G$103,2,FALSE))","v":""},{"$f":"IF(新人入力!H45=\"\",\"\",新人入力!H45)","v":""},null,"","",{"$f":"IF(新人入力!I45=\"\",\"\",新人入力!I45)","v":""},null,"","",{"$f":"IF(新人入力!J45=\"\",\"\",新人入力!J45)","v":""},null,"",""]
[null,{"$f":"IF(E37=\"\",\"\",部員名簿!$W$5)","v":""},null,null,{"$f":"IF(新人入力!B46=\"\",\"\",新人入力!B46)","v":""},{"$f":"IF(新人入力!D46=\"\",\"\",新人入力!D46)","v":""},{"$f":"IF(新人入力!F46=\"\",\"\",新人入力!F46)","v":""},"",{"$f":"IF(新人入力!G46=\"\",\"\",新人入力!G46)","v":""},"","",{"$f":"IF(新人入力!E46=\"\",\"\",新人入力!E46)","v":""},{"$f":"IF(E37=\"\",\"\",VLOOKUP($E37,部員名簿!$A$5:$R$103,17,FALSE))","v":""},{"$f":"IF(E37=\"\",\"\",VLOOKUP($E37,部員名簿!$A$5:$R$103,17,FALSE))","v":""},null,{"$f":"IF(E37=\"\",\"\",VLOOKUP($E37,部員名簿!$A$5:$G$103,2,FALSE))","v":""},{"$f":"IF(新人入力!H46=\"\",\"\",新人入力!H46)","v":""},null,"","",{"$f":"IF(新人入力!I46=\"\",\"\",新人入力!I46)","v":""},null,"","",{"$f":"IF(新人入力!J46=\"\",\"\",新人入力!J46)","v":""},null,"",""]
[null,{"$f":"IF(E38=\"\",\"\",部員名簿!$W$5)","v":""},null,null,{"$f":"IF(新人入力!B47=\"\",\"\",新人入力!B47)","v":""},{"$f":"IF(新人入力!D47=\"\",\"\",新人入力!D47)","v":""},{"$f":"IF(新人入力!F47=\"\",\"\",新人入力!F47)","v":""},"",{"$f":"IF(新人入力!G47=\"\",\"\",新人入力!G47)","v":""},"","",{"$f":"IF(新人入力!E47=\"\",\"\",新人入力!E47)","v":""},{"$f":"IF(E38=\"\",\"\",VLOOKUP($E38,部員名簿!$A$5:$R$103,17,FALSE))","v":""},{"$f":"IF(E38=\"\",\"\",VLOOKUP($E38,部員名簿!$A$5:$R$103,17,FALSE))","v":""},null,{"$f":"IF(E38=\"\",\"\",VLOOKUP($E38,部員名簿!$A$5:$G$103,2,FALSE))","v":""},{"$f":"IF(新人入力!H47=\"\",\"\",新人入力!H47)","v":""},null,"","",{"$f":"IF(新人入力!I47=\"\",\"\",新人入力!I47)","v":""},null,"","",{"$f":"IF(新人入力!J47=\"\",\"\",新人入力!J47)","v":""},null,"",""]
[null,{"$f":"IF(E39=\"\",\"\",部員名簿!$W$5)","v":""},null,null,{"$f":"IF(新人入力!B48=\"\",\"\",新人入力!B48)","v":""},{"$f":"IF(新人入力!D48=\"\",\"\",新人入力!D48)","v":""},{"$f":"IF(新人入力!F48=\"\",\"\",新人入力!F48)","v":""},"",{"$f":"IF(新人入力!G48=\"\",\"\",新人入力!G48)","v":""},"","",{"$f":"IF(新人入力!E48=\"\",\"\",新人入力!E48)","v":""},{"$f":"IF(E39=\"\",\"\",VLOOKUP($E39,部員名簿!$A$5:$R$103,17,FALSE))","v":""},{"$f":"IF(E39=\"\",\"\",VLOOKUP($E39,部員名簿!$A$5:$R$103,17,FALSE))","v":""},null,{"$f":"IF(E39=\"\",\"\",VLOOKUP($E39,部員名簿!$A$5:$G$103,2,FALSE))","v":""},{"$f":"IF(新人入力!H48=\"\",\"\",新人入力!H48)","v":""},null,"","",{"$f":"IF(新人入力!I48=\"\",\"\",新人入力!I48)","v":""},null,"","",{"$f":"IF(新人入力!J48=\"\",\"\",新人入力!J48)","v":""},null,"",""]
[null,{"$f":"IF(E40=\"\",\"\",部員名簿!$W$5)","v":""},null,null,{"$f":"IF(新人入力!B49=\"\",\"\",新人入力!B49)","v":""},{"$f":"IF(新人入力!D49=\"\",\"\",新人入力!D49)","v":""},{"$f":"IF(新人入力!F49=\"\",\"\",新人入力!F49)","v":""},"",{"$f":"IF(新人入力!G49=\"\",\"\",新人入力!G49)","v":""},"","",{"$f":"IF(新人入力!E49=\"\",\"\",新人入力!E49)","v":""},{"$f":"IF(E40=\"\",\"\",VLOOKUP($E40,部員名簿!$A$5:$R$103,17,FALSE))","v":""},{"$f":"IF(E40=\"\",\"\",VLOOKUP($E40,部員名簿!$A$5:$R$103,17,FALSE))","v":""},null,{"$f":"IF(E40=\"\",\"\",VLOOKUP($E40,部員名簿!$A$5:$G$103,2,FALSE))","v":""},{"$f":"IF(新人入力!H49=\"\",\"\",新人入力!H49)","v":""},null,"","",{"$f":"IF(新人入力!I49=\"\",\"\",新人入力!I49)","v":""},null,"","",{"$f":"IF(新人入力!J49=\"\",\"\",新人入力!J49)","v":""},null,"",""]
[null,{"$f":"IF(E41=\"\",\"\",部員名簿!$W$5)","v":""},null,null,{"$f":"IF(新人入力!B50=\"\",\"\",新人入力!B50)","v":""},{"$f":"IF(新人入力!D50=\"\",\"\",新人入力!D50)","v":""},{"$f":"IF(新人入力!F50=\"\",\"\",新人入力!F50)","v":""},"",{"$f":"IF(新人入力!G50=\"\",\"\",新人入力!G50)","v":""},"","",{"$f":"IF(新人入力!E50=\"\",\"\",新人入力!E50)","v":""},{"$f":"IF(E41=\"\",\"\",VLOOKUP($E41,部員名簿!$A$5:$R$103,17,FALSE))","v":""},{"$f":"IF(E41=\"\",\"\",VLOOKUP($E41,部員名簿!$A$5:$R$103,17,FALSE))","v":""},null,{"$f":"IF(E41=\"\",\"\",VLOOKUP($E41,部員名簿!$A$5:$G$103,2,FALSE))","v":""},{"$f":"IF(新人入力!H50=\"\",\"\",新人入力!H50)","v":""},null,"","",{"$f":"IF(新人入力!I50=\"\",\"\",新人入力!I50)","v":""},null,"","",{"$f":"IF(新人入力!J50=\"\",\"\",新人入力!J50)","v":""},null,"",""]
[null,{"$f":"IF(E42=\"\",\"\",部員名簿!$W$5)","v":""},null,null,{"$f":"IF(新人入力!B51=\"\",\"\",新人入力!B51)","v":""},{"$f":"IF(新人入力!D51=\"\",\"\",新人入力!D51)","v":""},{"$f":"IF(新人入力!F51=\"\",\"\",新人入力!F51)","v":""},"",{"$f":"IF(新人入力!G51=\"\",\"\",新人入力!G51)","v":""},"","",{"$f":"IF(新人入力!E51=\"\",\"\",新人入力!E51)","v":""},{"$f":"IF(E42=\"\",\"\",VLOOKUP($E42,部員名簿!$A$5:$R$103,17,FALSE))","v":""},{"$f":"IF(E42=\"\",\"\",VLOOKUP($E42,部員名簿!$A$5:$R$103,17,FALSE))","v":""},null,{"$f":"IF(E42=\"\",\"\",VLOOKUP($E42,部員名簿!$A$5:$G$103,2,FALSE))","v":""},{"$f":"IF(新人入力!H51=\"\",\"\",新人入力!H51)","v":""},null,"","",{"$f":"IF(新人入力!I51=\"\",\"\",新人入力!I51)","v":""},null,"","",{"$f":"IF(新人入力!J51=\"\",\"\",新人入力!J51)","v":""},null,"",""]
[]
["競技者NO","所属コード1","所属コード2","ナンバー","ナンバー2","競技者名","競技者名カナ","競技者名略称","競技者名英字","国籍","性別","学年","生年","月日","個人所属地名","陸連コード","参加競技-競技コード1","参加競技-自己記録1","参加競技-オープン参加FLG1","参加競技-記録FLG1","参加競技-競技コード2","参加競技-自己記録2","参加競技-オープン参加FLG2","参加競技-記録FLG2","参加競技-競技コード3","参加競技-自己記録3","参加競技-オープン参加FLG3","参加競技-記録FLG3","参加競技-競技コード4","参加競技-自己記録4","参加競技-オープン参加FLG4","参加競技-記録FLG4","参加競技-競技コード5","参加競技-自己記録5","参加競技-オープン参加FLG5","参加競技-記録FLG5"]
[null,{"$f":"IF(E45=\"\",\"\",部員名簿!$W$5)","v":""},null,null,{"$f":"IF(新人入力!B87=\"\",\"\",新人入力!B87)","v":""},{"$f":"IF(新人入力!D87=\"\",\"\",新人入力!D87)","v":""},{"$f":"IF(新人入力!F87=\"\",\"\",新人入力!F87)","v":""},{"$f":"IF(F45=\"\",\"\",F45)","v":""},{"$f":"IF(新人入力!G87=\"\",\"\",新人入力!G87)","v":""},{"$f":"IF(E45=\"\",\"\",\"JPN\")","v":""},{"$f":"IF(E45=\"\",\"\",2)","v":""},{"$f":"IF(新人入力!E87=\"\",\"\",新人入力!E87)","v":""},{"$f":"IF(E45=\"\",\"\",VLOOKUP($E45,部員名簿!$A$5:$R$103,17,FALSE))","v":""},{"$f":"IF(E45=\"\",\"\",VLOOKUP($E45,部員名簿!$A$5:$R$103,17,FALSE))","v":""},null,{"$f":"IF(E45=\"\",\"\",VLOOKUP($E45,部員名簿!$A$5:$G$103,2,FALSE))","v":""},{"$f":"IF(新人入力!H87=\"\",\"\",新人入力!H87)","v":""},null,{"$f":"IF(Q45=\"\",\"\",0)","v":""},{"$f":"IF(Q45=\"\",\"\",0)","v":""},{"$f":"IF(新人入力!I87=\"\",\"\",新人入力!I87)","v":""},null,{"$f":"IF(U45=\"\",\"\",0)","v":""},{"$f":"IF(U45=\"\",\"\",0)","v":""},{"$f":"IF(新人入力!J87=\"\",\"\",新人入力!J87)","v":""},null,{"$f":"IF(Y45=\"\",\"\",0)","v":""},{"$f":"IF(Y45=\"\",\"\",0)","v":""}]
[null,{"$f":"IF(E46=\"\",\"\",部員名簿!$W$5)","v":""},null,null,{"$f":"IF(新人入力!B88=\"\",\"\",新人入力!B88)","v":""},{"$f":"IF(新人入力!D88=\"\",\"\",新人入力!D88)","v":""},{"$f":"IF(新人入力!F88=\"\",\"\",新人入力!F88)","v":""},{"$f":"IF(F46=\"\",\"\",F46)","v":""},{"$f":"IF(新人入力!G88=\"\",\"\",新人入力!G88)","v":""},{"$f":"IF(E46=\"\",\"\",\"JPN\")","v":""},{"$f":"IF(E46=\"\",\"\",2)","v":""},{"$f":"IF(新人入力!E88=\"\",\"\",新人入力!E88)","v":""},{"$f":"IF(E46=\"\",\"\",VLOOKUP($E46,部員名簿!$A$5:$R$103,17,FALSE))","v":""},{"$f":"IF(E46=\"\",\"\",VLOOKUP($E46,部員名簿!$A$5:$R$103,17,FALSE))","v":""},null,{"$f":"IF(E46=\"\",\"\",VLOOKUP($E46,部員名簿!$A$5:$G$103,2,FALSE))","v":""},{"$f":"IF(新人入力!H88=\"\",\"\",新人入力!H88)","v":""},null,{"$f":"IF(Q46=\"\",\"\",0)","v":""},{"$f":"IF(Q46=\"\",\"\",0)","v":""},{"$f":"IF(新人入力!I88=\"\",\"\",新人入力!I88)","v":""},null,{"$f":"IF(U46=\"\",\"\",0)","v":""},{"$f":"IF(U46=\"\",\"\",0)","v":""},{"$f":"IF(新人入力!J88=\"\",\"\",新人入力!J88)","v":""},null,{"$f":"IF(Y46=\"\",\"\",0)","v":""},{"$f":"IF(Y46=\"\",\"\",0)","v":""}]
[null,{"$f":"IF(E47=\"\",\"\",部員名簿!$W$5)","v":""},null,null,{"$f":"IF(新人入力!B89=\"\",\"\",新人入力!B89)","v":""},{"$f":"IF(新人入力!D89=\"\",\"\",新人入力!D89)","v":""},{"$f":"IF(新人入力!F89=\"\",\"\",新人入力!F89)","v":""},"",{"$f":"IF(新人入力!G89=\"\",\"\",新人入力!G89)","v":""},"","",{"$f":"IF(新人入力!E89=\"\",\"\",新人入力!E89)","v":""},{"$f":"IF(E47=\"\",\"\",VLOOKUP($E47,部員名簿!$A$5:$R$103,17,FALSE))","v":""},{"$f":"IF(E47=\"\",\"\",VLOOKUP($E47,部員名簿!$A$5:$R$103,17,FALSE))","v":""},null,{"$f":"IF(E47=\"\",\"\",VLOOKUP($E47,部員名簿!$A$5:$G$103,2,FALSE))","v":""},{"$f":"IF(新人入力!H89=\"\",\"\",新人入力!H89)","v":""},null,"","",{"$f":"IF(新人入力!I89=\"\",\"\",新人入力!I89)","v":""},null,"","",{"$f":"IF(新人入力!J89=\"\",\"\",新人入力!J89)","v":""},null,"",""]
[null,{"$f":"IF(E48=\"\",\"\",部員名簿!$W$5)","v":""},null,null,{"$f":"IF(新人入力!B90=\"\",\"\",新人入力!B90)","v":""},{"$f":"IF(新人入力!D90=\"\",\"\",新人入力!D90)","v":""},{"$f":"IF(新人入力!F90=\"\",\"\",新人入力!F90)","v":""},"",{"$f":"IF(新人入力!G90=\"\",\"\",新人入力!G90)","v":""},"","",{"$f":"IF(新人入力!E90=\"\",\"\",新人入力!E90)","v":""},{"$f":"IF(E48=\"\",\"\",VLOOKUP($E48,部員名簿!$A$5:$R$103,17,FALSE))","v":""},{"$f":"IF(E48=\"\",\"\",VLOOKUP($E48,部員名簿!$A$5:$R$103,17,FALSE))","v":""},null,{"$f":"IF(E48=\"\",\"\",VLOOKUP($E48,部員名簿!$A$5:$G$103,2,FALSE))","v":""},{"$f":"IF(新人入力!H90=\"\",\"\",新人入力!H90)","v":""},null,"","",{"$f":"IF(新人入力!I90=\"\",\"\",新人入力!I90)","v":""},null,"","",{"$f":"IF(新人入力!J90=\"\",\"\",新人入力!J90)","v":""},null,"",""]
[null,{"$f":"IF(E49=\"\",\"\",部員名簿!$W$5)","v":""},null,null,{"$f":"IF(新人入力!B91=\"\",\"\",新人入力!B91)","v":""},{"$f":"IF(新人入力!D91=\"\",\"\",新人入力!D91)","v":""},{"$f":"IF(新人入力!F91=\"\",\"\",新人入力!F91)","v":""},"",{"$f":"IF(新人入力!G91=\"\",\"\",新人入力!G91)","v":""},"","",{"$f":"IF(新人入力!E91=\"\",\"\",新人入力!E91)","v":""},{"$f":"IF(E49=\"\",\"\",VLOOKUP($E49,部員名簿!$A$5:$R$103,17,FALSE))","v":""},{"$f":"IF(E49=\"\",\"\",VLOOKUP($E49,部員名簿!$A$5:$R$103,17,FALSE))","v":""},null,{"$f":"IF(E49=\"\",\"\",VLOOKUP($E49,部員名簿!$A$5:$G$103,2,FALSE))","v":""},{"$f":"IF(新人入力!H91=\"\",\"\",新人入力!H91)","v":""},null,"","",{"$f":"IF(新人入力!I91=\"\",\"\",新人入力!I91)","v":""},null,"","",{"$f":"IF(新人入力!J91=\"\",\"\",新人入力!J91)","v":""},null,"",""]
[null,{"$f":"IF(E50=\"\",\"\",部員名簿!$W$5)","v":""},null,null,{"$f":"IF(新人入力!B92=\"\",\"\",新人入力!B92)","v":""},{"$f":"IF(新人入力!D92=\"\",\"\",新人入力!D92)","v":""},{"$f":"IF(新人入力!F92=\"\",\"\",新人入力!F92)","v":""},"",{"$f":"IF(新人入力!G92=\"\",\"\",新人入力!G92)","v":""},"","",{"$f":"IF(新人入力!E92=\"\",\"\",新人入力!E92)","v":""},{"$f":"IF(E50=\"\",\"\",VLOOKUP($E50,部員名簿!$A$5:$R$103,17,FALSE))","v":""},{"$f":"IF(E50=\"\",\"\",VLOOKUP($E50,部員名簿!$A$5:$R$103,17,FALSE))","v":""},null,{"$f":"IF(E50=\"\",\"\",VLOOKUP($E50,部員名簿!$A$5:$G$103,2,FALSE))","v":""},{"$f":"IF(新人入力!H92=\"\",\"\",新人入力!H92)","v":""},null,"","",{"$f":"IF(新人入力!I92=\"\",\"\",新人入力!I92)","v":""},null,"","",{"$f":"IF(新人入力!J92=\"\",\"\",新人入力!J92)","v":""},null,"",""]
[null,{"$f":"IF(E51=\"\",\"\",部員名簿!$W$5)","v":""},null,null,{"$f":"IF(新人入力!B93=\"\",\"\",新人入力!B93)","v":""},{"$f":"IF(新人入力!D93=\"\",\"\",新人入力!D93)","v":""},{"$f":"IF(新人入力!F93=\"\",\"\",新人入力!F93)","v":""},"",{"$f":"IF(新人入力!G93=\"\",\"\",新人入力!G93)","v":""},"","",{"$f":"IF(新人入力!E93=\"\",\"\",新人入力!E93)","v":""},{"$f":"IF(E51=\"\",\"\",VLOOKUP($E51,部員名簿!$A$5:$R$103,17,FALSE))","v":""},{"$f":"IF(E51=\"\",\"\",VLOOKUP($E51,部員名簿!$A$5:$R$103,17,FALSE))","v":""},null,{"$f":"IF(E51=\"\",\"\",VLOOKUP($E51,部員名簿!$A$5:$G$103,2,FALSE))","v":""},{"$f":"IF(新人入力!H93=\"\",\"\",新人入力!H93)","v":""},null,"","",{"$f":"IF(新人入力!I93=\"\",\"\",新人入力!I93)","v":""},null,"","",{"$f":"IF(新人入力!J93=\"\",\"\",新人入力!J93)","v":""},null,"",""]
[null,{"$f":"IF(E52=\"\",\"\",部員名簿!$W$5)","v":""},null,null,{"$f":"IF(新人入力!B94=\"\",\"\",新人入力!B94)","v":""},{"$f":"IF(新人入力!D94=\"\",\"\",新人入力!D94)","v":""},{"$f":"IF(新人入力!F94=\"\",\"\",新人入力!F94)","v":""},"",{"$f":"IF(新人入力!G94=\"\",\"\",新人入力!G94)","v":""},"","",{"$f":"IF(新人入力!E94=\"\",\"\",新人入力!E94)","v":""},{"$f":"IF(E52=\"\",\"\",VLOOKUP($E52,部員名簿!$A$5:$R$103,17,FALSE))","v":""},{"$f":"IF(E52=\"\",\"\",VLOOKUP($E52,部員名簿!$A$5:$R$103,17,FALSE))","v":""},null,{"$f":"IF(E52=\"\",\"\",VLOOKUP($E52,部員名簿!$A$5:$G$103,2,FALSE))","v":""},{"$f":"IF(新人入力!H94=\"\",\"\",新人入力!H94)","v":""},null,"","",{"$f":"IF(新人入力!I94=\"\",\"\",新人入力!I94)","v":""},null,"","",{"$f":"IF(新人入力!J94=\"\",\"\",新人入力!J94)","v":""},null,"",""]
[null,{"$f":"IF(E53=\"\",\"\",部員名簿!$W$5)","v":""},null,null,{"$f":"IF(新人入力!B95=\"\",\"\",新人入力!B95)","v":""},{"$f":"IF(新人入力!D95=\"\",\"\",新人入力!D95)","v":""},{"$f":"IF(新人入力!F95=\"\",\"\",新人入力!F95)","v":""},"",{"$f":"IF(新人入力!G95=\"\",\"\",新人入力!G95)","v":""},"","",{"$f":"IF(新人入力!E95=\"\",\"\",新人入力!E95)","v":""},{"$f":"IF(E53=\"\",\"\",VLOOKUP($E53,部員名簿!$A$5:$R$103,17,FALSE))","v":""},{"$f":"IF(E53=\"\",\"\",VLOOKUP($E53,部員名簿!$A$5:$R$103,17,FALSE))","v":""},null,{"$f":"IF(E53=\"\",\"\",VLOOKUP($E53,部員名簿!$A$5:$G$103,2,FALSE))","v":""},{"$f":"IF(新人入力!H95=\"\",\"\",新人入力!H95)","v":""},null,"","",{"$f":"IF(新人入力!I95=\"\",\"\",新人入力!I95)","v":""},null,"","",{"$f":"IF(新人入力!J95=\"\",\"\",新人入力!J95)","v":""},null,"",""]
[null,{"$f":"IF(E54=\"\",\"\",部員名簿!$W$5)","v":""},null,null,{"$f":"IF(新人入力!B96=\"\",\"\",新人入力!B96)","v":""},{"$f":"IF(新人入力!D96=\"\",\"\",新人入力!D96)","v":""},{"$f":"IF(新人入力!F96=\"\",\"\",新人入力!F96)","v":""},"",{"$f":"IF(新人入力!G96=\"\",\"\",新人入力!G96)","v":""},"","",{"$f":"IF(新人入力!E96=\"\",\"\",新人入力!E96)","v":""},{"$f":"IF(E54=\"\",\"\",VLOOKUP($E54,部員名簿!$A$5:$R$103,17,FALSE))","v":""},{"$f":"IF(E54=\"\",\"\",VLOOKUP($E54,部員名簿!$A$5:$R$103,17,FALSE))","v":""},null,{"$f":"IF(E54=\"\",\"\",VLOOKUP($E54,部員名簿!$A$5:$G$103,2,FALSE))","v":""},{"$f":"IF(新人入力!H96=\"\",\"\",新人入力!H96)","v":""},null,"","",{"$f":"IF(新人入力!I96=\"\",\"\",新人入力!I96)","v":""},null,"","",{"$f":"IF(新人入力!J96=\"\",\"\",新人入力!J96)","v":""},null,"",""]
[null,{"$f":"IF(E55=\"\",\"\",部員名簿!$W$5)","v":""},null,null,{"$f":"IF(新人入力!B97=\"\",\"\",新人入力!B97)","v":""},{"$f":"IF(新人入力!D97=\"\",\"\",新人入力!D97)","v":""},{"$f":"IF(新人入力!F97=\"\",\"\",新人入力!F97)","v":""},"",{"$f":"IF(新人入力!G97=\"\",\"\",新人入力!G97)","v":""},"","",{"$f":"IF(新人入力!E97=\"\",\"\",新人入力!E97)","v":""},{"$f":"IF(E55=\"\",\"\",VLOOKUP($E55,部員名簿!$A$5:$R$103,17,FALSE))","v":""},{"$f":"IF(E55=\"\",\"\",VLOOKUP($E55,部員名簿!$A$5:$R$103,17,FALSE))","v":""},null,{"$f":"IF(E55=\"\",\"\",VLOOKUP($E55,部員名簿!$A$5:$G$103,2,FALSE))","v":""},{"$f":"IF(新人入力!H97=\"\",\"\",新人入力!H97)","v":""},null,"","",{"$f":"IF(新人入力!I97=\"\",\"\",新人入力!I97)","v":""},null,"","",{"$f":"IF(新人入力!J97=\"\",\"\",新人入力!J97)","v":""},null,"",""]
[null,{"$f":"IF(E56=\"\",\"\",部員名簿!$W$5)","v":""},null,null,{"$f":"IF(新人入力!B98=\"\",\"\",新人入力!B98)","v":""},{"$f":"IF(新人入力!D98=\"\",\"\",新人入力!D98)","v":""},{"$f":"IF(新人入力!F98=\"\",\"\",新人入力!F98)","v":""},"",{"$f":"IF(新人入力!G98=\"\",\"\",新人入力!G98)","v":""},"","",{"$f":"IF(新人入力!E98=\"\",\"\",新人入力!E98)","v":""},{"$f":"IF(E56=\"\",\"\",VLOOKUP($E56,部員名簿!$A$5:$R$103,17,FALSE))","v":""},{"$f":"IF(E56=\"\",\"\",VLOOKUP($E56,部員名簿!$A$5:$R$103,17,FALSE))","v":""},null,{"$f":"IF(E56=\"\",\"\",VLOOKUP($E56,部員名簿!$A$5:$G$103,2,FALSE))","v":""},{"$f":"IF(新人入力!H98=\"\",\"\",新人入力!H98)","v":""},null,"","",{"$f":"IF(新人入力!I98=\"\",\"\",新人入力!I98)","v":""},null,"","",{"$f":"IF(新人入力!J98=\"\",\"\",新人入力!J98)","v":""},null,"",""]
[null,{"$f":"IF(E57=\"\",\"\",部員名簿!$W$5)","v":""},null,null,{"$f":"IF(新人入力!B99=\"\",\"\",新人入力!B99)","v":""},{"$f":"IF(新人入力!D99=\"\",\"\",新人入力!D99)","v":""},{"$f":"IF(新人入力!F99=\"\",\"\",新人入力!F99)","v":""},"",{"$f":"IF(新人入力!G99=\"\",\"\",新人入力!G99)","v":""},"","",{"$f":"IF(新人入力!E99=\"\",\"\",新人入力!E99)","v":""},{"$f":"IF(E57=\"\",\"\",VLOOKUP($E57,部員名簿!$A$5:$R$103,17,FALSE))","v":""},{"$f":"IF(E57=\"\",\"\",VLOOKUP($E57,部員名簿!$A$5:$R$103,17,FALSE))","v":""},null,{"$f":"IF(E57=\"\",\"\",VLOOKUP($E57,部員名簿!$A$5:$G$103,2,FALSE))","v":""},{"$f":"IF(新人入力!H99=\"\",\"\",新人入力!H99)","v":""},null,"","",{"$f":"IF(新人入力!I99=\"\",\"\",新人入力!I99)","v":""},null,"","",{"$f":"IF(新人入力!J99=\"\",\"\",新人入力!J99)","v":""},null,"",""]
[null,{"$f":"IF(E58=\"\",\"\",部員名簿!$W$5)","v":""},null,null,{"$f":"IF(新人入力!B100=\"\",\"\",新人入力!B100)","v":""},{"$f":"IF(新人入力!D100=\"\",\"\",新人入力!D100)","v":""},{"$f":"IF(新人入力!F100=\"\",\"\",新人入力!F100)","v":""},"",{"$f":"IF(新人入力!G100=\"\",\"\",新人入力!G100)","v":""},"","",{"$f":"IF(新人入力!E100=\"\",\"\",新人入力!E100)","v":""},{"$f":"IF(E58=\"\",\"\",VLOOKUP($E58,部員名簿!$A$5:$R$103,17,FALSE))","v":""},{"$f":"IF(E58=\"\",\"\",VLOOKUP($E58,部員名簿!$A$5:$R$103,17,FALSE))","v":""},null,{"$f":"IF(E58=\"\",\"\",VLOOKUP($E58,部員名簿!$A$5:$G$103,2,FALSE))","v":""},{"$f":"IF(新人入力!H100=\"\",\"\",新人入力!H100)","v":""},null,"","",{"$f":"IF(新人入力!I100=\"\",\"\",新人入力!I100)","v":""},null,"","",{"$f":"IF(新人入力!J100=\"\",\"\",新人入力!J100)","v":""},null,"",""]
[null,{"$f":"IF(E59=\"\",\"\",部員名簿!$W$5)","v":""},null,null,{"$f":"IF(新人入力!B101=\"\",\"\",新人入力!B101)","v":""},{"$f":"IF(新人入力!D101=\"\",\"\",新人入力!D101)","v":""},{"$f":"IF(新人入力!F101=\"\",\"\",新人入力!F101)","v":""},"",{"$f":"IF(新人入力!G101=\"\",\"\",新人入力!G101)","v":""},"","",{"$f":"IF(新人入力!E101=\"\",\"\",新人入力!E101)","v":""},{"$f":"IF(E59=\"\",\"\",VLOOKUP($E59,部員名簿!$A$5:$R$103,17,FALSE))","v":""},{"$f":"IF(E59=\"\",\"\",VLOOKUP($E59,部員名簿!$A$5:$R$103,17,FALSE))","v":""},null,{"$f":"IF(E59=\"\",\"\",VLOOKUP($E59,部員名簿!$A$5:$G$103,2,FALSE))","v":""},{"$f":"IF(新人入力!H101=\"\",\"\",新人入力!H101)","v":""},null,"","",{"$f":"IF(新人入力!I101=\"\",\"\",新人入力!I101)","v":""},null,"","",{"$f":"IF(新人入力!J101=\"\",\"\",新人入力!J101)","v":""},null,"",""]
[null,{"$f":"IF(E60=\"\",\"\",部員名簿!$W$5)","v":""},null,null,{"$f":"IF(新人入力!B102=\"\",\"\",新人入力!B102)","v":""},{"$f":"IF(新人入力!D102=\"\",\"\",新人入力!D102)","v":""},{"$f":"IF(新人入力!F102=\"\",\"\",新人入力!F102)","v":""},"",{"$f":"IF(新人入力!G102=\"\",\"\",新人入力!G102)","v":""},"","",{"$f":"IF(新人入力!E102=\"\",\"\",新人入力!E102)","v":""},{"$f":"IF(E60=\"\",\"\",VLOOKUP($E60,部員名簿!$A$5:$R$103,17,FALSE))","v":""},{"$f":"IF(E60=\"\",\"\",VLOOKUP($E60,部員名簿!$A$5:$R$103,17,FALSE))","v":""},null,{"$f":"IF(E60=\"\",\"\",VLOOKUP($E60,部員名簿!$A$5:$G$103,2,FALSE))","v":""},{"$f":"IF(新人入力!H102=\"\",\"\",新人入力!H102)","v":""},null,"","",{"$f":"IF(新人入力!I102=\"\",\"\",新人入力!I102)","v":""},null,"","",{"$f":"IF(新人入力!J102=\"\",\"\",新人入力!J102)","v":""},null,"",""]
[null,{"$f":"IF(E61=\"\",\"\",部員名簿!$W$5)","v":""},null,null,{"$f":"IF(新人入力!B103=\"\",\"\",新人入力!B103)","v":""},{"$f":"IF(新人入力!D103=\"\",\"\",新人入力!D103)","v":""},{"$f":"IF(新人入力!F103=\"\",\"\",新人入力!F103)","v":""},"",{"$f":"IF(新人入力!G103=\"\",\"\",新人入力!G103)","v":""},"","",{"$f":"IF(新人入力!E103=\"\",\"\",新人入力!E103)","v":""},{"$f":"IF(E61=\"\",\"\",VLOOKUP($E61,部員名簿!$A$5:$R$103,17,FALSE))","v":""},{"$f":"IF(E61=\"\",\"\",VLOOKUP($E61,部員名簿!$A$5:$R$103,17,FALSE))","v":""},null,{"$f":"IF(E61=\"\",\"\",VLOOKUP($E61,部員名簿!$A$5:$G$103,2,FALSE))","v":""},{"$f":"IF(新人入力!H103=\"\",\"\",新人入力!H103)","v":""},null,"","",{"$f":"IF(新人入力!I103=\"\",\"\",新人入力!I103)","v":""},null,"","",{"$f":"IF(新人入力!J103=\"\",\"\",新人入力!J103)","v":""},null,"",""]
[null,{"$f":"IF(E62=\"\",\"\",部員名簿!$W$5)","v":""},null,null,{"$f":"IF(新人入力!B104=\"\",\"\",新人入力!B104)","v":""},{"$f":"IF(新人入力!D104=\"\",\"\",新人入力!D104)","v":""},{"$f":"IF(新人入力!F104=\"\",\"\",新人入力!F104)","v":""},"",{"$f":"IF(新人入力!G104=\"\",\"\",新人入力!G104)","v":""},"","",{"$f":"IF(新人入力!E104=\"\",\"\",新人入力!E104)","v":""},{"$f":"IF(E62=\"\",\"\",VLOOKUP($E62,部員名簿!$A$5:$R$103,17,FALSE))","v":""},{"$f":"IF(E62=\"\",\"\",VLOOKUP($E62,部員名簿!$A$5:$R$103,17,FALSE))","v":""},null,{"$f":"IF(E62=\"\",\"\",VLOOKUP($E62,部員名簿!$A$5:$G$103,2,FALSE))","v":""},{"$f":"IF(新人入力!H104=\"\",\"\",新人入力!H104)","v":""},null,"","",{"$f":"IF(新人入力!I104=\"\",\"\",新人入力!I104)","v":""},null,"","",{"$f":"IF(新人入力!J104=\"\",\"\",新人入力!J104)","v":""},null,"",""]
[null,{"$f":"IF(E63=\"\",\"\",部員名簿!$W$5)","v":""},null,null,{"$f":"IF(新人入力!B105=\"\",\"\",新人入力!B105)","v":""},{"$f":"IF(新人入力!D105=\"\",\"\",新人入力!D105)","v":""},{"$f":"IF(新人入力!F105=\"\",\"\",新人入力!F105)","v":""},"",{"$f":"IF(新人入力!G105=\"\",\"\",新人入力!G105)","v":""},"","",{"$f":"IF(新人入力!E105=\"\",\"\",新人入力!E105)","v":""},{"$f":"IF(E63=\"\",\"\",VLOOKUP($E63,部員名簿!$A$5:$R$103,17,FALSE))","v":""},{"$f":"IF(E63=\"\",\"\",VLOOKUP($E63,部員名簿!$A$5:$R$103,17,FALSE))","v":""},null,{"$f":"IF(E63=\"\",\"\",VLOOKUP($E63,部員名簿!$A$5:$G$103,2,FALSE))","v":""},{"$f":"IF(新人入力!H105=\"\",\"\",新人入力!H105)","v":""},null,"","",{"$f":"IF(新人入力!I105=\"\",\"\",新人入力!I105)","v":""},null,"","",{"$f":"IF(新人入力!J105=\"\",\"\",新人入力!J105)","v":""},null,"",""]
[null,{"$f":"IF(E64=\"\",\"\",部員名簿!$W$5)","v":""},null,null,{"$f":"IF(新人入力!B106=\"\",\"\",新人入力!B106)","v":""},{"$f":"IF(新人入力!D106=\"\",\"\",新人入力!D106)","v":""},{"$f":"IF(新人入力!F106=\"\",\"\",新人入力!F106)","v":""},"",{"$f":"IF(新人入力!G106=\"\",\"\",新人入力!G106)","v":""},"","",{"$f":"IF(新人入力!E106=\"\",\"\",新人入力!E106)","v":""},{"$f":"IF(E64=\"\",\"\",VLOOKUP($E64,部員名簿!$A$5:$R$103,17,FALSE))","v":""},{"$f":"IF(E64=\"\",\"\",VLOOKUP($E64,部員名簿!$A$5:$R$103,17,FALSE))","v":""},null,{"$f":"IF(E64=\"\",\"\",VLOOKUP($E64,部員名簿!$A$5:$G$103,2,FALSE))","v":""},{"$f":"IF(新人入力!H106=\"\",\"\",新人入力!H106)","v":""},null,"","",{"$f":"IF(新人入力!I106=\"\",\"\",新人入力!I106)","v":""},null,"","",{"$f":"IF(新人入力!J106=\"\",\"\",新人入力!J106)","v":""},null,"",""]
[null,{"$f":"IF(E65=\"\",\"\",部員名簿!$W$5)","v":""},null,null,{"$f":"IF(新人入力!B107=\"\",\"\",新人入力!B107)","v":""},{"$f":"IF(新人入力!D107=\"\",\"\",新人入力!D107)","v":""},{"$f":"IF(新人入力!F107=\"\",\"\",新人入力!F107)","v":""},"",{"$f":"IF(新人入力!G107=\"\",\"\",新人入力!G107)","v":""},"","",{"$f":"IF(新人入力!E107=\"\",\"\",新人入力!E107)","v":""},{"$f":"IF(E65=\"\",\"\",VLOOKUP($E65,部員名簿!$A$5:$R$103,17,FALSE))","v":""},{"$f":"IF(E65=\"\",\"\",VLOOKUP($E65,部員名簿!$A$5:$R$103,17,FALSE))","v":""},null,{"$f":"IF(E65=\"\",\"\",VLOOKUP($E65,部員名簿!$A$5:$G$103,2,FALSE))","v":""},{"$f":"IF(新人入力!H107=\"\",\"\",新人入力!H107)","v":""},null,"","",{"$f":"IF(新人入力!I107=\"\",\"\",新人入力!I107)","v":""},null,"","",{"$f":"IF(新人入力!J107=\"\",\"\",新人入力!J107)","v":""},null,"",""]
[null,{"$f":"IF(E66=\"\",\"\",部員名簿!$W$5)","v":""},null,null,{"$f":"IF(新人入力!B108=\"\",\"\",新人入力!B108)","v":""},{"$f":"IF(新人入力!D108=\"\",\"\",新人入力!D108)","v":""},{"$f":"IF(新人入力!F108=\"\",\"\",新人入力!F108)","v":""},"",{"$f":"IF(新人入力!G108=\"\",\"\",新人入力!G108)","v":""},"","",{"$f":"IF(新人入力!E108=\"\",\"\",新人入力!E108)","v":""},{"$f":"IF(E66=\"\",\"\",VLOOKUP($E66,部員名簿!$A$5:$R$103,17,FALSE))","v":""},{"$f":"IF(E66=\"\",\"\",VLOOKUP($E66,部員名簿!$A$5:$R$103,17,FALSE))","v":""},null,{"$f":"IF(E66=\"\",\"\",VLOOKUP($E66,部員名簿!$A$5:$G$103,2,FALSE))","v":""},{"$f":"IF(新人入力!H108=\"\",\"\",新人入力!H108)","v":""},null,"","",{"$f":"IF(新人入力!I108=\"\",\"\",新人入力!I108)","v":""},null,"","",{"$f":"IF(新人入力!J108=\"\",\"\",新人入力!J108)","v":""},null,"",""]
[null,{"$f":"IF(E67=\"\",\"\",部員名簿!$W$5)","v":""},null,null,{"$f":"IF(新人入力!B109=\"\",\"\",新人入力!B109)","v":""},{"$f":"IF(新人入力!D109=\"\",\"\",新人入力!D109)","v":""},{"$f":"IF(新人入力!F109=\"\",\"\",新人入力!F109)","v":""},"",{"$f":"IF(新人入力!G109=\"\",\"\",新人入力!G109)","v":""},"","",{"$f":"IF(新人入力!E109=\"\",\"\",新人入力!E109)","v":""},{"$f":"IF(E67=\"\",\"\",VLOOKUP($E67,部員名簿!$A$5:$R$103,17,FALSE))","v":""},{"$f":"IF(E67=\"\",\"\",VLOOKUP($E67,部員名簿!$A$5:$R$103,17,FALSE))","v":""},null,{"$f":"IF(E67=\"\",\"\",VLOOKUP($E67,部員名簿!$A$5:$G$103,2,FALSE))","v":""},{"$f":"IF(新人入力!H109=\"\",\"\",新人入力!H109)","v":""},null,"","",{"$f":"IF(新人入力!I109=\"\",\"\",新人入力!I109)","v":""},null,"","",{"$f":"IF(新人入力!J109=\"\",\"\",新人入力!J109)","v":""},null,"",""]
[null,{"$f":"IF(E68=\"\",\"\",部員名簿!$W$5)","v":""},null,null,{"$f":"IF(新人入力!B110=\"\",\"\",新人入力!B110)","v":""},{"$f":"IF(新人入力!D110=\"\",\"\",新人入力!D110)","v":""},{"$f":"IF(新人入力!F110=\"\",\"\",新人入力!F110)","v":""},"",{"$f":"IF(新人入力!G110=\"\",\"\",新人入力!G110)","v":""},"","",{"$f":"IF(新人入力!E110=\"\",\"\",新人入力!E110)","v":""},{"$f":"IF(E68=\"\",\"\",VLOOKUP($E68,部員名簿!$A$5:$R$103,17,FALSE))","v":""},{"$f":"IF(E68=\"\",\"\",VLOOKUP($E68,部員名簿!$A$5:$R$103,17,FALSE))","v":""},null,{"$f":"IF(E68=\"\",\"\",VLOOKUP($E68,部員名簿!$A$5:$G$103,2,FALSE))","v":""},{"$f":"IF(新人入力!H110=\"\",\"\",新人入力!H110)","v":""},null,"","",{"$f":"IF(新人入力!I110=\"\",\"\",新人入力!I110)","v":""},null,"","",{"$f":"IF(新人入力!J110=\"\",\"\",新人入力!J110)","v":""},null,"",""]
[null,{"$f":"IF(E69=\"\",\"\",部員名簿!$W$5)","v":""},null,null,{"$f":"IF(新人入力!B111=\"\",\"\",新人入力!B111)","v":""},{"$f":"IF(新人入力!D111=\"\",\"\",新人入力!D111)","v":""},{"$f":"IF(新人入力!F111=\"\",\"\",新人入力!F111)","v":""},"",{"$f":"IF(新人入力!G111=\"\",\"\",新人入力!G111)","v":""},"","",{"$f":"IF(新人入力!E111=\"\",\"\",新人入力!E111)","v":""},{"$f":"IF(E69=\"\",\"\",VLOOKUP($E69,部員名簿!$A$5:$R$103,17,FALSE))","v":""},{"$f":"IF(E69=\"\",\"\",VLOOKUP($E69,部員名簿!$A$5:$R$103,17,FALSE))","v":""},null,{"$f":"IF(E69=\"\",\"\",VLOOKUP($E69,部員名簿!$A$5:$G$103,2,FALSE))","v":""},{"$f":"IF(新人入力!H111=\"\",\"\",新人入力!H111)","v":""},null,"","",{"$f":"IF(新人入力!I111=\"\",\"\",新人入力!I111)","v":""},null,"","",{"$f":"IF(新人入力!J111=\"\",\"\",新人入力!J111)","v":""},null,"",""]
[null,{"$f":"IF(E70=\"\",\"\",部員名簿!$W$5)","v":""},null,null,{"$f":"IF(新人入力!B112=\"\",\"\",新人入力!B112)","v":""},{"$f":"IF(新人入力!D112=\"\",\"\",新人入力!D112)","v":""},{"$f":"IF(新人入力!F112=\"\",\"\",新人入力!F112)","v":""},"",{"$f":"IF(新人入力!G112=\"\",\"\",新人入力!G112)","v":""},"","",{"$f":"IF(新人入力!E112=\"\",\"\",新人入力!E112)","v":""},{"$f":"IF(E70=\"\",\"\",VLOOKUP($E70,部員名簿!$A$5:$R$103,17,FALSE))","v":""},{"$f":"IF(E70=\"\",\"\",VLOOKUP($E70,部員名簿!$A$5:$R$103,17,FALSE))","v":""},null,{"$f":"IF(E70=\"\",\"\",VLOOKUP($E70,部員名簿!$A$5:$G$103,2,FALSE))","v":""},{"$f":"IF(新人入力!H112=\"\",\"\",新人入力!H112)","v":""},null,"","",{"$f":"IF(新人入力!I112=\"\",\"\",新人入力!I112)","v":""},null,"","",{"$f":"IF(新人入力!J112=\"\",\"\",新人入力!J112)","v":""},null,"",""]
[null,{"$f":"IF(E71=\"\",\"\",部員名簿!$W$5)","v":""},null,null,{"$f":"IF(新人入力!B113=\"\",\"\",新人入力!B113)","v":""},{"$f":"IF(新人入力!D113=\"\",\"\",新人入力!D113)","v":""},{"$f":"IF(新人入力!F113=\"\",\"\",新人入力!F113)","v":""},"",{"$f":"IF(新人入力!G113=\"\",\"\",新人入力!G113)","v":""},"","",{"$f":"IF(新人入力!E113=\"\",\"\",新人入力!E113)","v":""},{"$f":"IF(E71=\"\",\"\",VLOOKUP($E71,部員名簿!$A$5:$R$103,17,FALSE))","v":""},{"$f":"IF(E71=\"\",\"\",VLOOKUP($E71,部員名簿!$A$5:$R$103,17,FALSE))","v":""},null,{"$f":"IF(E71=\"\",\"\",VLOOKUP($E71,部員名簿!$A$5:$G$103,2,FALSE))","v":""},{"$f":"IF(新人入力!H113=\"\",\"\",新人入力!H113)","v":""},null,"","",{"$f":"IF(新人入力!I113=\"\",\"\",新人入力!I113)","v":""},null,"","",{"$f":"IF(新人入力!J113=\"\",\"\",新人入力!J113)","v":""},null,"",""]
[null,{"$f":"IF(E72=\"\",\"\",部員名簿!$W$5)","v":""},null,null,{"$f":"IF(新人入力!B114=\"\",\"\",新人入力!B114)","v":""},{"$f":"IF(新人入力!D114=\"\",\"\",新人入力!D114)","v":""},{"$f":"IF(新人入力!F114=\"\",\"\",新人入力!F114)","v":""},"",{"$f":"IF(新人入力!G114=\"\",\"\",新人入力!G114)","v":""},"","",{"$f":"IF(新人入力!E114=\"\",\"\",新人入力!E114)","v":""},{"$f":"IF(E72=\"\",\"\",VLOOKUP($E72,部員名簿!$A$5:$R$103,17,FALSE))","v":""},{"$f":"IF(E72=\"\",\"\",VLOOKUP($E72,部員名簿!$A$5:$R$103,17,FALSE))","v":""},null,{"$f":"IF(E72=\"\",\"\",VLOOKUP($E72,部員名簿!$A$5:$G$103,2,FALSE))","v":""},{"$f":"IF(新人入力!H114=\"\",\"\",新人入力!H114)","v":""},null,"","",{"$f":"IF(新人入力!I114=\"\",\"\",新人入力!I114)","v":""},null,"","",{"$f":"IF(新人入力!J114=\"\",\"\",新人入力!J114)","v":""},null,"",""]
[null,{"$f":"IF(E73=\"\",\"\",部員名簿!$W$5)","v":""},null,null,{"$f":"IF(新人入力!B115=\"\",\"\",新人入力!B115)","v":""},{"$f":"IF(新人入力!D115=\"\",\"\",新人入力!D115)","v":""},{"$f":"IF(新人入力!F115=\"\",\"\",新人入力!F115)","v":""},"",{"$f":"IF(新人入力!G115=\"\",\"\",新人入力!G115)","v":""},"","",{"$f":"IF(新人入力!E115=\"\",\"\",新人入力!E115)","v":""},{"$f":"IF(E73=\"\",\"\",VLOOKUP($E73,部員名簿!$A$5:$R$103,17,FALSE))","v":""},{"$f":"IF(E73=\"\",\"\",VLOOKUP($E73,部員名簿!$A$5:$R$103,17,FALSE))","v":""},null,{"$f":"IF(E73=\"\",\"\",VLOOKUP($E73,部員名簿!$A$5:$G$103,2,FALSE))","v":""},{"$f":"IF(新人入力!H115=\"\",\"\",新人入力!H115)","v":""},null,"","",{"$f":"IF(新人入力!I115=\"\",\"\",新人入力!I115)","v":""},null,"","",{"$f":"IF(新人入力!J115=\"\",\"\",新人入力!J115)","v":""},null,"",""]
[null,{"$f":"IF(E74=\"\",\"\",部員名簿!$W$5)","v":""},null,null,{"$f":"IF(新人入力!B116=\"\",\"\",新人入力!B116)","v":""},{"$f":"IF(新人入力!D116=\"\",\"\",新人入力!D116)","v":""},{"$f":"IF(新人入力!F116=\"\",\"\",新人入力!F116)","v":""},"",{"$f":"IF(新人入力!G116=\"\",\"\",新人入力!G116)","v":""},"","",{"$f":"IF(新人入力!E116=\"\",\"\",新人入力!E116)","v":""},{"$f":"IF(E74=\"\",\"\",VLOOKUP($E74,部員名簿!$A$5:$R$103,17,FALSE))","v":""},{"$f":"IF(E74=\"\",\"\",VLOOKUP($E74,部員名簿!$A$5:$R$103,17,FALSE))","v":""},null,{"$f":"IF(E74=\"\",\"\",VLOOKUP($E74,部員名簿!$A$5:$G$103,2,FALSE))","v":""},{"$f":"IF(新人入力!H116=\"\",\"\",新人入力!H116)","v":""},null,"","",{"$f":"IF(新人入力!I116=\"\",\"\",新人入力!I116)","v":""},null,"","",{"$f":"IF(新人入力!J116=\"\",\"\",新人入力!J116)","v":""},null,"",""]
[null,{"$f":"IF(E75=\"\",\"\",部員名簿!$W$5)","v":""},null,null,{"$f":"IF(新人入力!B117=\"\",\"\",新人入力!B117)","v":""},{"$f":"IF(新人入力!D117=\"\",\"\",新人入力!D117)","v":""},{"$f":"IF(新人入力!F117=\"\",\"\",新人入力!F117)","v":""},"",{"$f":"IF(新人入力!G117=\"\",\"\",新人入力!G117)","v":""},"","",{"$f":"IF(新人入力!E117=\"\",\"\",新人入力!E117)","v":""},{"$f":"IF(E75=\"\",\"\",VLOOKUP($E75,部員名簿!$A$5:$R$103,17,FALSE))","v":""},{"$f":"IF(E75=\"\",\"\",VLOOKUP($E75,部員名簿!$A$5:$R$103,17,FALSE))","v":""},null,{"$f":"IF(E75=\"\",\"\",VLOOKUP($E75,部員名簿!$A$5:$G$103,2,FALSE))","v":""},{"$f":"IF(新人入力!H117=\"\",\"\",新人入力!H117)","v":""},null,"","",{"$f":"IF(新人入力!I117=\"\",\"\",新人入力!I117)","v":""},null,"","",{"$f":"IF(新人入力!J117=\"\",\"\",新人入力!J117)","v":""},null,"",""]
[null,{"$f":"IF(E76=\"\",\"\",部員名簿!$W$5)","v":""},null,null,{"$f":"IF(新人入力!B118=\"\",\"\",新人入力!B118)","v":""},{"$f":"IF(新人入力!D118=\"\",\"\",新人入力!D118)","v":""},{"$f":"IF(新人入力!F118=\"\",\"\",新人入力!F118)","v":""},"",{"$f":"IF(新人入力!G118=\"\",\"\",新人入力!G118)","v":""},"","",{"$f":"IF(新人入力!E118=\"\",\"\",新人入力!E118)","v":""},{"$f":"IF(E76=\"\",\"\",VLOOKUP($E76,部員名簿!$A$5:$R$103,17,FALSE))","v":""},{"$f":"IF(E76=\"\",\"\",VLOOKUP($E76,部員名簿!$A$5:$R$103,17,FALSE))","v":""},null,{"$f":"IF(E76=\"\",\"\",VLOOKUP($E76,部員名簿!$A$5:$G$103,2,FALSE))","v":""},{"$f":"IF(新人入力!H118=\"\",\"\",新人入力!H118)","v":""},null,"","",{"$f":"IF(新人入力!I118=\"\",\"\",新人入力!I118)","v":""},null,"","",{"$f":"IF(新人入力!J118=\"\",\"\",新人入力!J118)","v":""},null,"",""]
[null,{"$f":"IF(E77=\"\",\"\",部員名簿!$W$5)","v":""},null,null,{"$f":"IF(新人入力!B119=\"\",\"\",新人入力!B119)","v":""},{"$f":"IF(新人入力!D119=\"\",\"\",新人入力!D119)","v":""},{"$f":"IF(新人入力!F119=\"\",\"\",新人入力!F119)","v":""},"",{"$f":"IF(新人入力!G119=\"\",\"\",新人入力!G119)","v":""},"","",{"$f":"IF(新人入力!E119=\"\",\"\",新人入力!E119)","v":""},{"$f":"IF(E77=\"\",\"\",VLOOKUP($E77,部員名簿!$A$5:$R$103,17,FALSE))","v":""},{"$f":"IF(E77=\"\",\"\",VLOOKUP($E77,部員名簿!$A$5:$R$103,17,FALSE))","v":""},null,{"$f":"IF(E77=\"\",\"\",VLOOKUP($E77,部員名簿!$A$5:$G$103,2,FALSE))","v":""},{"$f":"IF(新人入力!H119=\"\",\"\",新人入力!H119)","v":""},null,"","",{"$f":"IF(新人入力!I119=\"\",\"\",新人入力!I119)","v":""},null,"","",{"$f":"IF(新人入力!J119=\"\",\"\",新人入力!J119)","v":""},null,"",""]
[null,{"$f":"IF(E78=\"\",\"\",部員名簿!$W$5)","v":""},null,null,{"$f":"IF(新人入力!B120=\"\",\"\",新人入力!B120)","v":""},{"$f":"IF(新人入力!D120=\"\",\"\",新人入力!D120)","v":""},{"$f":"IF(新人入力!F120=\"\",\"\",新人入力!F120)","v":""},"",{"$f":"IF(新人入力!G120=\"\",\"\",新人入力!G120)","v":""},"","",{"$f":"IF(新人入力!E120=\"\",\"\",新人入力!E120)","v":""},{"$f":"IF(E78=\"\",\"\",VLOOKUP($E78,部員名簿!$A$5:$R$103,17,FALSE))","v":""},{"$f":"IF(E78=\"\",\"\",VLOOKUP($E78,部員名簿!$A$5:$R$103,17,FALSE))","v":""},null,{"$f":"IF(E78=\"\",\"\",VLOOKUP($E78,部員名簿!$A$5:$G$103,2,FALSE))","v":""},{"$f":"IF(新人入力!H120=\"\",\"\",新人入力!H120)","v":""},null,"","",{"$f":"IF(新人入力!I120=\"\",\"\",新人入力!I120)","v":""},null,"","",{"$f":"IF(新人入力!J120=\"\",\"\",新人入力!J120)","v":""},null,"",""]
[null,{"$f":"IF(E79=\"\",\"\",部員名簿!$W$5)","v":""},null,null,{"$f":"IF(新人入力!B121=\"\",\"\",新人入力!B121)","v":""},{"$f":"IF(新人入力!D121=\"\",\"\",新人入力!D121)","v":""},{"$f":"IF(新人入力!F121=\"\",\"\",新人入力!F121)","v":""},"",{"$f":"IF(新人入力!G121=\"\",\"\",新人入力!G121)","v":""},"","",{"$f":"IF(新人入力!E121=\"\",\"\",新人入力!E121)","v":""},{"$f":"IF(E79=\"\",\"\",VLOOKUP($E79,部員名簿!$A$5:$R$103,17,FALSE))","v":""},{"$f":"IF(E79=\"\",\"\",VLOOKUP($E79,部員名簿!$A$5:$R$103,17,FALSE))","v":""},null,{"$f":"IF(E79=\"\",\"\",VLOOKUP($E79,部員名簿!$A$5:$G$103,2,FALSE))","v":""},{"$f":"IF(新人入力!H121=\"\",\"\",新人入力!H121)","v":""},null,"","",{"$f":"IF(新人入力!I121=\"\",\"\",新人入力!I121)","v":""},null,"","",{"$f":"IF(新人入力!J121=\"\",\"\",新人入力!J121)","v":""},null,"",""]
[null,{"$f":"IF(E80=\"\",\"\",部員名簿!$W$5)","v":""},null,null,{"$f":"IF(新人入力!B122=\"\",\"\",新人入力!B122)","v":""},{"$f":"IF(新人入力!D122=\"\",\"\",新人入力!D122)","v":""},{"$f":"IF(新人入力!F122=\"\",\"\",新人入力!F122)","v":""},"",{"$f":"IF(新人入力!G122=\"\",\"\",新人入力!G122)","v":""},"","",{"$f":"IF(新人入力!E122=\"\",\"\",新人入力!E122)","v":""},{"$f":"IF(E80=\"\",\"\",VLOOKUP($E80,部員名簿!$A$5:$R$103,17,FALSE))","v":""},{"$f":"IF(E80=\"\",\"\",VLOOKUP($E80,部員名簿!$A$5:$R$103,17,FALSE))","v":""},null,{"$f":"IF(E80=\"\",\"\",VLOOKUP($E80,部員名簿!$A$5:$G$103,2,FALSE))","v":""},{"$f":"IF(新人入力!H122=\"\",\"\",新人入力!H122)","v":""},null,"","",{"$f":"IF(新人入力!I122=\"\",\"\",新人入力!I122)","v":""},null,"","",{"$f":"IF(新人入力!J122=\"\",\"\",新人入力!J122)","v":""},null,"",""]
[null,{"$f":"IF(E81=\"\",\"\",部員名簿!$W$5)","v":""},null,null,{"$f":"IF(新人入力!B123=\"\",\"\",新人入力!B123)","v":""},{"$f":"IF(新人入力!D123=\"\",\"\",新人入力!D123)","v":""},{"$f":"IF(新人入力!F123=\"\",\"\",新人入力!F123)","v":""},"",{"$f":"IF(新人入力!G123=\"\",\"\",新人入力!G123)","v":""},"","",{"$f":"IF(新人入力!E123=\"\",\"\",新人入力!E123)","v":""},{"$f":"IF(E81=\"\",\"\",VLOOKUP($E81,部員名簿!$A$5:$R$103,17,FALSE))","v":""},{"$f":"IF(E81=\"\",\"\",VLOOKUP($E81,部員名簿!$A$5:$R$103,17,FALSE))","v":""},null,{"$f":"IF(E81=\"\",\"\",VLOOKUP($E81,部員名簿!$A$5:$G$103,2,FALSE))","v":""},{"$f":"IF(新人入力!H123=\"\",\"\",新人入力!H123)","v":""},null,"","",{"$f":"IF(新人入力!I123=\"\",\"\",新人入力!I123)","v":""},null,"","",{"$f":"IF(新人入力!J123=\"\",\"\",新人入力!J123)","v":""},null,"",""]

{"sheet":"競技者マスタ（上陸）","index":10,"n_rows":43,"n_cols":21,"rows_kept":43,"cut":false,"hidden":false,"merged":[]}
["男子",null,null,null,null,null,null,"女子"]
["ナンバー","競技者名","競技者名（ｶﾅ）","学年","所属","所属（カナ）",null,"ナンバー","競技者名","競技者名（ｶﾅ）","学年","所属","所属（カナ）",null,null,1,"秋田東",740,"秋田市立秋田東中学校","東","ﾋｶﾞｼ"]
[{"$f":"IF(新人入力!B11=\"\",\"\",新人入力!B11)","v":""},{"$f":"IF(新人入力!D11=\"\",\"\",新人入力!D11)","v":""},{"$f":"IF(新人入力!F11=\"\",\"\",新人入力!F11)","v":""},{"$f":"IF(新人入力!E11=\"\",\"\",新人入力!E11)","v":""},{"$f":"IF(新人入力!C11=\"\",\"\",新人入力!C11)","v":""},{"$f":"IF(E3=\"\",\"\",VLOOKUP(E3,$T$2:$U$34,2,FALSE))","v":""},null,{"$f":"IF(新人入力!B87=\"\",\"\",新人入力!B87)","v":""},{"$f":"IF(新人入力!D87=\"\",\"\",新人入力!D87)","v":""},{"$f":"IF(新人入力!F87=\"\",\"\",新人入力!F87)","v":""},{"$f":"IF(新人入力!E87=\"\",\"\",新人入力!E87)","v":""},{"$f":"IF(新人入力!C87=\"\",\"\",新人入力!C87)","v":""},{"$f":"IF(L3=\"\",\"\",VLOOKUP(L3,$T$2:$U$33,2,FALSE))","v":""},null,null,2,"秋田南",741,"秋田市立秋田南中学校","南","ﾐﾅﾐ"]
[{"$f":"IF(新人入力!B12=\"\",\"\",新人入力!B12)","v":""},{"$f":"IF(新人入力!D12=\"\",\"\",新人入力!D12)","v":""},{"$f":"IF(新人入力!F12=\"\",\"\",新人入力!F12)","v":""},{"$f":"IF(新人入力!E12=\"\",\"\",新人入力!E12)","v":""},{"$f":"IF(新人入力!C12=\"\",\"\",新人入力!C12)","v":""},{"$f":"IF(E4=\"\",\"\",VLOOKUP(E4,$T$2:$U$34,2,FALSE))","v":""},null,{"$f":"IF(新人入力!B88=\"\",\"\",新人入力!B88)","v":""},{"$f":"IF(新人入力!D88=\"\",\"\",新人入力!D88)","v":""},{"$f":"IF(新人入力!F88=\"\",\"\",新人入力!F88)","v":""},{"$f":"IF(新人入力!E88=\"\",\"\",新人入力!E88)","v":""},{"$f":"IF(新人入力!C88=\"\",\"\",新人入力!C88)","v":""},{"$f":"IF(L4=\"\",\"\",VLOOKUP(L4,$T$2:$U$33,2,FALSE))","v":""},null,null,3,"山王",742,"秋田市立山王中学校","山王","ｻﾝﾉｳ"]
[{"$f":"IF(新人入力!B13=\"\",\"\",新人入力!B13)","v":""},{"$f":"IF(新人入力!D13=\"\",\"\",新人入力!D13)","v":""},{"$f":"IF(新人入力!F13=\"\",\"\",新人入力!F13)","v":""},{"$f":"IF(新人入力!E13=\"\",\"\",新人入力!E13)","v":""},{"$f":"IF(新人入力!C13=\"\",\"\",新人入力!C13)","v":""},"",null,{"$f":"IF(新人入力!B89=\"\",\"\",新人入力!B89)","v":""},{"$f":"IF(新人入力!D89=\"\",\"\",新人入力!D89)","v":""},{"$f":"IF(新人入力!F89=\"\",\"\",新人入力!F89)","v":""},{"$f":"IF(新人入力!E89=\"\",\"\",新人入力!E89)","v":""},{"$f":"IF(新人入力!C89=\"\",\"\",新人入力!C89)","v":""},"",null,null,4,"土崎",743,"秋田市立土崎中学校","土崎","ﾂﾁｻﾞｷ"]
[{"$f":"IF(新人入力!B14=\"\",\"\",新人入力!B14)","v":""},{"$f":"IF(新人入力!D14=\"\",\"\",新人入力!D14)","v":""},{"$f":"IF(新人入力!F14=\"\",\"\",新人入力!F14)","v":""},{"$f":"IF(新人入力!E14=\"\",\"\",新人入力!E14)","v":""},{"$f":"IF(新人入力!C14=\"\",\"\",新人入力!C14)","v":""},"",null,{"$f":"IF(新人入力!B90=\"\",\"\",新人入力!B90)","v":""},{"$f":"IF(新人入力!D90=\"\",\"\",新人入力!D90)","v":""},{"$f":"IF(新人入力!F90=\"\",\"\",新人入力!F90)","v":""},{"$f":"IF(新人入力!E90=\"\",\"\",新人入力!E90)","v":""},{"$f":"IF(新人入力!C90=\"\",\"\",新人入力!C90)","v":""},"",null,null,5,"将軍野",744,"秋田市立将軍野中学校","将軍野","ｼｮｳｸﾞﾝﾉ"]
[{"$f":"IF(新人入力!B15=\"\",\"\",新人入力!B15)","v":""},{"$f":"IF(新人入力!D15=\"\",\"\",新人入力!D15)","v":""},{"$f":"IF(新人入力!F15=\"\",\"\",新人入力!F15)","v":""},{"$f":"IF(新人入力!E15=\"\",\"\",新人入力!E15)","v":""},{"$f":"IF(新人入力!C15=\"\",\"\",新人入力!C15)","v":""},"",null,{"$f":"IF(新人入力!B91=\"\",\"\",新人入力!B91)","v":""},{"$f":"IF(新人入力!D91=\"\",\"\",新人入力!D91)","v":""},{"$f":"IF(新人入力!F91=\"\",\"\",新人入力!F91)","v":""},{"$f":"IF(新人入力!E91=\"\",\"\",新人入力!E91)","v":""},{"$f":"IF(新人入力!C91=\"\",\"\",新人入力!C91)","v":""},"",null,null,6,"秋田西",745,"秋田市立秋田西中学校","西","ﾆｼ"]
[{"$f":"IF(新人入力!B16=\"\",\"\",新人入力!B16)","v":""},{"$f":"IF(新人入力!D16=\"\",\"\",新人入力!D16)","v":""},{"$f":"IF(新人入力!F16=\"\",\"\",新人入力!F16)","v":""},{"$f":"IF(新人入力!E16=\"\",\"\",新人入力!E16)","v":""},{"$f":"IF(新人入力!C16=\"\",\"\",新人入力!C16)","v":""},"",null,{"$f":"IF(新人入力!B92=\"\",\"\",新人入力!B92)","v":""},{"$f":"IF(新人入力!D92=\"\",\"\",新人入力!D92)","v":""},{"$f":"IF(新人入力!F92=\"\",\"\",新人入力!F92)","v":""},{"$f":"IF(新人入力!E92=\"\",\"\",新人入力!E92)","v":""},{"$f":"IF(新人入力!C92=\"\",\"\",新人入力!C92)","v":""},"",null,null,7,"太平",746,"秋田市立太平中学校","太平","ﾀｲﾍｲ"]
[{"$f":"IF(新人入力!B17=\"\",\"\",新人入力!B17)","v":""},{"$f":"IF(新人入力!D17=\"\",\"\",新人入力!D17)","v":""},{"$f":"IF(新人入力!F17=\"\",\"\",新人入力!F17)","v":""},{"$f":"IF(新人入力!E17=\"\",\"\",新人入力!E17)","v":""},{"$f":"IF(新人入力!C17=\"\",\"\",新人入力!C17)","v":""},"",null,{"$f":"IF(新人入力!B93=\"\",\"\",新人入力!B93)","v":""},{"$f":"IF(新人入力!D93=\"\",\"\",新人入力!D93)","v":""},{"$f":"IF(新人入力!F93=\"\",\"\",新人入力!F93)","v":""},{"$f":"IF(新人入力!E93=\"\",\"\",新人入力!E93)","v":""},{"$f":"IF(新人入力!C93=\"\",\"\",新人入力!C93)","v":""},"",null,null,8,"外旭川",747,"秋田市立外旭川中学校","外旭川","ｿﾄｱｻﾋｶﾜ"]
[{"$f":"IF(新人入力!B18=\"\",\"\",新人入力!B18)","v":""},{"$f":"IF(新人入力!D18=\"\",\"\",新人入力!D18)","v":""},{"$f":"IF(新人入力!F18=\"\",\"\",新人入力!F18)","v":""},{"$f":"IF(新人入力!E18=\"\",\"\",新人入力!E18)","v":""},{"$f":"IF(新人入力!C18=\"\",\"\",新人入力!C18)","v":""},"",null,{"$f":"IF(新人入力!B94=\"\",\"\",新人入力!B94)","v":""},{"$f":"IF(新人入力!D94=\"\",\"\",新人入力!D94)","v":""},{"$f":"IF(新人入力!F94=\"\",\"\",新人入力!F94)","v":""},{"$f":"IF(新人入力!E94=\"\",\"\",新人入力!E94)","v":""},{"$f":"IF(新人入力!C94=\"\",\"\",新人入力!C94)","v":""},"",null,null,9,"秋田北",748,"秋田市立秋田北中学校","北","ｷﾀ"]
[{"$f":"IF(新人入力!B19=\"\",\"\",新人入力!B19)","v":""},{"$f":"IF(新人入力!D19=\"\",\"\",新人入力!D19)","v":""},{"$f":"IF(新人入力!F19=\"\",\"\",新人入力!F19)","v":""},{"$f":"IF(新人入力!E19=\"\",\"\",新人入力!E19)","v":""},{"$f":"IF(新人入力!C19=\"\",\"\",新人入力!C19)","v":""},"",null,{"$f":"IF(新人入力!B95=\"\",\"\",新人入力!B95)","v":""},{"$f":"IF(新人入力!D95=\"\",\"\",新人入力!D95)","v":""},{"$f":"IF(新人入力!F95=\"\",\"\",新人入力!F95)","v":""},{"$f":"IF(新人入力!E95=\"\",\"\",新人入力!E95)","v":""},{"$f":"IF(新人入力!C95=\"\",\"\",新人入力!C95)","v":""},"",null,null,10,"豊岩",750,"秋田市立豊岩中学校","豊岩","ﾄﾖｲﾜ"]
[{"$f":"IF(新人入力!B20=\"\",\"\",新人入力!B20)","v":""},{"$f":"IF(新人入力!D20=\"\",\"\",新人入力!D20)","v":""},{"$f":"IF(新人入力!F20=\"\",\"\",新人入力!F20)","v":""},{"$f":"IF(新人入力!E20=\"\",\"\",新人入力!E20)","v":""},{"$f":"IF(新人入力!C20=\"\",\"\",新人入力!C20)","v":""},"",null,{"$f":"IF(新人入力!B96=\"\",\"\",新人入力!B96)","v":""},{"$f":"IF(新人入力!D96=\"\",\"\",新人入力!D96)","v":""},{"$f":"IF(新人入力!F96=\"\",\"\",新人入力!F96)","v":""},{"$f":"IF(新人入力!E96=\"\",\"\",新人入力!E96)","v":""},{"$f":"IF(新人入力!C96=\"\",\"\",新人入力!C96)","v":""},"",null,null,11,"城南",751,"秋田市立城南中学校","城南","ｼﾞｮｳﾅﾝ"]
[{"$f":"IF(新人入力!B21=\"\",\"\",新人入力!B21)","v":""},{"$f":"IF(新人入力!D21=\"\",\"\",新人入力!D21)","v":""},{"$f":"IF(新人入力!F21=\"\",\"\",新人入力!F21)","v":""},{"$f":"IF(新人入力!E21=\"\",\"\",新人入力!E21)","v":""},{"$f":"IF(新人入力!C21=\"\",\"\",新人入力!C21)","v":""},"",null,{"$f":"IF(新人入力!B97=\"\",\"\",新人入力!B97)","v":""},{"$f":"IF(新人入力!D97=\"\",\"\",新人入力!D97)","v":""},{"$f":"IF(新人入力!F97=\"\",\"\",新人入力!F97)","v":""},{"$f":"IF(新人入力!E97=\"\",\"\",新人入力!E97)","v":""},{"$f":"IF(新人入力!C97=\"\",\"\",新人入力!C97)","v":""},"",null,null,12,"下北手",752,"秋田市立下北手中学校","下北手","ｼﾓｷﾀﾃ"]
[{"$f":"IF(新人入力!B22=\"\",\"\",新人入力!B22)","v":""},{"$f":"IF(新人入力!D22=\"\",\"\",新人入力!D22)","v":""},{"$f":"IF(新人入力!F22=\"\",\"\",新人入力!F22)","v":""},{"$f":"IF(新人入力!E22=\"\",\"\",新人入力!E22)","v":""},{"$f":"IF(新人入力!C22=\"\",\"\",新人入力!C22)","v":""},"",null,{"$f":"IF(新人入力!B98=\"\",\"\",新人入力!B98)","v":""},{"$f":"IF(新人入力!D98=\"\",\"\",新人入力!D98)","v":""},{"$f":"IF(新人入力!F98=\"\",\"\",新人入力!F98)","v":""},{"$f":"IF(新人入力!E98=\"\",\"\",新人入力!E98)","v":""},{"$f":"IF(新人入力!C98=\"\",\"\",新人入力!C98)","v":""},"",null,null,13,"下浜",753,"秋田市立下浜中学校","下浜","ｼﾓﾊﾏ"]
[{"$f":"IF(新人入力!B23=\"\",\"\",新人入力!B23)","v":""},{"$f":"IF(新人入力!D23=\"\",\"\",新人入力!D23)","v":""},{"$f":"IF(新人入力!F23=\"\",\"\",新人入力!F23)","v":""},{"$f":"IF(新人入力!E23=\"\",\"\",新人入力!E23)","v":""},{"$f":"IF(新人入力!C23=\"\",\"\",新人入力!C23)","v":""},"",null,{"$f":"IF(新人入力!B99=\"\",\"\",新人入力!B99)","v":""},{"$f":"IF(新人入力!D99=\"\",\"\",新人入力!D99)","v":""},{"$f":"IF(新人入力!F99=\"\",\"\",新人入力!F99)","v":""},{"$f":"IF(新人入力!E99=\"\",\"\",新人入力!E99)","v":""},{"$f":"IF(新人入力!C99=\"\",\"\",新人入力!C99)","v":""},"",null,null,14,"城東",754,"秋田市立城東中学校","城東","ｼﾞｮｳﾄｳ"]
[{"$f":"IF(新人入力!B24=\"\",\"\",新人入力!B24)","v":""},{"$f":"IF(新人入力!D24=\"\",\"\",新人入力!D24)","v":""},{"$f":"IF(新人入力!F24=\"\",\"\",新人入力!F24)","v":""},{"$f":"IF(新人入力!E24=\"\",\"\",新人入力!E24)","v":""},{"$f":"IF(新人入力!C24=\"\",\"\",新人入力!C24)","v":""},"",null,{"$f":"IF(新人入力!B100=\"\",\"\",新人入力!B100)","v":""},{"$f":"IF(新人入力!D100=\"\",\"\",新人入力!D100)","v":""},{"$f":"IF(新人入力!F100=\"\",\"\",新人入力!F100)","v":""},{"$f":"IF(新人入力!E100=\"\",\"\",新人入力!E100)","v":""},{"$f":"IF(新人入力!C100=\"\",\"\",新人入力!C100)","v":""},"",null,null,15,"泉",755,"秋田市立泉中学校","泉","ｲｽﾞﾐ"]
[{"$f":"IF(新人入力!B25=\"\",\"\",新人入力!B25)","v":""},{"$f":"IF(新人入力!D25=\"\",\"\",新人入力!D25)","v":""},{"$f":"IF(新人入力!F25=\"\",\"\",新人入力!F25)","v":""},{"$f":"IF(新人入力!E25=\"\",\"\",新人入力!E25)","v":""},{"$f":"IF(新人入力!C25=\"\",\"\",新人入力!C25)","v":""},"",null,{"$f":"IF(新人入力!B101=\"\",\"\",新人入力!B101)","v":""},{"$f":"IF(新人入力!D101=\"\",\"\",新人入力!D101)","v":""},{"$f":"IF(新人入力!F101=\"\",\"\",新人入力!F101)","v":""},{"$f":"IF(新人入力!E101=\"\",\"\",新人入力!E101)","v":""},{"$f":"IF(新人入力!C101=\"\",\"\",新人入力!C101)","v":""},"",null,null,16,"御野場",756,"秋田市立御野場中学校","御野場","ｵﾉﾊﾞ"]
[{"$f":"IF(新人入力!B26=\"\",\"\",新人入力!B26)","v":""},{"$f":"IF(新人入力!D26=\"\",\"\",新人入力!D26)","v":""},{"$f":"IF(新人入力!F26=\"\",\"\",新人入力!F26)","v":""},{"$f":"IF(新人入力!E26=\"\",\"\",新人入力!E26)","v":""},{"$f":"IF(新人入力!C26=\"\",\"\",新人入力!C26)","v":""},"",null,{"$f":"IF(新人入力!B102=\"\",\"\",新人入力!B102)","v":""},{"$f":"IF(新人入力!D102=\"\",\"\",新人入力!D102)","v":""},{"$f":"IF(新人入力!F102=\"\",\"\",新人入力!F102)","v":""},{"$f":"IF(新人入力!E102=\"\",\"\",新人入力!E102)","v":""},{"$f":"IF(新人入力!C102=\"\",\"\",新人入力!C102)","v":""},"",null,null,17,"勝平",757,"秋田市立勝平中学校","勝平","ｶﾂﾋﾗ"]
[{"$f":"IF(新人入力!B27=\"\",\"\",新人入力!B27)","v":""},{"$f":"IF(新人入力!D27=\"\",\"\",新人入力!D27)","v":""},{"$f":"IF(新人入力!F27=\"\",\"\",新人入力!F27)","v":""},{"$f":"IF(新人入力!E27=\"\",\"\",新人入力!E27)","v":""},{"$f":"IF(新人入力!C27=\"\",\"\",新人入力!C27)","v":""},"",null,{"$f":"IF(新人入力!B103=\"\",\"\",新人入力!B103)","v":""},{"$f":"IF(新人入力!D103=\"\",\"\",新人入力!D103)","v":""},{"$f":"IF(新人入力!F103=\"\",\"\",新人入力!F103)","v":""},{"$f":"IF(新人入力!E103=\"\",\"\",新人入力!E103)","v":""},{"$f":"IF(新人入力!C103=\"\",\"\",新人入力!C103)","v":""},"",null,null,18,"飯島",758,"秋田市立飯島中学校","飯島","ｲｲｼﾞﾏ"]
[{"$f":"IF(新人入力!B28=\"\",\"\",新人入力!B28)","v":""},{"$f":"IF(新人入力!D28=\"\",\"\",新人入力!D28)","v":""},{"$f":"IF(新人入力!F28=\"\",\"\",新人入力!F28)","v":""},{"$f":"IF(新人入力!E28=\"\",\"\",新人入力!E28)","v":""},{"$f":"IF(新人入力!C28=\"\",\"\",新人入力!C28)","v":""},"",null,{"$f":"IF(新人入力!B104=\"\",\"\",新人入力!B104)","v":""},{"$f":"IF(新人入力!D104=\"\",\"\",新人入力!D104)","v":""},{"$f":"IF(新人入力!F104=\"\",\"\",新人入力!F104)","v":""},{"$f":"IF(新人入力!E104=\"\",\"\",新人入力!E104)","v":""},{"$f":"IF(新人入力!C104=\"\",\"\",新人入力!C104)","v":""},"",null,null,19,"桜",759,"秋田市立桜中学校","桜","ｻｸﾗ"]
[{"$f":"IF(新人入力!B29=\"\",\"\",新人入力!B29)","v":""},{"$f":"IF(新人入力!D29=\"\",\"\",新人入力!D29)","v":""},{"$f":"IF(新人入力!F29=\"\",\"\",新人入力!F29)","v":""},{"$f":"IF(新人入力!E29=\"\",\"\",新人入力!E29)","v":""},{"$f":"IF(新人入力!C29=\"\",\"\",新人入力!C29)","v":""},"",null,{"$f":"IF(新人入力!B105=\"\",\"\",新人入力!B105)","v":""},{"$f":"IF(新人入力!D105=\"\",\"\",新人入力!D105)","v":""},{"$f":"IF(新人入力!F105=\"\",\"\",新人入力!F105)","v":""},{"$f":"IF(新人入力!E105=\"\",\"\",新人入力!E105)","v":""},{"$f":"IF(新人入力!C105=\"\",\"\",新人入力!C105)","v":""},"",null,null,20,"御所野学院",760,"秋田市立御所野学院中学校","御所野学院","ｺﾞｼｮﾉｶﾞｸｲﾝ"]
[{"$f":"IF(新人入力!B30=\"\",\"\",新人入力!B30)","v":""},{"$f":"IF(新人入力!D30=\"\",\"\",新人入力!D30)","v":""},{"$f":"IF(新人入力!F30=\"\",\"\",新人入力!F30)","v":""},{"$f":"IF(新人入力!E30=\"\",\"\",新人入力!E30)","v":""},{"$f":"IF(新人入力!C30=\"\",\"\",新人入力!C30)","v":""},"",null,{"$f":"IF(新人入力!B106=\"\",\"\",新人入力!B106)","v":""},{"$f":"IF(新人入力!D106=\"\",\"\",新人入力!D106)","v":""},{"$f":"IF(新人入力!F106=\"\",\"\",新人入力!F106)","v":""},{"$f":"IF(新人入力!E106=\"\",\"\",新人入力!E106)","v":""},{"$f":"IF(新人入力!C106=\"\",\"\",新人入力!C106)","v":""},"",null,null,21,"秋大附属",701,"秋田大学教育文化学部附属中学校","秋大附","ｼｭｳﾀﾞｲﾌ"]
[{"$f":"IF(新人入力!B31=\"\",\"\",新人入力!B31)","v":""},{"$f":"IF(新人入力!D31=\"\",\"\",新人入力!D31)","v":""},{"$f":"IF(新人入力!F31=\"\",\"\",新人入力!F31)","v":""},{"$f":"IF(新人入力!E31=\"\",\"\",新人入力!E31)","v":""},{"$f":"IF(新人入力!C31=\"\",\"\",新人入力!C31)","v":""},"",null,{"$f":"IF(新人入力!B107=\"\",\"\",新人入力!B107)","v":""},{"$f":"IF(新人入力!D107=\"\",\"\",新人入力!D107)","v":""},{"$f":"IF(新人入力!F107=\"\",\"\",新人入力!F107)","v":""},{"$f":"IF(新人入力!E107=\"\",\"\",新人入力!E107)","v":""},{"$f":"IF(新人入力!C107=\"\",\"\",新人入力!C107)","v":""},"",null,null,22,"聴覚支援",835,"秋田県立聴覚支援学校","聴覚支援","ﾁｮｳｶｸｼｴﾝ"]
[{"$f":"IF(新人入力!B32=\"\",\"\",新人入力!B32)","v":""},{"$f":"IF(新人入力!D32=\"\",\"\",新人入力!D32)","v":""},{"$f":"IF(新人入力!F32=\"\",\"\",新人入力!F32)","v":""},{"$f":"IF(新人入力!E32=\"\",\"\",新人入力!E32)","v":""},{"$f":"IF(新人入力!C32=\"\",\"\",新人入力!C32)","v":""},"",null,{"$f":"IF(新人入力!B108=\"\",\"\",新人入力!B108)","v":""},{"$f":"IF(新人入力!D108=\"\",\"\",新人入力!D108)","v":""},{"$f":"IF(新人入力!F108=\"\",\"\",新人入力!F108)","v":""},{"$f":"IF(新人入力!E108=\"\",\"\",新人入力!E108)","v":""},{"$f":"IF(新人入力!C108=\"\",\"\",新人入力!C108)","v":""},"",null,null,23,"岩見三内",836,"秋田市立岩見三内中学校","岩見山内","ｲﾜﾐｻﾝﾅｲ"]
[{"$f":"IF(新人入力!B33=\"\",\"\",新人入力!B33)","v":""},{"$f":"IF(新人入力!D33=\"\",\"\",新人入力!D33)","v":""},{"$f":"IF(新人入力!F33=\"\",\"\",新人入力!F33)","v":""},{"$f":"IF(新人入力!E33=\"\",\"\",新人入力!E33)","v":""},{"$f":"IF(新人入力!C33=\"\",\"\",新人入力!C33)","v":""},"",null,{"$f":"IF(新人入力!B109=\"\",\"\",新人入力!B109)","v":""},{"$f":"IF(新人入力!D109=\"\",\"\",新人入力!D109)","v":""},{"$f":"IF(新人入力!F109=\"\",\"\",新人入力!F109)","v":""},{"$f":"IF(新人入力!E109=\"\",\"\",新人入力!E109)","v":""},{"$f":"IF(新人入力!C109=\"\",\"\",新人入力!C109)","v":""},"",null,null,24,"河辺",761,"秋田市立河辺中学校","河辺","ｶﾜﾍﾞ"]
[{"$f":"IF(新人入力!B34=\"\",\"\",新人入力!B34)","v":""},{"$f":"IF(新人入力!D34=\"\",\"\",新人入力!D34)","v":""},{"$f":"IF(新人入力!F34=\"\",\"\",新人入力!F34)","v":""},{"$f":"IF(新人入力!E34=\"\",\"\",新人入力!E34)","v":""},{"$f":"IF(新人入力!C34=\"\",\"\",新人入力!C34)","v":""},"",null,{"$f":"IF(新人入力!B110=\"\",\"\",新人入力!B110)","v":""},{"$f":"IF(新人入力!D110=\"\",\"\",新人入力!D110)","v":""},{"$f":"IF(新人入力!F110=\"\",\"\",新人入力!F110)","v":""},{"$f":"IF(新人入力!E110=\"\",\"\",新人入力!E110)","v":""},{"$f":"IF(新人入力!C110=\"\",\"\",新人入力!C110)","v":""},"",null,null,25,"雄和",762,"秋田市立雄和中学校","雄和","ﾕｳﾜ"]
[{"$f":"IF(新人入力!B35=\"\",\"\",新人入力!B35)","v":""},{"$f":"IF(新人入力!D35=\"\",\"\",新人入力!D35)","v":""},{"$f":"IF(新人入力!F35=\"\",\"\",新人入力!F35)","v":""},{"$f":"IF(新人入力!E35=\"\",\"\",新人入力!E35)","v":""},{"$f":"IF(新人入力!C35=\"\",\"\",新人入力!C35)","v":""},"",null,{"$f":"IF(新人入力!B111=\"\",\"\",新人入力!B111)","v":""},{"$f":"IF(新人入力!D111=\"\",\"\",新人入力!D111)","v":""},{"$f":"IF(新人入力!F111=\"\",\"\",新人入力!F111)","v":""},{"$f":"IF(新人入力!E111=\"\",\"\",新人入力!E111)","v":""},{"$f":"IF(新人入力!C111=\"\",\"\",新人入力!C111)","v":""},"",null,null,26,"秋田南中等部",763,"秋田県立秋田南高等学校中等部","秋田南中等部","ｱｷﾀﾐﾅﾐﾁｭｳﾄｳﾌﾞ"]
[{"$f":"IF(新人入力!B36=\"\",\"\",新人入力!B36)","v":""},{"$f":"IF(新人入力!D36=\"\",\"\",新人入力!D36)","v":""},{"$f":"IF(新人入力!F36=\"\",\"\",新人入力!F36)","v":""},{"$f":"IF(新人入力!E36=\"\",\"\",新人入力!E36)","v":""},{"$f":"IF(新人入力!C36=\"\",\"\",新人入力!C36)","v":""},"",null,{"$f":"IF(新人入力!B112=\"\",\"\",新人入力!B112)","v":""},{"$f":"IF(新人入力!D112=\"\",\"\",新人入力!D112)","v":""},{"$f":"IF(新人入力!F112=\"\",\"\",新人入力!F112)","v":""},{"$f":"IF(新人入力!E112=\"\",\"\",新人入力!E112)","v":""},{"$f":"IF(新人入力!C112=\"\",\"\",新人入力!C112)","v":""},"",null,null,27]
[{"$f":"IF(新人入力!B37=\"\",\"\",新人入力!B37)","v":""},{"$f":"IF(新人入力!D37=\"\",\"\",新人入力!D37)","v":""},{"$f":"IF(新人入力!F37=\"\",\"\",新人入力!F37)","v":""},{"$f":"IF(新人入力!E37=\"\",\"\",新人入力!E37)","v":""},{"$f":"IF(新人入力!C37=\"\",\"\",新人入力!C37)","v":""},"",null,{"$f":"IF(新人入力!B113=\"\",\"\",新人入力!B113)","v":""},{"$f":"IF(新人入力!D113=\"\",\"\",新人入力!D113)","v":""},{"$f":"IF(新人入力!F113=\"\",\"\",新人入力!F113)","v":""},{"$f":"IF(新人入力!E113=\"\",\"\",新人入力!E113)","v":""},{"$f":"IF(新人入力!C113=\"\",\"\",新人入力!C113)","v":""},""]
[{"$f":"IF(新人入力!B38=\"\",\"\",新人入力!B38)","v":""},{"$f":"IF(新人入力!D38=\"\",\"\",新人入力!D38)","v":""},{"$f":"IF(新人入力!F38=\"\",\"\",新人入力!F38)","v":""},{"$f":"IF(新人入力!E38=\"\",\"\",新人入力!E38)","v":""},{"$f":"IF(新人入力!C38=\"\",\"\",新人入力!C38)","v":""},"",null,{"$f":"IF(新人入力!B114=\"\",\"\",新人入力!B114)","v":""},{"$f":"IF(新人入力!D114=\"\",\"\",新人入力!D114)","v":""},{"$f":"IF(新人入力!F114=\"\",\"\",新人入力!F114)","v":""},{"$f":"IF(新人入力!E114=\"\",\"\",新人入力!E114)","v":""},{"$f":"IF(新人入力!C114=\"\",\"\",新人入力!C114)","v":""},""]
[{"$f":"IF(新人入力!B39=\"\",\"\",新人入力!B39)","v":""},{"$f":"IF(新人入力!D39=\"\",\"\",新人入力!D39)","v":""},{"$f":"IF(新人入力!F39=\"\",\"\",新人入力!F39)","v":""},{"$f":"IF(新人入力!E39=\"\",\"\",新人入力!E39)","v":""},{"$f":"IF(新人入力!C39=\"\",\"\",新人入力!C39)","v":""},"",null,{"$f":"IF(新人入力!B115=\"\",\"\",新人入力!B115)","v":""},{"$f":"IF(新人入力!D115=\"\",\"\",新人入力!D115)","v":""},{"$f":"IF(新人入力!F115=\"\",\"\",新人入力!F115)","v":""},{"$f":"IF(新人入力!E115=\"\",\"\",新人入力!E115)","v":""},{"$f":"IF(新人入力!C115=\"\",\"\",新人入力!C115)","v":""},""]
[{"$f":"IF(新人入力!B40=\"\",\"\",新人入力!B40)","v":""},{"$f":"IF(新人入力!D40=\"\",\"\",新人入力!D40)","v":""},{"$f":"IF(新人入力!F40=\"\",\"\",新人入力!F40)","v":""},{"$f":"IF(新人入力!E40=\"\",\"\",新人入力!E40)","v":""},{"$f":"IF(新人入力!C40=\"\",\"\",新人入力!C40)","v":""},"",null,{"$f":"IF(新人入力!B116=\"\",\"\",新人入力!B116)","v":""},{"$f":"IF(新人入力!D116=\"\",\"\",新人入力!D116)","v":""},{"$f":"IF(新人入力!F116=\"\",\"\",新人入力!F116)","v":""},{"$f":"IF(新人入力!E116=\"\",\"\",新人入力!E116)","v":""},{"$f":"IF(新人入力!C116=\"\",\"\",新人入力!C116)","v":""},""]
[{"$f":"IF(新人入力!B41=\"\",\"\",新人入力!B41)","v":""},{"$f":"IF(新人入力!D41=\"\",\"\",新人入力!D41)","v":""},{"$f":"IF(新人入力!F41=\"\",\"\",新人入力!F41)","v":""},{"$f":"IF(新人入力!E41=\"\",\"\",新人入力!E41)","v":""},{"$f":"IF(新人入力!C41=\"\",\"\",新人入力!C41)","v":""},"",null,{"$f":"IF(新人入力!B117=\"\",\"\",新人入力!B117)","v":""},{"$f":"IF(新人入力!D117=\"\",\"\",新人入力!D117)","v":""},{"$f":"IF(新人入力!F117=\"\",\"\",新人入力!F117)","v":""},{"$f":"IF(新人入力!E117=\"\",\"\",新人入力!E117)","v":""},{"$f":"IF(新人入力!C117=\"\",\"\",新人入力!C117)","v":""},""]
[{"$f":"IF(新人入力!B42=\"\",\"\",新人入力!B42)","v":""},{"$f":"IF(新人入力!D42=\"\",\"\",新人入力!D42)","v":""},{"$f":"IF(新人入力!F42=\"\",\"\",新人入力!F42)","v":""},{"$f":"IF(新人入力!E42=\"\",\"\",新人入力!E42)","v":""},{"$f":"IF(新人入力!C42=\"\",\"\",新人入力!C42)","v":""},"",null,{"$f":"IF(新人入力!B118=\"\",\"\",新人入力!B118)","v":""},{"$f":"IF(新人入力!D118=\"\",\"\",新人入力!D118)","v":""},{"$f":"IF(新人入力!F118=\"\",\"\",新人入力!F118)","v":""},{"$f":"IF(新人入力!E118=\"\",\"\",新人入力!E118)","v":""},{"$f":"IF(新人入力!C118=\"\",\"\",新人入力!C118)","v":""},""]
[{"$f":"IF(新人入力!B43=\"\",\"\",新人入力!B43)","v":""},{"$f":"IF(新人入力!D43=\"\",\"\",新人入力!D43)","v":""},{"$f":"IF(新人入力!F43=\"\",\"\",新人入力!F43)","v":""},{"$f":"IF(新人入力!E43=\"\",\"\",新人入力!E43)","v":""},{"$f":"IF(新人入力!C43=\"\",\"\",新人入力!C43)","v":""},"",null,{"$f":"IF(新人入力!B119=\"\",\"\",新人入力!B119)","v":""},{"$f":"IF(新人入力!D119=\"\",\"\",新人入力!D119)","v":""},{"$f":"IF(新人入力!F119=\"\",\"\",新人入力!F119)","v":""},{"$f":"IF(新人入力!E119=\"\",\"\",新人入力!E119)","v":""},{"$f":"IF(新人入力!C119=\"\",\"\",新人入力!C119)","v":""},""]
[{"$f":"IF(新人入力!B44=\"\",\"\",新人入力!B44)","v":""},{"$f":"IF(新人入力!D44=\"\",\"\",新人入力!D44)","v":""},{"$f":"IF(新人入力!F44=\"\",\"\",新人入力!F44)","v":""},{"$f":"IF(新人入力!E44=\"\",\"\",新人入力!E44)","v":""},{"$f":"IF(新人入力!C44=\"\",\"\",新人入力!C44)","v":""},"",null,{"$f":"IF(新人入力!B120=\"\",\"\",新人入力!B120)","v":""},{"$f":"IF(新人入力!D120=\"\",\"\",新人入力!D120)","v":""},{"$f":"IF(新人入力!F120=\"\",\"\",新人入力!F120)","v":""},{"$f":"IF(新人入力!E120=\"\",\"\",新人入力!E120)","v":""},{"$f":"IF(新人入力!C120=\"\",\"\",新人入力!C120)","v":""},""]
[{"$f":"IF(新人入力!B45=\"\",\"\",新人入力!B45)","v":""},{"$f":"IF(新人入力!D45=\"\",\"\",新人入力!D45)","v":""},{"$f":"IF(新人入力!F45=\"\",\"\",新人入力!F45)","v":""},{"$f":"IF(新人入力!E45=\"\",\"\",新人入力!E45)","v":""},{"$f":"IF(新人入力!C45=\"\",\"\",新人入力!C45)","v":""},"",null,{"$f":"IF(新人入力!B121=\"\",\"\",新人入力!B121)","v":""},{"$f":"IF(新人入力!D121=\"\",\"\",新人入力!D121)","v":""},{"$f":"IF(新人入力!F121=\"\",\"\",新人入力!F121)","v":""},{"$f":"IF(新人入力!E121=\"\",\"\",新人入力!E121)","v":""},{"$f":"IF(新人入力!C121=\"\",\"\",新人入力!C121)","v":""},""]
[{"$f":"IF(新人入力!B46=\"\",\"\",新人入力!B46)","v":""},{"$f":"IF(新人入力!D46=\"\",\"\",新人入力!D46)","v":""},{"$f":"IF(新人入力!F46=\"\",\"\",新人入力!F46)","v":""},{"$f":"IF(新人入力!E46=\"\",\"\",新人入力!E46)","v":""},{"$f":"IF(新人入力!C46=\"\",\"\",新人入力!C46)","v":""},"",null,{"$f":"IF(新人入力!B122=\"\",\"\",新人入力!B122)","v":""},{"$f":"IF(新人入力!D122=\"\",\"\",新人入力!D122)","v":""},{"$f":"IF(新人入力!F122=\"\",\"\",新人入力!F122)","v":""},{"$f":"IF(新人入力!E122=\"\",\"\",新人入力!E122)","v":""},{"$f":"IF(新人入力!C122=\"\",\"\",新人入力!C122)","v":""},""]
[{"$f":"IF(新人入力!B47=\"\",\"\",新人入力!B47)","v":""},{"$f":"IF(新人入力!D47=\"\",\"\",新人入力!D47)","v":""},{"$f":"IF(新人入力!F47=\"\",\"\",新人入力!F47)","v":""},{"$f":"IF(新人入力!E47=\"\",\"\",新人入力!E47)","v":""},{"$f":"IF(新人入力!C47=\"\",\"\",新人入力!C47)","v":""},"",null,{"$f":"IF(新人入力!B123=\"\",\"\",新人入力!B123)","v":""},{"$f":"IF(新人入力!D123=\"\",\"\",新人入力!D123)","v":""},{"$f":"IF(新人入力!F123=\"\",\"\",新人入力!F123)","v":""},{"$f":"IF(新人入力!E123=\"\",\"\",新人入力!E123)","v":""},{"$f":"IF(新人入力!C123=\"\",\"\",新人入力!C123)","v":""},""]
[{"$f":"IF(新人入力!B48=\"\",\"\",新人入力!B48)","v":""},{"$f":"IF(新人入力!D48=\"\",\"\",新人入力!D48)","v":""},{"$f":"IF(新人入力!F48=\"\",\"\",新人入力!F48)","v":""},{"$f":"IF(新人入力!E48=\"\",\"\",新人入力!E48)","v":""},{"$f":"IF(新人入力!C48=\"\",\"\",新人入力!C48)","v":""},""]
[{"$f":"IF(新人入力!B49=\"\",\"\",新人入力!B49)","v":""},{"$f":"IF(新人入力!D49=\"\",\"\",新人入力!D49)","v":""},{"$f":"IF(新人入力!F49=\"\",\"\",新人入力!F49)","v":""},{"$f":"IF(新人入力!E49=\"\",\"\",新人入力!E49)","v":""},{"$f":"IF(新人入力!C49=\"\",\"\",新人入力!C49)","v":""},""]
[{"$f":"IF(新人入力!B50=\"\",\"\",新人入力!B50)","v":""},{"$f":"IF(新人入力!D50=\"\",\"\",新人入力!D50)","v":""},{"$f":"IF(新人入力!F50=\"\",\"\",新人入力!F50)","v":""},{"$f":"IF(新人入力!E50=\"\",\"\",新人入力!E50)","v":""},{"$f":"IF(新人入力!C50=\"\",\"\",新人入力!C50)","v":""},""]
[{"$f":"IF(新人入力!B51=\"\",\"\",新人入力!B51)","v":""},{"$f":"IF(新人入力!D51=\"\",\"\",新人入力!D51)","v":""},{"$f":"IF(新人入力!F51=\"\",\"\",新人入力!F51)","v":""},{"$f":"IF(新人入力!E51=\"\",\"\",新人入力!E51)","v":""},{"$f":"IF(新人入力!C51=\"\",\"\",新人入力!C51)","v":""},""]