{"text_format":"1","workbook":"xlsx","n_sheets":10,"sheets":["必ずお読み下さい","総体入力","kyogisha","総体一覧表","総体個表","総体リレー","部員情報","登録データ貼付","種目コード一覧","学校コード"],"not_rendered":{"charts":0,"images":0,"macros":1,"external_links":0,"defined_names":9,"comments":0,"pivot_tables":0},"unopened":[],"bounds":{"document_bytes":16777216,"sheet_cells":100000,"rows_first":2000,"rows_last":500,"rows_between":2000,"halvings":0,"cell_chars":16384,"cell_head_chars":4096},"cells_cut":0,"cells_raw":0,"read":"whole","date_system":"1900"}

{"sheet":"必ずお読み下さい","index":0,"n_rows":86,"n_cols":11,"rows_kept":86,"cut":false,"hidden":false,"merged":[[0,1,0,3],[3,2,3,3],[15,2,15,3],[16,2,16,3],[17,2,17,3],[18,2,18,3],[21,2,21,3],[29,2,29,3],[28,2,28,3],[27,2,27,3],[26,2,26,3],[31,2,31,3],[49,2,49,3],[48,2,48,3],[47,2,47,3],[46,2,46,3],[45,2,45,3],[50,2,50,3],[56,2,56,3],[55,2,55,3],[53,2,53,3],[52,2,52,3],[67,2,67,3],[66,2,66,3],[63,2,63,3],[62,2,62,3],[59,2,59,3],[74,2,74,3],[84,2,84,3],[85,2,85,3],[83,2,83,3],[80,2,80,3],[76,2,76,3],[75,2,75,3]]}
[null,"説明書　必ず全部読んで下さい！"]
[null,"県大会申込書の作成について"]
[null,"説明書の末尾に入力へのリンクがあります。"]
[null,null,"　陸連への選手登録はお済みですか？登録後のデータが必要になりますので、忘れずにお願いします。\n　申し込み作成に関して，この説明書を最後まで必ず読んで間違いのないようにお願いします。"]
[]
[null,null,null,null,null,null,1,null,"略称",null,"正式名称"]
[null,null,null,null,null,"所属コード",{"$f":"IF(OR(G6=1,G6=\"\"),\"\",G6-1)","v":""},null,{"$f":"IF(OR(G7=0,G7=\"\"),\"\",VLOOKUP(G7,部員情報!$P$8:$Q$145,2,FALSE))","v":""},null,{"$f":"IF(I7=\"\",\"\",VLOOKUP(I7,部員情報!$Q$9:$W$145,7,FALSE))","v":""}]
[null,null,null,"クラブチームはチーム名を入力してください",null,null,null,null,{"$f":"IF(D12=\"\",\"\",D12)","v":""},null,{"$f":"IF(D10=\"\",\"\",D10)","v":""}]
[null,null,null,"正式名称"]
[null,null,null,null,null,"郡市コード",12,null,{"$f":"IF(G10=12,\"\",VLOOKUP(G10,総体入力!$W$29:$X$40,2,FALSE))","v":""}]
[null,null,null,"略称"]
[null,null,null,null,null,"中学校orクラブ",3]
[]
[null,null,"　"]
[null,null,"　申込書完成までの流れ"]
[null,null,"　　①web登録後にダウンロードしたcsvファイルからデータをコピーして，シートに貼り付ける。",null,null,"中学校"]
[null,null,"　　②総体入力シートで、「学校名」､「校長名」､「監督名」､県総体に出場する選手の「アスリートビブスナンバー」､\n　　　「出場種目」､「出場種目の記録」を入力する。個表では郡市ごとの色塗りボタンを使い、個表に色をつける。",null,null,"クラブチーム"]
[null,null,"　　③総体の一覧表、個表、リレー個表をカラー印刷する。（すべてＡ４版になっています）"]
[null,null,"　　④プログラム編成会議では、各校で作成したデータをもとに選手集計などを行いますので、データを入力したファイルと\n　　　印刷した一覧表、個表、リレー個表を、各郡市専門委員長に提出する。"]
[]
[]
[null,null,"　　※通信申し込みと、後日行う県新人も同様になります。"]
[]
[]
[]
[null,"１．部員情報を作成する"]
[null,null,"・この説明書を最後まで読んだら，「はい」のボタンを押してください。そのあと，web登録したデータを貼り付けますので，あらかじめ「登録データ貼付」シートを表示しておいてください。"]
[null,null,"・ＣＳＶファイルのダウンロードについては，各校においてweb登録システムにログイン後，「団体登録申請」から，自分の管理する団体を選び，ワンタイムパスワードを入力し，下の方にある「加入団体参加者情報CSVファイルダウンロード」のボタンをクリックしてCSVファイルをダウンロードします。ファイル名は変更しないでください。"]
[null,null,"・ＣＳＶファイルをダウンロードしたら，そのファイルを開き，行列番号の一番左上の部分をクリックします，そうするとシート全体が選択されるので，そのままの状態でマウスのボタンを右クリックして「コピー」します。次に，この「県総体申込み」ファイルに移動し，さきほど表示しておいた「登録データ貼付」シートの「Ａ１」セルを右クリックして「貼り付け」を行います。表示し切れていないデータなどもありますが，手を加える必要はありません。"]
[null,null,"・次に，「部員情報」のシートを表示し，各種データが間違いなく表示されているかを確認してください。間違いなければ，このあとの入力作業がしやすくなるように，一覧を印刷しておきましょう。"]
[]
[null,null,"・各シートの保護解除や，データの直接入力はしないで下さい。"]
[]
[]
[]
[]
[]
[]
[]
[]
[]
[]
[]
[]
[null,"２．県総体の入力をする（男女それぞれお願いします）"]
[null,null,"・学校名，クラブ名は、一覧表用です。学校名は「秋田市立秋田東」のように○○立をつけたものが入力されているはずです。クラブ名は上で入力されたものが表示されているはずです。"]
[null,null,"・監督氏名、校長氏名（クラブの場合は代表者名）を入力して下さい。"]
[null,null,"・学校名（クラブ名）の略称は県大会でのプログラムに記載される名称です。"]
[null,null,"・出場選手の｢アスリートビブス｣番号を入力します。入力すると、学校名（クラブ名）、氏名、フリガナ、氏名英語表記、学年が表示されます。"]
[null,null,"・出場選手の｢出場種目｣を選択します。個人種目とリレー種目を忘れないで下さい。リストボックス内からの選択ですので表示されたものが間違いないかどうか確認をして下さい。"]
[null,null,"・個人種目のベスト記録を入力します。郡市大会での記録や今年度の公式記録などを入力することになります。\n記録の入力の仕方については、下の例をよく見て間違いのないようにしてください。"]
[]
[null,null,"・個人種目の郡市内順位を入力する。標準記録突破者については、「突破」と入力してください。"]
[null,null,"・リレーの記録を入力します。リレーは１種目につき最大６人まで登録可能ですが、全員の欄に記録を入力する必要はありません。登録される選手の内、一番上に入力されている選手の欄にのみ入力されていればＯＫです。"]
[]
[null,null,"・リレーメンバーの抽出をします。必要事項の入力後、男女それぞれ「低学年リレー抽出」「共通リレー抽出」ボタンを押して下さい。ボタンを押しても抽出されない場合は、マクロが無効になっているか、リレーに登録されている選手が３人以下か７人以上になっていると思います。もう一度確認してください。下の方にリレーメンバーの一覧ができあがります。もし間違いがある場合は出場種目の確認をして下さい。リレー出場についてずれている可能性があります。"]
[null,null,"・今年から，個人のアスリートビブス番号は中学校在学中ずっと同じ番号です。陸連登録後にダウンロードしたCSVファイルにも4桁（クラブは3桁）の「登録番号」が入っているはずですので，一覧表や個表にもすべてアスリートビブス番号が入った状態になっているはずです。"]
[]
[null,"３．一覧表の確認"]
[null,null,"・県総体一覧表シートを表示し、入力内容に間違いがないかどうか確認して下さい。一覧表はＡ4です。印刷する際には用紙サイズの間違いがないようにご注意下さい。"]
[]
[null,"４．個表の作成（個人種目・リレー）"]
[null,null,"・入力シートのデータが個表に反映されているはずです。ここでも間違いがないかどうか確認をお願いします。"]
[null,null,"・個表では色つけを行います。右側に各郡市の色つけ用ボタンがありますので、自分の郡市のボタンを押して下さい。"]
[]
[null,"５．印刷する"]
[null,null,"・一覧表、個表、リレー個表を印刷します。それぞれのシートに印刷ボタンを用意しました。クリックするだけで印刷が可能ですが、今使っているコンピュータで「標準で使うプリンタ」として設定されているプリンタで印刷されます。つまり印刷する際にプリンタの選択ができません。十分ご注意下さい。"]
[null,null,"・一応、各シートにおいて印刷範囲を指定してありますので、印刷ボタンを使用しなくてもずれることなく印刷できるはずです。"]
[null,null,"・用紙サイズは一覧表、個表関係ともにA4になります。"]
[]
[]
[]
[]
[null,"６．保存する"]
[null,null,"・入力と印刷ができあがったら「名前を付けて保存」をしてください。\nファイル名の付け方は次の通りです。郡市名と学校名を入力してください。"]
[null,null,"　　　　　　　　　　　　　　　　　　　　　　　　　　　　　　　桜中学校の場合\n　　R5県総体申込み（郡市名＿学校名）　　　　　　　例：R5県総体申込み（秋田＿桜）"]
[null,null,"　　郡市名と学校名の間は「アンダーバー」です。Ｓｈｉｆｔキーを押しながら、ひらがなの「ろ」で入力できます。"]
[]
[]
[null,"８．送る"]
[null,null,"・各校監督は、データを入力したファイルと、印刷した一覧表・個表を各郡市専門委員長に提出してください。"]
[]
[null,"９．各郡市専門委員長の先生方へのお願い"]
[null,null,"・各郡市専門委員長は、すべての学校のデータがそろい次第，県専門委員長にメールで送信してください。また，フラッシュメモリーにコピーしてプログラム編成会議の時に持ってきてください。"]
[]
[null,null,"・また、各校の入力シートから必要なデータをコピーし、別のファイルを作成していただきたいと思います。\n「郡市別参加者一覧（）」というファイルに、各校の「総体入力ファイル」と「通信入力ファイル」から必要な部分をコピーし、「形式を選択して貼り付け→値」で貼り付けてください。全ての学校のデータを貼り付けて完成したら、「郡市別参加者一覧（○○）」というファイル名で保存してください。○○の部分は郡市名を入れてください。\n　なお、「総体」「通信」ともに「参加者数一覧」シートで各種目の参加人数のチェックと、リレー参加校の入力を行ってください。\n　昨年は「kyogisha」シートのコピーをし忘れている郡市がありました。会議時間の短縮のためにもご協力よろしくお願いいたします。\n\n　　ファイル名の例　秋田市の場合・・・・・郡市別参加者一覧（秋田）"]

{"sheet":"総体入力","index":1,"n_rows":145,"n_cols":30,"rows_kept":145,"cut":false,"hidden":false,"merged":[[1,9,1,11],[5,1,7,1],[1,2,1,3],[6,5,7,6],[72,1,74,1],[73,5,74,7],[68,2,68,3],[1,0,2,1],[68,0,69,1],[72,9,74,13],[2,10,2,11],[3,10,3,11],[70,10,70,11],[69,10,69,11],[68,9,68,11],[5,9,7,13]]}
["県総体"]
["男子",null,"一覧表用データ",null,null,null,null,null,null,"個表用データ"]
[null,null,{"$f":"IF(必ずお読み下さい!G12=1,\"学校名\",IF(必ずお読み下さい!G12=2,\"クラブ名\",\"\"))","v":""},{"$f":"IF(必ずお読み下さい!G12=1,必ずお読み下さい!K7,IF(必ずお読み下さい!G12=2,必ずお読み下さい!K8,\"\"))","v":""},null,null,null,null,null,{"$f":"IF(必ずお読み下さい!G12=1,\"学校名（略称）\",IF(必ずお読み下さい!G12=2,\"チーム名（略称）\",\"学校名（略称）\"))","v":"学校名（略称）"},{"$f":"IF(必ずお読み下さい!G12=1,必ずお読み下さい!I7,IF(必ずお読み下さい!G12=2,必ずお読み下さい!I8,\"\"))","v":""}]
[null,null,"監督氏名",null,"※",null,null,null,null,"郡市名",{"$f":"IF(必ずお読み下さい!I10=\"\",\"\",必ずお読み下さい!I10)","v":""}]
[null,null,{"$f":"IF(必ずお読み下さい!G12=1,\"校長名\",IF(必ずお読み下さい!G12=2,\"代表者\",\"\"))","v":""},null,"※"]
[null,"引率・監督の特例を適用した場合入力→","引率者",null,null,null,null,null,null,"※の項目は必ず入力してください。入力の内容については「必ずお読み下さい」を参照して下さい。"]
[null,null,"代理監督学校名",null,null,"ナンバーカード入力後、出場する\nリレーのみ抽出ボタンを押す"]
[null,null,"代理監督氏名"]
[]
[null,"アスリート\nビブス№","学校名\nクラブ名","氏　　　名","学\n年","フリガナ","氏名英語表記","個人\n種目","リレー\n種目","個人種目","個人種目\nベスト記録","郡市内\n順位","リレー種目","リレー\nベスト記録",null,"JAAF ID",null,"性別","所属№","フリガナ",null,"生年月日"]
[1,null,{"$f":"IF(B11=\"\",\"\",$K$3)","v":""},{"$f":"IF($B11=\"\",\"\",VLOOKUP($B11,部員情報!$A$6:$H$104,3,FALSE))","v":""},{"$f":"IF($B11=\"\",\"\",VLOOKUP($B11,部員情報!$A$6:$H$104,8,FALSE))","v":""},{"$f":"IF(B11=\"\",\"\",ASC(T11))","v":""},{"$f":"IF($B11=\"\",\"\",VLOOKUP($B11,部員情報!$A$6:$H$104,5,FALSE))","v":""},{"$f":"IF(J11=\"\",\"\",VLOOKUP(J11,$X$11:$Y$26,2,FALSE))","v":""},{"$f":"IF(M11=\"\",\"\",VLOOKUP(M11,$Z$11:$AA$13,2,FALSE))","v":""},null,null,null,null,null,null,{"$f":"IF(B11=\"\",\"\",VLOOKUP(B11,部員情報!$A$6:$I$155,2,FALSE))","v":""},null,{"$f":"IF(B11=\"\",\"\",1)","v":""},{"$f":"IF(B11=\"\",\"\",VLOOKUP($K$3,部員情報!$Q$9:$R$144,2,FALSE))","v":""},{"$f":"IF($B11=\"\",\"\",VLOOKUP($B11,部員情報!$A$6:$H$104,4,FALSE))","v":""},null,{"$f":"IF($B11=\"\",\"\",VLOOKUP($B11,部員情報!$A$6:$H$104,7,FALSE))","v":""},null,"１年１００ｍ",{"$f":"VLOOKUP(X11,種目コード一覧!$A$3:$B$20,2,FALSE)","v":1},"低学年４×１００ｍＲ",{"$f":"VLOOKUP(Z11,種目コード一覧!$A$26:$B$28,2,FALSE)","v":20},null,"秋大附属","否"]
[2,null,"",{"$f":"IF($B12=\"\",\"\",VLOOKUP($B12,部員情報!$A$6:$H$104,3,FALSE))","v":""},{"$f":"IF($B12=\"\",\"\",VLOOKUP($B12,部員情報!$A$6:$H$104,8,FALSE))","v":""},{"$f":"IF($B12=\"\",\"\",VLOOKUP($B12,部員情報!$A$6:$H$104,4,FALSE))","v":""},{"$f":"IF($B12=\"\",\"\",VLOOKUP($B12,部員情報!$A$6:$H$104,5,FALSE))","v":""},{"$f":"IF(J12=\"\",\"\",VLOOKUP(J12,$X$11:$Y$26,2,FALSE))","v":""},{"$f":"IF(M12=\"\",\"\",VLOOKUP(M12,$Z$11:$AA$13,2,FALSE))","v":""},null,null,null,null,null,null,{"$f":"IF(B12=\"\",\"\",VLOOKUP(B12,部員情報!$A$6:$I$155,2,FALSE))","v":""},null,"",{"$f":"IF(B12=\"\",\"\",VLOOKUP($K$3,部員情報!$Q$9:$R$144,2,FALSE))","v":""},{"$f":"IF($B12=\"\",\"\",VLOOKUP($B12,部員情報!$A$6:$H$104,4,FALSE))","v":""},null,{"$f":"IF($B12=\"\",\"\",VLOOKUP($B12,部員情報!$A$6:$H$104,7,FALSE))","v":""},null,"２年１００ｍ",{"$f":"VLOOKUP(X12,種目コード一覧!$A$3:$B$20,2,FALSE)","v":2},"共通４×１００ｍＲ",{"$f":"VLOOKUP(Z12,種目コード一覧!$A$26:$B$28,2,FALSE)","v":21},null,"大館国際情報"]
[3,null,"",{"$f":"IF($B13=\"\",\"\",VLOOKUP($B13,部員情報!$A$6:$H$104,3,FALSE))","v":""},{"$f":"IF($B13=\"\",\"\",VLOOKUP($B13,部員情報!$A$6:$H$104,8,FALSE))","v":""},{"$f":"IF($B13=\"\",\"\",VLOOKUP($B13,部員情報!$A$6:$H$104,4,FALSE))","v":""},{"$f":"IF($B13=\"\",\"\",VLOOKUP($B13,部員情報!$A$6:$H$104,5,FALSE))","v":""},"","",null,null,null,null,null,null,{"$f":"IF(B13=\"\",\"\",VLOOKUP(B13,部員情報!$A$6:$I$155,2,FALSE))","v":""},null,"",{"$f":"IF(B13=\"\",\"\",VLOOKUP($K$3,部員情報!$Q$9:$R$144,2,FALSE))","v":""},{"$f":"IF($B13=\"\",\"\",VLOOKUP($B13,部員情報!$A$6:$H$104,4,FALSE))","v":""},null,{"$f":"IF($B13=\"\",\"\",VLOOKUP($B13,部員情報!$A$6:$H$104,7,FALSE))","v":""},null,"３年１００ｍ",{"$f":"VLOOKUP(X13,種目コード一覧!$A$3:$B$20,2,FALSE)","v":3},null,0,null,"南高中等部"]
[4,null,"",{"$f":"IF($B14=\"\",\"\",VLOOKUP($B14,部員情報!$A$6:$H$104,3,FALSE))","v":""},{"$f":"IF($B14=\"\",\"\",VLOOKUP($B14,部員情報!$A$6:$H$104,8,FALSE))","v":""},{"$f":"IF($B14=\"\",\"\",VLOOKUP($B14,部員情報!$A$6:$H$104,4,FALSE))","v":""},{"$f":"IF($B14=\"\",\"\",VLOOKUP($B14,部員情報!$A$6:$H$104,5,FALSE))","v":""},"","",null,null,null,null,null,null,{"$f":"IF(B14=\"\",\"\",VLOOKUP(B14,部員情報!$A$6:$I$155,2,FALSE))","v":""},null,"",{"$f":"IF(B14=\"\",\"\",VLOOKUP($K$3,部員情報!$Q$9:$R$144,2,FALSE))","v":""},{"$f":"IF($B14=\"\",\"\",VLOOKUP($B14,部員情報!$A$6:$H$104,4,FALSE))","v":""},null,{"$f":"IF($B14=\"\",\"\",VLOOKUP($B14,部員情報!$A$6:$H$104,7,FALSE))","v":""},null,"共通２００ｍ",{"$f":"VLOOKUP(X14,種目コード一覧!$A$3:$B$20,2,FALSE)","v":4},null,null,null,"横手清陵学院"]
[5,null,"",{"$f":"IF($B15=\"\",\"\",VLOOKUP($B15,部員情報!$A$6:$H$104,3,FALSE))","v":""},{"$f":"IF($B15=\"\",\"\",VLOOKUP($B15,部員情報!$A$6:$H$104,8,FALSE))","v":""},{"$f":"IF($B15=\"\",\"\",VLOOKUP($B15,部員情報!$A$6:$H$104,4,FALSE))","v":""},{"$f":"IF($B15=\"\",\"\",VLOOKUP($B15,部員情報!$A$6:$H$104,5,FALSE))","v":""},"","",null,null,null,null,null,null,{"$f":"IF(B15=\"\",\"\",VLOOKUP(B15,部員情報!$A$6:$I$155,2,FALSE))","v":""},null,"",{"$f":"IF(B15=\"\",\"\",VLOOKUP($K$3,部員情報!$Q$9:$R$144,2,FALSE))","v":""},{"$f":"IF($B15=\"\",\"\",VLOOKUP($B15,部員情報!$A$6:$H$104,4,FALSE))","v":""},null,{"$f":"IF($B15=\"\",\"\",VLOOKUP($B15,部員情報!$A$6:$H$104,7,FALSE))","v":""},null,"共通４００ｍ",{"$f":"VLOOKUP(X15,種目コード一覧!$A$3:$B$20,2,FALSE)","v":5},null,null,null,"花輪"]
[6,null,"",{"$f":"IF($B16=\"\",\"\",VLOOKUP($B16,部員情報!$A$6:$H$104,3,FALSE))","v":""},{"$f":"IF($B16=\"\",\"\",VLOOKUP($B16,部員情報!$A$6:$H$104,8,FALSE))","v":""},{"$f":"IF($B16=\"\",\"\",VLOOKUP($B16,部員情報!$A$6:$H$104,4,FALSE))","v":""},{"$f":"IF($B16=\"\",\"\",VLOOKUP($B16,部員情報!$A$6:$H$104,5,FALSE))","v":""},"","",null,null,null,null,null,null,{"$f":"IF(B16=\"\",\"\",VLOOKUP(B16,部員情報!$A$6:$I$155,2,FALSE))","v":""},null,"",{"$f":"IF(B16=\"\",\"\",VLOOKUP($K$3,部員情報!$Q$9:$R$144,2,FALSE))","v":""},{"$f":"IF($B16=\"\",\"\",VLOOKUP($B16,部員情報!$A$6:$H$104,4,FALSE))","v":""},null,{"$f":"IF($B16=\"\",\"\",VLOOKUP($B16,部員情報!$A$6:$H$104,7,FALSE))","v":""},null,"共通８００ｍ",{"$f":"VLOOKUP(X16,種目コード一覧!$A$3:$B$20,2,FALSE)","v":6},null,null,null,"十和田"]
[7,null,"",{"$f":"IF($B17=\"\",\"\",VLOOKUP($B17,部員情報!$A$6:$H$104,3,FALSE))","v":""},{"$f":"IF($B17=\"\",\"\",VLOOKUP($B17,部員情報!$A$6:$H$104,8,FALSE))","v":""},{"$f":"IF($B17=\"\",\"\",VLOOKUP($B17,部員情報!$A$6:$H$104,4,FALSE))","v":""},{"$f":"IF($B17=\"\",\"\",VLOOKUP($B17,部員情報!$A$6:$H$104,5,FALSE))","v":""},"","",null,null,null,null,null,null,{"$f":"IF(B17=\"\",\"\",VLOOKUP(B17,部員情報!$A$6:$I$155,2,FALSE))","v":""},null,"",{"$f":"IF(B17=\"\",\"\",VLOOKUP($K$3,部員情報!$Q$9:$R$144,2,FALSE))","v":""},{"$f":"IF($B17=\"\",\"\",VLOOKUP($B17,部員情報!$A$6:$H$104,4,FALSE))","v":""},null,{"$f":"IF($B17=\"\",\"\",VLOOKUP($B17,部員情報!$A$6:$H$104,7,FALSE))","v":""},null,"１年１５００ｍ",{"$f":"VLOOKUP(X17,種目コード一覧!$A$3:$B$20,2,FALSE)","v":7},null,null,null,"尾去沢"]
[8,null,"",{"$f":"IF($B18=\"\",\"\",VLOOKUP($B18,部員情報!$A$6:$H$104,3,FALSE))","v":""},{"$f":"IF($B18=\"\",\"\",VLOOKUP($B18,部員情報!$A$6:$H$104,8,FALSE))","v":""},{"$f":"IF($B18=\"\",\"\",VLOOKUP($B18,部員情報!$A$6:$H$104,4,FALSE))","v":""},{"$f":"IF($B18=\"\",\"\",VLOOKUP($B18,部員情報!$A$6:$H$104,5,FALSE))","v":""},"","",null,null,null,null,null,null,{"$f":"IF(B18=\"\",\"\",VLOOKUP(B18,部員情報!$A$6:$I$155,2,FALSE))","v":""},null,"",{"$f":"IF(B18=\"\",\"\",VLOOKUP($K$3,部員情報!$Q$9:$R$144,2,FALSE))","v":""},{"$f":"IF($B18=\"\",\"\",VLOOKUP($B18,部員情報!$A$6:$H$104,4,FALSE))","v":""},null,{"$f":"IF($B18=\"\",\"\",VLOOKUP($B18,部員情報!$A$6:$H$104,7,FALSE))","v":""},null,"２・３年１５００ｍ",{"$f":"VLOOKUP(X18,種目コード一覧!$A$3:$B$20,2,FALSE)","v":8},null,null,null,"八幡平"]
[9,null,"",{"$f":"IF($B19=\"\",\"\",VLOOKUP($B19,部員情報!$A$6:$H$104,3,FALSE))","v":""},{"$f":"IF($B19=\"\",\"\",VLOOKUP($B19,部員情報!$A$6:$H$104,8,FALSE))","v":""},{"$f":"IF($B19=\"\",\"\",VLOOKUP($B19,部員情報!$A$6:$H$104,4,FALSE))","v":""},{"$f":"IF($B19=\"\",\"\",VLOOKUP($B19,部員情報!$A$6:$H$104,5,FALSE))","v":""},"","",null,null,null,null,null,null,{"$f":"IF(B19=\"\",\"\",VLOOKUP(B19,部員情報!$A$6:$I$155,2,FALSE))","v":""},null,"",{"$f":"IF(B19=\"\",\"\",VLOOKUP($K$3,部員情報!$Q$9:$R$144,2,FALSE))","v":""},{"$f":"IF($B19=\"\",\"\",VLOOKUP($B19,部員情報!$A$6:$H$104,4,FALSE))","v":""},null,{"$f":"IF($B19=\"\",\"\",VLOOKUP($B19,部員情報!$A$6:$H$104,7,FALSE))","v":""},null,"共通３０００ｍ",{"$f":"VLOOKUP(X19,種目コード一覧!$A$3:$B$20,2,FALSE)","v":10},null,null,null,"小坂"]
[10,null,"",{"$f":"IF($B20=\"\",\"\",VLOOKUP($B20,部員情報!$A$6:$H$104,3,FALSE))","v":""},{"$f":"IF($B20=\"\",\"\",VLOOKUP($B20,部員情報!$A$6:$H$104,8,FALSE))","v":""},{"$f":"IF($B20=\"\",\"\",VLOOKUP($B20,部員情報!$A$6:$H$104,4,FALSE))","v":""},{"$f":"IF($B20=\"\",\"\",VLOOKUP($B20,部員情報!$A$6:$H$104,5,FALSE))","v":""},"","",null,null,null,null,null,null,{"$f":"IF(B20=\"\",\"\",VLOOKUP(B20,部員情報!$A$6:$I$155,2,FALSE))","v":""},null,"",{"$f":"IF(B20=\"\",\"\",VLOOKUP($K$3,部員情報!$Q$9:$R$144,2,FALSE))","v":""},{"$f":"IF($B20=\"\",\"\",VLOOKUP($B20,部員情報!$A$6:$H$104,4,FALSE))","v":""},null,{"$f":"IF($B20=\"\",\"\",VLOOKUP($B20,部員情報!$A$6:$H$104,7,FALSE))","v":""},null,"共通１１０ｍＨ",{"$f":"VLOOKUP(X20,種目コード一覧!$A$3:$B$20,2,FALSE)","v":11},null,null,null,"大館第一"]
[11,null,"",{"$f":"IF($B21=\"\",\"\",VLOOKUP($B21,部員情報!$A$6:$H$104,3,FALSE))","v":""},{"$f":"IF($B21=\"\",\"\",VLOOKUP($B21,部員情報!$A$6:$H$104,8,FALSE))","v":""},{"$f":"IF($B21=\"\",\"\",VLOOKUP($B21,部員情報!$A$6:$H$104,4,FALSE))","v":""},{"$f":"IF($B21=\"\",\"\",VLOOKUP($B21,部員情報!$A$6:$H$104,5,FALSE))","v":""},"","",null,null,null,null,null,null,{"$f":"IF(B21=\"\",\"\",VLOOKUP(B21,部員情報!$A$6:$I$155,2,FALSE))","v":""},null,"",{"$f":"IF(B21=\"\",\"\",VLOOKUP($K$3,部員情報!$Q$9:$R$144,2,FALSE))","v":""},{"$f":"IF($B21=\"\",\"\",VLOOKUP($B21,部員情報!$A$6:$H$104,4,FALSE))","v":""},null,{"$f":"IF($B21=\"\",\"\",VLOOKUP($B21,部員情報!$A$6:$H$104,7,FALSE))","v":""},null,"共通走高跳",{"$f":"VLOOKUP(X21,種目コード一覧!$A$3:$B$20,2,FALSE)","v":13},null,null,null,"北陽"]
[12,null,"",{"$f":"IF($B22=\"\",\"\",VLOOKUP($B22,部員情報!$A$6:$H$104,3,FALSE))","v":""},{"$f":"IF($B22=\"\",\"\",VLOOKUP($B22,部員情報!$A$6:$H$104,8,FALSE))","v":""},{"$f":"IF($B22=\"\",\"\",VLOOKUP($B22,部員情報!$A$6:$H$104,4,FALSE))","v":""},{"$f":"IF($B22=\"\",\"\",VLOOKUP($B22,部員情報!$A$6:$H$104,5,FALSE))","v":""},"","",null,null,null,null,null,null,{"$f":"IF(B22=\"\",\"\",VLOOKUP(B22,部員情報!$A$6:$I$155,2,FALSE))","v":""},null,"",{"$f":"IF(B22=\"\",\"\",VLOOKUP($K$3,部員情報!$Q$9:$R$144,2,FALSE))","v":""},{"$f":"IF($B22=\"\",\"\",VLOOKUP($B22,部員情報!$A$6:$H$104,4,FALSE))","v":""},null,{"$f":"IF($B22=\"\",\"\",VLOOKUP($B22,部員情報!$A$6:$H$104,7,FALSE))","v":""},null,"共通棒高跳",{"$f":"VLOOKUP(X22,種目コード一覧!$A$3:$B$20,2,FALSE)","v":14},null,null,null,"下川沿"]
[13,null,"",{"$f":"IF($B23=\"\",\"\",VLOOKUP($B23,部員情報!$A$6:$H$104,3,FALSE))","v":""},{"$f":"IF($B23=\"\",\"\",VLOOKUP($B23,部員情報!$A$6:$H$104,8,FALSE))","v":""},{"$f":"IF($B23=\"\",\"\",VLOOKUP($B23,部員情報!$A$6:$H$104,4,FALSE))","v":""},{"$f":"IF($B23=\"\",\"\",VLOOKUP($B23,部員情報!$A$6:$H$104,5,FALSE))","v":""},"","",null,null,null,null,null,null,{"$f":"IF(B23=\"\",\"\",VLOOKUP(B23,部員情報!$A$6:$I$155,2,FALSE))","v":""},null,"",{"$f":"IF(B23=\"\",\"\",VLOOKUP($K$3,部員情報!$Q$9:$R$144,2,FALSE))","v":""},{"$f":"IF($B23=\"\",\"\",VLOOKUP($B23,部員情報!$A$6:$H$104,4,FALSE))","v":""},null,{"$f":"IF($B23=\"\",\"\",VLOOKUP($B23,部員情報!$A$6:$H$104,7,FALSE))","v":""},null,"共通走幅跳",{"$f":"VLOOKUP(X23,種目コード一覧!$A$3:$B$20,2,FALSE)","v":15},null,null,null,"大館南"]
[14,null,"",{"$f":"IF($B24=\"\",\"\",VLOOKUP($B24,部員情報!$A$6:$H$104,3,FALSE))","v":""},{"$f":"IF($B24=\"\",\"\",VLOOKUP($B24,部員情報!$A$6:$H$104,8,FALSE))","v":""},{"$f":"IF($B24=\"\",\"\",VLOOKUP($B24,部員情報!$A$6:$H$104,4,FALSE))","v":""},{"$f":"IF($B24=\"\",\"\",VLOOKUP($B24,部員情報!$A$6:$H$104,5,FALSE))","v":""},"","",null,null,null,null,null,null,{"$f":"IF(B24=\"\",\"\",VLOOKUP(B24,部員情報!$A$6:$I$155,2,FALSE))","v":""},null,"",{"$f":"IF(B24=\"\",\"\",VLOOKUP($K$3,部員情報!$Q$9:$R$144,2,FALSE))","v":""},{"$f":"IF($B24=\"\",\"\",VLOOKUP($B24,部員情報!$A$6:$H$104,4,FALSE))","v":""},null,{"$f":"IF($B24=\"\",\"\",VLOOKUP($B24,部員情報!$A$6:$H$104,7,FALSE))","v":""},null,"共通砲丸投",{"$f":"VLOOKUP(X24,種目コード一覧!$A$3:$B$20,2,FALSE)","v":16},null,null,null,"成章"]
[15,null,"",{"$f":"IF($B25=\"\",\"\",VLOOKUP($B25,部員情報!$A$6:$H$104,3,FALSE))","v":""},{"$f":"IF($B25=\"\",\"\",VLOOKUP($B25,部員情報!$A$6:$H$104,8,FALSE))","v":""},{"$f":"IF($B25=\"\",\"\",VLOOKUP($B25,部員情報!$A$6:$H$104,4,FALSE))","v":""},{"$f":"IF($B25=\"\",\"\",VLOOKUP($B25,部員情報!$A$6:$H$104,5,FALSE))","v":""},"","",null,null,null,null,null,null,{"$f":"IF(B25=\"\",\"\",VLOOKUP(B25,部員情報!$A$6:$I$155,2,FALSE))","v":""},null,"",{"$f":"IF(B25=\"\",\"\",VLOOKUP($K$3,部員情報!$Q$9:$R$144,2,FALSE))","v":""},{"$f":"IF($B25=\"\",\"\",VLOOKUP($B25,部員情報!$A$6:$H$104,4,FALSE))","v":""},null,{"$f":"IF($B25=\"\",\"\",VLOOKUP($B25,部員情報!$A$6:$H$104,7,FALSE))","v":""},null,"共通四種競技",{"$f":"VLOOKUP(X25,種目コード一覧!$A$3:$B$20,2,FALSE)","v":17},null,null,null,"大館東"]
[16,null,"",{"$f":"IF($B26=\"\",\"\",VLOOKUP($B26,部員情報!$A$6:$H$104,3,FALSE))","v":""},{"$f":"IF($B26=\"\",\"\",VLOOKUP($B26,部員情報!$A$6:$H$104,8,FALSE))","v":""},{"$f":"IF($B26=\"\",\"\",VLOOKUP($B26,部員情報!$A$6:$H$104,4,FALSE))","v":""},{"$f":"IF($B26=\"\",\"\",VLOOKUP($B26,部員情報!$A$6:$H$104,5,FALSE))","v":""},"","",null,null,null,null,null,null,{"$f":"IF(B26=\"\",\"\",VLOOKUP(B26,部員情報!$A$6:$I$155,2,FALSE))","v":""},null,"",{"$f":"IF(B26=\"\",\"\",VLOOKUP($K$3,部員情報!$Q$9:$R$144,2,FALSE))","v":""},{"$f":"IF($B26=\"\",\"\",VLOOKUP($B26,部員情報!$A$6:$H$104,4,FALSE))","v":""},null,{"$f":"IF($B26=\"\",\"\",VLOOKUP($B26,部員情報!$A$6:$H$104,7,FALSE))","v":""},null,null,null,null,null,null,"比内"]
[17,null,"",{"$f":"IF($B27=\"\",\"\",VLOOKUP($B27,部員情報!$A$6:$H$104,3,FALSE))","v":""},{"$f":"IF($B27=\"\",\"\",VLOOKUP($B27,部員情報!$A$6:$H$104,8,FALSE))","v":""},{"$f":"IF($B27=\"\",\"\",VLOOKUP($B27,部員情報!$A$6:$H$104,4,FALSE))","v":""},{"$f":"IF($B27=\"\",\"\",VLOOKUP($B27,部員情報!$A$6:$H$104,5,FALSE))","v":""},"","",null,null,null,null,null,null,{"$f":"IF(B27=\"\",\"\",VLOOKUP(B27,部員情報!$A$6:$I$155,2,FALSE))","v":""},null,"",{"$f":"IF(B27=\"\",\"\",VLOOKUP($K$3,部員情報!$Q$9:$R$144,2,FALSE))","v":""},{"$f":"IF($B27=\"\",\"\",VLOOKUP($B27,部員情報!$A$6:$H$104,4,FALSE))","v":""},null,{"$f":"IF($B27=\"\",\"\",VLOOKUP($B27,部員情報!$A$6:$H$104,7,FALSE))","v":""},null,null,null,null,null,null,"田代"]
[18,null,"",{"$f":"IF($B28=\"\",\"\",VLOOKUP($B28,部員情報!$A$6:$H$104,3,FALSE))","v":""},{"$f":"IF($B28=\"\",\"\",VLOOKUP($B28,部員情報!$A$6:$H$104,8,FALSE))","v":""},{"$f":"IF($B28=\"\",\"\",VLOOKUP($B28,部員情報!$A$6:$H$104,4,FALSE))","v":""},{"$f":"IF($B28=\"\",\"\",VLOOKUP($B28,部員情報!$A$6:$H$104,5,FALSE))","v":""},"","",null,null,null,null,null,null,{"$f":"IF(B28=\"\",\"\",VLOOKUP(B28,部員情報!$A$6:$I$155,2,FALSE))","v":""},null,"",{"$f":"IF(B28=\"\",\"\",VLOOKUP($K$3,部員情報!$Q$9:$R$144,2,FALSE))","v":""},{"$f":"IF($B28=\"\",\"\",VLOOKUP($B28,部員情報!$A$6:$H$104,4,FALSE))","v":""},null,{"$f":"IF($B28=\"\",\"\",VLOOKUP($B28,部員情報!$A$6:$H$104,7,FALSE))","v":""},null,null,null,null,null,null,"鷹巣"]
[19,null,"",{"$f":"IF($B29=\"\",\"\",VLOOKUP($B29,部員情報!$A$6:$H$104,3,FALSE))","v":""},{"$f":"IF($B29=\"\",\"\",VLOOKUP($B29,部員情報!$A$6:$H$104,8,FALSE))","v":""},{"$f":"IF($B29=\"\",\"\",VLOOKUP($B29,部員情報!$A$6:$H$104,4,FALSE))","v":""},{"$f":"IF($B29=\"\",\"\",VLOOKUP($B29,部員情報!$A$6:$H$104,5,FALSE))","v":""},"","",null,null,null,null,null,null,{"$f":"IF(B29=\"\",\"\",VLOOKUP(B29,部員情報!$A$6:$I$155,2,FALSE))","v":""},null,"",{"$f":"IF(B29=\"\",\"\",VLOOKUP($K$3,部員情報!$Q$9:$R$144,2,FALSE))","v":""},{"$f":"IF($B29=\"\",\"\",VLOOKUP($B29,部員情報!$A$6:$H$104,4,FALSE))","v":""},null,{"$f":"IF($B29=\"\",\"\",VLOOKUP($B29,部員情報!$A$6:$H$104,7,FALSE))","v":""},1,"鹿角",1,null,null,null,"森吉"]
[20,null,"",{"$f":"IF($B30=\"\",\"\",VLOOKUP($B30,部員情報!$A$6:$H$104,3,FALSE))","v":""},{"$f":"IF($B30=\"\",\"\",VLOOKUP($B30,部員情報!$A$6:$H$104,8,FALSE))","v":""},{"$f":"IF($B30=\"\",\"\",VLOOKUP($B30,部員情報!$A$6:$H$104,4,FALSE))","v":""},{"$f":"IF($B30=\"\",\"\",VLOOKUP($B30,部員情報!$A$6:$H$104,5,FALSE))","v":""},"","",null,null,null,null,null,null,{"$f":"IF(B30=\"\",\"\",VLOOKUP(B30,部員情報!$A$6:$I$155,2,FALSE))","v":""},null,"",{"$f":"IF(B30=\"\",\"\",VLOOKUP($K$3,部員情報!$Q$9:$R$144,2,FALSE))","v":""},{"$f":"IF($B30=\"\",\"\",VLOOKUP($B30,部員情報!$A$6:$H$104,4,FALSE))","v":""},null,{"$f":"IF($B30=\"\",\"\",VLOOKUP($B30,部員情報!$A$6:$H$104,7,FALSE))","v":""},2,"大館北秋",2,null,null,null,"阿仁"]
[21,null,"",{"$f":"IF($B31=\"\",\"\",VLOOKUP($B31,部員情報!$A$6:$H$104,3,FALSE))","v":""},{"$f":"IF($B31=\"\",\"\",VLOOKUP($B31,部員情報!$A$6:$H$104,8,FALSE))","v":""},{"$f":"IF($B31=\"\",\"\",VLOOKUP($B31,部員情報!$A$6:$H$104,4,FALSE))","v":""},{"$f":"IF($B31=\"\",\"\",VLOOKUP($B31,部員情報!$A$6:$H$104,5,FALSE))","v":""},"","",null,null,null,null,null,null,{"$f":"IF(B31=\"\",\"\",VLOOKUP(B31,部員情報!$A$6:$I$155,2,FALSE))","v":""},null,"",{"$f":"IF(B31=\"\",\"\",VLOOKUP($K$3,部員情報!$Q$9:$R$144,2,FALSE))","v":""},{"$f":"IF($B31=\"\",\"\",VLOOKUP($B31,部員情報!$A$6:$H$104,4,FALSE))","v":""},null,{"$f":"IF($B31=\"\",\"\",VLOOKUP($B31,部員情報!$A$6:$H$104,7,FALSE))","v":""},3,"能代山本",3,null,null,null,"合川"]
[22,null,"",{"$f":"IF($B32=\"\",\"\",VLOOKUP($B32,部員情報!$A$6:$H$104,3,FALSE))","v":""},{"$f":"IF($B32=\"\",\"\",VLOOKUP($B32,部員情報!$A$6:$H$104,8,FALSE))","v":""},{"$f":"IF($B32=\"\",\"\",VLOOKUP($B32,部員情報!$A$6:$H$104,4,FALSE))","v":""},{"$f":"IF($B32=\"\",\"\",VLOOKUP($B32,部員情報!$A$6:$H$104,5,FALSE))","v":""},"","",null,null,null,null,null,null,{"$f":"IF(B32=\"\",\"\",VLOOKUP(B32,部員情報!$A$6:$I$155,2,FALSE))","v":""},null,"",{"$f":"IF(B32=\"\",\"\",VLOOKUP($K$3,部員情報!$Q$9:$R$144,2,FALSE))","v":""},{"$f":"IF($B32=\"\",\"\",VLOOKUP($B32,部員情報!$A$6:$H$104,4,FALSE))","v":""},null,{"$f":"IF($B32=\"\",\"\",VLOOKUP($B32,部員情報!$A$6:$H$104,7,FALSE))","v":""},4,"男鹿潟上南秋",4,null,null,null,"上小阿仁"]
[23,null,"",{"$f":"IF($B33=\"\",\"\",VLOOKUP($B33,部員情報!$A$6:$H$104,3,FALSE))","v":""},{"$f":"IF($B33=\"\",\"\",VLOOKUP($B33,部員情報!$A$6:$H$104,8,FALSE))","v":""},{"$f":"IF($B33=\"\",\"\",VLOOKUP($B33,部員情報!$A$6:$H$104,4,FALSE))","v":""},{"$f":"IF($B33=\"\",\"\",VLOOKUP($B33,部員情報!$A$6:$H$104,5,FALSE))","v":""},"","",null,null,null,null,null,null,{"$f":"IF(B33=\"\",\"\",VLOOKUP(B33,部員情報!$A$6:$I$155,2,FALSE))","v":""},null,"",{"$f":"IF(B33=\"\",\"\",VLOOKUP($K$3,部員情報!$Q$9:$R$144,2,FALSE))","v":""},{"$f":"IF($B33=\"\",\"\",VLOOKUP($B33,部員情報!$A$6:$H$104,4,FALSE))","v":""},null,{"$f":"IF($B33=\"\",\"\",VLOOKUP($B33,部員情報!$A$6:$H$104,7,FALSE))","v":""},5,null,5,null,null,null,"能代第一"]
[24,null,"",{"$f":"IF($B34=\"\",\"\",VLOOKUP($B34,部員情報!$A$6:$H$104,3,FALSE))","v":""},{"$f":"IF($B34=\"\",\"\",VLOOKUP($B34,部員情報!$A$6:$H$104,8,FALSE))","v":""},{"$f":"IF($B34=\"\",\"\",VLOOKUP($B34,部員情報!$A$6:$H$104,4,FALSE))","v":""},{"$f":"IF($B34=\"\",\"\",VLOOKUP($B34,部員情報!$A$6:$H$104,5,FALSE))","v":""},"","",null,null,null,null,null,null,{"$f":"IF(B34=\"\",\"\",VLOOKUP(B34,部員情報!$A$6:$I$155,2,FALSE))","v":""},null,"",{"$f":"IF(B34=\"\",\"\",VLOOKUP($K$3,部員情報!$Q$9:$R$144,2,FALSE))","v":""},{"$f":"IF($B34=\"\",\"\",VLOOKUP($B34,部員情報!$A$6:$H$104,4,FALSE))","v":""},null,{"$f":"IF($B34=\"\",\"\",VLOOKUP($B34,部員情報!$A$6:$H$104,7,FALSE))","v":""},6,"秋田",6,null,null,null,"能代第二"]
[25,null,"",{"$f":"IF($B35=\"\",\"\",VLOOKUP($B35,部員情報!$A$6:$H$104,3,FALSE))","v":""},{"$f":"IF($B35=\"\",\"\",VLOOKUP($B35,部員情報!$A$6:$H$104,8,FALSE))","v":""},{"$f":"IF($B35=\"\",\"\",VLOOKUP($B35,部員情報!$A$6:$H$104,4,FALSE))","v":""},{"$f":"IF($B35=\"\",\"\",VLOOKUP($B35,部員情報!$A$6:$H$104,5,FALSE))","v":""},"","",null,null,null,null,null,null,{"$f":"IF(B35=\"\",\"\",VLOOKUP(B35,部員情報!$A$6:$I$155,2,FALSE))","v":""},null,"",{"$f":"IF(B35=\"\",\"\",VLOOKUP($K$3,部員情報!$Q$9:$R$144,2,FALSE))","v":""},{"$f":"IF($B35=\"\",\"\",VLOOKUP($B35,部員情報!$A$6:$H$104,4,FALSE))","v":""},null,{"$f":"IF($B35=\"\",\"\",VLOOKUP($B35,部員情報!$A$6:$H$104,7,FALSE))","v":""},7,"河辺",7,null,null,null,"能代東"]
[26,null,"",{"$f":"IF($B36=\"\",\"\",VLOOKUP($B36,部員情報!$A$6:$H$104,3,FALSE))","v":""},{"$f":"IF($B36=\"\",\"\",VLOOKUP($B36,部員情報!$A$6:$H$104,8,FALSE))","v":""},{"$f":"IF($B36=\"\",\"\",VLOOKUP($B36,部員情報!$A$6:$H$104,4,FALSE))","v":""},{"$f":"IF($B36=\"\",\"\",VLOOKUP($B36,部員情報!$A$6:$H$104,5,FALSE))","v":""},"","",null,null,null,null,null,null,{"$f":"IF(B36=\"\",\"\",VLOOKUP(B36,部員情報!$A$6:$I$155,2,FALSE))","v":""},null,"",{"$f":"IF(B36=\"\",\"\",VLOOKUP($K$3,部員情報!$Q$9:$R$144,2,FALSE))","v":""},{"$f":"IF($B36=\"\",\"\",VLOOKUP($B36,部員情報!$A$6:$H$104,4,FALSE))","v":""},null,{"$f":"IF($B36=\"\",\"\",VLOOKUP($B36,部員情報!$A$6:$H$104,7,FALSE))","v":""},8,"本荘由利",8,null,null,null,"東雲"]
[27,null,"",{"$f":"IF($B37=\"\",\"\",VLOOKUP($B37,部員情報!$A$6:$H$104,3,FALSE))","v":""},{"$f":"IF($B37=\"\",\"\",VLOOKUP($B37,部員情報!$A$6:$H$104,8,FALSE))","v":""},{"$f":"IF($B37=\"\",\"\",VLOOKUP($B37,部員情報!$A$6:$H$104,4,FALSE))","v":""},{"$f":"IF($B37=\"\",\"\",VLOOKUP($B37,部員情報!$A$6:$H$104,5,FALSE))","v":""},"","",null,null,null,null,null,null,{"$f":"IF(B37=\"\",\"\",VLOOKUP(B37,部員情報!$A$6:$I$155,2,FALSE))","v":""},null,"",{"$f":"IF(B37=\"\",\"\",VLOOKUP($K$3,部員情報!$Q$9:$R$144,2,FALSE))","v":""},{"$f":"IF($B37=\"\",\"\",VLOOKUP($B37,部員情報!$A$6:$H$104,4,FALSE))","v":""},null,{"$f":"IF($B37=\"\",\"\",VLOOKUP($B37,部員情報!$A$6:$H$104,7,FALSE))","v":""},9,"大曲仙北",9,null,null,null,"能代南"]
[28,null,"",{"$f":"IF($B38=\"\",\"\",VLOOKUP($B38,部員情報!$A$6:$H$104,3,FALSE))","v":""},{"$f":"IF($B38=\"\",\"\",VLOOKUP($B38,部員情報!$A$6:$H$104,8,FALSE))","v":""},{"$f":"IF($B38=\"\",\"\",VLOOKUP($B38,部員情報!$A$6:$H$104,4,FALSE))","v":""},{"$f":"IF($B38=\"\",\"\",VLOOKUP($B38,部員情報!$A$6:$H$104,5,FALSE))","v":""},"","",null,null,null,null,null,null,{"$f":"IF(B38=\"\",\"\",VLOOKUP(B38,部員情報!$A$6:$I$155,2,FALSE))","v":""},null,"",{"$f":"IF(B38=\"\",\"\",VLOOKUP($K$3,部員情報!$Q$9:$R$144,2,FALSE))","v":""},{"$f":"IF($B38=\"\",\"\",VLOOKUP($B38,部員情報!$A$6:$H$104,4,FALSE))","v":""},null,{"$f":"IF($B38=\"\",\"\",VLOOKUP($B38,部員情報!$A$6:$H$104,7,FALSE))","v":""},10,"横手平鹿",10,null,null,null,"二ツ井"]
[29,null,"",{"$f":"IF($B39=\"\",\"\",VLOOKUP($B39,部員情報!$A$6:$H$104,3,FALSE))","v":""},{"$f":"IF($B39=\"\",\"\",VLOOKUP($B39,部員情報!$A$6:$H$104,8,FALSE))","v":""},{"$f":"IF($B39=\"\",\"\",VLOOKUP($B39,部員情報!$A$6:$H$104,4,FALSE))","v":""},{"$f":"IF($B39=\"\",\"\",VLOOKUP($B39,部員情報!$A$6:$H$104,5,FALSE))","v":""},"","",null,null,null,null,null,null,{"$f":"IF(B39=\"\",\"\",VLOOKUP(B39,部員情報!$A$6:$I$155,2,FALSE))","v":""},null,"",{"$f":"IF(B39=\"\",\"\",VLOOKUP($K$3,部員情報!$Q$9:$R$144,2,FALSE))","v":""},{"$f":"IF($B39=\"\",\"\",VLOOKUP($B39,部員情報!$A$6:$H$104,4,FALSE))","v":""},null,{"$f":"IF($B39=\"\",\"\",VLOOKUP($B39,部員情報!$A$6:$H$104,7,FALSE))","v":""},11,"湯沢雄勝",11,null,null,null,"藤里"]
[30,null,"",{"$f":"IF($B40=\"\",\"\",VLOOKUP($B40,部員情報!$A$6:$H$104,3,FALSE))","v":""},{"$f":"IF($B40=\"\",\"\",VLOOKUP($B40,部員情報!$A$6:$H$104,8,FALSE))","v":""},{"$f":"IF($B40=\"\",\"\",VLOOKUP($B40,部員情報!$A$6:$H$104,4,FALSE))","v":""},{"$f":"IF($B40=\"\",\"\",VLOOKUP($B40,部員情報!$A$6:$H$104,5,FALSE))","v":""},"","",null,null,null,null,null,null,{"$f":"IF(B40=\"\",\"\",VLOOKUP(B40,部員情報!$A$6:$I$155,2,FALSE))","v":""},null,"",{"$f":"IF(B40=\"\",\"\",VLOOKUP($K$3,部員情報!$Q$9:$R$144,2,FALSE))","v":""},{"$f":"IF($B40=\"\",\"\",VLOOKUP($B40,部員情報!$A$6:$H$104,4,FALSE))","v":""},null,{"$f":"IF($B40=\"\",\"\",VLOOKUP($B40,部員情報!$A$6:$H$104,7,FALSE))","v":""},12,null,12,null,null,null,"琴丘"]
[null,null,null,null,null,null,null,null,null,null,null,null,null,null,null,null,null,null,null,null,null,null,null,null,null,null,null,null,"山本"]
[null,null,null,null,null,null,null,null,null,null,null,null,null,null,null,null,null,null,null,null,null,null,null,null,null,null,null,null,"八竜"]
[null,null,null,null,null,null,null,null,null,null,null,null,null,null,null,null,null,null,null,null,null,null,null,null,null,null,null,null,"八峰"]
[null,null,null,null,null,null,null,null,null,null,null,null,null,null,null,null,null,null,null,null,null,null,null,null,null,null,null,null,"秋田東"]
[null,null,null,null,null,null,null,null,null,null,null,null,null,null,null,null,null,null,null,null,null,null,null,null,null,null,null,null,"秋田南"]
[null,null,null,null,null,null,null,null,null,null,null,null,null,null,null,null,null,null,null,null,null,null,null,null,null,null,null,null,"山王"]
[null,null,null,null,null,null,null,null,null,null,null,null,null,null,null,null,null,null,null,null,null,null,null,null,null,null,null,null,"土崎"]
[null,"低学年４×１００ｍＲ",null,null,null,null,null,null,null,null,null,null,null,null,null,null,null,null,null,null,null,null,null,null,null,null,null,null,"秋田西"]
[null,null,null,null,null,null,null,null,null,null,null,null,null,null,null,null,null,null,null,null,null,null,null,"低リレー選手数",null,null,null,null,"太平"]
[null,null,null,null,null,null,null,null,null,null,null,null,null,null,null,null,null,null,null,null,null,null,null,{"$f":"COUNTIF($M$11:$M$40,Z11)","v":0},null,null,null,null,"外旭川"]
[null,null,null,null,null,null,null,null,null,null,null,null,null,null,null,null,null,null,null,null,null,null,null,"共通リレー選手数",null,null,null,null,"秋田北"]
[null,null,null,null,null,null,null,null,null,null,null,null,null,null,null,null,null,null,null,null,null,null,null,{"$f":"COUNTIF($M$11:$M$40,Z12)","v":0},null,null,null,null,"豊岩"]
[null,null,null,null,null,null,null,null,null,null,null,null,null,null,null,null,null,null,null,null,null,null,null,null,null,null,null,null,"城南"]
[null,null,null,null,null,null,null,null,null,null,null,null,null,null,null,null,null,null,null,null,null,null,null,null,null,null,null,null,"下北手"]
[null,null,null,null,null,null,null,null,null,null,null,null,null,null,null,null,null,null,null,null,null,null,null,null,null,null,null,null,"下浜"]
[null,"共通４×1００ｍＲ",null,null,null,null,null,null,null,null,null,null,null,null,null,null,null,null,null,null,null,null,null,null,null,null,null,null,"城東"]
[null,null,null,null,null,null,null,null,null,null,null,null,null,null,null,null,null,null,null,null,null,null,null,null,null,null,null,null,"泉"]
[null,null,null,null,null,null,null,null,null,null,null,null,null,null,null,null,null,null,null,null,null,null,null,null,null,null,null,null,"将軍野"]
[null,null,null,null,null,null,null,null,null,null,null,null,null,null,null,null,null,null,null,null,null,null,null,null,null,null,null,null,"御野場"]
[null,null,null,null,null,null,null,null,null,null,null,null,null,null,null,null,null,null,null,null,null,null,null,null,null,null,null,null,"勝平"]
[null,null,null,null,null,null,null,null,null,null,null,null,null,null,null,null,null,null,null,null,null,null,null,null,null,null,null,null,"勝平千秋"]
[null,null,null,null,null,null,null,null,null,null,null,null,null,null,null,null,null,null,null,null,null,null,null,null,null,null,null,null,"飯島"]
[null,null,null,null,null,null,null,null,null,null,null,null,null,null,null,null,null,null,null,null,null,null,null,null,null,null,null,null,"桜"]
[null,null,null,null,null,null,null,null,null,null,null,null,null,null,null,null,null,null,null,null,null,null,null,null,null,null,null,null,"御所野学院"]
[null,null,null,null,null,null,null,null,null,null,null,null,null,null,null,null,null,null,null,null,null,null,null,null,null,null,null,null,"岩見三内"]
[null,null,null,null,null,null,null,null,null,null,null,null,null,null,null,null,null,null,null,null,null,null,null,null,null,null,null,null,"河辺"]
[null,null,null,null,null,null,null,null,null,null,null,null,null,null,null,null,null,null,null,null,null,null,null,null,null,null,null,null,"雄和"]
[null,null,null,null,null,null,null,null,null,null,null,null,null,null,null,null,null,null,null,null,null,null,null,null,null,null,null,null,"男鹿南"]
["女子",null,"一覧表用データ",null,null,null,null,null,null,"個表用データ",null,null,null,null,null,null,null,null,null,null,null,null,null,null,null,null,null,null,"男鹿北"]
[null,null,{"$f":"C3","v":""},{"$f":"IF(D3=\"\",\"\",D3)","v":""},null,null,null,null,null,"学校名（略称）",{"$f":"IF(K3=\"\",\"\",K3)","v":""},null,null,null,null,null,null,null,null,null,null,null,null,null,null,null,null,null,"男鹿東"]
[null,null,"監督氏名",null,"※",null,null,null,null,"郡市名",{"$f":"IF(K4=\"\",\"\",K4)","v":""},null,null,null,null,null,null,null,null,null,null,null,null,null,null,null,null,null,"潟西"]
[null,null,{"$f":"C5","v":""},{"$f":"IF(D5=\"\",\"\",D5)","v":""},"※",null,null,null,null,null,null,null,null,null,null,null,null,null,null,null,null,null,null,null,null,null,null,null,"天王"]
[null,"引率・監督の特例を適用した場合入力→","引率者",null,null,null,null,null,null,"※の項目は必ず入力してください。入力の内容については「必ずお読み下さい」を参照して下さい。",null,null,null,null,null,null,null,null,null,null,null,null,null,null,null,null,null,null,"天王南"]
[null,null,"代理監督学校名",null,null,"ナンバーカード入力後、出場するリレーのみ\n抽出ボタンを押す",null,null,null,null,null,null,null,null,null,null,null,null,null,null,null,null,null,null,null,null,null,null,"羽城"]
[null,null,"代理監督氏名",null,null,null,null,null,null,null,null,null,null,null,null,null,null,null,null,null,null,null,null,null,null,null,null,null,"五城目第一"]
[null,null,null,null,null,null,null,null,null,null,null,null,null,null,null,null,null,null,null,null,null,null,null,null,null,null,null,null,"八郎潟"]
[null,"アスリート\nビブス№","学校名\nクラブ名","氏　　　名","学\n年","フリガナ","氏名英語表記","個人\n種目","リレー\n種目","個人種目","個人種目\nベスト記録","郡市内\n順位","リレー種目","リレー\nベスト記録",null,"JAAF ID",null,"性別","所属№","フリガナ",null,null,null,null,null,null,null,null,"大潟"]
[1,null,{"$f":"IF(B78=\"\",\"\",$K$70)","v":""},{"$f":"IF($B78=\"\",\"\",VLOOKUP($B78,部員情報!$A$6:$H$104,3,FALSE))","v":""},{"$f":"IF($B78=\"\",\"\",VLOOKUP($B78,部員情報!$A$6:$H$104,8,FALSE))","v":""},{"$f":"IF(B78=\"\",\"\",ASC(T78))","v":""},{"$f":"IF($B78=\"\",\"\",VLOOKUP($B78,部員情報!$A$6:$H$104,5,FALSE))","v":""},{"$f":"IF(J78=\"\",\"\",VLOOKUP(J78,$X$78:$Y$90,2,FALSE))","v":""},{"$f":"IF(M78=\"\",\"\",VLOOKUP(M78,$Z$78:$AA$80,2,FALSE))","v":""},null,null,null,null,null,null,{"$f":"IF(B78=\"\",\"\",VLOOKUP(B78,部員情報!$A$6:$I$155,2,FALSE))","v":""},null,{"$f":"IF(B78=\"\",\"\",2)","v":""},{"$f":"IF(B78=\"\",\"\",VLOOKUP($K$3,部員情報!$Q$9:$R$144,2,FALSE))","v":""},{"$f":"IF($B78=\"\",\"\",VLOOKUP($B78,部員情報!$A$6:$H$104,4,FALSE))","v":""},null,{"$f":"IF($B78=\"\",\"\",VLOOKUP($B78,部員情報!$A$6:$H$104,7,FALSE))","v":""},null,"１年１００ｍ",{"$f":"VLOOKUP(X78,種目コード一覧!$A$33:$B$59,2,FALSE)","v":31},"低学年４×１００ｍＲ",{"$f":"VLOOKUP(Z78,種目コード一覧!$A$33:$B$59,2,FALSE)","v":51},null,"本荘北"]
[2,null,"",{"$f":"IF($B79=\"\",\"\",VLOOKUP($B79,部員情報!$A$6:$H$104,3,FALSE))","v":""},{"$f":"IF($B79=\"\",\"\",VLOOKUP($B79,部員情報!$A$6:$H$104,8,FALSE))","v":""},"",{"$f":"IF($B79=\"\",\"\",VLOOKUP($B79,部員情報!$A$6:$H$104,5,FALSE))","v":""},{"$f":"IF(J79=\"\",\"\",VLOOKUP(J79,$X$78:$Y$90,2,FALSE))","v":""},{"$f":"IF(M79=\"\",\"\",VLOOKUP(M79,$Z$78:$AA$80,2,FALSE))","v":""},null,null,null,null,null,null,{"$f":"IF(B79=\"\",\"\",VLOOKUP(B79,部員情報!$A$6:$I$155,2,FALSE))","v":""},null,{"$f":"IF(B79=\"\",\"\",2)","v":""},{"$f":"IF(B79=\"\",\"\",VLOOKUP($K$3,部員情報!$Q$9:$R$144,2,FALSE))","v":""},{"$f":"IF($B79=\"\",\"\",VLOOKUP($B79,部員情報!$A$6:$H$104,4,FALSE))","v":""},null,{"$f":"IF($B79=\"\",\"\",VLOOKUP($B79,部員情報!$A$6:$H$104,7,FALSE))","v":""},null,"２年１００ｍ",{"$f":"VLOOKUP(X79,種目コード一覧!$A$33:$B$59,2,FALSE)","v":32},"共通４×１００ｍＲ",{"$f":"VLOOKUP(Z79,種目コード一覧!$A$33:$B$59,2,FALSE)","v":52},null,"本荘南"]
[3,null,"",{"$f":"IF($B80=\"\",\"\",VLOOKUP($B80,部員情報!$A$6:$H$104,3,FALSE))","v":""},{"$f":"IF($B80=\"\",\"\",VLOOKUP($B80,部員情報!$A$6:$H$104,8,FALSE))","v":""},"",{"$f":"IF($B80=\"\",\"\",VLOOKUP($B80,部員情報!$A$6:$H$104,5,FALSE))","v":""},"","",null,null,null,null,null,null,{"$f":"IF(B80=\"\",\"\",VLOOKUP(B80,部員情報!$A$6:$I$155,2,FALSE))","v":""},null,"",{"$f":"IF(B80=\"\",\"\",VLOOKUP($K$3,部員情報!$Q$9:$R$144,2,FALSE))","v":""},{"$f":"IF($B80=\"\",\"\",VLOOKUP($B80,部員情報!$A$6:$H$104,4,FALSE))","v":""},null,{"$f":"IF($B80=\"\",\"\",VLOOKUP($B80,部員情報!$A$6:$H$104,7,FALSE))","v":""},null,"３年１００ｍ",{"$f":"VLOOKUP(X80,種目コード一覧!$A$33:$B$59,2,FALSE)","v":33},null,0,null,"本荘東"]
[4,null,"",{"$f":"IF($B81=\"\",\"\",VLOOKUP($B81,部員情報!$A$6:$H$104,3,FALSE))","v":""},{"$f":"IF($B81=\"\",\"\",VLOOKUP($B81,部員情報!$A$6:$H$104,8,FALSE))","v":""},"",{"$f":"IF($B81=\"\",\"\",VLOOKUP($B81,部員情報!$A$6:$H$104,5,FALSE))","v":""},"","",null,null,null,null,null,null,{"$f":"IF(B81=\"\",\"\",VLOOKUP(B81,部員情報!$A$6:$I$155,2,FALSE))","v":""},null,"",{"$f":"IF(B81=\"\",\"\",VLOOKUP($K$3,部員情報!$Q$9:$R$144,2,FALSE))","v":""},{"$f":"IF($B81=\"\",\"\",VLOOKUP($B81,部員情報!$A$6:$H$104,4,FALSE))","v":""},null,{"$f":"IF($B81=\"\",\"\",VLOOKUP($B81,部員情報!$A$6:$H$104,7,FALSE))","v":""},null,"共通２００ｍ",{"$f":"VLOOKUP(X81,種目コード一覧!$A$33:$B$59,2,FALSE)","v":34},null,null,null,"矢島"]
[5,null,"",{"$f":"IF($B82=\"\",\"\",VLOOKUP($B82,部員情報!$A$6:$H$104,3,FALSE))","v":""},{"$f":"IF($B82=\"\",\"\",VLOOKUP($B82,部員情報!$A$6:$H$104,8,FALSE))","v":""},"",{"$f":"IF($B82=\"\",\"\",VLOOKUP($B82,部員情報!$A$6:$H$104,5,FALSE))","v":""},"","",null,null,null,null,null,null,{"$f":"IF(B82=\"\",\"\",VLOOKUP(B82,部員情報!$A$6:$I$155,2,FALSE))","v":""},null,"",{"$f":"IF(B82=\"\",\"\",VLOOKUP($K$3,部員情報!$Q$9:$R$144,2,FALSE))","v":""},{"$f":"IF($B82=\"\",\"\",VLOOKUP($B82,部員情報!$A$6:$H$104,4,FALSE))","v":""},null,{"$f":"IF($B82=\"\",\"\",VLOOKUP($B82,部員情報!$A$6:$H$104,7,FALSE))","v":""},null,"共通８００ｍ",{"$f":"VLOOKUP(X82,種目コード一覧!$A$33:$B$59,2,FALSE)","v":35},null,null,null,"岩城"]
[6,null,"",{"$f":"IF($B83=\"\",\"\",VLOOKUP($B83,部員情報!$A$6:$H$104,3,FALSE))","v":""},{"$f":"IF($B83=\"\",\"\",VLOOKUP($B83,部員情報!$A$6:$H$104,8,FALSE))","v":""},"",{"$f":"IF($B83=\"\",\"\",VLOOKUP($B83,部員情報!$A$6:$H$104,5,FALSE))","v":""},"","",null,null,null,null,null,null,{"$f":"IF(B83=\"\",\"\",VLOOKUP(B83,部員情報!$A$6:$I$155,2,FALSE))","v":""},null,"",{"$f":"IF(B83=\"\",\"\",VLOOKUP($K$3,部員情報!$Q$9:$R$144,2,FALSE))","v":""},{"$f":"IF($B83=\"\",\"\",VLOOKUP($B83,部員情報!$A$6:$H$104,4,FALSE))","v":""},null,{"$f":"IF($B83=\"\",\"\",VLOOKUP($B83,部員情報!$A$6:$H$104,7,FALSE))","v":""},null,"１年１５００ｍ",{"$f":"VLOOKUP(X83,種目コード一覧!$A$33:$B$59,2,FALSE)","v":36},null,null,null,"由利"]
[7,null,"",{"$f":"IF($B84=\"\",\"\",VLOOKUP($B84,部員情報!$A$6:$H$104,3,FALSE))","v":""},{"$f":"IF($B84=\"\",\"\",VLOOKUP($B84,部員情報!$A$6:$H$104,8,FALSE))","v":""},"",{"$f":"IF($B84=\"\",\"\",VLOOKUP($B84,部員情報!$A$6:$H$104,5,FALSE))","v":""},"","",null,null,null,null,null,null,{"$f":"IF(B84=\"\",\"\",VLOOKUP(B84,部員情報!$A$6:$I$155,2,FALSE))","v":""},null,"",{"$f":"IF(B84=\"\",\"\",VLOOKUP($K$3,部員情報!$Q$9:$R$144,2,FALSE))","v":""},{"$f":"IF($B84=\"\",\"\",VLOOKUP($B84,部員情報!$A$6:$H$104,4,FALSE))","v":""},null,{"$f":"IF($B84=\"\",\"\",VLOOKUP($B84,部員情報!$A$6:$H$104,7,FALSE))","v":""},null,"２・３年１５００ｍ",{"$f":"VLOOKUP(X84,種目コード一覧!$A$33:$B$59,2,FALSE)","v":45},null,null,null,"西目"]
[8,null,"",{"$f":"IF($B85=\"\",\"\",VLOOKUP($B85,部員情報!$A$6:$H$104,3,FALSE))","v":""},{"$f":"IF($B85=\"\",\"\",VLOOKUP($B85,部員情報!$A$6:$H$104,8,FALSE))","v":""},"",{"$f":"IF($B85=\"\",\"\",VLOOKUP($B85,部員情報!$A$6:$H$104,5,FALSE))","v":""},"","",null,null,null,null,null,null,{"$f":"IF(B85=\"\",\"\",VLOOKUP(B85,部員情報!$A$6:$I$155,2,FALSE))","v":""},null,"",{"$f":"IF(B85=\"\",\"\",VLOOKUP($K$3,部員情報!$Q$9:$R$144,2,FALSE))","v":""},{"$f":"IF($B85=\"\",\"\",VLOOKUP($B85,部員情報!$A$6:$H$104,4,FALSE))","v":""},null,{"$f":"IF($B85=\"\",\"\",VLOOKUP($B85,部員情報!$A$6:$H$104,7,FALSE))","v":""},null,"共通１００ｍＨ",{"$f":"VLOOKUP(X85,種目コード一覧!$A$33:$B$59,2,FALSE)","v":39},null,null,null,"鳥海"]
[9,null,"",{"$f":"IF($B86=\"\",\"\",VLOOKUP($B86,部員情報!$A$6:$H$104,3,FALSE))","v":""},{"$f":"IF($B86=\"\",\"\",VLOOKUP($B86,部員情報!$A$6:$H$104,8,FALSE))","v":""},"",{"$f":"IF($B86=\"\",\"\",VLOOKUP($B86,部員情報!$A$6:$H$104,5,FALSE))","v":""},"","",null,null,null,null,null,null,{"$f":"IF(B86=\"\",\"\",VLOOKUP(B86,部員情報!$A$6:$I$155,2,FALSE))","v":""},null,"",{"$f":"IF(B86=\"\",\"\",VLOOKUP($K$3,部員情報!$Q$9:$R$144,2,FALSE))","v":""},{"$f":"IF($B86=\"\",\"\",VLOOKUP($B86,部員情報!$A$6:$H$104,4,FALSE))","v":""},null,{"$f":"IF($B86=\"\",\"\",VLOOKUP($B86,部員情報!$A$6:$H$104,7,FALSE))","v":""},null,"共通走高跳",{"$f":"VLOOKUP(X86,種目コード一覧!$A$33:$B$59,2,FALSE)","v":40},null,null,null,"東由利"]
[10,null,"",{"$f":"IF($B87=\"\",\"\",VLOOKUP($B87,部員情報!$A$6:$H$104,3,FALSE))","v":""},{"$f":"IF($B87=\"\",\"\",VLOOKUP($B87,部員情報!$A$6:$H$104,8,FALSE))","v":""},"",{"$f":"IF($B87=\"\",\"\",VLOOKUP($B87,部員情報!$A$6:$H$104,5,FALSE))","v":""},"","",null,null,null,null,null,null,{"$f":"IF(B87=\"\",\"\",VLOOKUP(B87,部員情報!$A$6:$I$155,2,FALSE))","v":""},null,"",{"$f":"IF(B87=\"\",\"\",VLOOKUP($K$3,部員情報!$Q$9:$R$144,2,FALSE))","v":""},{"$f":"IF($B87=\"\",\"\",VLOOKUP($B87,部員情報!$A$6:$H$104,4,FALSE))","v":""},null,{"$f":"IF($B87=\"\",\"\",VLOOKUP($B87,部員情報!$A$6:$H$104,7,FALSE))","v":""},null,"共通走幅跳",{"$f":"VLOOKUP(X87,種目コード一覧!$A$33:$B$59,2,FALSE)","v":41},null,null,null,"大内"]
[11,null,"",{"$f":"IF($B88=\"\",\"\",VLOOKUP($B88,部員情報!$A$6:$H$104,3,FALSE))","v":""},{"$f":"IF($B88=\"\",\"\",VLOOKUP($B88,部員情報!$A$6:$H$104,8,FALSE))","v":""},"",{"$f":"IF($B88=\"\",\"\",VLOOKUP($B88,部員情報!$A$6:$H$104,5,FALSE))","v":""},"","",null,null,null,null,null,null,{"$f":"IF(B88=\"\",\"\",VLOOKUP(B88,部員情報!$A$6:$I$155,2,FALSE))","v":""},null,"",{"$f":"IF(B88=\"\",\"\",VLOOKUP($K$3,部員情報!$Q$9:$R$144,2,FALSE))","v":""},{"$f":"IF($B88=\"\",\"\",VLOOKUP($B88,部員情報!$A$6:$H$104,4,FALSE))","v":""},null,{"$f":"IF($B88=\"\",\"\",VLOOKUP($B88,部員情報!$A$6:$H$104,7,FALSE))","v":""},null,"共通砲丸投",{"$f":"VLOOKUP(X88,種目コード一覧!$A$33:$B$59,2,FALSE)","v":42},null,null,null,"仁賀保"]
[12,null,"",{"$f":"IF($B89=\"\",\"\",VLOOKUP($B89,部員情報!$A$6:$H$104,3,FALSE))","v":""},{"$f":"IF($B89=\"\",\"\",VLOOKUP($B89,部員情報!$A$6:$H$104,8,FALSE))","v":""},"",{"$f":"IF($B89=\"\",\"\",VLOOKUP($B89,部員情報!$A$6:$H$104,5,FALSE))","v":""},"","",null,null,null,null,null,null,{"$f":"IF(B89=\"\",\"\",VLOOKUP(B89,部員情報!$A$6:$I$155,2,FALSE))","v":""},null,"",{"$f":"IF(B89=\"\",\"\",VLOOKUP($K$3,部員情報!$Q$9:$R$144,2,FALSE))","v":""},{"$f":"IF($B89=\"\",\"\",VLOOKUP($B89,部員情報!$A$6:$H$104,4,FALSE))","v":""},null,{"$f":"IF($B89=\"\",\"\",VLOOKUP($B89,部員情報!$A$6:$H$104,7,FALSE))","v":""},null,"共通四種競技",{"$f":"VLOOKUP(X89,種目コード一覧!$A$33:$B$59,2,FALSE)","v":43},null,null,null,"金浦"]
[13,null,"",{"$f":"IF($B90=\"\",\"\",VLOOKUP($B90,部員情報!$A$6:$H$104,3,FALSE))","v":""},{"$f":"IF($B90=\"\",\"\",VLOOKUP($B90,部員情報!$A$6:$H$104,8,FALSE))","v":""},"",{"$f":"IF($B90=\"\",\"\",VLOOKUP($B90,部員情報!$A$6:$H$104,5,FALSE))","v":""},"","",null,null,null,null,null,null,{"$f":"IF(B90=\"\",\"\",VLOOKUP(B90,部員情報!$A$6:$I$155,2,FALSE))","v":""},null,"",{"$f":"IF(B90=\"\",\"\",VLOOKUP($K$3,部員情報!$Q$9:$R$144,2,FALSE))","v":""},{"$f":"IF($B90=\"\",\"\",VLOOKUP($B90,部員情報!$A$6:$H$104,4,FALSE))","v":""},null,{"$f":"IF($B90=\"\",\"\",VLOOKUP($B90,部員情報!$A$6:$H$104,7,FALSE))","v":""},null,null,0,null,null,null,"象潟"]
[14,null,"",{"$f":"IF($B91=\"\",\"\",VLOOKUP($B91,部員情報!$A$6:$H$104,3,FALSE))","v":""},{"$f":"IF($B91=\"\",\"\",VLOOKUP($B91,部員情報!$A$6:$H$104,8,FALSE))","v":""},"",{"$f":"IF($B91=\"\",\"\",VLOOKUP($B91,部員情報!$A$6:$H$104,5,FALSE))","v":""},"","",null,null,null,null,null,null,{"$f":"IF(B91=\"\",\"\",VLOOKUP(B91,部員情報!$A$6:$I$155,2,FALSE))","v":""},null,"",{"$f":"IF(B91=\"\",\"\",VLOOKUP($K$3,部員情報!$Q$9:$R$144,2,FALSE))","v":""},{"$f":"IF($B91=\"\",\"\",VLOOKUP($B91,部員情報!$A$6:$H$104,4,FALSE))","v":""},null,{"$f":"IF($B91=\"\",\"\",VLOOKUP($B91,部員情報!$A$6:$H$104,7,FALSE))","v":""},null,null,null,null,null,null,"大曲"]
[15,null,"",{"$f":"IF($B92=\"\",\"\",VLOOKUP($B92,部員情報!$A$6:$H$104,3,FALSE))","v":""},{"$f":"IF($B92=\"\",\"\",VLOOKUP($B92,部員情報!$A$6:$H$104,8,FALSE))","v":""},"",{"$f":"IF($B92=\"\",\"\",VLOOKUP($B92,部員情報!$A$6:$H$104,5,FALSE))","v":""},"","",null,null,null,null,null,null,{"$f":"IF(B92=\"\",\"\",VLOOKUP(B92,部員情報!$A$6:$I$155,2,FALSE))","v":""},null,"",{"$f":"IF(B92=\"\",\"\",VLOOKUP($K$3,部員情報!$Q$9:$R$144,2,FALSE))","v":""},{"$f":"IF($B92=\"\",\"\",VLOOKUP($B92,部員情報!$A$6:$H$104,4,FALSE))","v":""},null,{"$f":"IF($B92=\"\",\"\",VLOOKUP($B92,部員情報!$A$6:$H$104,7,FALSE))","v":""},null,null,null,null,null,null,"大曲西"]
[16,null,"",{"$f":"IF($B93=\"\",\"\",VLOOKUP($B93,部員情報!$A$6:$H$104,3,FALSE))","v":""},{"$f":"IF($B93=\"\",\"\",VLOOKUP($B93,部員情報!$A$6:$H$104,8,FALSE))","v":""},"",{"$f":"IF($B93=\"\",\"\",VLOOKUP($B93,部員情報!$A$6:$H$104,5,FALSE))","v":""},"","",null,null,null,null,null,null,{"$f":"IF(B93=\"\",\"\",VLOOKUP(B93,部員情報!$A$6:$I$155,2,FALSE))","v":""},null,"",{"$f":"IF(B93=\"\",\"\",VLOOKUP($K$3,部員情報!$Q$9:$R$144,2,FALSE))","v":""},{"$f":"IF($B93=\"\",\"\",VLOOKUP($B93,部員情報!$A$6:$H$104,4,FALSE))","v":""},null,{"$f":"IF($B93=\"\",\"\",VLOOKUP($B93,部員情報!$A$6:$H$104,7,FALSE))","v":""},null,null,null,null,null,null,"大曲南"]
[17,null,"",{"$f":"IF($B94=\"\",\"\",VLOOKUP($B94,部員情報!$A$6:$H$104,3,FALSE))","v":""},{"$f":"IF($B94=\"\",\"\",VLOOKUP($B94,部員情報!$A$6:$H$104,8,FALSE))","v":""},"",{"$f":"IF($B94=\"\",\"\",VLOOKUP($B94,部員情報!$A$6:$H$104,5,FALSE))","v":""},"","",null,null,null,null,null,null,{"$f":"IF(B94=\"\",\"\",VLOOKUP(B94,部員情報!$A$6:$I$155,2,FALSE))","v":""},null,"",{"$f":"IF(B94=\"\",\"\",VLOOKUP($K$3,部員情報!$Q$9:$R$144,2,FALSE))","v":""},{"$f":"IF($B94=\"\",\"\",VLOOKUP($B94,部員情報!$A$6:$H$104,4,FALSE))","v":""},null,{"$f":"IF($B94=\"\",\"\",VLOOKUP($B94,部員情報!$A$6:$H$104,7,FALSE))","v":""},null,null,null,null,null,null,"平和"]
[18,null,"",{"$f":"IF($B95=\"\",\"\",VLOOKUP($B95,部員情報!$A$6:$H$104,3,FALSE))","v":""},{"$f":"IF($B95=\"\",\"\",VLOOKUP($B95,部員情報!$A$6:$H$104,8,FALSE))","v":""},"",{"$f":"IF($B95=\"\",\"\",VLOOKUP($B95,部員情報!$A$6:$H$104,5,FALSE))","v":""},"","",null,null,null,null,null,null,{"$f":"IF(B95=\"\",\"\",VLOOKUP(B95,部員情報!$A$6:$I$155,2,FALSE))","v":""},null,"",{"$f":"IF(B95=\"\",\"\",VLOOKUP($K$3,部員情報!$Q$9:$R$144,2,FALSE))","v":""},{"$f":"IF($B95=\"\",\"\",VLOOKUP($B95,部員情報!$A$6:$H$104,4,FALSE))","v":""},null,{"$f":"IF($B95=\"\",\"\",VLOOKUP($B95,部員情報!$A$6:$H$104,7,FALSE))","v":""},null,null,null,null,null,null,"西仙北"]
[19,null,"",{"$f":"IF($B96=\"\",\"\",VLOOKUP($B96,部員情報!$A$6:$H$104,3,FALSE))","v":""},{"$f":"IF($B96=\"\",\"\",VLOOKUP($B96,部員情報!$A$6:$H$104,8,FALSE))","v":""},"",{"$f":"IF($B96=\"\",\"\",VLOOKUP($B96,部員情報!$A$6:$H$104,5,FALSE))","v":""},"","",null,null,null,null,null,null,{"$f":"IF(B96=\"\",\"\",VLOOKUP(B96,部員情報!$A$6:$I$155,2,FALSE))","v":""},null,"",{"$f":"IF(B96=\"\",\"\",VLOOKUP($K$3,部員情報!$Q$9:$R$144,2,FALSE))","v":""},{"$f":"IF($B96=\"\",\"\",VLOOKUP($B96,部員情報!$A$6:$H$104,4,FALSE))","v":""},null,{"$f":"IF($B96=\"\",\"\",VLOOKUP($B96,部員情報!$A$6:$H$104,7,FALSE))","v":""},null,null,null,null,null,null,"中仙"]
[20,null,"",{"$f":"IF($B97=\"\",\"\",VLOOKUP($B97,部員情報!$A$6:$H$104,3,FALSE))","v":""},{"$f":"IF($B97=\"\",\"\",VLOOKUP($B97,部員情報!$A$6:$H$104,8,FALSE))","v":""},"",{"$f":"IF($B97=\"\",\"\",VLOOKUP($B97,部員情報!$A$6:$H$104,5,FALSE))","v":""},"","",null,null,null,null,null,null,{"$f":"IF(B97=\"\",\"\",VLOOKUP(B97,部員情報!$A$6:$I$155,2,FALSE))","v":""},null,"",{"$f":"IF(B97=\"\",\"\",VLOOKUP($K$3,部員情報!$Q$9:$R$144,2,FALSE))","v":""},{"$f":"IF($B97=\"\",\"\",VLOOKUP($B97,部員情報!$A$6:$H$104,4,FALSE))","v":""},null,{"$f":"IF($B97=\"\",\"\",VLOOKUP($B97,部員情報!$A$6:$H$104,7,FALSE))","v":""},null,null,null,null,null,null,"協和"]
[21,null,"",{"$f":"IF($B98=\"\",\"\",VLOOKUP($B98,部員情報!$A$6:$H$104,3,FALSE))","v":""},{"$f":"IF($B98=\"\",\"\",VLOOKUP($B98,部員情報!$A$6:$H$104,8,FALSE))","v":""},"",{"$f":"IF($B98=\"\",\"\",VLOOKUP($B98,部員情報!$A$6:$H$104,5,FALSE))","v":""},"","",null,null,null,null,null,null,{"$f":"IF(B98=\"\",\"\",VLOOKUP(B98,部員情報!$A$6:$I$155,2,FALSE))","v":""},null,"",{"$f":"IF(B98=\"\",\"\",VLOOKUP($K$3,部員情報!$Q$9:$R$144,2,FALSE))","v":""},{"$f":"IF($B98=\"\",\"\",VLOOKUP($B98,部員情報!$A$6:$H$104,4,FALSE))","v":""},null,{"$f":"IF($B98=\"\",\"\",VLOOKUP($B98,部員情報!$A$6:$H$104,7,FALSE))","v":""},null,null,null,null,null,null,"南外"]
[22,null,"",{"$f":"IF($B99=\"\",\"\",VLOOKUP($B99,部員情報!$A$6:$H$104,3,FALSE))","v":""},{"$f":"IF($B99=\"\",\"\",VLOOKUP($B99,部員情報!$A$6:$H$104,8,FALSE))","v":""},"",{"$f":"IF($B99=\"\",\"\",VLOOKUP($B99,部員情報!$A$6:$H$104,5,FALSE))","v":""},"","",null,null,null,null,null,null,{"$f":"IF(B99=\"\",\"\",VLOOKUP(B99,部員情報!$A$6:$I$155,2,FALSE))","v":""},null,"",{"$f":"IF(B99=\"\",\"\",VLOOKUP($K$3,部員情報!$Q$9:$R$144,2,FALSE))","v":""},{"$f":"IF($B99=\"\",\"\",VLOOKUP($B99,部員情報!$A$6:$H$104,4,FALSE))","v":""},null,{"$f":"IF($B99=\"\",\"\",VLOOKUP($B99,部員情報!$A$6:$H$104,7,FALSE))","v":""},null,null,null,null,null,null,"仙北"]
[23,null,"",{"$f":"IF($B100=\"\",\"\",VLOOKUP($B100,部員情報!$A$6:$H$104,3,FALSE))","v":""},{"$f":"IF($B100=\"\",\"\",VLOOKUP($B100,部員情報!$A$6:$H$104,8,FALSE))","v":""},"",{"$f":"IF($B100=\"\",\"\",VLOOKUP($B100,部員情報!$A$6:$H$104,5,FALSE))","v":""},"","",null,null,null,null,null,null,{"$f":"IF(B100=\"\",\"\",VLOOKUP(B100,部員情報!$A$6:$I$155,2,FALSE))","v":""},null,"",{"$f":"IF(B100=\"\",\"\",VLOOKUP($K$3,部員情報!$Q$9:$R$144,2,FALSE))","v":""},{"$f":"IF($B100=\"\",\"\",VLOOKUP($B100,部員情報!$A$6:$H$104,4,FALSE))","v":""},null,{"$f":"IF($B100=\"\",\"\",VLOOKUP($B100,部員情報!$A$6:$H$104,7,FALSE))","v":""},null,null,null,null,null,null,"太田"]
[24,null,"",{"$f":"IF($B101=\"\",\"\",VLOOKUP($B101,部員情報!$A$6:$H$104,3,FALSE))","v":""},{"$f":"IF($B101=\"\",\"\",VLOOKUP($B101,部員情報!$A$6:$H$104,8,FALSE))","v":""},"",{"$f":"IF($B101=\"\",\"\",VLOOKUP($B101,部員情報!$A$6:$H$104,5,FALSE))","v":""},"","",null,null,null,null,null,null,{"$f":"IF(B101=\"\",\"\",VLOOKUP(B101,部員情報!$A$6:$I$155,2,FALSE))","v":""},null,"",{"$f":"IF(B101=\"\",\"\",VLOOKUP($K$3,部員情報!$Q$9:$R$144,2,FALSE))","v":""},{"$f":"IF($B101=\"\",\"\",VLOOKUP($B101,部員情報!$A$6:$H$104,4,FALSE))","v":""},null,{"$f":"IF($B101=\"\",\"\",VLOOKUP($B101,部員情報!$A$6:$H$104,7,FALSE))","v":""},null,null,null,null,null,null,"角館"]
[25,null,"",{"$f":"IF($B102=\"\",\"\",VLOOKUP($B102,部員情報!$A$6:$H$104,3,FALSE))","v":""},{"$f":"IF($B102=\"\",\"\",VLOOKUP($B102,部員情報!$A$6:$H$104,8,FALSE))","v":""},"",{"$f":"IF($B102=\"\",\"\",VLOOKUP($B102,部員情報!$A$6:$H$104,5,FALSE))","v":""},"","",null,null,null,null,null,null,{"$f":"IF(B102=\"\",\"\",VLOOKUP(B102,部員情報!$A$6:$I$155,2,FALSE))","v":""},null,"",{"$f":"IF(B102=\"\",\"\",VLOOKUP($K$3,部員情報!$Q$9:$R$144,2,FALSE))","v":""},{"$f":"IF($B102=\"\",\"\",VLOOKUP($B102,部員情報!$A$6:$H$104,4,FALSE))","v":""},null,{"$f":"IF($B102=\"\",\"\",VLOOKUP($B102,部員情報!$A$6:$H$104,7,FALSE))","v":""},null,null,null,null,null,null,"生保内"]
[26,null,"",{"$f":"IF($B103=\"\",\"\",VLOOKUP($B103,部員情報!$A$6:$H$104,3,FALSE))","v":""},{"$f":"IF($B103=\"\",\"\",VLOOKUP($B103,部員情報!$A$6:$H$104,8,FALSE))","v":""},"",{"$f":"IF($B103=\"\",\"\",VLOOKUP($B103,部員情報!$A$6:$H$104,5,FALSE))","v":""},"","",null,null,null,null,null,null,{"$f":"IF(B103=\"\",\"\",VLOOKUP(B103,部員情報!$A$6:$I$155,2,FALSE))","v":""},null,"",{"$f":"IF(B103=\"\",\"\",VLOOKUP($K$3,部員情報!$Q$9:$R$144,2,FALSE))","v":""},{"$f":"IF($B103=\"\",\"\",VLOOKUP($B103,部員情報!$A$6:$H$104,4,FALSE))","v":""},null,{"$f":"IF($B103=\"\",\"\",VLOOKUP($B103,部員情報!$A$6:$H$104,7,FALSE))","v":""},null,null,null,null,null,null,"神代"]
[27,null,"",{"$f":"IF($B104=\"\",\"\",VLOOKUP($B104,部員情報!$A$6:$H$104,3,FALSE))","v":""},{"$f":"IF($B104=\"\",\"\",VLOOKUP($B104,部員情報!$A$6:$H$104,8,FALSE))","v":""},"",{"$f":"IF($B104=\"\",\"\",VLOOKUP($B104,部員情報!$A$6:$H$104,5,FALSE))","v":""},"","",null,null,null,null,null,null,{"$f":"IF(B104=\"\",\"\",VLOOKUP(B104,部員情報!$A$6:$I$155,2,FALSE))","v":""},null,"",{"$f":"IF(B104=\"\",\"\",VLOOKUP($K$3,部員情報!$Q$9:$R$144,2,FALSE))","v":""},{"$f":"IF($B104=\"\",\"\",VLOOKUP($B104,部員情報!$A$6:$H$104,4,FALSE))","v":""},null,{"$f":"IF($B104=\"\",\"\",VLOOKUP($B104,部員情報!$A$6:$H$104,7,FALSE))","v":""},null,null,null,null,null,null,"西明寺"]
[28,null,"",{"$f":"IF($B105=\"\",\"\",VLOOKUP($B105,部員情報!$A$6:$H$104,3,FALSE))","v":""},{"$f":"IF($B105=\"\",\"\",VLOOKUP($B105,部員情報!$A$6:$H$104,8,FALSE))","v":""},"",{"$f":"IF($B105=\"\",\"\",VLOOKUP($B105,部員情報!$A$6:$H$104,5,FALSE))","v":""},"","",null,null,null,null,null,null,{"$f":"IF(B105=\"\",\"\",VLOOKUP(B105,部員情報!$A$6:$I$155,2,FALSE))","v":""},null,"",{"$f":"IF(B105=\"\",\"\",VLOOKUP($K$3,部員情報!$Q$9:$R$144,2,FALSE))","v":""},{"$f":"IF($B105=\"\",\"\",VLOOKUP($B105,部員情報!$A$6:$H$104,4,FALSE))","v":""},null,{"$f":"IF($B105=\"\",\"\",VLOOKUP($B105,部員情報!$A$6:$H$104,7,FALSE))","v":""},null,null,null,null,null,null,"桧木内"]
[29,null,"",{"$f":"IF($B106=\"\",\"\",VLOOKUP($B106,部員情報!$A$6:$H$104,3,FALSE))","v":""},{"$f":"IF($B106=\"\",\"\",VLOOKUP($B106,部員情報!$A$6:$H$104,8,FALSE))","v":""},"",{"$f":"IF($B106=\"\",\"\",VLOOKUP($B106,部員情報!$A$6:$H$104,5,FALSE))","v":""},"","",null,null,null,null,null,null,{"$f":"IF(B106=\"\",\"\",VLOOKUP(B106,部員情報!$A$6:$I$155,2,FALSE))","v":""},null,"",{"$f":"IF(B106=\"\",\"\",VLOOKUP($K$3,部員情報!$Q$9:$R$144,2,FALSE))","v":""},{"$f":"IF($B106=\"\",\"\",VLOOKUP($B106,部員情報!$A$6:$H$104,4,FALSE))","v":""},null,{"$f":"IF($B106=\"\",\"\",VLOOKUP($B106,部員情報!$A$6:$H$104,7,FALSE))","v":""},null,null,null,null,null,null,"美郷"]
[30,null,"",{"$f":"IF($B107=\"\",\"\",VLOOKUP($B107,部員情報!$A$6:$H$104,3,FALSE))","v":""},{"$f":"IF($B107=\"\",\"\",VLOOKUP($B107,部員情報!$A$6:$H$104,8,FALSE))","v":""},"",{"$f":"IF($B107=\"\",\"\",VLOOKUP($B107,部員情報!$A$6:$H$104,5,FALSE))","v":""},"","",null,null,null,null,null,null,{"$f":"IF(B107=\"\",\"\",VLOOKUP(B107,部員情報!$A$6:$I$155,2,FALSE))","v":""},null,"",{"$f":"IF(B107=\"\",\"\",VLOOKUP($K$3,部員情報!$Q$9:$R$144,2,FALSE))","v":""},{"$f":"IF($B107=\"\",\"\",VLOOKUP($B107,部員情報!$A$6:$H$104,4,FALSE))","v":""},null,{"$f":"IF($B107=\"\",\"\",VLOOKUP($B107,部員情報!$A$6:$H$104,7,FALSE))","v":""},null,null,null,null,null,null,"横手南"]
[null,null,null,null,null,null,null,null,null,null,null,null,null,null,null,null,null,null,null,null,null,null,null,null,null,null,null,null,"横手北"]
[null,null,null,null,null,null,null,null,null,null,null,null,null,null,null,null,null,null,null,null,null,null,null,null,null,null,null,null,"増田"]
[null,null,null,null,null,null,null,null,null,null,null,null,null,null,null,null,null,null,null,null,null,null,null,null,null,null,null,null,"平鹿"]
[null,null,null,null,null,null,null,null,null,null,null,null,null,null,null,null,null,null,null,null,null,null,null,null,null,null,null,null,"横手明峰"]
[null,null,null,null,null,null,null,null,null,null,null,null,null,null,null,null,null,null,null,null,null,null,null,null,null,null,null,null,"十文字"]
[null,null,null,null,null,null,null,null,null,null,null,null,null,null,null,null,null,null,null,null,null,null,null,null,null,null,null,null,"湯沢北"]
[null,null,null,null,null,null,null,null,null,null,null,null,null,null,null,null,null,null,null,null,null,null,null,null,null,null,null,null,"山田"]
[null,"低学年４×１００ｍＲ",null,null,null,null,null,null,null,null,null,null,null,null,null,null,null,null,null,null,null,null,null,null,null,null,null,null,"湯沢南"]
[null,null,null,null,null,null,null,null,null,null,null,null,null,null,null,null,null,null,null,null,null,null,null,"低リレー選手数",null,null,null,null,"稲川"]
[null,null,null,null,null,null,null,null,null,null,null,null,null,null,null,null,null,null,null,null,null,null,null,{"$f":"COUNTIF($M$78:$M$107,Z78)","v":0},null,null,null,null,"雄勝"]
[null,null,null,null,null,null,null,null,null,null,null,null,null,null,null,null,null,null,null,null,null,null,null,"共通リレー選手数",null,null,null,null,"皆瀬"]
[null,null,null,null,null,null,null,null,null,null,null,null,null,null,null,null,null,null,null,null,null,null,null,{"$f":"COUNTIF($M$78:$M$107,Z79)","v":0},null,null,null,null,"羽後"]
[null,null,null,null,null,null,null,null,null,null,null,null,null,null,null,null,null,null,null,null,null,null,null,null,null,null,null,null,"東成瀬"]
[null,null,null,null,null,null,null,null,null,null,null,null,null,null,null,null,null,null,null,null,null,null,null,null,null,null,null,null,"井川義務教育"]
[null,null,null,null,null,null,null,null,null,null,null,null,null,null,null,null,null,null,null,null,null,null,null,null,null,null,null,null,"聴覚支援"]
[null,"共通４×1００ｍＲ"]
[]
[]
[]
[]
[]
[]
[]
[]
[]
[]
[]
[]
[]
[]
[]
[]
[]
[null,null,"","","","",null,"",""]
[null,null,"","","","",null,"",""]
[null,null,"","","","",null,"",""]
[null,null,"","","","",null,"",""]
[null,null,"","","","",null,"",""]

{"sheet":"kyogisha","index":2,"n_rows":63,"n_cols":36,"rows_kept":63,"cut":false,"hidden":false,"merged":[]}
["競技者NO","所属コード1","所属コード2","ナンバー","ナンバー2","競技者名","競技者名カナ","競技者名略称","競技者名英字","国籍","性別","学年","生年","月日","個人所属地名","陸連コード","参加競技-競技コード1","参加競技-自己記録1","参加競技-オープン参加FLG1","参加競技-記録FLG1","参加競技-競技コード2","参加競技-自己記録2","参加競技-オープン参加FLG2","参加競技-記録FLG2","参加競技-競技コード3","参加競技-自己記録3","参加競技-オープン参加FLG3","参加競技-記録FLG3","参加競技-競技コード4","参加競技-自己記録4","参加競技-オープン参加FLG4","参加競技-記録FLG4","参加競技-競技コード5","参加競技-自己記録5","参加競技-オープン参加FLG5","参加競技-記録FLG5"]
[null,{"$f":"IF(総体入力!S11=\"\",\"\",総体入力!S11)","v":""},null,null,{"$f":"IF(総体入力!B11=\"\",\"\",総体入力!B11)","v":""},{"$f":"IF(総体入力!D11=\"\",\"\",総体入力!D11)","v":""},{"$f":"IF(総体入力!F11=\"\",\"\",総体入力!F11)","v":""},{"$f":"IF(総体入力!D11=\"\",\"\",総体入力!D11)","v":""},{"$f":"IF(総体入力!G11=\"\",\"\",総体入力!G11)","v":""},{"$f":"IF(E2=\"\",\"\",\"JPN 日本\")","v":""},{"$f":"IF(総体入力!R11=\"\",\"\",総体入力!R11)","v":""},{"$f":"IF(総体入力!E11=\"\",\"\",総体入力!E11)","v":""},{"$f":"IF(総体入力!V11=\"\",\"\",総体入力!V11)","v":""},{"$f":"IF(総体入力!V11=\"\",\"\",総体入力!V11)","v":""},{"$f":"IF(A2=\"\",\"\",\"秋田県\")","v":""},{"$f":"IF(総体入力!P11=\"\",\"\",総体入力!P11)","v":""},{"$f":"IF(総体入力!H11=\"\",\"\",総体入力!H11)","v":""},{"$f":"IF(総体入力!K11=\"\",\"\",総体入力!K11)","v":""},{"$f":"IF(Q2=\"\",\"\",0)","v":""},{"$f":"IF(Q2=\"\",\"\",0)","v":""},{"$f":"IF(総体入力!I11=\"\",\"\",総体入力!I11)","v":""},null,{"$f":"IF(U2=\"\",\"\",0)","v":""},{"$f":"IF(U2=\"\",\"\",0)","v":""}]
[null,{"$f":"IF(総体入力!S12=\"\",\"\",総体入力!S12)","v":""},null,null,{"$f":"IF(総体入力!B12=\"\",\"\",総体入力!B12)","v":""},{"$f":"IF(総体入力!D12=\"\",\"\",総体入力!D12)","v":""},{"$f":"IF(総体入力!F12=\"\",\"\",総体入力!F12)","v":""},{"$f":"IF(総体入力!D12=\"\",\"\",総体入力!D12)","v":""},{"$f":"IF(総体入力!G12=\"\",\"\",総体入力!G12)","v":""},{"$f":"IF(E3=\"\",\"\",\"JPN 日本\")","v":""},{"$f":"IF(総体入力!R12=\"\",\"\",総体入力!R12)","v":""},{"$f":"IF(総体入力!E12=\"\",\"\",総体入力!E12)","v":""},{"$f":"IF(総体入力!V12=\"\",\"\",総体入力!V12)","v":""},{"$f":"IF(総体入力!V12=\"\",\"\",総体入力!V12)","v":""},{"$f":"IF(A3=\"\",\"\",\"秋田県\")","v":""},{"$f":"IF(総体入力!P12=\"\",\"\",総体入力!P12)","v":""},{"$f":"IF(総体入力!H12=\"\",\"\",総体入力!H12)","v":""},{"$f":"IF(総体入力!K12=\"\",\"\",総体入力!K12)","v":""},{"$f":"IF(Q3=\"\",\"\",0)","v":""},{"$f":"IF(Q3=\"\",\"\",0)","v":""},{"$f":"IF(総体入力!I12=\"\",\"\",総体入力!I12)","v":""},null,{"$f":"IF(U3=\"\",\"\",0)","v":""},{"$f":"IF(U3=\"\",\"\",0)","v":""}]
[null,{"$f":"IF(総体入力!S13=\"\",\"\",総体入力!S13)","v":""},null,null,{"$f":"IF(総体入力!B13=\"\",\"\",総体入力!B13)","v":""},{"$f":"IF(総体入力!D13=\"\",\"\",総体入力!D13)","v":""},{"$f":"IF(総体入力!F13=\"\",\"\",総体入力!F13)","v":""},{"$f":"IF(総体入力!D13=\"\",\"\",総体入力!D13)","v":""},{"$f":"IF(総体入力!G13=\"\",\"\",総体入力!G13)","v":""},"",{"$f":"IF(総体入力!R13=\"\",\"\",総体入力!R13)","v":""},{"$f":"IF(総体入力!E13=\"\",\"\",総体入力!E13)","v":""},{"$f":"IF(総体入力!V13=\"\",\"\",総体入力!V13)","v":""},{"$f":"IF(総体入力!V13=\"\",\"\",総体入力!V13)","v":""},"",{"$f":"IF(総体入力!P13=\"\",\"\",総体入力!P13)","v":""},{"$f":"IF(総体入力!H13=\"\",\"\",総体入力!H13)","v":""},{"$f":"IF(総体入力!K13=\"\",\"\",総体入力!K13)","v":""},"","",{"$f":"IF(総体入力!I13=\"\",\"\",総体入力!I13)","v":""},null,"",""]
[null,{"$f":"IF(総体入力!S14=\"\",\"\",総体入力!S14)","v":""},null,null,{"$f":"IF(総体入力!B14=\"\",\"\",総体入力!B14)","v":""},{"$f":"IF(総体入力!D14=\"\",\"\",総体入力!D14)","v":""},{"$f":"IF(総体入力!F14=\"\",\"\",総体入力!F14)","v":""},{"$f":"IF(総体入力!D14=\"\",\"\",総体入力!D14)","v":""},{"$f":"IF(総体入力!G14=\"\",\"\",総体入力!G14)","v":""},"",{"$f":"IF(総体入力!R14=\"\",\"\",総体入力!R14)","v":""},{"$f":"IF(総体入力!E14=\"\",\"\",総体入力!E14)","v":""},{"$f":"IF(総体入力!V14=\"\",\"\",総体入力!V14)","v":""},{"$f":"IF(総体入力!V14=\"\",\"\",総体入力!V14)","v":""},"",{"$f":"IF(総体入力!P14=\"\",\"\",総体入力!P14)","v":""},{"$f":"IF(総体入力!H14=\"\",\"\",総体入力!H14)","v":""},{"$f":"IF(総体入力!K14=\"\",\"\",総体入力!K14)","v":""},"","",{"$f":"IF(総体入力!I14=\"\",\"\",総体入力!I14)","v":""},null,"",""]
[null,{"$f":"IF(総体入力!S15=\"\",\"\",総体入力!S15)","v":""},null,null,{"$f":"IF(総体入力!B15=\"\",\"\",総体入力!B15)","v":""},{"$f":"IF(総体入力!D15=\"\",\"\",総体入力!D15)","v":""},{"$f":"IF(総体入力!F15=\"\",\"\",総体入力!F15)","v":""},{"$f":"IF(総体入力!D15=\"\",\"\",総体入力!D15)","v":""},{"$f":"IF(総体入力!G15=\"\",\"\",総体入力!G15)","v":""},"",{"$f":"IF(総体入力!R15=\"\",\"\",総体入力!R15)","v":""},{"$f":"IF(総体入力!E15=\"\",\"\",総体入力!E15)","v":""},{"$f":"IF(総体入力!V15=\"\",\"\",総体入力!V15)","v":""},{"$f":"IF(総体入力!V15=\"\",\"\",総体入力!V15)","v":""},"",{"$f":"IF(総体入力!P15=\"\",\"\",総体入力!P15)","v":""},{"$f":"IF(総体入力!H15=\"\",\"\",総体入力!H15)","v":""},{"$f":"IF(総体入力!K15=\"\",\"\",総体入力!K15)","v":""},"","",{"$f":"IF(総体入力!I15=\"\",\"\",総体入力!I15)","v":""},null,"",""]
[null,{"$f":"IF(総体入力!S16=\"\",\"\",総体入力!S16)","v":""},null,null,{"$f":"IF(総体入力!B16=\"\",\"\",総体入力!B16)","v":""},{"$f":"IF(総体入力!D16=\"\",\"\",総体入力!D16)","v":""},{"$f":"IF(総体入力!F16=\"\",\"\",総体入力!F16)","v":""},{"$f":"IF(総体入力!D16=\"\",\"\",総体入力!D16)","v":""},{"$f":"IF(総体入力!G16=\"\",\"\",総体入力!G16)","v":""},"",{"$f":"IF(総体入力!R16=\"\",\"\",総体入力!R16)","v":""},{"$f":"IF(総体入力!E16=\"\",\"\",総体入力!E16)","v":""},{"$f":"IF(総体入力!V16=\"\",\"\",総体入力!V16)","v":""},{"$f":"IF(総体入力!V16=\"\",\"\",総体入力!V16)","v":""},"",{"$f":"IF(総体入力!P16=\"\",\"\",総体入力!P16)","v":""},{"$f":"IF(総体入力!H16=\"\",\"\",総体入力!H16)","v":""},{"$f":"IF(総体入力!K16=\"\",\"\",総体入力!K16)","v":""},"","",{"$f":"IF(総体入力!I16=\"\",\"\",総体入力!I16)","v":""},null,"",""]
[null,{"$f":"IF(総体入力!S17=\"\",\"\",総体入力!S17)","v":""},null,null,{"$f":"IF(総体入力!B17=\"\",\"\",総体入力!B17)","v":""},{"$f":"IF(総体入力!D17=\"\",\"\",総体入力!D17)","v":""},{"$f":"IF(総体入力!F17=\"\",\"\",総体入力!F17)","v":""},{"$f":"IF(総体入力!D17=\"\",\"\",総体入力!D17)","v":""},{"$f":"IF(総体入力!G17=\"\",\"\",総体入力!G17)","v":""},"",{"$f":"IF(総体入力!R17=\"\",\"\",総体入力!R17)","v":""},{"$f":"IF(総体入力!E17=\"\",\"\",総体入力!E17)","v":""},{"$f":"IF(総体入力!V17=\"\",\"\",総体入力!V17)","v":""},{"$f":"IF(総体入力!V17=\"\",\"\",総体入力!V17)","v":""},"",{"$f":"IF(総体入力!P17=\"\",\"\",総体入力!P17)","v":""},{"$f":"IF(総体入力!H17=\"\",\"\",総体入力!H17)","v":""},{"$f":"IF(総体入力!K17=\"\",\"\",総体入力!K17)","v":""},"","",{"$f":"IF(総体入力!I17=\"\",\"\",総体入力!I17)","v":""},null,"",""]
[null,{"$f":"IF(総体入力!S18=\"\",\"\",総体入力!S18)","v":""},null,null,{"$f":"IF(総体入力!B18=\"\",\"\",総体入力!B18)","v":""},{"$f":"IF(総体入力!D18=\"\",\"\",総体入力!D18)","v":""},{"$f":"IF(総体入力!F18=\"\",\"\",総体入力!F18)","v":""},{"$f":"IF(総体入力!D18=\"\",\"\",総体入力!D18)","v":""},{"$f":"IF(総体入力!G18=\"\",\"\",総体入力!G18)","v":""},"",{"$f":"IF(総体入力!R18=\"\",\"\",総体入力!R18)","v":""},{"$f":"IF(総体入力!E18=\"\",\"\",総体入力!E18)","v":""},{"$f":"IF(総体入力!V18=\"\",\"\",総体入力!V18)","v":""},{"$f":"IF(総体入力!V18=\"\",\"\",総体入力!V18)","v":""},"",{"$f":"IF(総体入力!P18=\"\",\"\",総体入力!P18)","v":""},{"$f":"IF(総体入力!H18=\"\",\"\",総体入力!H18)","v":""},{"$f":"IF(総体入力!K18=\"\",\"\",総体入力!K18)","v":""},"","",{"$f":"IF(総体入力!I18=\"\",\"\",総体入力!I18)","v":""},null,"",""]
[null,{"$f":"IF(総体入力!S19=\"\",\"\",総体入力!S19)","v":""},null,null,{"$f":"IF(総体入力!B19=\"\",\"\",総体入力!B19)","v":""},{"$f":"IF(総体入力!D19=\"\",\"\",総体入力!D19)","v":""},{"$f":"IF(総体入力!F19=\"\",\"\",総体入力!F19)","v":""},{"$f":"IF(総体入力!D19=\"\",\"\",総体入力!D19)","v":""},{"$f":"IF(総体入力!G19=\"\",\"\",総体入力!G19)","v":""},"",{"$f":"IF(総体入力!R19=\"\",\"\",総体入力!R19)","v":""},{"$f":"IF(総体入力!E19=\"\",\"\",総体入力!E19)","v":""},{"$f":"IF(総体入力!V19=\"\",\"\",総体入力!V19)","v":""},{"$f":"IF(総体入力!V19=\"\",\"\",総体入力!V19)","v":""},"",{"$f":"IF(総体入力!P19=\"\",\"\",総体入力!P19)","v":""},{"$f":"IF(総体入力!H19=\"\",\"\",総体入力!H19)","v":""},{"$f":"IF(総体入力!K19=\"\",\"\",総体入力!K19)","v":""},"","",{"$f":"IF(総体入力!I19=\"\",\"\",総体入力!I19)","v":""},null,"",""]
[null,{"$f":"IF(総体入力!S20=\"\",\"\",総体入力!S20)","v":""},null,null,{"$f":"IF(総体入力!B20=\"\",\"\",総体入力!B20)","v":""},{"$f":"IF(総体入力!D20=\"\",\"\",総体入力!D20)","v":""},{"$f":"IF(総体入力!F20=\"\",\"\",総体入力!F20)","v":""},{"$f":"IF(総体入力!D20=\"\",\"\",総体入力!D20)","v":""},{"$f":"IF(総体入力!G20=\"\",\"\",総体入力!G20)","v":""},"",{"$f":"IF(総体入力!R20=\"\",\"\",総体入力!R20)","v":""},{"$f":"IF(総体入力!E20=\"\",\"\",総体入力!E20)","v":""},{"$f":"IF(総体入力!V20=\"\",\"\",総体入力!V20)","v":""},{"$f":"IF(総体入力!V20=\"\",\"\",総体入力!V20)","v":""},"",{"$f":"IF(総体入力!P20=\"\",\"\",総体入力!P20)","v":""},{"$f":"IF(総体入力!H20=\"\",\"\",総体入力!H20)","v":""},{"$f":"IF(総体入力!K20=\"\",\"\",総体入力!K20)","v":""},"","",{"$f":"IF(総体入力!I20=\"\",\"\",総体入力!I20)","v":""},null,"",""]
[null,{"$f":"IF(総体入力!S21=\"\",\"\",総体入力!S21)","v":""},null,null,{"$f":"IF(総体入力!B21=\"\",\"\",総体入力!B21)","v":""},{"$f":"IF(総体入力!D21=\"\",\"\",総体入力!D21)","v":""},{"$f":"IF(総体入力!F21=\"\",\"\",総体入力!F21)","v":""},{"$f":"IF(総体入力!D21=\"\",\"\",総体入力!D21)","v":""},{"$f":"IF(総体入力!G21=\"\",\"\",総体入力!G21)","v":""},"",{"$f":"IF(総体入力!R21=\"\",\"\",総体入力!R21)","v":""},{"$f":"IF(総体入力!E21=\"\",\"\",総体入力!E21)","v":""},{"$f":"IF(総体入力!V21=\"\",\"\",総体入力!V21)","v":""},{"$f":"IF(総体入力!V21=\"\",\"\",総体入力!V21)","v":""},"",{"$f":"IF(総体入力!P21=\"\",\"\",総体入力!P21)","v":""},{"$f":"IF(総体入力!H21=\"\",\"\",総体入力!H21)","v":""},{"$f":"IF(総体入力!K21=\"\",\"\",総体入力!K21)","v":""},"","",{"$f":"IF(総体入力!I21=\"\",\"\",総体入力!I21)","v":""},null,"",""]
[null,{"$f":"IF(総体入力!S22=\"\",\"\",総体入力!S22)","v":""},null,null,{"$f":"IF(総体入力!B22=\"\",\"\",総体入力!B22)","v":""},{"$f":"IF(総体入力!D22=\"\",\"\",総体入力!D22)","v":""},{"$f":"IF(総体入力!F22=\"\",\"\",総体入力!F22)","v":""},{"$f":"IF(総体入力!D22=\"\",\"\",総体入力!D22)","v":""},{"$f":"IF(総体入力!G22=\"\",\"\",総体入力!G22)","v":""},"",{"$f":"IF(総体入力!R22=\"\",\"\",総体入力!R22)","v":""},{"$f":"IF(総体入力!E22=\"\",\"\",総体入力!E22)","v":""},{"$f":"IF(総体入力!V22=\"\",\"\",総体入力!V22)","v":""},{"$f":"IF(総体入力!V22=\"\",\"\",総体入力!V22)","v":""},"",{"$f":"IF(総体入力!P22=\"\",\"\",総体入力!P22)","v":""},{"$f":"IF(総体入力!H22=\"\",\"\",総体入力!H22)","v":""},{"$f":"IF(総体入力!K22=\"\",\"\",総体入力!K22)","v":""},"","",{"$f":"IF(総体入力!I22=\"\",\"\",総体入力!I22)","v":""},null,"",""]
[null,{"$f":"IF(総体入力!S23=\"\",\"\",総体入力!S23)","v":""},null,null,{"$f":"IF(総体入力!B23=\"\",\"\",総体入力!B23)","v":""},{"$f":"IF(総体入力!D23=\"\",\"\",総体入力!D23)","v":""},{"$f":"IF(総体入力!F23=\"\",\"\",総体入力!F23)","v":""},{"$f":"IF(総体入力!D23=\"\",\"\",総体入力!D23)","v":""},{"$f":"IF(総体入力!G23=\"\",\"\",総体入力!G23)","v":""},"",{"$f":"IF(総体入力!R23=\"\",\"\",総体入力!R23)","v":""},{"$f":"IF(総体入力!E23=\"\",\"\",総体入力!E23)","v":""},{"$f":"IF(総体入力!V23=\"\",\"\",総体入力!V23)","v":""},{"$f":"IF(総体入力!V23=\"\",\"\",総体入力!V23)","v":""},"",{"$f":"IF(総体入力!P23=\"\",\"\",総体入力!P23)","v":""},{"$f":"IF(総体入力!H23=\"\",\"\",総体入力!H23)","v":""},{"$f":"IF(総体入力!K23=\"\",\"\",総体入力!K23)","v":""},"","",{"$f":"IF(総体入力!I23=\"\",\"\",総体入力!I23)","v":""},null,"",""]
[null,{"$f":"IF(総体入力!S24=\"\",\"\",総体入力!S24)","v":""},null,null,{"$f":"IF(総体入力!B24=\"\",\"\",総体入力!B24)","v":""},{"$f":"IF(総体入力!D24=\"\",\"\",総体入力!D24)","v":""},{"$f":"IF(総体入力!F24=\"\",\"\",総体入力!F24)","v":""},{"$f":"IF(総体入力!D24=\"\",\"\",総体入力!D24)","v":""},{"$f":"IF(総体入力!G24=\"\",\"\",総体入力!G24)","v":""},"",{"$f":"IF(総体入力!R24=\"\",\"\",総体入力!R24)","v":""},{"$f":"IF(総体入力!E24=\"\",\"\",総体入力!E24)","v":""},{"$f":"IF(総体入力!V24=\"\",\"\",総体入力!V24)","v":""},{"$f":"IF(総体入力!V24=\"\",\"\",総体入力!V24)","v":""},"",{"$f":"IF(総体入力!P24=\"\",\"\",総体入力!P24)","v":""},{"$f":"IF(総体入力!H24=\"\",\"\",総体入力!H24)","v":""},{"$f":"IF(総体入力!K24=\"\",\"\",総体入力!K24)","v":""},"","",{"$f":"IF(総体入力!I24=\"\",\"\",総体入力!I24)","v":""},null,"",""]
[null,{"$f":"IF(総体入力!S25=\"\",\"\",総体入力!S25)","v":""},null,null,{"$f":"IF(総体入力!B25=\"\",\"\",総体入力!B25)","v":""},{"$f":"IF(総体入力!D25=\"\",\"\",総体入力!D25)","v":""},{"$f":"IF(総体入力!F25=\"\",\"\",総体入力!F25)","v":""},{"$f":"IF(総体入力!D25=\"\",\"\",総体入力!D25)","v":""},{"$f":"IF(総体入力!G25=\"\",\"\",総体入力!G25)","v":""},"",{"$f":"IF(総体入力!R25=\"\",\"\",総体入力!R25)","v":""},{"$f":"IF(総体入力!E25=\"\",\"\",総体入力!E25)","v":""},{"$f":"IF(総体入力!V25=\"\",\"\",総体入力!V25)","v":""},{"$f":"IF(総体入力!V25=\"\",\"\",総体入力!V25)","v":""},"",{"$f":"IF(総体入力!P25=\"\",\"\",総体入力!P25)","v":""},{"$f":"IF(総体入力!H25=\"\",\"\",総体入力!H25)","v":""},{"$f":"IF(総体入力!K25=\"\",\"\",総体入力!K25)","v":""},"","",{"$f":"IF(総体入力!I25=\"\",\"\",総体入力!I25)","v":""},null,"",""]
[null,{"$f":"IF(総体入力!S26=\"\",\"\",総体入力!S26)","v":""},null,null,{"$f":"IF(総体入力!B26=\"\",\"\",総体入力!B26)","v":""},{"$f":"IF(総体入力!D26=\"\",\"\",総体入力!D26)","v":""},{"$f":"IF(総体入力!F26=\"\",\"\",総体入力!F26)","v":""},{"$f":"IF(総体入力!D26=\"\",\"\",総体入力!D26)","v":""},{"$f":"IF(総体入力!G26=\"\",\"\",総体入力!G26)","v":""},"",{"$f":"IF(総体入力!R26=\"\",\"\",総体入力!R26)","v":""},{"$f":"IF(総体入力!E26=\"\",\"\",総体入力!E26)","v":""},{"$f":"IF(総体入力!V26=\"\",\"\",総体入力!V26)","v":""},{"$f":"IF(総体入力!V26=\"\",\"\",総体入力!V26)","v":""},"",{"$f":"IF(総体入力!P26=\"\",\"\",総体入力!P26)","v":""},{"$f":"IF(総体入力!H26=\"\",\"\",総体入力!H26)","v":""},{"$f":"IF(総体入力!K26=\"\",\"\",総体入力!K26)","v":""},"","",{"$f":"IF(総体入力!I26=\"\",\"\",総体入力!I26)","v":""},null,"",""]
[null,{"$f":"IF(総体入力!S27=\"\",\"\",総体入力!S27)","v":""},null,null,{"$f":"IF(総体入力!B27=\"\",\"\",総体入力!B27)","v":""},{"$f":"IF(総体入力!D27=\"\",\"\",総体入力!D27)","v":""},{"$f":"IF(総体入力!F27=\"\",\"\",総体入力!F27)","v":""},{"$f":"IF(総体入力!D27=\"\",\"\",総体入力!D27)","v":""},{"$f":"IF(総体入力!G27=\"\",\"\",総体入力!G27)","v":""},"",{"$f":"IF(総体入力!R27=\"\",\"\",総体入力!R27)","v":""},{"$f":"IF(総体入力!E27=\"\",\"\",総体入力!E27)","v":""},{"$f":"IF(総体入力!V27=\"\",\"\",総体入力!V27)","v":""},{"$f":"IF(総体入力!V27=\"\",\"\",総体入力!V27)","v":""},"",{"$f":"IF(総体入力!P27=\"\",\"\",総体入力!P27)","v":""},{"$f":"IF(総体入力!H27=\"\",\"\",総体入力!H27)","v":""},{"$f":"IF(総体入力!K27=\"\",\"\",総体入力!K27)","v":""},"","",{"$f":"IF(総体入力!I27=\"\",\"\",総体入力!I27)","v":""},null,"",""]
[null,{"$f":"IF(総体入力!S28=\"\",\"\",総体入力!S28)","v":""},null,null,{"$f":"IF(総体入力!B28=\"\",\"\",総体入力!B28)","v":""},{"$f":"IF(総体入力!D28=\"\",\"\",総体入力!D28)","v":""},{"$f":"IF(総体入力!F28=\"\",\"\",総体入力!F28)","v":""},{"$f":"IF(総体入力!D28=\"\",\"\",総体入力!D28)","v":""},{"$f":"IF(総体入力!G28=\"\",\"\",総体入力!G28)","v":""},"",{"$f":"IF(総体入力!R28=\"\",\"\",総体入力!R28)","v":""},{"$f":"IF(総体入力!E28=\"\",\"\",総体入力!E28)","v":""},{"$f":"IF(総体入力!V28=\"\",\"\",総体入力!V28)","v":""},{"$f":"IF(総体入力!V28=\"\",\"\",総体入力!V28)","v":""},"",{"$f":"IF(総体入力!P28=\"\",\"\",総体入力!P28)","v":""},{"$f":"IF(総体入力!H28=\"\",\"\",総体入力!H28)","v":""},{"$f":"IF(総体入力!K28=\"\",\"\",総体入力!K28)","v":""},"","",{"$f":"IF(総体入力!I28=\"\",\"\",総体入力!I28)","v":""},null,"",""]
[null,{"$f":"IF(総体入力!S29=\"\",\"\",総体入力!S29)","v":""},null,null,{"$f":"IF(総体入力!B29=\"\",\"\",総体入力!B29)","v":""},{"$f":"IF(総体入力!D29=\"\",\"\",総体入力!D29)","v":""},{"$f":"IF(総体入力!F29=\"\",\"\",総体入力!F29)","v":""},{"$f":"IF(総体入力!D29=\"\",\"\",総体入力!D29)","v":""},{"$f":"IF(総体入力!G29=\"\",\"\",総体入力!G29)","v":""},"",{"$f":"IF(総体入力!R29=\"\",\"\",総体入力!R29)","v":""},{"$f":"IF(総体入力!E29=\"\",\"\",総体入力!E29)","v":""},{"$f":"IF(総体入力!V29=\"\",\"\",総体入力!V29)","v":""},{"$f":"IF(総体入力!V29=\"\",\"\",総体入力!V29)","v":""},"",{"$f":"IF(総体入力!P29=\"\",\"\",総体入力!P29)","v":""},{"$f":"IF(総体入力!H29=\"\",\"\",総体入力!H29)","v":""},{"$f":"IF(総体入力!K29=\"\",\"\",総体入力!K29)","v":""},"","",{"$f":"IF(総体入力!I29=\"\",\"\",総体入力!I29)","v":""},null,"",""]
[null,{"$f":"IF(総体入力!S30=\"\",\"\",総体入力!S30)","v":""},null,null,{"$f":"IF(総体入力!B30=\"\",\"\",総体入力!B30)","v":""},{"$f":"IF(総体入力!D30=\"\",\"\",総体入力!D30)","v":""},{"$f":"IF(総体入力!F30=\"\",\"\",総体入力!F30)","v":""},{"$f":"IF(総体入力!D30=\"\",\"\",総体入力!D30)","v":""},{"$f":"IF(総体入力!G30=\"\",\"\",総体入力!G30)","v":""},"",{"$f":"IF(総体入力!R30=\"\",\"\",総体入力!R30)","v":""},{"$f":"IF(総体入力!E30=\"\",\"\",総体入力!E30)","v":""},{"$f":"IF(総体入力!V30=\"\",\"\",総体入力!V30)","v":""},{"$f":"IF(総体入力!V30=\"\",\"\",総体入力!V30)","v":""},"",{"$f":"IF(総体入力!P30=\"\",\"\",総体入力!P30)","v":""},{"$f":"IF(総体入力!H30=\"\",\"\",総体入力!H30)","v":""},{"$f":"IF(総体入力!K30=\"\",\"\",総体入力!K30)","v":""},"","",{"$f":"IF(総体入力!I30=\"\",\"\",総体入力!I30)","v":""},null,"",""]
[null,{"$f":"IF(総体入力!S31=\"\",\"\",総体入力!S31)","v":""},null,null,{"$f":"IF(総体入力!B31=\"\",\"\",総体入力!B31)","v":""},{"$f":"IF(総体入力!D31=\"\",\"\",総体入力!D31)","v":""},{"$f":"IF(総体入力!F31=\"\",\"\",総体入力!F31)","v":""},{"$f":"IF(総体入力!D31=\"\",\"\",総体入力!D31)","v":""},{"$f":"IF(総体入力!G31=\"\",\"\",総体入力!G31)","v":""},"",{"$f":"IF(総体入力!R31=\"\",\"\",総体入力!R31)","v":""},{"$f":"IF(総体入力!E31=\"\",\"\",総体入力!E31)","v":""},{"$f":"IF(総体入力!V31=\"\",\"\",総体入力!V31)","v":""},{"$f":"IF(総体入力!V31=\"\",\"\",総体入力!V31)","v":""},"",{"$f":"IF(総体入力!P31=\"\",\"\",総体入力!P31)","v":""},{"$f":"IF(総体入力!H31=\"\",\"\",総体入力!H31)","v":""},{"$f":"IF(総体入力!K31=\"\",\"\",総体入力!K31)","v":""},"","",{"$f":"IF(総体入力!I31=\"\",\"\",総体入力!I31)","v":""},null,"",""]
[null,{"$f":"IF(総体入力!S32=\"\",\"\",総体入力!S32)","v":""},null,null,{"$f":"IF(総体入力!B32=\"\",\"\",総体入力!B32)","v":""},{"$f":"IF(総体入力!D32=\"\",\"\",総体入力!D32)","v":""},{"$f":"IF(総体入力!F32=\"\",\"\",総体入力!F32)","v":""},{"$f":"IF(総体入力!D32=\"\",\"\",総体入力!D32)","v":""},{"$f":"IF(総体入力!G32=\"\",\"\",総体入力!G32)","v":""},"",{"$f":"IF(総体入力!R32=\"\",\"\",総体入力!R32)","v":""},{"$f":"IF(総体入力!E32=\"\",\"\",総体入力!E32)","v":""},{"$f":"IF(総体入力!V32=\"\",\"\",総体入力!V32)","v":""},{"$f":"IF(総体入力!V32=\"\",\"\",総体入力!V32)","v":""},"",{"$f":"IF(総体入力!P32=\"\",\"\",総体入力!P32)","v":""},{"$f":"IF(総体入力!H32=\"\",\"\",総体入力!H32)","v":""},{"$f":"IF(総体入力!K32=\"\",\"\",総体入力!K32)","v":""},"","",{"$f":"IF(総体入力!I32=\"\",\"\",総体入力!I32)","v":""},null,"",""]
[null,{"$f":"IF(総体入力!S33=\"\",\"\",総体入力!S33)","v":""},null,null,{"$f":"IF(総体入力!B33=\"\",\"\",総体入力!B33)","v":""},{"$f":"IF(総体入力!D33=\"\",\"\",総体入力!D33)","v":""},{"$f":"IF(総体入力!F33=\"\",\"\",総体入力!F33)","v":""},{"$f":"IF(総体入力!D33=\"\",\"\",総体入力!D33)","v":""},{"$f":"IF(総体入力!G33=\"\",\"\",総体入力!G33)","v":""},"",{"$f":"IF(総体入力!R33=\"\",\"\",総体入力!R33)","v":""},{"$f":"IF(総体入力!E33=\"\",\"\",総体入力!E33)","v":""},{"$f":"IF(総体入力!V33=\"\",\"\",総体入力!V33)","v":""},{"$f":"IF(総体入力!V33=\"\",\"\",総体入力!V33)","v":""},"",{"$f":"IF(総体入力!P33=\"\",\"\",総体入力!P33)","v":""},{"$f":"IF(総体入力!H33=\"\",\"\",総体入力!H33)","v":""},{"$f":"IF(総体入力!K33=\"\",\"\",総体入力!K33)","v":""},"","",{"$f":"IF(総体入力!I33=\"\",\"\",総体入力!I33)","v":""},null,"",""]
[null,{"$f":"IF(総体入力!S34=\"\",\"\",総体入力!S34)","v":""},null,null,{"$f":"IF(総体入力!B34=\"\",\"\",総体入力!B34)","v":""},{"$f":"IF(総体入力!D34=\"\",\"\",総体入力!D34)","v":""},{"$f":"IF(総体入力!F34=\"\",\"\",総体入力!F34)","v":""},{"$f":"IF(総体入力!D34=\"\",\"\",総体入力!D34)","v":""},{"$f":"IF(総体入力!G34=\"\",\"\",総体入力!G34)","v":""},"",{"$f":"IF(総体入力!R34=\"\",\"\",総体入力!R34)","v":""},{"$f":"IF(総体入力!E34=\"\",\"\",総体入力!E34)","v":""},{"$f":"IF(総体入力!V34=\"\",\"\",総体入力!V34)","v":""},{"$f":"IF(総体入力!V34=\"\",\"\",総体入力!V34)","v":""},"",{"$f":"IF(総体入力!P34=\"\",\"\",総体入力!P34)","v":""},{"$f":"IF(総体入力!H34=\"\",\"\",総体入力!H34)","v":""},{"$f":"IF(総体入力!K34=\"\",\"\",総体入力!K34)","v":""},"","",{"$f":"IF(総体入力!I34=\"\",\"\",総体入力!I34)","v":""},null,"",""]
[null,{"$f":"IF(総体入力!S35=\"\",\"\",総体入力!S35)","v":""},null,null,{"$f":"IF(総体入力!B35=\"\",\"\",総体入力!B35)","v":""},{"$f":"IF(総体入力!D35=\"\",\"\",総体入力!D35)","v":""},{"$f":"IF(総体入力!F35=\"\",\"\",総体入力!F35)","v":""},{"$f":"IF(総体入力!D35=\"\",\"\",総体入力!D35)","v":""},{"$f":"IF(総体入力!G35=\"\",\"\",総体入力!G35)","v":""},"",{"$f":"IF(総体入力!R35=\"\",\"\",総体入力!R35)","v":""},{"$f":"IF(総体入力!E35=\"\",\"\",総体入力!E35)","v":""},{"$f":"IF(総体入力!V35=\"\",\"\",総体入力!V35)","v":""},{"$f":"IF(総体入力!V35=\"\",\"\",総体入力!V35)","v":""},"",{"$f":"IF(総体入力!P35=\"\",\"\",総体入力!P35)","v":""},{"$f":"IF(総体入力!H35=\"\",\"\",総体入力!H35)","v":""},{"$f":"IF(総体入力!K35=\"\",\"\",総体入力!K35)","v":""},"","",{"$f":"IF(総体入力!I35=\"\",\"\",総体入力!I35)","v":""},null,"",""]
[null,{"$f":"IF(総体入力!S36=\"\",\"\",総体入力!S36)","v":""},null,null,{"$f":"IF(総体入力!B36=\"\",\"\",総体入力!B36)","v":""},{"$f":"IF(総体入力!D36=\"\",\"\",総体入力!D36)","v":""},{"$f":"IF(総体入力!F36=\"\",\"\",総体入力!F36)","v":""},{"$f":"IF(総体入力!D36=\"\",\"\",総体入力!D36)","v":""},{"$f":"IF(総体入力!G36=\"\",\"\",総体入力!G36)","v":""},"",{"$f":"IF(総体入力!R36=\"\",\"\",総体入力!R36)","v":""},{"$f":"IF(総体入力!E36=\"\",\"\",総体入力!E36)","v":""},{"$f":"IF(総体入力!V36=\"\",\"\",総体入力!V36)","v":""},{"$f":"IF(総体入力!V36=\"\",\"\",総体入力!V36)","v":""},"",{"$f":"IF(総体入力!P36=\"\",\"\",総体入力!P36)","v":""},{"$f":"IF(総体入力!H36=\"\",\"\",総体入力!H36)","v":""},{"$f":"IF(総体入力!K36=\"\",\"\",総体入力!K36)","v":""},"","",{"$f":"IF(総体入力!I36=\"\",\"\",総体入力!I36)","v":""},null,"",""]
[null,{"$f":"IF(総体入力!S37=\"\",\"\",総体入力!S37)","v":""},null,null,{"$f":"IF(総体入力!B37=\"\",\"\",総体入力!B37)","v":""},{"$f":"IF(総体入力!D37=\"\",\"\",総体入力!D37)","v":""},{"$f":"IF(総体入力!F37=\"\",\"\",総体入力!F37)","v":""},{"$f":"IF(総体入力!D37=\"\",\"\",総体入力!D37)","v":""},{"$f":"IF(総体入力!G37=\"\",\"\",総体入力!G37)","v":""},"",{"$f":"IF(総体入力!R37=\"\",\"\",総体入力!R37)","v":""},{"$f":"IF(総体入力!E37=\"\",\"\",総体入力!E37)","v":""},{"$f":"IF(総体入力!V37=\"\",\"\",総体入力!V37)","v":""},{"$f":"IF(総体入力!V37=\"\",\"\",総体入力!V37)","v":""},"",{"$f":"IF(総体入力!P37=\"\",\"\",総体入力!P37)","v":""},{"$f":"IF(総体入力!H37=\"\",\"\",総体入力!H37)","v":""},{"$f":"IF(総体入力!K37=\"\",\"\",総体入力!K37)","v":""},"","",{"$f":"IF(総体入力!I37=\"\",\"\",総体入力!I37)","v":""},null,"",""]
[null,{"$f":"IF(総体入力!S38=\"\",\"\",総体入力!S38)","v":""},null,null,{"$f":"IF(総体入力!B38=\"\",\"\",総体入力!B38)","v":""},{"$f":"IF(総体入力!D38=\"\",\"\",総体入力!D38)","v":""},{"$f":"IF(総体入力!F38=\"\",\"\",総体入力!F38)","v":""},{"$f":"IF(総体入力!D38=\"\",\"\",総体入力!D38)","v":""},{"$f":"IF(総体入力!G38=\"\",\"\",総体入力!G38)","v":""},"",{"$f":"IF(総体入力!R38=\"\",\"\",総体入力!R38)","v":""},{"$f":"IF(総体入力!E38=\"\",\"\",総体入力!E38)","v":""},{"$f":"IF(総体入力!V38=\"\",\"\",総体入力!V38)","v":""},{"$f":"IF(総体入力!V38=\"\",\"\",総体入力!V38)","v":""},"",{"$f":"IF(総体入力!P38=\"\",\"\",総体入力!P38)","v":""},{"$f":"IF(総体入力!H38=\"\",\"\",総体入力!H38)","v":""},{"$f":"IF(総体入力!K38=\"\",\"\",総体入力!K38)","v":""},"","",{"$f":"IF(総体入力!I38=\"\",\"\",総体入力!I38)","v":""},null,"",""]
[null,{"$f":"IF(総体入力!S39=\"\",\"\",総体入力!S39)","v":""},null,null,{"$f":"IF(総体入力!B39=\"\",\"\",総体入力!B39)","v":""},{"$f":"IF(総体入力!D39=\"\",\"\",総体入力!D39)","v":""},{"$f":"IF(総体入力!F39=\"\",\"\",総体入力!F39)","v":""},{"$f":"IF(総体入力!D39=\"\",\"\",総体入力!D39)","v":""},{"$f":"IF(総体入力!G39=\"\",\"\",総体入力!G39)","v":""},"",{"$f":"IF(総体入力!R39=\"\",\"\",総体入力!R39)","v":""},{"$f":"IF(総体入力!E39=\"\",\"\",総体入力!E39)","v":""},{"$f":"IF(総体入力!V39=\"\",\"\",総体入力!V39)","v":""},{"$f":"IF(総体入力!V39=\"\",\"\",総体入力!V39)","v":""},"",{"$f":"IF(総体入力!P39=\"\",\"\",総体入力!P39)","v":""},{"$f":"IF(総体入力!H39=\"\",\"\",総体入力!H39)","v":""},{"$f":"IF(総体入力!K39=\"\",\"\",総体入力!K39)","v":""},"","",{"$f":"IF(総体入力!I39=\"\",\"\",総体入力!I39)","v":""},null,"",""]
[null,{"$f":"IF(総体入力!S40=\"\",\"\",総体入力!S40)","v":""},null,null,{"$f":"IF(総体入力!B40=\"\",\"\",総体入力!B40)","v":""},{"$f":"IF(総体入力!D40=\"\",\"\",総体入力!D40)","v":""},{"$f":"IF(総体入力!F40=\"\",\"\",総体入力!F40)","v":""},{"$f":"IF(総体入力!D40=\"\",\"\",総体入力!D40)","v":""},{"$f":"IF(総体入力!G40=\"\",\"\",総体入力!G40)","v":""},"",{"$f":"IF(総体入力!R40=\"\",\"\",総体入力!R40)","v":""},{"$f":"IF(総体入力!E40=\"\",\"\",総体入力!E40)","v":""},{"$f":"IF(総体入力!V40=\"\",\"\",総体入力!V40)","v":""},{"$f":"IF(総体入力!V40=\"\",\"\",総体入力!V40)","v":""},"",{"$f":"IF(総体入力!P40=\"\",\"\",総体入力!P40)","v":""},{"$f":"IF(総体入力!H40=\"\",\"\",総体入力!H40)","v":""},{"$f":"IF(総体入力!K40=\"\",\"\",総体入力!K40)","v":""},"","",{"$f":"IF(総体入力!I40=\"\",\"\",総体入力!I40)","v":""},null,"",""]
[]
["競技者NO","所属コード1","所属コード2","ナンバー","ナンバー2","競技者名","競技者名カナ","競技者名略称","競技者名英字","国籍","性別","学年","生年","月日","個人所属地名","陸連コード","参加競技-競技コード1","参加競技-自己記録1","参加競技-オープン参加FLG1","参加競技-記録FLG1","参加競技-競技コード2","参加競技-自己記録2","参加競技-オープン参加FLG2","参加競技-記録FLG2","参加競技-競技コード3","参加競技-自己記録3","参加競技-オープン参加FLG3","参加競技-記録FLG3","参加競技-競技コード4","参加競技-自己記録4","参加競技-オープン参加FLG4","参加競技-記録FLG4","参加競技-競技コード5","参加競技-自己記録5","参加競技-オープン参加FLG5","参加競技-記録FLG5"]
[null,{"$f":"IF(総体入力!S78=\"\",\"\",総体入力!S78)","v":""},null,null,{"$f":"IF(総体入力!B78=\"\",\"\",総体入力!B78)","v":""},{"$f":"IF(総体入力!D78=\"\",\"\",総体入力!D78)","v":""},{"$f":"IF(総体入力!F78=\"\",\"\",総体入力!F78)","v":""},{"$f":"IF(総体入力!D78=\"\",\"\",総体入力!D78)","v":""},{"$f":"IF(総体入力!G78=\"\",\"\",総体入力!G78)","v":""},{"$f":"IF(E34=\"\",\"\",\"JPN 日本\")","v":""},{"$f":"IF(総体入力!R78=\"\",\"\",総体入力!R78)","v":""},{"$f":"IF(総体入力!E78=\"\",\"\",総体入力!E78)","v":""},{"$f":"IF(総体入力!V78=\"\",\"\",総体入力!V78)","v":""},{"$f":"IF(総体入力!V78=\"\",\"\",総体入力!V78)","v":""},{"$f":"IF(A34=\"\",\"\",\"秋田県\")","v":""},{"$f":"IF(総体入力!P78=\"\",\"\",総体入力!P78)","v":""},{"$f":"IF(総体入力!H78=\"\",\"\",総体入力!H78)","v":""},{"$f":"IF(総体入力!K78=\"\",\"\",総体入力!K78)","v":""},{"$f":"IF(Q34=\"\",\"\",0)","v":""},{"$f":"IF(Q34=\"\",\"\",0)","v":""},{"$f":"IF(総体入力!I78=\"\",\"\",総体入力!I78)","v":""},null,{"$f":"IF(U34=\"\",\"\",0)","v":""},{"$f":"IF(U34=\"\",\"\",0)","v":""}]
[null,{"$f":"IF(総体入力!S79=\"\",\"\",総体入力!S79)","v":""},null,null,{"$f":"IF(総体入力!B79=\"\",\"\",総体入力!B79)","v":""},{"$f":"IF(総体入力!D79=\"\",\"\",総体入力!D79)","v":""},{"$f":"IF(総体入力!F79=\"\",\"\",総体入力!F79)","v":""},{"$f":"IF(総体入力!D79=\"\",\"\",総体入力!D79)","v":""},{"$f":"IF(総体入力!G79=\"\",\"\",総体入力!G79)","v":""},{"$f":"IF(E35=\"\",\"\",\"JPN 日本\")","v":""},{"$f":"IF(総体入力!R79=\"\",\"\",総体入力!R79)","v":""},{"$f":"IF(総体入力!E79=\"\",\"\",総体入力!E79)","v":""},{"$f":"IF(総体入力!V79=\"\",\"\",総体入力!V79)","v":""},{"$f":"IF(総体入力!V79=\"\",\"\",総体入力!V79)","v":""},"",{"$f":"IF(総体入力!P79=\"\",\"\",総体入力!P79)","v":""},{"$f":"IF(総体入力!H79=\"\",\"\",総体入力!H79)","v":""},{"$f":"IF(総体入力!K79=\"\",\"\",総体入力!K79)","v":""},{"$f":"IF(Q35=\"\",\"\",0)","v":""},{"$f":"IF(Q35=\"\",\"\",0)","v":""},{"$f":"IF(総体入力!I79=\"\",\"\",総体入力!I79)","v":""},null,{"$f":"IF(U35=\"\",\"\",0)","v":""},{"$f":"IF(U35=\"\",\"\",0)","v":""}]
[null,{"$f":"IF(総体入力!S80=\"\",\"\",総体入力!S80)","v":""},null,null,{"$f":"IF(総体入力!B80=\"\",\"\",総体入力!B80)","v":""},{"$f":"IF(総体入力!D80=\"\",\"\",総体入力!D80)","v":""},{"$f":"IF(総体入力!F80=\"\",\"\",総体入力!F80)","v":""},{"$f":"IF(総体入力!D80=\"\",\"\",総体入力!D80)","v":""},{"$f":"IF(総体入力!G80=\"\",\"\",総体入力!G80)","v":""},"",{"$f":"IF(総体入力!R80=\"\",\"\",総体入力!R80)","v":""},{"$f":"IF(総体入力!E80=\"\",\"\",総体入力!E80)","v":""},{"$f":"IF(総体入力!V80=\"\",\"\",総体入力!V80)","v":""},{"$f":"IF(総体入力!V80=\"\",\"\",総体入力!V80)","v":""},"",{"$f":"IF(総体入力!P80=\"\",\"\",総体入力!P80)","v":""},{"$f":"IF(総体入力!H80=\"\",\"\",総体入力!H80)","v":""},{"$f":"IF(総体入力!K80=\"\",\"\",総体入力!K80)","v":""},"","",{"$f":"IF(総体入力!I80=\"\",\"\",総体入力!I80)","v":""},null,"",""]
[null,{"$f":"IF(総体入力!S81=\"\",\"\",総体入力!S81)","v":""},null,null,{"$f":"IF(総体入力!B81=\"\",\"\",総体入力!B81)","v":""},{"$f":"IF(総体入力!D81=\"\",\"\",総体入力!D81)","v":""},{"$f":"IF(総体入力!F81=\"\",\"\",総体入力!F81)","v":""},{"$f":"IF(総体入力!D81=\"\",\"\",総体入力!D81)","v":""},{"$f":"IF(総体入力!G81=\"\",\"\",総体入力!G81)","v":""},"",{"$f":"IF(総体入力!R81=\"\",\"\",総体入力!R81)","v":""},{"$f":"IF(総体入力!E81=\"\",\"\",総体入力!E81)","v":""},{"$f":"IF(総体入力!V81=\"\",\"\",総体入力!V81)","v":""},{"$f":"IF(総体入力!V81=\"\",\"\",総体入力!V81)","v":""},"",{"$f":"IF(総体入力!P81=\"\",\"\",総体入力!P81)","v":""},{"$f":"IF(総体入力!H81=\"\",\"\",総体入力!H81)","v":""},{"$f":"IF(総体入力!K81=\"\",\"\",総体入力!K81)","v":""},"","",{"$f":"IF(総体入力!I81=\"\",\"\",総体入力!I81)","v":""},null,"",""]
[null,{"$f":"IF(総体入力!S82=\"\",\"\",総体入力!S82)","v":""},null,null,{"$f":"IF(総体入力!B82=\"\",\"\",総体入力!B82)","v":""},{"$f":"IF(総体入力!D82=\"\",\"\",総体入力!D82)","v":""},{"$f":"IF(総体入力!F82=\"\",\"\",総体入力!F82)","v":""},{"$f":"IF(総体入力!D82=\"\",\"\",総体入力!D82)","v":""},{"$f":"IF(総体入力!G82=\"\",\"\",総体入力!G82)","v":""},"",{"$f":"IF(総体入力!R82=\"\",\"\",総体入力!R82)","v":""},{"$f":"IF(総体入力!E82=\"\",\"\",総体入力!E82)","v":""},{"$f":"IF(総体入力!V82=\"\",\"\",総体入力!V82)","v":""},{"$f":"IF(総体入力!V82=\"\",\"\",総体入力!V82)","v":""},"",{"$f":"IF(総体入力!P82=\"\",\"\",総体入力!P82)","v":""},{"$f":"IF(総体入力!H82=\"\",\"\",総体入力!H82)","v":""},{"$f":"IF(総体入力!K82=\"\",\"\",総体入力!K82)","v":""},"","",{"$f":"IF(総体入力!I82=\"\",\"\",総体入力!I82)","v":""},null,"",""]
[null,{"$f":"IF(総体入力!S83=\"\",\"\",総体入力!S83)","v":""},null,null,{"$f":"IF(総体入力!B83=\"\",\"\",総体入力!B83)","v":""},{"$f":"IF(総体入力!D83=\"\",\"\",総体入力!D83)","v":""},{"$f":"IF(総体入力!F83=\"\",\"\",総体入力!F83)","v":""},{"$f":"IF(総体入力!D83=\"\",\"\",総体入力!D83)","v":""},{"$f":"IF(総体入力!G83=\"\",\"\",総体入力!G83)","v":""},"",{"$f":"IF(総体入力!R83=\"\",\"\",総体入力!R83)","v":""},{"$f":"IF(総体入力!E83=\"\",\"\",総体入力!E83)","v":""},{"$f":"IF(総体入力!V83=\"\",\"\",総体入力!V83)","v":""},{"$f":"IF(総体入力!V83=\"\",\"\",総体入力!V83)","v":""},"",{"$f":"IF(総体入力!P83=\"\",\"\",総体入力!P83)","v":""},{"$f":"IF(総体入力!H83=\"\",\"\",総体入力!H83)","v":""},{"$f":"IF(総体入力!K83=\"\",\"\",総体入力!K83)","v":""},"","",{"$f":"IF(総体入力!I83=\"\",\"\",総体入力!I83)","v":""},null,"",""]
[null,{"$f":"IF(総体入力!S84=\"\",\"\",総体入力!S84)","v":""},null,null,{"$f":"IF(総体入力!B84=\"\",\"\",総体入力!B84)","v":""},{"$f":"IF(総体入力!D84=\"\",\"\",総体入力!D84)","v":""},{"$f":"IF(総体入力!F84=\"\",\"\",総体入力!F84)","v":""},{"$f":"IF(総体入力!D84=\"\",\"\",総体入力!D84)","v":""},{"$f":"IF(総体入力!G84=\"\",\"\",総体入力!G84)","v":""},"",{"$f":"IF(総体入力!R84=\"\",\"\",総体入力!R84)","v":""},{"$f":"IF(総体入力!E84=\"\",\"\",総体入力!E84)","v":""},{"$f":"IF(総体入力!V84=\"\",\"\",総体入力!V84)","v":""},{"$f":"IF(総体入力!V84=\"\",\"\",総体入力!V84)","v":""},"",{"$f":"IF(総体入力!P84=\"\",\"\",総体入力!P84)","v":""},{"$f":"IF(総体入力!H84=\"\",\"\",総体入力!H84)","v":""},{"$f":"IF(総体入力!K84=\"\",\"\",総体入力!K84)","v":""},"","",{"$f":"IF(総体入力!I84=\"\",\"\",総体入力!I84)","v":""},null,"",""]
[null,{"$f":"IF(総体入力!S85=\"\",\"\",総体入力!S85)","v":""},null,null,{"$f":"IF(総体入力!B85=\"\",\"\",総体入力!B85)","v":""},{"$f":"IF(総体入力!D85=\"\",\"\",総体入力!D85)","v":""},{"$f":"IF(総体入力!F85=\"\",\"\",総体入力!F85)","v":""},{"$f":"IF(総体入力!D85=\"\",\"\",総体入力!D85)","v":""},{"$f":"IF(総体入力!G85=\"\",\"\",総体入力!G85)","v":""},"",{"$f":"IF(総体入力!R85=\"\",\"\",総体入力!R85)","v":""},{"$f":"IF(総体入力!E85=\"\",\"\",総体入力!E85)","v":""},{"$f":"IF(総体入力!V85=\"\",\"\",総体入力!V85)","v":""},{"$f":"IF(総体入力!V85=\"\",\"\",総体入力!V85)","v":""},"",{"$f":"IF(総体入力!P85=\"\",\"\",総体入力!P85)","v":""},{"$f":"IF(総体入力!H85=\"\",\"\",総体入力!H85)","v":""},{"$f":"IF(総体入力!K85=\"\",\"\",総体入力!K85)","v":""},"","",{"$f":"IF(総体入力!I85=\"\",\"\",総体入力!I85)","v":""},null,"",""]
[null,{"$f":"IF(総体入力!S86=\"\",\"\",総体入力!S86)","v":""},null,null,{"$f":"IF(総体入力!B86=\"\",\"\",総体入力!B86)","v":""},{"$f":"IF(総体入力!D86=\"\",\"\",総体入力!D86)","v":""},{"$f":"IF(総体入力!F86=\"\",\"\",総体入力!F86)","v":""},{"$f":"IF(総体入力!D86=\"\",\"\",総体入力!D86)","v":""},{"$f":"IF(総体入力!G86=\"\",\"\",総体入力!G86)","v":""},"",{"$f":"IF(総体入力!R86=\"\",\"\",総体入力!R86)","v":""},{"$f":"IF(総体入力!E86=\"\",\"\",総体入力!E86)","v":""},{"$f":"IF(総体入力!V86=\"\",\"\",総体入力!V86)","v":""},{"$f":"IF(総体入力!V86=\"\",\"\",総体入力!V86)","v":""},"",{"$f":"IF(総体入力!P86=\"\",\"\",総体入力!P86)","v":""},{"$f":"IF(総体入力!H86=\"\",\"\",総体入力!H86)","v":""},{"$f":"IF(総体入力!K86=\"\",\"\",総体入力!K86)","v":""},"","",{"$f":"IF(総体入力!I86=\"\",\"\",総体入力!I86)","v":""},null,"",""]
[null,{"$f":"IF(総体入力!S87=\"\",\"\",総体入力!S87)","v":""},null,null,{"$f":"IF(総体入力!B87=\"\",\"\",総体入力!B87)","v":""},{"$f":"IF(総体入力!D87=\"\",\"\",総体入力!D87)","v":""},{"$f":"IF(総体入力!F87=\"\",\"\",総体入力!F87)","v":""},{"$f":"IF(総体入力!D87=\"\",\"\",総体入力!D87)","v":""},{"$f":"IF(総体入力!G87=\"\",\"\",総体入力!G87)","v":""},"",{"$f":"IF(総体入力!R87=\"\",\"\",総体入力!R87)","v":""},{"$f":"IF(総体入力!E87=\"\",\"\",総体入力!E87)","v":""},{"$f":"IF(総体入力!V87=\"\",\"\",総体入力!V87)","v":""},{"$f":"IF(総体入力!V87=\"\",\"\",総体入力!V87)","v":""},"",{"$f":"IF(総体入力!P87=\"\",\"\",総体入力!P87)","v":""},{"$f":"IF(総体入力!H87=\"\",\"\",総体入力!H87)","v":""},{"$f":"IF(総体入力!K87=\"\",\"\",総体入力!K87)","v":""},"","",{"$f":"IF(総体入力!I87=\"\",\"\",総体入力!I87)","v":""},null,"",""]
[null,{"$f":"IF(総体入力!S88=\"\",\"\",総体入力!S88)","v":""},null,null,{"$f":"IF(総体入力!B88=\"\",\"\",総体入力!B88)","v":""},{"$f":"IF(総体入力!D88=\"\",\"\",総体入力!D88)","v":""},{"$f":"IF(総体入力!F88=\"\",\"\",総体入力!F88)","v":""},{"$f":"IF(総体入力!D88=\"\",\"\",総体入力!D88)","v":""},{"$f":"IF(総体入力!G88=\"\",\"\",総体入力!G88)","v":""},"",{"$f":"IF(総体入力!R88=\"\",\"\",総体入力!R88)","v":""},{"$f":"IF(総体入力!E88=\"\",\"\",総体入力!E88)","v":""},{"$f":"IF(総体入力!V88=\"\",\"\",総体入力!V88)","v":""},{"$f":"IF(総体入力!V88=\"\",\"\",総体入力!V88)","v":""},"",{"$f":"IF(総体入力!P88=\"\",\"\",総体入力!P88)","v":""},{"$f":"IF(総体入力!H88=\"\",\"\",総体入力!H88)","v":""},{"$f":"IF(総体入力!K88=\"\",\"\",総体入力!K88)","v":""},"","",{"$f":"IF(総体入力!I88=\"\",\"\",総体入力!I88)","v":""},null,"",""]
[null,{"$f":"IF(総体入力!S89=\"\",\"\",総体入力!S89)","v":""},null,null,{"$f":"IF(総体入力!B89=\"\",\"\",総体入力!B89)","v":""},{"$f":"IF(総体入力!D89=\"\",\"\",総体入力!D89)","v":""},{"$f":"IF(総体入力!F89=\"\",\"\",総体入力!F89)","v":""},{"$f":"IF(総体入力!D89=\"\",\"\",総体入力!D89)","v":""},{"$f":"IF(総体入力!G89=\"\",\"\",総体入力!G89)","v":""},"",{"$f":"IF(総体入力!R89=\"\",\"\",総体入力!R89)","v":""},{"$f":"IF(総体入力!E89=\"\",\"\",総体入力!E89)","v":""},{"$f":"IF(総体入力!V89=\"\",\"\",総体入力!V89)","v":""},{"$f":"IF(総体入力!V89=\"\",\"\",総体入力!V89)","v":""},"",{"$f":"IF(総体入力!P89=\"\",\"\",総体入力!P89)","v":""},{"$f":"IF(総体入力!H89=\"\",\"\",総体入力!H89)","v":""},{"$f":"IF(総体入力!K89=\"\",\"\",総体入力!K89)","v":""},"","",{"$f":"IF(総体入力!I89=\"\",\"\",総体入力!I89)","v":""},null,"",""]
[null,{"$f":"IF(総体入力!S90=\"\",\"\",総体入力!S90)","v":""},null,null,{"$f":"IF(総体入力!B90=\"\",\"\",総体入力!B90)","v":""},{"$f":"IF(総体入力!D90=\"\",\"\",総体入力!D90)","v":""},{"$f":"IF(総体入力!F90=\"\",\"\",総体入力!F90)","v":""},{"$f":"IF(総体入力!D90=\"\",\"\",総体入力!D90)","v":""},{"$f":"IF(総体入力!G90=\"\",\"\",総体入力!G90)","v":""},"",{"$f":"IF(総体入力!R90=\"\",\"\",総体入力!R90)","v":""},{"$f":"IF(総体入力!E90=\"\",\"\",総体入力!E90)","v":""},{"$f":"IF(総体入力!V90=\"\",\"\",総体入力!V90)","v":""},{"$f":"IF(総体入力!V90=\"\",\"\",総体入力!V90)","v":""},"",{"$f":"IF(総体入力!P90=\"\",\"\",総体入力!P90)","v":""},{"$f":"IF(総体入力!H90=\"\",\"\",総体入力!H90)","v":""},{"$f":"IF(総体入力!K90=\"\",\"\",総体入力!K90)","v":""},"","",{"$f":"IF(総体入力!I90=\"\",\"\",総体入力!I90)","v":""},null,"",""]
[null,{"$f":"IF(総体入力!S91=\"\",\"\",総体入力!S91)","v":""},null,null,{"$f":"IF(総体入力!B91=\"\",\"\",総体入力!B91)","v":""},{"$f":"IF(総体入力!D91=\"\",\"\",総体入力!D91)","v":""},{"$f":"IF(総体入力!F91=\"\",\"\",総体入力!F91)","v":""},{"$f":"IF(総体入力!D91=\"\",\"\",総体入力!D91)","v":""},{"$f":"IF(総体入力!G91=\"\",\"\",総体入力!G91)","v":""},"",{"$f":"IF(総体入力!R91=\"\",\"\",総体入力!R91)","v":""},{"$f":"IF(総体入力!E91=\"\",\"\",総体入力!E91)","v":""},{"$f":"IF(総体入力!V91=\"\",\"\",総体入力!V91)","v":""},{"$f":"IF(総体入力!V91=\"\",\"\",総体入力!V91)","v":""},"",{"$f":"IF(総体入力!P91=\"\",\"\",総体入力!P91)","v":""},{"$f":"IF(総体入力!H91=\"\",\"\",総体入力!H91)","v":""},{"$f":"IF(総体入力!K91=\"\",\"\",総体入力!K91)","v":""},"","",{"$f":"IF(総体入力!I91=\"\",\"\",総体入力!I91)","v":""},null,"",""]
[null,{"$f":"IF(総体入力!S92=\"\",\"\",総体入力!S92)","v":""},null,null,{"$f":"IF(総体入力!B92=\"\",\"\",総体入力!B92)","v":""},{"$f":"IF(総体入力!D92=\"\",\"\",総体入力!D92)","v":""},{"$f":"IF(総体入力!F92=\"\",\"\",総体入力!F92)","v":""},{"$f":"IF(総体入力!D92=\"\",\"\",総体入力!D92)","v":""},{"$f":"IF(総体入力!G92=\"\",\"\",総体入力!G92)","v":""},"",{"$f":"IF(総体入力!R92=\"\",\"\",総体入力!R92)","v":""},{"$f":"IF(総体入力!E92=\"\",\"\",総体入力!E92)","v":""},{"$f":"IF(総体入力!V92=\"\",\"\",総体入力!V92)","v":""},{"$f":"IF(総体入力!V92=\"\",\"\",総体入力!V92)","v":""},"",{"$f":"IF(総体入力!P92=\"\",\"\",総体入力!P92)","v":""},{"$f":"IF(総体入力!H92=\"\",\"\",総体入力!H92)","v":""},{"$f":"IF(総体入力!K92=\"\",\"\",総体入力!K92)","v":""},"","",{"$f":"IF(総体入力!I92=\"\",\"\",総体入力!I92)","v":""},null,"",""]
[null,{"$f":"IF(総体入力!S93=\"\",\"\",総体入力!S93)","v":""},null,null,{"$f":"IF(総体入力!B93=\"\",\"\",総体入力!B93)","v":""},{"$f":"IF(総体入力!D93=\"\",\"\",総体入力!D93)","v":""},{"$f":"IF(総体入力!F93=\"\",\"\",総体入力!F93)","v":""},{"$f":"IF(総体入力!D93=\"\",\"\",総体入力!D93)","v":""},{"$f":"IF(総体入力!G93=\"\",\"\",総体入力!G93)","v":""},"",{"$f":"IF(総体入力!R93=\"\",\"\",総体入力!R93)","v":""},{"$f":"IF(総体入力!E93=\"\",\"\",総体入力!E93)","v":""},{"$f":"IF(総体入力!V93=\"\",\"\",総体入力!V93)","v":""},{"$f":"IF(総体入力!V93=\"\",\"\",総体入力!V93)","v":""},"",{"$f":"IF(総体入力!P93=\"\",\"\",総体入力!P93)","v":""},{"$f":"IF(総体入力!H93=\"\",\"\",総体入力!H93)","v":""},{"$f":"IF(総体入力!K93=\"\",\"\",総体入力!K93)","v":""},"","",{"$f":"IF(総体入力!I93=\"\",\"\",総体入力!I93)","v":""},null,"",""]
[null,{"$f":"IF(総体入力!S94=\"\",\"\",総体入力!S94)","v":""},null,null,{"$f":"IF(総体入力!B94=\"\",\"\",総体入力!B94)","v":""},{"$f":"IF(総体入力!D94=\"\",\"\",総体入力!D94)","v":""},{"$f":"IF(総体入力!F94=\"\",\"\",総体入力!F94)","v":""},{"$f":"IF(総体入力!D94=\"\",\"\",総体入力!D94)","v":""},{"$f":"IF(総体入力!G94=\"\",\"\",総体入力!G94)","v":""},"",{"$f":"IF(総体入力!R94=\"\",\"\",総体入力!R94)","v":""},{"$f":"IF(総体入力!E94=\"\",\"\",総体入力!E94)","v":""},{"$f":"IF(総体入力!V94=\"\",\"\",総体入力!V94)","v":""},{"$f":"IF(総体入力!V94=\"\",\"\",総体入力!V94)","v":""},"",{"$f":"IF(総体入力!P94=\"\",\"\",総体入力!P94)","v":""},{"$f":"IF(総体入力!H94=\"\",\"\",総体入力!H94)","v":""},{"$f":"IF(総体入力!K94=\"\",\"\",総体入力!K94)","v":""},"","",{"$f":"IF(総体入力!I94=\"\",\"\",総体入力!I94)","v":""},null,"",""]
[null,{"$f":"IF(総体入力!S95=\"\",\"\",総体入力!S95)","v":""},null,null,{"$f":"IF(総体入力!B95=\"\",\"\",総体入力!B95)","v":""},{"$f":"IF(総体入力!D95=\"\",\"\",総体入力!D95)","v":""},{"$f":"IF(総体入力!F95=\"\",\"\",総体入力!F95)","v":""},{"$f":"IF(総体入力!D95=\"\",\"\",総体入力!D95)","v":""},{"$f":"IF(総体入力!G95=\"\",\"\",総体入力!G95)","v":""},"",{"$f":"IF(総体入力!R95=\"\",\"\",総体入力!R95)","v":""},{"$f":"IF(総体入力!E95=\"\",\"\",総体入力!E95)","v":""},{"$f":"IF(総体入力!V95=\"\",\"\",総体入力!V95)","v":""},{"$f":"IF(総体入力!V95=\"\",\"\",総体入力!V95)","v":""},"",{"$f":"IF(総体入力!P95=\"\",\"\",総体入力!P95)","v":""},{"$f":"IF(総体入力!H95=\"\",\"\",総体入力!H95)","v":""},{"$f":"IF(総体入力!K95=\"\",\"\",総体入力!K95)","v":""},"","",{"$f":"IF(総体入力!I95=\"\",\"\",総体入力!I95)","v":""},null,"",""]
[null,{"$f":"IF(総体入力!S96=\"\",\"\",総体入力!S96)","v":""},null,null,{"$f":"IF(総体入力!B96=\"\",\"\",総体入力!B96)","v":""},{"$f":"IF(総体入力!D96=\"\",\"\",総体入力!D96)","v":""},{"$f":"IF(総体入力!F96=\"\",\"\",総体入力!F96)","v":""},{"$f":"IF(総体入力!D96=\"\",\"\",総体入力!D96)","v":""},{"$f":"IF(総体入力!G96=\"\",\"\",総体入力!G96)","v":""},"",{"$f":"IF(総体入力!R96=\"\",\"\",総体入力!R96)","v":""},{"$f":"IF(総体入力!E96=\"\",\"\",総体入力!E96)","v":""},{"$f":"IF(総体入力!V96=\"\",\"\",総体入力!V96)","v":""},{"$f":"IF(総体入力!V96=\"\",\"\",総体入力!V96)","v":""},"",{"$f":"IF(総体入力!P96=\"\",\"\",総体入力!P96)","v":""},{"$f":"IF(総体入力!H96=\"\",\"\",総体入力!H96)","v":""},{"$f":"IF(総体入力!K96=\"\",\"\",総体入力!K96)","v":""},"","",{"$f":"IF(総体入力!I96=\"\",\"\",総体入力!I96)","v":""},null,"",""]
[null,{"$f":"IF(総体入力!S97=\"\",\"\",総体入力!S97)","v":""},null,null,{"$f":"IF(総体入力!B97=\"\",\"\",総体入力!B97)","v":""},{"$f":"IF(総体入力!D97=\"\",\"\",総体入力!D97)","v":""},{"$f":"IF(総体入力!F97=\"\",\"\",総体入力!F97)","v":""},{"$f":"IF(総体入力!D97=\"\",\"\",総体入力!D97)","v":""},{"$f":"IF(総体入力!G97=\"\",\"\",総体入力!G97)","v":""},"",{"$f":"IF(総体入力!R97=\"\",\"\",総体入力!R97)","v":""},{"$f":"IF(総体入力!E97=\"\",\"\",総体入力!E97)","v":""},{"$f":"IF(総体入力!V97=\"\",\"\",総体入力!V97)","v":""},{"$f":"IF(総体入力!V97=\"\",\"\",総体入力!V97)","v":""},"",{"$f":"IF(総体入力!P97=\"\",\"\",総体入力!P97)","v":""},{"$f":"IF(総体入力!H97=\"\",\"\",総体入力!H97)","v":""},{"$f":"IF(総体入力!K97=\"\",\"\",総体入力!K97)","v":""},"","",{"$f":"IF(総体入力!I97=\"\",\"\",総体入力!I97)","v":""},null,"",""]
[null,{"$f":"IF(総体入力!S98=\"\",\"\",総体入力!S98)","v":""},null,null,{"$f":"IF(総体入力!B98=\"\",\"\",総体入力!B98)","v":""},{"$f":"IF(総体入力!D98=\"\",\"\",総体入力!D98)","v":""},{"$f":"IF(総体入力!F98=\"\",\"\",総体入力!F98)","v":""},{"$f":"IF(総体入力!D98=\"\",\"\",総体入力!D98)","v":""},{"$f":"IF(総体入力!G98=\"\",\"\",総体入力!G98)","v":""},"",{"$f":"IF(総体入力!R98=\"\",\"\",総体入力!R98)","v":""},{"$f":"IF(総体入力!E98=\"\",\"\",総体入力!E98)","v":""},{"$f":"IF(総体入力!V98=\"\",\"\",総体入力!V98)","v":""},{"$f":"IF(総体入力!V98=\"\",\"\",総体入力!V98)","v":""},"",{"$f":"IF(総体入力!P98=\"\",\"\",総体入力!P98)","v":""},{"$f":"IF(総体入力!H98=\"\",\"\",総体入力!H98)","v":""},{"$f":"IF(総体入力!K98=\"\",\"\",総体入力!K98)","v":""},"","",{"$f":"IF(総体入力!I98=\"\",\"\",総体入力!I98)","v":""},null,"",""]
[null,{"$f":"IF(総体入力!S99=\"\",\"\",総体入力!S99)","v":""},null,null,{"$f":"IF(総体入力!B99=\"\",\"\",総体入力!B99)","v":""},{"$f":"IF(総体入力!D99=\"\",\"\",総体入力!D99)","v":""},{"$f":"IF(総体入力!F99=\"\",\"\",総体入力!F99)","v":""},{"$f":"IF(総体入力!D99=\"\",\"\",総体入力!D99)","v":""},{"$f":"IF(総体入力!G99=\"\",\"\",総体入力!G99)","v":""},"",{"$f":"IF(総体入力!R99=\"\",\"\",総体入力!R99)","v":""},{"$f":"IF(総体入力!E99=\"\",\"\",総体入力!E99)","v":""},{"$f":"IF(総体入力!V99=\"\",\"\",総体入力!V99)","v":""},{"$f":"IF(総体入力!V99=\"\",\"\",総体入力!V99)","v":""},"",{"$f":"IF(総体入力!P99=\"\",\"\",総体入力!P99)","v":""},{"$f":"IF(総体入力!H99=\"\",\"\",総体入力!H99)","v":""},{"$f":"IF(総体入力!K99=\"\",\"\",総体入力!K99)","v":""},"","",{"$f":"IF(総体入力!I99=\"\",\"\",総体入力!I99)","v":""},null,"",""]
[null,{"$f":"IF(総体入力!S100=\"\",\"\",総体入力!S100)","v":""},null,null,{"$f":"IF(総体入力!B100=\"\",\"\",総体入力!B100)","v":""},{"$f":"IF(総体入力!D100=\"\",\"\",総体入力!D100)","v":""},{"$f":"IF(総体入力!F100=\"\",\"\",総体入力!F100)","v":""},{"$f":"IF(総体入力!D100=\"\",\"\",総体入力!D100)","v":""},{"$f":"IF(総体入力!G100=\"\",\"\",総体入力!G100)","v":""},"",{"$f":"IF(総体入力!R100=\"\",\"\",総体入力!R100)","v":""},{"$f":"IF(総体入力!E100=\"\",\"\",総体入力!E100)","v":""},{"$f":"IF(総体入力!V100=\"\",\"\",総体入力!V100)","v":""},{"$f":"IF(総体入力!V100=\"\",\"\",総体入力!V100)","v":""},"",{"$f":"IF(総体入力!P100=\"\",\"\",総体入力!P100)","v":""},{"$f":"IF(総体入力!H100=\"\",\"\",総体入力!H100)","v":""},{"$f":"IF(総体入力!K100=\"\",\"\",総体入力!K100)","v":""},"","",{"$f":"IF(総体入力!I100=\"\",\"\",総体入力!I100)","v":""},null,"",""]
[null,{"$f":"IF(総体入力!S101=\"\",\"\",総体入力!S101)","v":""},null,null,{"$f":"IF(総体入力!B101=\"\",\"\",総体入力!B101)","v":""},{"$f":"IF(総体入力!D101=\"\",\"\",総体入力!D101)","v":""},{"$f":"IF(総体入力!F101=\"\",\"\",総体入力!F101)","v":""},{"$f":"IF(総体入力!D101=\"\",\"\",総体入力!D101)","v":""},{"$f":"IF(総体入力!G101=\"\",\"\",総体入力!G101)","v":""},"",{"$f":"IF(総体入力!R101=\"\",\"\",総体入力!R101)","v":""},{"$f":"IF(総体入力!E101=\"\",\"\",総体入力!E101)","v":""},{"$f":"IF(総体入力!V101=\"\",\"\",総体入力!V101)","v":""},{"$f":"IF(総体入力!V101=\"\",\"\",総体入力!V101)","v":""},"",{"$f":"IF(総体入力!P101=\"\",\"\",総体入力!P101)","v":""},{"$f":"IF(総体入力!H101=\"\",\"\",総体入力!H101)","v":""},{"$f":"IF(総体入力!K101=\"\",\"\",総体入力!K101)","v":""},"","",{"$f":"IF(総体入力!I101=\"\",\"\",総体入力!I101)","v":""},null,"",""]
[null,{"$f":"IF(総体入力!S102=\"\",\"\",総体入力!S102)","v":""},null,null,{"$f":"IF(総体入力!B102=\"\",\"\",総体入力!B102)","v":""},{"$f":"IF(総体入力!D102=\"\",\"\",総体入力!D102)","v":""},{"$f":"IF(総体入力!F102=\"\",\"\",総体入力!F102)","v":""},{"$f":"IF(総体入力!D102=\"\",\"\",総体入力!D102)","v":""},{"$f":"IF(総体入力!G102=\"\",\"\",総体入力!G102)","v":""},"",{"$f":"IF(総体入力!R102=\"\",\"\",総体入力!R102)","v":""},{"$f":"IF(総体入力!E102=\"\",\"\",総体入力!E102)","v":""},{"$f":"IF(総体入力!V102=\"\",\"\",総体入力!V102)","v":""},{"$f":"IF(総体入力!V102=\"\",\"\",総体入力!V102)","v":""},"",{"$f":"IF(総体入力!P102=\"\",\"\",総体入力!P102)","v":""},{"$f":"IF(総体入力!H102=\"\",\"\",総体入力!H102)","v":""},{"$f":"IF(総体入力!K102=\"\",\"\",総体入力!K102)","v":""},"","",{"$f":"IF(総体入力!I102=\"\",\"\",総体入力!I102)","v":""},null,"",""]
[null,{"$f":"IF(総体入力!S103=\"\",\"\",総体入力!S103)","v":""},null,null,{"$f":"IF(総体入力!B103=\"\",\"\",総体入力!B103)","v":""},{"$f":"IF(総体入力!D103=\"\",\"\",総体入力!D103)","v":""},{"$f":"IF(総体入力!F103=\"\",\"\",総体入力!F103)","v":""},{"$f":"IF(総体入力!D103=\"\",\"\",総体入力!D103)","v":""},{"$f":"IF(総体入力!G103=\"\",\"\",総体入力!G103)","v":""},"",{"$f":"IF(総体入力!R103=\"\",\"\",総体入力!R103)","v":""},{"$f":"IF(総体入力!E103=\"\",\"\",総体入力!E103)","v":""},{"$f":"IF(総体入力!V103=\"\",\"\",総体入力!V103)","v":""},{"$f":"IF(総体入力!V103=\"\",\"\",総体入力!V103)","v":""},"",{"$f":"IF(総体入力!P103=\"\",\"\",総体入力!P103)","v":""},{"$f":"IF(総体入力!H103=\"\",\"\",総体入力!H103)","v":""},{"$f":"IF(総体入力!K103=\"\",\"\",総体入力!K103)","v":""},"","",{"$f":"IF(総体入力!I103=\"\",\"\",総体入力!I103)","v":""},null,"",""]
[null,{"$f":"IF(総体入力!S104=\"\",\"\",総体入力!S104)","v":""},null,null,{"$f":"IF(総体入力!B104=\"\",\"\",総体入力!B104)","v":""},{"$f":"IF(総体入力!D104=\"\",\"\",総体入力!D104)","v":""},{"$f":"IF(総体入力!F104=\"\",\"\",総体入力!F104)","v":""},{"$f":"IF(総体入力!D104=\"\",\"\",総体入力!D104)","v":""},{"$f":"IF(総体入力!G104=\"\",\"\",総体入力!G104)","v":""},"",{"$f":"IF(総体入力!R104=\"\",\"\",総体入力!R104)","v":""},{"$f":"IF(総体入力!E104=\"\",\"\",総体入力!E104)","v":""},{"$f":"IF(総体入力!V104=\"\",\"\",総体入力!V104)","v":""},{"$f":"IF(総体入力!V104=\"\",\"\",総体入力!V104)","v":""},"",{"$f":"IF(総体入力!P104=\"\",\"\",総体入力!P104)","v":""},{"$f":"IF(総体入力!H104=\"\",\"\",総体入力!H104)","v":""},{"$f":"IF(総体入力!K104=\"\",\"\",総体入力!K104)","v":""},"","",{"$f":"IF(総体入力!I104=\"\",\"\",総体入力!I104)","v":""},null,"",""]
[null,{"$f":"IF(総体入力!S105=\"\",\"\",総体入力!S105)","v":""},null,null,{"$f":"IF(総体入力!B105=\"\",\"\",総体入力!B105)","v":""},{"$f":"IF(総体入力!D105=\"\",\"\",総体入力!D105)","v":""},{"$f":"IF(総体入力!F105=\"\",\"\",総体入力!F105)","v":""},{"$f":"IF(総体入力!D105=\"\",\"\",総体入力!D105)","v":""},{"$f":"IF(総体入力!G105=\"\",\"\",総体入力!G105)","v":""},"",{"$f":"IF(総体入力!R105=\"\",\"\",総体入力!R105)","v":""},{"$f":"IF(総体入力!E105=\"\",\"\",総体入力!E105)","v":""},{"$f":"IF(総体入力!V105=\"\",\"\",総体入力!V105)","v":""},{"$f":"IF(総体入力!V105=\"\",\"\",総体入力!V105)","v":""},"",{"$f":"IF(総体入力!P105=\"\",\"\",総体入力!P105)","v":""},{"$f":"IF(総体入力!H105=\"\",\"\",総体入力!H105)","v":""},{"$f":"IF(総体入力!K105=\"\",\"\",総体入力!K105)","v":""},"","",{"$f":"IF(総体入力!I105=\"\",\"\",総体入力!I105)","v":""},null,"",""]
[null,{"$f":"IF(総体入力!S106=\"\",\"\",総体入力!S106)","v":""},null,null,{"$f":"IF(総体入力!B106=\"\",\"\",総体入力!B106)","v":""},{"$f":"IF(総体入力!D106=\"\",\"\",総体入力!D106)","v":""},{"$f":"IF(総体入力!F106=\"\",\"\",総体入力!F106)","v":""},{"$f":"IF(総体入力!D106=\"\",\"\",総体入力!D106)","v":""},{"$f":"IF(総体入力!G106=\"\",\"\",総体入力!G106)","v":""},"",{"$f":"IF(総体入力!R106=\"\",\"\",総体入力!R106)","v":""},{"$f":"IF(総体入力!E106=\"\",\"\",総体入力!E106)","v":""},{"$f":"IF(総体入力!V106=\"\",\"\",総体入力!V106)","v":""},{"$f":"IF(総体入力!V106=\"\",\"\",総体入力!V106)","v":""},"",{"$f":"IF(総体入力!P106=\"\",\"\",総体入力!P106)","v":""},{"$f":"IF(総体入力!H106=\"\",\"\",総体入力!H106)","v":""},{"$f":"IF(総体入力!K106=\"\",\"\",総体入力!K106)","v":""},"","",{"$f":"IF(総体入力!I106=\"\",\"\",総体入力!I106)","v":""},null,"",""]
[null,{"$f":"IF(総体入力!S107=\"\",\"\",総体入力!S107)","v":""},null,null,{"$f":"IF(総体入力!B107=\"\",\"\",総体入力!B107)","v":""},{"$f":"IF(総体入力!D107=\"\",\"\",総体入力!D107)","v":""},{"$f":"IF(総体入力!F107=\"\",\"\",総体入力!F107)","v":""},{"$f":"IF(総体入力!D107=\"\",\"\",総体入力!D107)","v":""},{"$f":"IF(総体入力!G107=\"\",\"\",総体入力!G107)","v":""},"",{"$f":"IF(総体入力!R107=\"\",\"\",総体入力!R107)","v":""},{"$f":"IF(総体入力!E107=\"\",\"\",総体入力!E107)","v":""},{"$f":"IF(総体入力!V107=\"\",\"\",総体入力!V107)","v":""},{"$f":"IF(総体入力!V107=\"\",\"\",総体入力!V107)","v":""},"",{"$f":"IF(総体入力!P107=\"\",\"\",総体入力!P107)","v":""},{"$f":"IF(総体入力!H107=\"\",\"\",総体入力!H107)","v":""},{"$f":"IF(総体入力!K107=\"\",\"\",総体入力!K107)","v":""},"","",{"$f":"IF(総体入力!I107=\"\",\"\",総体入力!I107)","v":""},null,"",""]

{"sheet":"総体一覧表","index":3,"n_rows":64,"n_cols":50,"rows_kept":64,"cut":false,"hidden":false,"merged":[[5,49,9,50],[38,29,38,32],[5,23,9,25],[38,0,38,4],[38,33,38,37],[38,5,38,9],[37,14,37,19],[37,41,37,45],[4,42,4,43],[2,0,2,20],[2,29,2,46],[4,16,4,17],[4,2,4,9],[4,31,4,37],[45,16,45,19],[53,1,53,5],[53,6,53,9],[45,2,45,3],[45,4,45,6],[46,1,46,20],[45,7,45,11],[47,1,47,21],[45,12,45,15],[47,30,47,47],[46,30,46,46],[41,39,41,43],[42,39,42,43],[45,31,45,32],[45,33,45,34],[45,35,45,38],[45,39,45,41],[45,42,45,45],[41,30,41,35],[40,1,40,19],[41,12,41,17],[42,12,42,17],[41,1,41,7],[40,30,40,45]]}
["県総体"]
[]
[{"$f":"CONCATENATE(B63,C63,D63)","v":"第73回　秋田県中学校総合体育大会　陸上競技大会参加申込書（一覧表）男子"},null,null,null,null,null,null,null,null,null,null,null,null,null,null,null,null,null,null,null,null,null,null,null,null,null,null,null,null,{"$f":"CONCATENATE(B63,C63,D64)","v":"第73回　秋田県中学校総合体育大会　陸上競技大会参加申込書（一覧表）女子"}]
[]
[null,{"$f":"IF(必ずお読み下さい!G12=1,\"学校名（\",IF(必ずお読み下さい!G12=2,\"クラブ名（\",\"学校名（\"))","v":"学校名（"},{"$f":"IF(総体入力!D3=\"\",\"\",総体入力!D3)","v":""},null,null,null,null,null,null,null,"）",null,null,null,null,null,"参加人数",null,{"$f":"IF(B7=\"\",\"\",COUNTA(総体入力!B11:B40))","v":""},"人",null,null,null,null,null,null,null,null,null,null,{"$f":"IF(必ずお読み下さい!G12=1,\"学校名（\",IF(必ずお読み下さい!G12=2,\"クラブ名（\",\"学校名（\"))","v":"学校名（"},{"$f":"IF(総体入力!D70=\"\",\"\",総体入力!D70)","v":""},null,null,null,null,null,null,"）",null,null,null,"参加人数",null,{"$f":"IF(AE7=\"\",\"\",COUNTA(総体入力!B78:B107))","v":""},"人"]
["アスリートビブス","名　前","フリガナ","学年","１年\n100","２年\n100","３年\n100","共通\n200","共通\n400","共通\n800","１年\n1500","2/3年\n1500","共通\n3000","共通\n110H","共通\n走高","共通\n棒高","共通\n走幅","共通\n砲丸","四種\n競技","低\n400R","共通\n４00R",null,null,"印刷は、「通常使うプリンタ」に設定されているプリンタで印刷されます。設定を確認してから印刷ボタンを押してください。Ａ４版で印刷されます。",null,null,null,null,null,"アスリートビブス","名　前","フリガナ","学年","１年\n100","２年\n100","３年\n100","共通\n200","共通\n800","１年\n1500","２/３年\n1500","共通\n100H","共通\n走高","共通\n走幅","共通\n砲丸","四種\n競技","低\n400R","共通\n400R",null,null,"印刷は、「通常使うプリンタ」に設定されているプリンタで印刷されます。設定を確認してから印刷ボタンを押してください。Ａ４版で印刷されます。"]
[{"$f":"IF(総体入力!B11=\"\",\"\",総体入力!B11)","v":""},{"$f":"IF(総体入力!D11=\"\",\"\",総体入力!D11)","v":""},{"$f":"IF(総体入力!F11=\"\",\"\",総体入力!F11)","v":""},{"$f":"IF(総体入力!E11=\"\",\"\",総体入力!E11)","v":""},{"$f":"IF(総体入力!$H11=1,\"○\",\"\")","v":""},{"$f":"IF(総体入力!$H11=2,\"○\",\"\")","v":""},{"$f":"IF(総体入力!$H11=3,\"○\",\"\")","v":""},{"$f":"IF(総体入力!$H11=4,\"○\",\"\")","v":""},{"$f":"IF(総体入力!$H11=5,\"○\",\"\")","v":""},{"$f":"IF(総体入力!$H11=6,\"○\",\"\")","v":""},{"$f":"IF(総体入力!$H11=7,\"○\",\"\")","v":""},{"$f":"IF(総体入力!$H11=8,\"○\",\"\")","v":""},{"$f":"IF(総体入力!$H11=10,\"○\",\"\")","v":""},{"$f":"IF(総体入力!$H11=11,\"○\",\"\")","v":""},{"$f":"IF(総体入力!$H11=13,\"○\",\"\")","v":""},{"$f":"IF(総体入力!$H11=14,\"○\",\"\")","v":""},{"$f":"IF(総体入力!$H11=15,\"○\",\"\")","v":""},{"$f":"IF(総体入力!$H11=16,\"○\",\"\")","v":""},{"$f":"IF(総体入力!$H11=17,\"○\",\"\")","v":""},{"$f":"IF(総体入力!I11=20,\"○\",\"\")","v":""},{"$f":"IF(総体入力!I11=21,\"○\",\"\")","v":""},null,null,null,null,null,null,null,null,{"$f":"IF(総体入力!B78=\"\",\"\",総体入力!B78)","v":""},{"$f":"IF(総体入力!D78=\"\",\"\",総体入力!D78)","v":""},{"$f":"IF(総体入力!F78=\"\",\"\",総体入力!F78)","v":""},{"$f":"IF(総体入力!E78=\"\",\"\",総体入力!E78)","v":""},{"$f":"IF(総体入力!$H78=31,\"○\",\"\")","v":""},{"$f":"IF(総体入力!$H78=32,\"○\",\"\")","v":""},{"$f":"IF(総体入力!$H78=33,\"○\",\"\")","v":""},{"$f":"IF(総体入力!$H78=34,\"○\",\"\")","v":""},{"$f":"IF(総体入力!$H78=35,\"○\",\"\")","v":""},{"$f":"IF(総体入力!$H78=36,\"○\",\"\")","v":""},{"$f":"IF(総体入力!$H78=45,\"○\",\"\")","v":""},{"$f":"IF(総体入力!$H78=39,\"○\",\"\")","v":""},{"$f":"IF(総体入力!$H78=40,\"○\",\"\")","v":""},{"$f":"IF(総体入力!$H78=41,\"○\",\"\")","v":""},{"$f":"IF(総体入力!$H78=42,\"○\",\"\")","v":""},{"$f":"IF(総体入力!$H78=43,\"○\",\"\")","v":""},{"$f":"IF(総体入力!$I78=51,\"○\",\"\")","v":""},{"$f":"IF(総体入力!$I78=52,\"○\",\"\")","v":""}]
[{"$f":"IF(総体入力!B12=\"\",\"\",総体入力!B12)","v":""},{"$f":"IF(総体入力!D12=\"\",\"\",総体入力!D12)","v":""},{"$f":"IF(総体入力!F12=\"\",\"\",総体入力!F12)","v":""},{"$f":"IF(総体入力!E12=\"\",\"\",総体入力!E12)","v":""},{"$f":"IF(総体入力!$H12=1,\"○\",\"\")","v":""},{"$f":"IF(総体入力!$H12=2,\"○\",\"\")","v":""},{"$f":"IF(総体入力!$H12=3,\"○\",\"\")","v":""},{"$f":"IF(総体入力!$H12=4,\"○\",\"\")","v":""},{"$f":"IF(総体入力!$H12=5,\"○\",\"\")","v":""},{"$f":"IF(総体入力!$H12=6,\"○\",\"\")","v":""},{"$f":"IF(総体入力!$H12=7,\"○\",\"\")","v":""},{"$f":"IF(総体入力!$H12=8,\"○\",\"\")","v":""},{"$f":"IF(総体入力!$H12=10,\"○\",\"\")","v":""},{"$f":"IF(総体入力!$H12=11,\"○\",\"\")","v":""},{"$f":"IF(総体入力!$H12=13,\"○\",\"\")","v":""},{"$f":"IF(総体入力!$H12=14,\"○\",\"\")","v":""},{"$f":"IF(総体入力!$H12=15,\"○\",\"\")","v":""},{"$f":"IF(総体入力!$H12=16,\"○\",\"\")","v":""},{"$f":"IF(総体入力!$H12=17,\"○\",\"\")","v":""},{"$f":"IF(総体入力!I12=20,\"○\",\"\")","v":""},{"$f":"IF(総体入力!I12=21,\"○\",\"\")","v":""},null,null,null,null,null,null,null,null,{"$f":"IF(総体入力!B79=\"\",\"\",総体入力!B79)","v":""},{"$f":"IF(総体入力!D79=\"\",\"\",総体入力!D79)","v":""},{"$f":"IF(総体入力!F79=\"\",\"\",総体入力!F79)","v":""},{"$f":"IF(総体入力!E79=\"\",\"\",総体入力!E79)","v":""},{"$f":"IF(総体入力!$H79=31,\"○\",\"\")","v":""},{"$f":"IF(総体入力!$H79=32,\"○\",\"\")","v":""},{"$f":"IF(総体入力!$H79=33,\"○\",\"\")","v":""},{"$f":"IF(総体入力!$H79=34,\"○\",\"\")","v":""},{"$f":"IF(総体入力!$H79=35,\"○\",\"\")","v":""},{"$f":"IF(総体入力!$H79=36,\"○\",\"\")","v":""},{"$f":"IF(総体入力!$H79=45,\"○\",\"\")","v":""},{"$f":"IF(総体入力!$H79=39,\"○\",\"\")","v":""},{"$f":"IF(総体入力!$H79=40,\"○\",\"\")","v":""},{"$f":"IF(総体入力!$H79=41,\"○\",\"\")","v":""},{"$f":"IF(総体入力!$H79=42,\"○\",\"\")","v":""},{"$f":"IF(総体入力!$H79=43,\"○\",\"\")","v":""},{"$f":"IF(総体入力!$I79=51,\"○\",\"\")","v":""},{"$f":"IF(総体入力!$I79=52,\"○\",\"\")","v":""}]
[{"$f":"IF(総体入力!B13=\"\",\"\",総体入力!B13)","v":""},{"$f":"IF(総体入力!D13=\"\",\"\",総体入力!D13)","v":""},{"$f":"IF(総体入力!F13=\"\",\"\",総体入力!F13)","v":""},{"$f":"IF(総体入力!E13=\"\",\"\",総体入力!E13)","v":""},{"$f":"IF(総体入力!$H13=1,\"○\",\"\")","v":""},{"$f":"IF(総体入力!$H13=2,\"○\",\"\")","v":""},{"$f":"IF(総体入力!$H13=3,\"○\",\"\")","v":""},{"$f":"IF(総体入力!$H13=4,\"○\",\"\")","v":""},{"$f":"IF(総体入力!$H13=5,\"○\",\"\")","v":""},{"$f":"IF(総体入力!$H13=6,\"○\",\"\")","v":""},{"$f":"IF(総体入力!$H13=7,\"○\",\"\")","v":""},{"$f":"IF(総体入力!$H13=8,\"○\",\"\")","v":""},{"$f":"IF(総体入力!$H13=10,\"○\",\"\")","v":""},{"$f":"IF(総体入力!$H13=11,\"○\",\"\")","v":""},{"$f":"IF(総体入力!$H13=13,\"○\",\"\")","v":""},{"$f":"IF(総体入力!$H13=14,\"○\",\"\")","v":""},{"$f":"IF(総体入力!$H13=15,\"○\",\"\")","v":""},{"$f":"IF(総体入力!$H13=16,\"○\",\"\")","v":""},{"$f":"IF(総体入力!$H13=17,\"○\",\"\")","v":""},{"$f":"IF(総体入力!I13=20,\"○\",\"\")","v":""},{"$f":"IF(総体入力!I13=21,\"○\",\"\")","v":""},null,null,null,null,null,null,null,null,{"$f":"IF(総体入力!B80=\"\",\"\",総体入力!B80)","v":""},{"$f":"IF(総体入力!D80=\"\",\"\",総体入力!D80)","v":""},{"$f":"IF(総体入力!F80=\"\",\"\",総体入力!F80)","v":""},{"$f":"IF(総体入力!E80=\"\",\"\",総体入力!E80)","v":""},{"$f":"IF(総体入力!$H80=31,\"○\",\"\")","v":""},{"$f":"IF(総体入力!$H80=32,\"○\",\"\")","v":""},{"$f":"IF(総体入力!$H80=33,\"○\",\"\")","v":""},{"$f":"IF(総体入力!$H80=34,\"○\",\"\")","v":""},{"$f":"IF(総体入力!$H80=35,\"○\",\"\")","v":""},{"$f":"IF(総体入力!$H80=36,\"○\",\"\")","v":""},{"$f":"IF(総体入力!$H80=45,\"○\",\"\")","v":""},{"$f":"IF(総体入力!$H80=39,\"○\",\"\")","v":""},{"$f":"IF(総体入力!$H80=40,\"○\",\"\")","v":""},{"$f":"IF(総体入力!$H80=41,\"○\",\"\")","v":""},{"$f":"IF(総体入力!$H80=42,\"○\",\"\")","v":""},{"$f":"IF(総体入力!$H80=43,\"○\",\"\")","v":""},{"$f":"IF(総体入力!$I80=51,\"○\",\"\")","v":""},{"$f":"IF(総体入力!$I80=52,\"○\",\"\")","v":""}]
[{"$f":"IF(総体入力!B14=\"\",\"\",総体入力!B14)","v":""},{"$f":"IF(総体入力!D14=\"\",\"\",総体入力!D14)","v":""},{"$f":"IF(総体入力!F14=\"\",\"\",総体入力!F14)","v":""},{"$f":"IF(総体入力!E14=\"\",\"\",総体入力!E14)","v":""},{"$f":"IF(総体入力!$H14=1,\"○\",\"\")","v":""},{"$f":"IF(総体入力!$H14=2,\"○\",\"\")","v":""},{"$f":"IF(総体入力!$H14=3,\"○\",\"\")","v":""},{"$f":"IF(総体入力!$H14=4,\"○\",\"\")","v":""},{"$f":"IF(総体入力!$H14=5,\"○\",\"\")","v":""},{"$f":"IF(総体入力!$H14=6,\"○\",\"\")","v":""},{"$f":"IF(総体入力!$H14=7,\"○\",\"\")","v":""},{"$f":"IF(総体入力!$H14=8,\"○\",\"\")","v":""},{"$f":"IF(総体入力!$H14=10,\"○\",\"\")","v":""},{"$f":"IF(総体入力!$H14=11,\"○\",\"\")","v":""},{"$f":"IF(総体入力!$H14=13,\"○\",\"\")","v":""},{"$f":"IF(総体入力!$H14=14,\"○\",\"\")","v":""},{"$f":"IF(総体入力!$H14=15,\"○\",\"\")","v":""},{"$f":"IF(総体入力!$H14=16,\"○\",\"\")","v":""},{"$f":"IF(総体入力!$H14=17,\"○\",\"\")","v":""},{"$f":"IF(総体入力!I14=20,\"○\",\"\")","v":""},{"$f":"IF(総体入力!I14=21,\"○\",\"\")","v":""},null,null,null,null,null,null,null,null,{"$f":"IF(総体入力!B81=\"\",\"\",総体入力!B81)","v":""},{"$f":"IF(総体入力!D81=\"\",\"\",総体入力!D81)","v":""},{"$f":"IF(総体入力!F81=\"\",\"\",総体入力!F81)","v":""},{"$f":"IF(総体入力!E81=\"\",\"\",総体入力!E81)","v":""},{"$f":"IF(総体入力!$H81=31,\"○\",\"\")","v":""},{"$f":"IF(総体入力!$H81=32,\"○\",\"\")","v":""},{"$f":"IF(総体入力!$H81=33,\"○\",\"\")","v":""},{"$f":"IF(総体入力!$H81=34,\"○\",\"\")","v":""},{"$f":"IF(総体入力!$H81=35,\"○\",\"\")","v":""},{"$f":"IF(総体入力!$H81=36,\"○\",\"\")","v":""},{"$f":"IF(総体入力!$H81=45,\"○\",\"\")","v":""},{"$f":"IF(総体入力!$H81=39,\"○\",\"\")","v":""},{"$f":"IF(総体入力!$H81=40,\"○\",\"\")","v":""},{"$f":"IF(総体入力!$H81=41,\"○\",\"\")","v":""},{"$f":"IF(総体入力!$H81=42,\"○\",\"\")","v":""},{"$f":"IF(総体入力!$H81=43,\"○\",\"\")","v":""},{"$f":"IF(総体入力!$I81=51,\"○\",\"\")","v":""},{"$f":"IF(総体入力!$I81=52,\"○\",\"\")","v":""}]
[{"$f":"IF(総体入力!B15=\"\",\"\",総体入力!B15)","v":""},{"$f":"IF(総体入力!D15=\"\",\"\",総体入力!D15)","v":""},{"$f":"IF(総体入力!F15=\"\",\"\",総体入力!F15)","v":""},{"$f":"IF(総体入力!E15=\"\",\"\",総体入力!E15)","v":""},{"$f":"IF(総体入力!$H15=1,\"○\",\"\")","v":""},{"$f":"IF(総体入力!$H15=2,\"○\",\"\")","v":""},{"$f":"IF(総体入力!$H15=3,\"○\",\"\")","v":""},{"$f":"IF(総体入力!$H15=4,\"○\",\"\")","v":""},{"$f":"IF(総体入力!$H15=5,\"○\",\"\")","v":""},{"$f":"IF(総体入力!$H15=6,\"○\",\"\")","v":""},{"$f":"IF(総体入力!$H15=7,\"○\",\"\")","v":""},{"$f":"IF(総体入力!$H15=8,\"○\",\"\")","v":""},{"$f":"IF(総体入力!$H15=10,\"○\",\"\")","v":""},{"$f":"IF(総体入力!$H15=11,\"○\",\"\")","v":""},{"$f":"IF(総体入力!$H15=13,\"○\",\"\")","v":""},{"$f":"IF(総体入力!$H15=14,\"○\",\"\")","v":""},{"$f":"IF(総体入力!$H15=15,\"○\",\"\")","v":""},{"$f":"IF(総体入力!$H15=16,\"○\",\"\")","v":""},{"$f":"IF(総体入力!$H15=17,\"○\",\"\")","v":""},{"$f":"IF(総体入力!I15=20,\"○\",\"\")","v":""},{"$f":"IF(総体入力!I15=21,\"○\",\"\")","v":""},null,null,null,null,null,null,null,null,{"$f":"IF(総体入力!B82=\"\",\"\",総体入力!B82)","v":""},{"$f":"IF(総体入力!D82=\"\",\"\",総体入力!D82)","v":""},{"$f":"IF(総体入力!F82=\"\",\"\",総体入力!F82)","v":""},{"$f":"IF(総体入力!E82=\"\",\"\",総体入力!E82)","v":""},{"$f":"IF(総体入力!$H82=31,\"○\",\"\")","v":""},{"$f":"IF(総体入力!$H82=32,\"○\",\"\")","v":""},{"$f":"IF(総体入力!$H82=33,\"○\",\"\")","v":""},{"$f":"IF(総体入力!$H82=34,\"○\",\"\")","v":""},{"$f":"IF(総体入力!$H82=35,\"○\",\"\")","v":""},{"$f":"IF(総体入力!$H82=36,\"○\",\"\")","v":""},{"$f":"IF(総体入力!$H82=45,\"○\",\"\")","v":""},{"$f":"IF(総体入力!$H82=39,\"○\",\"\")","v":""},{"$f":"IF(総体入力!$H82=40,\"○\",\"\")","v":""},{"$f":"IF(総体入力!$H82=41,\"○\",\"\")","v":""},{"$f":"IF(総体入力!$H82=42,\"○\",\"\")","v":""},{"$f":"IF(総体入力!$H82=43,\"○\",\"\")","v":""},{"$f":"IF(総体入力!$I82=51,\"○\",\"\")","v":""},{"$f":"IF(総体入力!$I82=52,\"○\",\"\")","v":""}]
[{"$f":"IF(総体入力!B16=\"\",\"\",総体入力!B16)","v":""},{"$f":"IF(総体入力!D16=\"\",\"\",総体入力!D16)","v":""},{"$f":"IF(総体入力!F16=\"\",\"\",総体入力!F16)","v":""},{"$f":"IF(総体入力!E16=\"\",\"\",総体入力!E16)","v":""},{"$f":"IF(総体入力!$H16=1,\"○\",\"\")","v":""},{"$f":"IF(総体入力!$H16=2,\"○\",\"\")","v":""},{"$f":"IF(総体入力!$H16=3,\"○\",\"\")","v":""},{"$f":"IF(総体入力!$H16=4,\"○\",\"\")","v":""},{"$f":"IF(総体入力!$H16=5,\"○\",\"\")","v":""},{"$f":"IF(総体入力!$H16=6,\"○\",\"\")","v":""},{"$f":"IF(総体入力!$H16=7,\"○\",\"\")","v":""},{"$f":"IF(総体入力!$H16=8,\"○\",\"\")","v":""},{"$f":"IF(総体入力!$H16=10,\"○\",\"\")","v":""},{"$f":"IF(総体入力!$H16=11,\"○\",\"\")","v":""},{"$f":"IF(総体入力!$H16=13,\"○\",\"\")","v":""},{"$f":"IF(総体入力!$H16=14,\"○\",\"\")","v":""},{"$f":"IF(総体入力!$H16=15,\"○\",\"\")","v":""},{"$f":"IF(総体入力!$H16=16,\"○\",\"\")","v":""},{"$f":"IF(総体入力!$H16=17,\"○\",\"\")","v":""},{"$f":"IF(総体入力!I16=20,\"○\",\"\")","v":""},{"$f":"IF(総体入力!I16=21,\"○\",\"\")","v":""},null,null,null,null,null,null,null,null,{"$f":"IF(総体入力!B83=\"\",\"\",総体入力!B83)","v":""},{"$f":"IF(総体入力!D83=\"\",\"\",総体入力!D83)","v":""},{"$f":"IF(総体入力!F83=\"\",\"\",総体入力!F83)","v":""},{"$f":"IF(総体入力!E83=\"\",\"\",総体入力!E83)","v":""},{"$f":"IF(総体入力!$H83=31,\"○\",\"\")","v":""},{"$f":"IF(総体入力!$H83=32,\"○\",\"\")","v":""},{"$f":"IF(総体入力!$H83=33,\"○\",\"\")","v":""},{"$f":"IF(総体入力!$H83=34,\"○\",\"\")","v":""},{"$f":"IF(総体入力!$H83=35,\"○\",\"\")","v":""},{"$f":"IF(総体入力!$H83=36,\"○\",\"\")","v":""},{"$f":"IF(総体入力!$H83=45,\"○\",\"\")","v":""},{"$f":"IF(総体入力!$H83=39,\"○\",\"\")","v":""},{"$f":"IF(総体入力!$H83=40,\"○\",\"\")","v":""},{"$f":"IF(総体入力!$H83=41,\"○\",\"\")","v":""},{"$f":"IF(総体入力!$H83=42,\"○\",\"\")","v":""},{"$f":"IF(総体入力!$H83=43,\"○\",\"\")","v":""},{"$f":"IF(総体入力!$I83=51,\"○\",\"\")","v":""},{"$f":"IF(総体入力!$I83=52,\"○\",\"\")","v":""}]
[{"$f":"IF(総体入力!B17=\"\",\"\",総体入力!B17)","v":""},{"$f":"IF(総体入力!D17=\"\",\"\",総体入力!D17)","v":""},{"$f":"IF(総体入力!F17=\"\",\"\",総体入力!F17)","v":""},{"$f":"IF(総体入力!E17=\"\",\"\",総体入力!E17)","v":""},{"$f":"IF(総体入力!$H17=1,\"○\",\"\")","v":""},{"$f":"IF(総体入力!$H17=2,\"○\",\"\")","v":""},{"$f":"IF(総体入力!$H17=3,\"○\",\"\")","v":""},{"$f":"IF(総体入力!$H17=4,\"○\",\"\")","v":""},{"$f":"IF(総体入力!$H17=5,\"○\",\"\")","v":""},{"$f":"IF(総体入力!$H17=6,\"○\",\"\")","v":""},{"$f":"IF(総体入力!$H17=7,\"○\",\"\")","v":""},{"$f":"IF(総体入力!$H17=8,\"○\",\"\")","v":""},{"$f":"IF(総体入力!$H17=10,\"○\",\"\")","v":""},{"$f":"IF(総体入力!$H17=11,\"○\",\"\")","v":""},{"$f":"IF(総体入力!$H17=13,\"○\",\"\")","v":""},{"$f":"IF(総体入力!$H17=14,\"○\",\"\")","v":""},{"$f":"IF(総体入力!$H17=15,\"○\",\"\")","v":""},{"$f":"IF(総体入力!$H17=16,\"○\",\"\")","v":""},{"$f":"IF(総体入力!$H17=17,\"○\",\"\")","v":""},{"$f":"IF(総体入力!I17=20,\"○\",\"\")","v":""},{"$f":"IF(総体入力!I17=21,\"○\",\"\")","v":""},null,null,null,null,null,null,null,null,{"$f":"IF(総体入力!B84=\"\",\"\",総体入力!B84)","v":""},{"$f":"IF(総体入力!D84=\"\",\"\",総体入力!D84)","v":""},{"$f":"IF(総体入力!F84=\"\",\"\",総体入力!F84)","v":""},{"$f":"IF(総体入力!E84=\"\",\"\",総体入力!E84)","v":""},{"$f":"IF(総体入力!$H84=31,\"○\",\"\")","v":""},{"$f":"IF(総体入力!$H84=32,\"○\",\"\")","v":""},{"$f":"IF(総体入力!$H84=33,\"○\",\"\")","v":""},{"$f":"IF(総体入力!$H84=34,\"○\",\"\")","v":""},{"$f":"IF(総体入力!$H84=35,\"○\",\"\")","v":""},{"$f":"IF(総体入力!$H84=36,\"○\",\"\")","v":""},{"$f":"IF(総体入力!$H84=45,\"○\",\"\")","v":""},{"$f":"IF(総体入力!$H84=39,\"○\",\"\")","v":""},{"$f":"IF(総体入力!$H84=40,\"○\",\"\")","v":""},{"$f":"IF(総体入力!$H84=41,\"○\",\"\")","v":""},{"$f":"IF(総体入力!$H84=42,\"○\",\"\")","v":""},{"$f":"IF(総体入力!$H84=43,\"○\",\"\")","v":""},{"$f":"IF(総体入力!$I84=51,\"○\",\"\")","v":""},{"$f":"IF(総体入力!$I84=52,\"○\",\"\")","v":""}]
[{"$f":"IF(総体入力!B18=\"\",\"\",総体入力!B18)","v":""},{"$f":"IF(総体入力!D18=\"\",\"\",総体入力!D18)","v":""},{"$f":"IF(総体入力!F18=\"\",\"\",総体入力!F18)","v":""},{"$f":"IF(総体入力!E18=\"\",\"\",総体入力!E18)","v":""},{"$f":"IF(総体入力!$H18=1,\"○\",\"\")","v":""},{"$f":"IF(総体入力!$H18=2,\"○\",\"\")","v":""},{"$f":"IF(総体入力!$H18=3,\"○\",\"\")","v":""},{"$f":"IF(総体入力!$H18=4,\"○\",\"\")","v":""},{"$f":"IF(総体入力!$H18=5,\"○\",\"\")","v":""},{"$f":"IF(総体入力!$H18=6,\"○\",\"\")","v":""},{"$f":"IF(総体入力!$H18=7,\"○\",\"\")","v":""},{"$f":"IF(総体入力!$H18=8,\"○\",\"\")","v":""},{"$f":"IF(総体入力!$H18=10,\"○\",\"\")","v":""},{"$f":"IF(総体入力!$H18=11,\"○\",\"\")","v":""},{"$f":"IF(総体入力!$H18=13,\"○\",\"\")","v":""},{"$f":"IF(総体入力!$H18=14,\"○\",\"\")","v":""},{"$f":"IF(総体入力!$H18=15,\"○\",\"\")","v":""},{"$f":"IF(総体入力!$H18=16,\"○\",\"\")","v":""},{"$f":"IF(総体入力!$H18=17,\"○\",\"\")","v":""},{"$f":"IF(総体入力!I18=20,\"○\",\"\")","v":""},{"$f":"IF(総体入力!I18=21,\"○\",\"\")","v":""},null,null,null,null,null,null,null,null,{"$f":"IF(総体入力!B85=\"\",\"\",総体入力!B85)","v":""},{"$f":"IF(総体入力!D85=\"\",\"\",総体入力!D85)","v":""},{"$f":"IF(総体入力!F85=\"\",\"\",総体入力!F85)","v":""},{"$f":"IF(総体入力!E85=\"\",\"\",総体入力!E85)","v":""},{"$f":"IF(総体入力!$H85=31,\"○\",\"\")","v":""},{"$f":"IF(総体入力!$H85=32,\"○\",\"\")","v":""},{"$f":"IF(総体入力!$H85=33,\"○\",\"\")","v":""},{"$f":"IF(総体入力!$H85=34,\"○\",\"\")","v":""},{"$f":"IF(総体入力!$H85=35,\"○\",\"\")","v":""},{"$f":"IF(総体入力!$H85=36,\"○\",\"\")","v":""},{"$f":"IF(総体入力!$H85=45,\"○\",\"\")","v":""},{"$f":"IF(総体入力!$H85=39,\"○\",\"\")","v":""},{"$f":"IF(総体入力!$H85=40,\"○\",\"\")","v":""},{"$f":"IF(総体入力!$H85=41,\"○\",\"\")","v":""},{"$f":"IF(総体入力!$H85=42,\"○\",\"\")","v":""},{"$f":"IF(総体入力!$H85=43,\"○\",\"\")","v":""},{"$f":"IF(総体入力!$I85=51,\"○\",\"\")","v":""},{"$f":"IF(総体入力!$I85=52,\"○\",\"\")","v":""}]
[{"$f":"IF(総体入力!B19=\"\",\"\",総体入力!B19)","v":""},{"$f":"IF(総体入力!D19=\"\",\"\",総体入力!D19)","v":""},{"$f":"IF(総体入力!F19=\"\",\"\",総体入力!F19)","v":""},{"$f":"IF(総体入力!E19=\"\",\"\",総体入力!E19)","v":""},{"$f":"IF(総体入力!$H19=1,\"○\",\"\")","v":""},{"$f":"IF(総体入力!$H19=2,\"○\",\"\")","v":""},{"$f":"IF(総体入力!$H19=3,\"○\",\"\")","v":""},{"$f":"IF(総体入力!$H19=4,\"○\",\"\")","v":""},{"$f":"IF(総体入力!$H19=5,\"○\",\"\")","v":""},{"$f":"IF(総体入力!$H19=6,\"○\",\"\")","v":""},{"$f":"IF(総体入力!$H19=7,\"○\",\"\")","v":""},{"$f":"IF(総体入力!$H19=8,\"○\",\"\")","v":""},{"$f":"IF(総体入力!$H19=10,\"○\",\"\")","v":""},{"$f":"IF(総体入力!$H19=11,\"○\",\"\")","v":""},{"$f":"IF(総体入力!$H19=13,\"○\",\"\")","v":""},{"$f":"IF(総体入力!$H19=14,\"○\",\"\")","v":""},{"$f":"IF(総体入力!$H19=15,\"○\",\"\")","v":""},{"$f":"IF(総体入力!$H19=16,\"○\",\"\")","v":""},{"$f":"IF(総体入力!$H19=17,\"○\",\"\")","v":""},{"$f":"IF(総体入力!I19=20,\"○\",\"\")","v":""},{"$f":"IF(総体入力!I19=21,\"○\",\"\")","v":""},null,null,null,null,null,null,null,null,{"$f":"IF(総体入力!B86=\"\",\"\",総体入力!B86)","v":""},{"$f":"IF(総体入力!D86=\"\",\"\",総体入力!D86)","v":""},{"$f":"IF(総体入力!F86=\"\",\"\",総体入力!F86)","v":""},{"$f":"IF(総体入力!E86=\"\",\"\",総体入力!E86)","v":""},{"$f":"IF(総体入力!$H86=31,\"○\",\"\")","v":""},{"$f":"IF(総体入力!$H86=32,\"○\",\"\")","v":""},{"$f":"IF(総体入力!$H86=33,\"○\",\"\")","v":""},{"$f":"IF(総体入力!$H86=34,\"○\",\"\")","v":""},{"$f":"IF(総体入力!$H86=35,\"○\",\"\")","v":""},{"$f":"IF(総体入力!$H86=36,\"○\",\"\")","v":""},{"$f":"IF(総体入力!$H86=45,\"○\",\"\")","v":""},{"$f":"IF(総体入力!$H86=39,\"○\",\"\")","v":""},{"$f":"IF(総体入力!$H86=40,\"○\",\"\")","v":""},{"$f":"IF(総体入力!$H86=41,\"○\",\"\")","v":""},{"$f":"IF(総体入力!$H86=42,\"○\",\"\")","v":""},{"$f":"IF(総体入力!$H86=43,\"○\",\"\")","v":""},{"$f":"IF(総体入力!$I86=51,\"○\",\"\")","v":""},{"$f":"IF(総体入力!$I86=52,\"○\",\"\")","v":""}]
[{"$f":"IF(総体入力!B20=\"\",\"\",総体入力!B20)","v":""},{"$f":"IF(総体入力!D20=\"\",\"\",総体入力!D20)","v":""},{"$f":"IF(総体入力!F20=\"\",\"\",総体入力!F20)","v":""},{"$f":"IF(総体入力!E20=\"\",\"\",総体入力!E20)","v":""},{"$f":"IF(総体入力!$H20=1,\"○\",\"\")","v":""},{"$f":"IF(総体入力!$H20=2,\"○\",\"\")","v":""},{"$f":"IF(総体入力!$H20=3,\"○\",\"\")","v":""},{"$f":"IF(総体入力!$H20=4,\"○\",\"\")","v":""},{"$f":"IF(総体入力!$H20=5,\"○\",\"\")","v":""},{"$f":"IF(総体入力!$H20=6,\"○\",\"\")","v":""},{"$f":"IF(総体入力!$H20=7,\"○\",\"\")","v":""},{"$f":"IF(総体入力!$H20=8,\"○\",\"\")","v":""},{"$f":"IF(総体入力!$H20=10,\"○\",\"\")","v":""},{"$f":"IF(総体入力!$H20=11,\"○\",\"\")","v":""},{"$f":"IF(総体入力!$H20=13,\"○\",\"\")","v":""},{"$f":"IF(総体入力!$H20=14,\"○\",\"\")","v":""},{"$f":"IF(総体入力!$H20=15,\"○\",\"\")","v":""},{"$f":"IF(総体入力!$H20=16,\"○\",\"\")","v":""},{"$f":"IF(総体入力!$H20=17,\"○\",\"\")","v":""},{"$f":"IF(総体入力!I20=20,\"○\",\"\")","v":""},{"$f":"IF(総体入力!I20=21,\"○\",\"\")","v":""},null,null,null,null,null,null,null,null,{"$f":"IF(総体入力!B87=\"\",\"\",総体入力!B87)","v":""},{"$f":"IF(総体入力!D87=\"\",\"\",総体入力!D87)","v":""},{"$f":"IF(総体入力!F87=\"\",\"\",総体入力!F87)","v":""},{"$f":"IF(総体入力!E87=\"\",\"\",総体入力!E87)","v":""},{"$f":"IF(総体入力!$H87=31,\"○\",\"\")","v":""},{"$f":"IF(総体入力!$H87=32,\"○\",\"\")","v":""},{"$f":"IF(総体入力!$H87=33,\"○\",\"\")","v":""},{"$f":"IF(総体入力!$H87=34,\"○\",\"\")","v":""},{"$f":"IF(総体入力!$H87=35,\"○\",\"\")","v":""},{"$f":"IF(総体入力!$H87=36,\"○\",\"\")","v":""},{"$f":"IF(総体入力!$H87=45,\"○\",\"\")","v":""},{"$f":"IF(総体入力!$H87=39,\"○\",\"\")","v":""},{"$f":"IF(総体入力!$H87=40,\"○\",\"\")","v":""},{"$f":"IF(総体入力!$H87=41,\"○\",\"\")","v":""},{"$f":"IF(総体入力!$H87=42,\"○\",\"\")","v":""},{"$f":"IF(総体入力!$H87=43,\"○\",\"\")","v":""},{"$f":"IF(総体入力!$I87=51,\"○\",\"\")","v":""},{"$f":"IF(総体入力!$I87=52,\"○\",\"\")","v":""}]
[{"$f":"IF(総体入力!B21=\"\",\"\",総体入力!B21)","v":""},{"$f":"IF(総体入力!D21=\"\",\"\",総体入力!D21)","v":""},{"$f":"IF(総体入力!F21=\"\",\"\",総体入力!F21)","v":""},{"$f":"IF(総体入力!E21=\"\",\"\",総体入力!E21)","v":""},{"$f":"IF(総体入力!$H21=1,\"○\",\"\")","v":""},{"$f":"IF(総体入力!$H21=2,\"○\",\"\")","v":""},{"$f":"IF(総体入力!$H21=3,\"○\",\"\")","v":""},{"$f":"IF(総体入力!$H21=4,\"○\",\"\")","v":""},{"$f":"IF(総体入力!$H21=5,\"○\",\"\")","v":""},{"$f":"IF(総体入力!$H21=6,\"○\",\"\")","v":""},{"$f":"IF(総体入力!$H21=7,\"○\",\"\")","v":""},{"$f":"IF(総体入力!$H21=8,\"○\",\"\")","v":""},{"$f":"IF(総体入力!$H21=10,\"○\",\"\")","v":""},{"$f":"IF(総体入力!$H21=11,\"○\",\"\")","v":""},{"$f":"IF(総体入力!$H21=13,\"○\",\"\")","v":""},{"$f":"IF(総体入力!$H21=14,\"○\",\"\")","v":""},{"$f":"IF(総体入力!$H21=15,\"○\",\"\")","v":""},{"$f":"IF(総体入力!$H21=16,\"○\",\"\")","v":""},{"$f":"IF(総体入力!$H21=17,\"○\",\"\")","v":""},{"$f":"IF(総体入力!I21=20,\"○\",\"\")","v":""},{"$f":"IF(総体入力!I21=21,\"○\",\"\")","v":""},null,null,null,null,null,null,null,null,{"$f":"IF(総体入力!B88=\"\",\"\",総体入力!B88)","v":""},{"$f":"IF(総体入力!D88=\"\",\"\",総体入力!D88)","v":""},{"$f":"IF(総体入力!F88=\"\",\"\",総体入力!F88)","v":""},{"$f":"IF(総体入力!E88=\"\",\"\",総体入力!E88)","v":""},{"$f":"IF(総体入力!$H88=31,\"○\",\"\")","v":""},{"$f":"IF(総体入力!$H88=32,\"○\",\"\")","v":""},{"$f":"IF(総体入力!$H88=33,\"○\",\"\")","v":""},{"$f":"IF(総体入力!$H88=34,\"○\",\"\")","v":""},{"$f":"IF(総体入力!$H88=35,\"○\",\"\")","v":""},{"$f":"IF(総体入力!$H88=36,\"○\",\"\")","v":""},{"$f":"IF(総体入力!$H88=45,\"○\",\"\")","v":""},{"$f":"IF(総体入力!$H88=39,\"○\",\"\")","v":""},{"$f":"IF(総体入力!$H88=40,\"○\",\"\")","v":""},{"$f":"IF(総体入力!$H88=41,\"○\",\"\")","v":""},{"$f":"IF(総体入力!$H88=42,\"○\",\"\")","v":""},{"$f":"IF(総体入力!$H88=43,\"○\",\"\")","v":""},{"$f":"IF(総体入力!$I88=51,\"○\",\"\")","v":""},{"$f":"IF(総体入力!$I88=52,\"○\",\"\")","v":""}]
[{"$f":"IF(総体入力!B22=\"\",\"\",総体入力!B22)","v":""},{"$f":"IF(総体入力!D22=\"\",\"\",総体入力!D22)","v":""},{"$f":"IF(総体入力!F22=\"\",\"\",総体入力!F22)","v":""},{"$f":"IF(総体入力!E22=\"\",\"\",総体入力!E22)","v":""},{"$f":"IF(総体入力!$H22=1,\"○\",\"\")","v":""},{"$f":"IF(総体入力!$H22=2,\"○\",\"\")","v":""},{"$f":"IF(総体入力!$H22=3,\"○\",\"\")","v":""},{"$f":"IF(総体入力!$H22=4,\"○\",\"\")","v":""},{"$f":"IF(総体入力!$H22=5,\"○\",\"\")","v":""},{"$f":"IF(総体入力!$H22=6,\"○\",\"\")","v":""},{"$f":"IF(総体入力!$H22=7,\"○\",\"\")","v":""},{"$f":"IF(総体入力!$H22=8,\"○\",\"\")","v":""},{"$f":"IF(総体入力!$H22=10,\"○\",\"\")","v":""},{"$f":"IF(総体入力!$H22=11,\"○\",\"\")","v":""},{"$f":"IF(総体入力!$H22=13,\"○\",\"\")","v":""},{"$f":"IF(総体入力!$H22=14,\"○\",\"\")","v":""},{"$f":"IF(総体入力!$H22=15,\"○\",\"\")","v":""},{"$f":"IF(総体入力!$H22=16,\"○\",\"\")","v":""},{"$f":"IF(総体入力!$H22=17,\"○\",\"\")","v":""},{"$f":"IF(総体入力!I22=20,\"○\",\"\")","v":""},{"$f":"IF(総体入力!I22=21,\"○\",\"\")","v":""},null,null,null,null,null,null,null,null,{"$f":"IF(総体入力!B89=\"\",\"\",総体入力!B89)","v":""},{"$f":"IF(総体入力!D89=\"\",\"\",総体入力!D89)","v":""},{"$f":"IF(総体入力!F89=\"\",\"\",総体入力!F89)","v":""},{"$f":"IF(総体入力!E89=\"\",\"\",総体入力!E89)","v":""},{"$f":"IF(総体入力!$H89=31,\"○\",\"\")","v":""},{"$f":"IF(総体入力!$H89=32,\"○\",\"\")","v":""},{"$f":"IF(総体入力!$H89=33,\"○\",\"\")","v":""},{"$f":"IF(総体入力!$H89=34,\"○\",\"\")","v":""},{"$f":"IF(総体入力!$H89=35,\"○\",\"\")","v":""},{"$f":"IF(総体入力!$H89=36,\"○\",\"\")","v":""},{"$f":"IF(総体入力!$H89=45,\"○\",\"\")","v":""},{"$f":"IF(総体入力!$H89=39,\"○\",\"\")","v":""},{"$f":"IF(総体入力!$H89=40,\"○\",\"\")","v":""},{"$f":"IF(総体入力!$H89=41,\"○\",\"\")","v":""},{"$f":"IF(総体入力!$H89=42,\"○\",\"\")","v":""},{"$f":"IF(総体入力!$H89=43,\"○\",\"\")","v":""},{"$f":"IF(総体入力!$I89=51,\"○\",\"\")","v":""},{"$f":"IF(総体入力!$I89=52,\"○\",\"\")","v":""}]
[{"$f":"IF(総体入力!B23=\"\",\"\",総体入力!B23)","v":""},{"$f":"IF(総体入力!D23=\"\",\"\",総体入力!D23)","v":""},{"$f":"IF(総体入力!F23=\"\",\"\",総体入力!F23)","v":""},{"$f":"IF(総体入力!E23=\"\",\"\",総体入力!E23)","v":""},{"$f":"IF(総体入力!$H23=1,\"○\",\"\")","v":""},{"$f":"IF(総体入力!$H23=2,\"○\",\"\")","v":""},{"$f":"IF(総体入力!$H23=3,\"○\",\"\")","v":""},{"$f":"IF(総体入力!$H23=4,\"○\",\"\")","v":""},{"$f":"IF(総体入力!$H23=5,\"○\",\"\")","v":""},{"$f":"IF(総体入力!$H23=6,\"○\",\"\")","v":""},{"$f":"IF(総体入力!$H23=7,\"○\",\"\")","v":""},{"$f":"IF(総体入力!$H23=8,\"○\",\"\")","v":""},{"$f":"IF(総体入力!$H23=10,\"○\",\"\")","v":""},{"$f":"IF(総体入力!$H23=11,\"○\",\"\")","v":""},{"$f":"IF(総体入力!$H23=13,\"○\",\"\")","v":""},{"$f":"IF(総体入力!$H23=14,\"○\",\"\")","v":""},{"$f":"IF(総体入力!$H23=15,\"○\",\"\")","v":""},{"$f":"IF(総体入力!$H23=16,\"○\",\"\")","v":""},{"$f":"IF(総体入力!$H23=17,\"○\",\"\")","v":""},{"$f":"IF(総体入力!I23=20,\"○\",\"\")","v":""},{"$f":"IF(総体入力!I23=21,\"○\",\"\")","v":""},null,null,null,null,null,null,null,null,{"$f":"IF(総体入力!B90=\"\",\"\",総体入力!B90)","v":""},{"$f":"IF(総体入力!D90=\"\",\"\",総体入力!D90)","v":""},{"$f":"IF(総体入力!F90=\"\",\"\",総体入力!F90)","v":""},{"$f":"IF(総体入力!E90=\"\",\"\",総体入力!E90)","v":""},{"$f":"IF(総体入力!$H90=31,\"○\",\"\")","v":""},{"$f":"IF(総体入力!$H90=32,\"○\",\"\")","v":""},{"$f":"IF(総体入力!$H90=33,\"○\",\"\")","v":""},{"$f":"IF(総体入力!$H90=34,\"○\",\"\")","v":""},{"$f":"IF(総体入力!$H90=35,\"○\",\"\")","v":""},{"$f":"IF(総体入力!$H90=36,\"○\",\"\")","v":""},{"$f":"IF(総体入力!$H90=45,\"○\",\"\")","v":""},{"$f":"IF(総体入力!$H90=39,\"○\",\"\")","v":""},{"$f":"IF(総体入力!$H90=40,\"○\",\"\")","v":""},{"$f":"IF(総体入力!$H90=41,\"○\",\"\")","v":""},{"$f":"IF(総体入力!$H90=42,\"○\",\"\")","v":""},{"$f":"IF(総体入力!$H90=43,\"○\",\"\")","v":""},{"$f":"IF(総体入力!$I90=51,\"○\",\"\")","v":""},{"$f":"IF(総体入力!$I90=52,\"○\",\"\")","v":""}]
[{"$f":"IF(総体入力!B24=\"\",\"\",総体入力!B24)","v":""},{"$f":"IF(総体入力!D24=\"\",\"\",総体入力!D24)","v":""},{"$f":"IF(総体入力!F24=\"\",\"\",総体入力!F24)","v":""},{"$f":"IF(総体入力!E24=\"\",\"\",総体入力!E24)","v":""},{"$f":"IF(総体入力!$H24=1,\"○\",\"\")","v":""},{"$f":"IF(総体入力!$H24=2,\"○\",\"\")","v":""},{"$f":"IF(総体入力!$H24=3,\"○\",\"\")","v":""},{"$f":"IF(総体入力!$H24=4,\"○\",\"\")","v":""},{"$f":"IF(総体入力!$H24=5,\"○\",\"\")","v":""},{"$f":"IF(総体入力!$H24=6,\"○\",\"\")","v":""},{"$f":"IF(総体入力!$H24=7,\"○\",\"\")","v":""},{"$f":"IF(総体入力!$H24=8,\"○\",\"\")","v":""},{"$f":"IF(総体入力!$H24=10,\"○\",\"\")","v":""},{"$f":"IF(総体入力!$H24=11,\"○\",\"\")","v":""},{"$f":"IF(総体入力!$H24=13,\"○\",\"\")","v":""},{"$f":"IF(総体入力!$H24=14,\"○\",\"\")","v":""},{"$f":"IF(総体入力!$H24=15,\"○\",\"\")","v":""},{"$f":"IF(総体入力!$H24=16,\"○\",\"\")","v":""},{"$f":"IF(総体入力!$H24=17,\"○\",\"\")","v":""},{"$f":"IF(総体入力!I24=20,\"○\",\"\")","v":""},{"$f":"IF(総体入力!I24=21,\"○\",\"\")","v":""},null,null,null,null,null,null,null,null,{"$f":"IF(総体入力!B91=\"\",\"\",総体入力!B91)","v":""},{"$f":"IF(総体入力!D91=\"\",\"\",総体入力!D91)","v":""},{"$f":"IF(総体入力!F91=\"\",\"\",総体入力!F91)","v":""},{"$f":"IF(総体入力!E91=\"\",\"\",総体入力!E91)","v":""},{"$f":"IF(総体入力!$H91=31,\"○\",\"\")","v":""},{"$f":"IF(総体入力!$H91=32,\"○\",\"\")","v":""},{"$f":"IF(総体入力!$H91=33,\"○\",\"\")","v":""},{"$f":"IF(総体入力!$H91=34,\"○\",\"\")","v":""},{"$f":"IF(総体入力!$H91=35,\"○\",\"\")","v":""},{"$f":"IF(総体入力!$H91=36,\"○\",\"\")","v":""},{"$f":"IF(総体入力!$H91=45,\"○\",\"\")","v":""},{"$f":"IF(総体入力!$H91=39,\"○\",\"\")","v":""},{"$f":"IF(総体入力!$H91=40,\"○\",\"\")","v":""},{"$f":"IF(総体入力!$H91=41,\"○\",\"\")","v":""},{"$f":"IF(総体入力!$H91=42,\"○\",\"\")","v":""},{"$f":"IF(総体入力!$H91=43,\"○\",\"\")","v":""},{"$f":"IF(総体入力!$I91=51,\"○\",\"\")","v":""},{"$f":"IF(総体入力!$I91=52,\"○\",\"\")","v":""}]
[{"$f":"IF(総体入力!B25=\"\",\"\",総体入力!B25)","v":""},{"$f":"IF(総体入力!D25=\"\",\"\",総体入力!D25)","v":""},{"$f":"IF(総体入力!F25=\"\",\"\",総体入力!F25)","v":""},{"$f":"IF(総体入力!E25=\"\",\"\",総体入力!E25)","v":""},{"$f":"IF(総体入力!$H25=1,\"○\",\"\")","v":""},{"$f":"IF(総体入力!$H25=2,\"○\",\"\")","v":""},{"$f":"IF(総体入力!$H25=3,\"○\",\"\")","v":""},{"$f":"IF(総体入力!$H25=4,\"○\",\"\")","v":""},{"$f":"IF(総体入力!$H25=5,\"○\",\"\")","v":""},{"$f":"IF(総体入力!$H25=6,\"○\",\"\")","v":""},{"$f":"IF(総体入力!$H25=7,\"○\",\"\")","v":""},{"$f":"IF(総体入力!$H25=8,\"○\",\"\")","v":""},{"$f":"IF(総体入力!$H25=10,\"○\",\"\")","v":""},{"$f":"IF(総体入力!$H25=11,\"○\",\"\")","v":""},{"$f":"IF(総体入力!$H25=13,\"○\",\"\")","v":""},{"$f":"IF(総体入力!$H25=14,\"○\",\"\")","v":""},{"$f":"IF(総体入力!$H25=15,\"○\",\"\")","v":""},{"$f":"IF(総体入力!$H25=16,\"○\",\"\")","v":""},{"$f":"IF(総体入力!$H25=17,\"○\",\"\")","v":""},{"$f":"IF(総体入力!I25=20,\"○\",\"\")","v":""},{"$f":"IF(総体入力!I25=21,\"○\",\"\")","v":""},null,null,null,null,null,null,null,null,{"$f":"IF(総体入力!B92=\"\",\"\",総体入力!B92)","v":""},{"$f":"IF(総体入力!D92=\"\",\"\",総体入力!D92)","v":""},{"$f":"IF(総体入力!F92=\"\",\"\",総体入力!F92)","v":""},{"$f":"IF(総体入力!E92=\"\",\"\",総体入力!E92)","v":""},{"$f":"IF(総体入力!$H92=31,\"○\",\"\")","v":""},{"$f":"IF(総体入力!$H92=32,\"○\",\"\")","v":""},{"$f":"IF(総体入力!$H92=33,\"○\",\"\")","v":""},{"$f":"IF(総体入力!$H92=34,\"○\",\"\")","v":""},{"$f":"IF(総体入力!$H92=35,\"○\",\"\")","v":""},{"$f":"IF(総体入力!$H92=36,\"○\",\"\")","v":""},{"$f":"IF(総体入力!$H92=45,\"○\",\"\")","v":""},{"$f":"IF(総体入力!$H92=39,\"○\",\"\")","v":""},{"$f":"IF(総体入力!$H92=40,\"○\",\"\")","v":""},{"$f":"IF(総体入力!$H92=41,\"○\",\"\")","v":""},{"$f":"IF(総体入力!$H92=42,\"○\",\"\")","v":""},{"$f":"IF(総体入力!$H92=43,\"○\",\"\")","v":""},{"$f":"IF(総体入力!$I92=51,\"○\",\"\")","v":""},{"$f":"IF(総体入力!$I92=52,\"○\",\"\")","v":""}]
[{"$f":"IF(総体入力!B26=\"\",\"\",総体入力!B26)","v":""},{"$f":"IF(総体入力!D26=\"\",\"\",総体入力!D26)","v":""},{"$f":"IF(総体入力!F26=\"\",\"\",総体入力!F26)","v":""},{"$f":"IF(総体入力!E26=\"\",\"\",総体入力!E26)","v":""},{"$f":"IF(総体入力!$H26=1,\"○\",\"\")","v":""},{"$f":"IF(総体入力!$H26=2,\"○\",\"\")","v":""},{"$f":"IF(総体入力!$H26=3,\"○\",\"\")","v":""},{"$f":"IF(総体入力!$H26=4,\"○\",\"\")","v":""},{"$f":"IF(総体入力!$H26=5,\"○\",\"\")","v":""},{"$f":"IF(総体入力!$H26=6,\"○\",\"\")","v":""},{"$f":"IF(総体入力!$H26=7,\"○\",\"\")","v":""},{"$f":"IF(総体入力!$H26=8,\"○\",\"\")","v":""},{"$f":"IF(総体入力!$H26=10,\"○\",\"\")","v":""},{"$f":"IF(総体入力!$H26=11,\"○\",\"\")","v":""},{"$f":"IF(総体入力!$H26=13,\"○\",\"\")","v":""},{"$f":"IF(総体入力!$H26=14,\"○\",\"\")","v":""},{"$f":"IF(総体入力!$H26=15,\"○\",\"\")","v":""},{"$f":"IF(総体入力!$H26=16,\"○\",\"\")","v":""},{"$f":"IF(総体入力!$H26=17,\"○\",\"\")","v":""},{"$f":"IF(総体入力!I26=20,\"○\",\"\")","v":""},{"$f":"IF(総体入力!I26=21,\"○\",\"\")","v":""},null,null,null,null,null,null,null,null,{"$f":"IF(総体入力!B93=\"\",\"\",総体入力!B93)","v":""},{"$f":"IF(総体入力!D93=\"\",\"\",総体入力!D93)","v":""},{"$f":"IF(総体入力!F93=\"\",\"\",総体入力!F93)","v":""},{"$f":"IF(総体入力!E93=\"\",\"\",総体入力!E93)","v":""},{"$f":"IF(総体入力!$H93=31,\"○\",\"\")","v":""},{"$f":"IF(総体入力!$H93=32,\"○\",\"\")","v":""},{"$f":"IF(総体入力!$H93=33,\"○\",\"\")","v":""},{"$f":"IF(総体入力!$H93=34,\"○\",\"\")","v":""},{"$f":"IF(総体入力!$H93=35,\"○\",\"\")","v":""},{"$f":"IF(総体入力!$H93=36,\"○\",\"\")","v":""},{"$f":"IF(総体入力!$H93=45,\"○\",\"\")","v":""},{"$f":"IF(総体入力!$H93=39,\"○\",\"\")","v":""},{"$f":"IF(総体入力!$H93=40,\"○\",\"\")","v":""},{"$f":"IF(総体入力!$H93=41,\"○\",\"\")","v":""},{"$f":"IF(総体入力!$H93=42,\"○\",\"\")","v":""},{"$f":"IF(総体入力!$H93=43,\"○\",\"\")","v":""},{"$f":"IF(総体入力!$I93=51,\"○\",\"\")","v":""},{"$f":"IF(総体入力!$I93=52,\"○\",\"\")","v":""}]
[{"$f":"IF(総体入力!B27=\"\",\"\",総体入力!B27)","v":""},{"$f":"IF(総体入力!D27=\"\",\"\",総体入力!D27)","v":""},{"$f":"IF(総体入力!F27=\"\",\"\",総体入力!F27)","v":""},{"$f":"IF(総体入力!E27=\"\",\"\",総体入力!E27)","v":""},{"$f":"IF(総体入力!$H27=1,\"○\",\"\")","v":""},{"$f":"IF(総体入力!$H27=2,\"○\",\"\")","v":""},{"$f":"IF(総体入力!$H27=3,\"○\",\"\")","v":""},{"$f":"IF(総体入力!$H27=4,\"○\",\"\")","v":""},{"$f":"IF(総体入力!$H27=5,\"○\",\"\")","v":""},{"$f":"IF(総体入力!$H27=6,\"○\",\"\")","v":""},{"$f":"IF(総体入力!$H27=7,\"○\",\"\")","v":""},{"$f":"IF(総体入力!$H27=8,\"○\",\"\")","v":""},{"$f":"IF(総体入力!$H27=10,\"○\",\"\")","v":""},{"$f":"IF(総体入力!$H27=11,\"○\",\"\")","v":""},{"$f":"IF(総体入力!$H27=13,\"○\",\"\")","v":""},{"$f":"IF(総体入力!$H27=14,\"○\",\"\")","v":""},{"$f":"IF(総体入力!$H27=15,\"○\",\"\")","v":""},{"$f":"IF(総体入力!$H27=16,\"○\",\"\")","v":""},{"$f":"IF(総体入力!$H27=17,\"○\",\"\")","v":""},{"$f":"IF(総体入力!I27=20,\"○\",\"\")","v":""},{"$f":"IF(総体入力!I27=21,\"○\",\"\")","v":""},null,null,null,null,null,null,null,null,{"$f":"IF(総体入力!B94=\"\",\"\",総体入力!B94)","v":""},{"$f":"IF(総体入力!D94=\"\",\"\",総体入力!D94)","v":""},{"$f":"IF(総体入力!F94=\"\",\"\",総体入力!F94)","v":""},{"$f":"IF(総体入力!E94=\"\",\"\",総体入力!E94)","v":""},{"$f":"IF(総体入力!$H94=31,\"○\",\"\")","v":""},{"$f":"IF(総体入力!$H94=32,\"○\",\"\")","v":""},{"$f":"IF(総体入力!$H94=33,\"○\",\"\")","v":""},{"$f":"IF(総体入力!$H94=34,\"○\",\"\")","v":""},{"$f":"IF(総体入力!$H94=35,\"○\",\"\")","v":""},{"$f":"IF(総体入力!$H94=36,\"○\",\"\")","v":""},{"$f":"IF(総体入力!$H94=45,\"○\",\"\")","v":""},{"$f":"IF(総体入力!$H94=39,\"○\",\"\")","v":""},{"$f":"IF(総体入力!$H94=40,\"○\",\"\")","v":""},{"$f":"IF(総体入力!$H94=41,\"○\",\"\")","v":""},{"$f":"IF(総体入力!$H94=42,\"○\",\"\")","v":""},{"$f":"IF(総体入力!$H94=43,\"○\",\"\")","v":""},{"$f":"IF(総体入力!$I94=51,\"○\",\"\")","v":""},{"$f":"IF(総体入力!$I94=52,\"○\",\"\")","v":""}]
[{"$f":"IF(総体入力!B28=\"\",\"\",総体入力!B28)","v":""},{"$f":"IF(総体入力!D28=\"\",\"\",総体入力!D28)","v":""},{"$f":"IF(総体入力!F28=\"\",\"\",総体入力!F28)","v":""},{"$f":"IF(総体入力!E28=\"\",\"\",総体入力!E28)","v":""},{"$f":"IF(総体入力!$H28=1,\"○\",\"\")","v":""},{"$f":"IF(総体入力!$H28=2,\"○\",\"\")","v":""},{"$f":"IF(総体入力!$H28=3,\"○\",\"\")","v":""},{"$f":"IF(総体入力!$H28=4,\"○\",\"\")","v":""},{"$f":"IF(総体入力!$H28=5,\"○\",\"\")","v":""},{"$f":"IF(総体入力!$H28=6,\"○\",\"\")","v":""},{"$f":"IF(総体入力!$H28=7,\"○\",\"\")","v":""},{"$f":"IF(総体入力!$H28=8,\"○\",\"\")","v":""},{"$f":"IF(総体入力!$H28=10,\"○\",\"\")","v":""},{"$f":"IF(総体入力!$H28=11,\"○\",\"\")","v":""},{"$f":"IF(総体入力!$H28=13,\"○\",\"\")","v":""},{"$f":"IF(総体入力!$H28=14,\"○\",\"\")","v":""},{"$f":"IF(総体入力!$H28=15,\"○\",\"\")","v":""},{"$f":"IF(総体入力!$H28=16,\"○\",\"\")","v":""},{"$f":"IF(総体入力!$H28=17,\"○\",\"\")","v":""},{"$f":"IF(総体入力!I28=20,\"○\",\"\")","v":""},{"$f":"IF(総体入力!I28=21,\"○\",\"\")","v":""},null,null,null,null,null,null,null,null,{"$f":"IF(総体入力!B95=\"\",\"\",総体入力!B95)","v":""},{"$f":"IF(総体入力!D95=\"\",\"\",総体入力!D95)","v":""},{"$f":"IF(総体入力!F95=\"\",\"\",総体入力!F95)","v":""},{"$f":"IF(総体入力!E95=\"\",\"\",総体入力!E95)","v":""},{"$f":"IF(総体入力!$H95=31,\"○\",\"\")","v":""},{"$f":"IF(総体入力!$H95=32,\"○\",\"\")","v":""},{"$f":"IF(総体入力!$H95=33,\"○\",\"\")","v":""},{"$f":"IF(総体入力!$H95=34,\"○\",\"\")","v":""},{"$f":"IF(総体入力!$H95=35,\"○\",\"\")","v":""},{"$f":"IF(総体入力!$H95=36,\"○\",\"\")","v":""},{"$f":"IF(総体入力!$H95=45,\"○\",\"\")","v":""},{"$f":"IF(総体入力!$H95=39,\"○\",\"\")","v":""},{"$f":"IF(総体入力!$H95=40,\"○\",\"\")","v":""},{"$f":"IF(総体入力!$H95=41,\"○\",\"\")","v":""},{"$f":"IF(総体入力!$H95=42,\"○\",\"\")","v":""},{"$f":"IF(総体入力!$H95=43,\"○\",\"\")","v":""},{"$f":"IF(総体入力!$I95=51,\"○\",\"\")","v":""},{"$f":"IF(総体入力!$I95=52,\"○\",\"\")","v":""}]
[{"$f":"IF(総体入力!B29=\"\",\"\",総体入力!B29)","v":""},{"$f":"IF(総体入力!D29=\"\",\"\",総体入力!D29)","v":""},{"$f":"IF(総体入力!F29=\"\",\"\",総体入力!F29)","v":""},{"$f":"IF(総体入力!E29=\"\",\"\",総体入力!E29)","v":""},{"$f":"IF(総体入力!$H29=1,\"○\",\"\")","v":""},{"$f":"IF(総体入力!$H29=2,\"○\",\"\")","v":""},{"$f":"IF(総体入力!$H29=3,\"○\",\"\")","v":""},{"$f":"IF(総体入力!$H29=4,\"○\",\"\")","v":""},{"$f":"IF(総体入力!$H29=5,\"○\",\"\")","v":""},{"$f":"IF(総体入力!$H29=6,\"○\",\"\")","v":""},{"$f":"IF(総体入力!$H29=7,\"○\",\"\")","v":""},{"$f":"IF(総体入力!$H29=8,\"○\",\"\")","v":""},{"$f":"IF(総体入力!$H29=10,\"○\",\"\")","v":""},{"$f":"IF(総体入力!$H29=11,\"○\",\"\")","v":""},{"$f":"IF(総体入力!$H29=13,\"○\",\"\")","v":""},{"$f":"IF(総体入力!$H29=14,\"○\",\"\")","v":""},{"$f":"IF(総体入力!$H29=15,\"○\",\"\")","v":""},{"$f":"IF(総体入力!$H29=16,\"○\",\"\")","v":""},{"$f":"IF(総体入力!$H29=17,\"○\",\"\")","v":""},{"$f":"IF(総体入力!I29=20,\"○\",\"\")","v":""},{"$f":"IF(総体入力!I29=21,\"○\",\"\")","v":""},null,null,null,null,null,null,null,null,{"$f":"IF(総体入力!B96=\"\",\"\",総体入力!B96)","v":""},{"$f":"IF(総体入力!D96=\"\",\"\",総体入力!D96)","v":""},{"$f":"IF(総体入力!F96=\"\",\"\",総体入力!F96)","v":""},{"$f":"IF(総体入力!E96=\"\",\"\",総体入力!E96)","v":""},{"$f":"IF(総体入力!$H96=31,\"○\",\"\")","v":""},{"$f":"IF(総体入力!$H96=32,\"○\",\"\")","v":""},{"$f":"IF(総体入力!$H96=33,\"○\",\"\")","v":""},{"$f":"IF(総体入力!$H96=34,\"○\",\"\")","v":""},{"$f":"IF(総体入力!$H96=35,\"○\",\"\")","v":""},{"$f":"IF(総体入力!$H96=36,\"○\",\"\")","v":""},{"$f":"IF(総体入力!$H96=45,\"○\",\"\")","v":""},{"$f":"IF(総体入力!$H96=39,\"○\",\"\")","v":""},{"$f":"IF(総体入力!$H96=40,\"○\",\"\")","v":""},{"$f":"IF(総体入力!$H96=41,\"○\",\"\")","v":""},{"$f":"IF(総体入力!$H96=42,\"○\",\"\")","v":""},{"$f":"IF(総体入力!$H96=43,\"○\",\"\")","v":""},{"$f":"IF(総体入力!$I96=51,\"○\",\"\")","v":""},{"$f":"IF(総体入力!$I96=52,\"○\",\"\")","v":""}]
[{"$f":"IF(総体入力!B30=\"\",\"\",総体入力!B30)","v":""},{"$f":"IF(総体入力!D30=\"\",\"\",総体入力!D30)","v":""},{"$f":"IF(総体入力!F30=\"\",\"\",総体入力!F30)","v":""},{"$f":"IF(総体入力!E30=\"\",\"\",総体入力!E30)","v":""},{"$f":"IF(総体入力!$H30=1,\"○\",\"\")","v":""},{"$f":"IF(総体入力!$H30=2,\"○\",\"\")","v":""},{"$f":"IF(総体入力!$H30=3,\"○\",\"\")","v":""},{"$f":"IF(総体入力!$H30=4,\"○\",\"\")","v":""},{"$f":"IF(総体入力!$H30=5,\"○\",\"\")","v":""},{"$f":"IF(総体入力!$H30=6,\"○\",\"\")","v":""},{"$f":"IF(総体入力!$H30=7,\"○\",\"\")","v":""},{"$f":"IF(総体入力!$H30=8,\"○\",\"\")","v":""},{"$f":"IF(総体入力!$H30=10,\"○\",\"\")","v":""},{"$f":"IF(総体入力!$H30=11,\"○\",\"\")","v":""},{"$f":"IF(総体入力!$H30=13,\"○\",\"\")","v":""},{"$f":"IF(総体入力!$H30=14,\"○\",\"\")","v":""},{"$f":"IF(総体入力!$H30=15,\"○\",\"\")","v":""},{"$f":"IF(総体入力!$H30=16,\"○\",\"\")","v":""},{"$f":"IF(総体入力!$H30=17,\"○\",\"\")","v":""},{"$f":"IF(総体入力!I30=20,\"○\",\"\")","v":""},{"$f":"IF(総体入力!I30=21,\"○\",\"\")","v":""},null,null,null,null,null,null,null,null,{"$f":"IF(総体入力!B97=\"\",\"\",総体入力!B97)","v":""},{"$f":"IF(総体入力!D97=\"\",\"\",総体入力!D97)","v":""},{"$f":"IF(総体入力!F97=\"\",\"\",総体入力!F97)","v":""},{"$f":"IF(総体入力!E97=\"\",\"\",総体入力!E97)","v":""},{"$f":"IF(総体入力!$H97=31,\"○\",\"\")","v":""},{"$f":"IF(総体入力!$H97=32,\"○\",\"\")","v":""},{"$f":"IF(総体入力!$H97=33,\"○\",\"\")","v":""},{"$f":"IF(総体入力!$H97=34,\"○\",\"\")","v":""},{"$f":"IF(総体入力!$H97=35,\"○\",\"\")","v":""},{"$f":"IF(総体入力!$H97=36,\"○\",\"\")","v":""},{"$f":"IF(総体入力!$H97=45,\"○\",\"\")","v":""},{"$f":"IF(総体入力!$H97=39,\"○\",\"\")","v":""},{"$f":"IF(総体入力!$H97=40,\"○\",\"\")","v":""},{"$f":"IF(総体入力!$H97=41,\"○\",\"\")","v":""},{"$f":"IF(総体入力!$H97=42,\"○\",\"\")","v":""},{"$f":"IF(総体入力!$H97=43,\"○\",\"\")","v":""},{"$f":"IF(総体入力!$I97=51,\"○\",\"\")","v":""},{"$f":"IF(総体入力!$I97=52,\"○\",\"\")","v":""}]
[{"$f":"IF(総体入力!B31=\"\",\"\",総体入力!B31)","v":""},{"$f":"IF(総体入力!D31=\"\",\"\",総体入力!D31)","v":""},{"$f":"IF(総体入力!F31=\"\",\"\",総体入力!F31)","v":""},{"$f":"IF(総体入力!E31=\"\",\"\",総体入力!E31)","v":""},{"$f":"IF(総体入力!$H31=1,\"○\",\"\")","v":""},{"$f":"IF(総体入力!$H31=2,\"○\",\"\")","v":""},{"$f":"IF(総体入力!$H31=3,\"○\",\"\")","v":""},{"$f":"IF(総体入力!$H31=4,\"○\",\"\")","v":""},{"$f":"IF(総体入力!$H31=5,\"○\",\"\")","v":""},{"$f":"IF(総体入力!$H31=6,\"○\",\"\")","v":""},{"$f":"IF(総体入力!$H31=7,\"○\",\"\")","v":""},{"$f":"IF(総体入力!$H31=8,\"○\",\"\")","v":""},{"$f":"IF(総体入力!$H31=10,\"○\",\"\")","v":""},{"$f":"IF(総体入力!$H31=11,\"○\",\"\")","v":""},{"$f":"IF(総体入力!$H31=13,\"○\",\"\")","v":""},{"$f":"IF(総体入力!$H31=14,\"○\",\"\")","v":""},{"$f":"IF(総体入力!$H31=15,\"○\",\"\")","v":""},{"$f":"IF(総体入力!$H31=16,\"○\",\"\")","v":""},{"$f":"IF(総体入力!$H31=17,\"○\",\"\")","v":""},{"$f":"IF(総体入力!I31=20,\"○\",\"\")","v":""},{"$f":"IF(総体入力!I31=21,\"○\",\"\")","v":""},null,null,null,null,null,null,null,null,{"$f":"IF(総体入力!B98=\"\",\"\",総体入力!B98)","v":""},{"$f":"IF(総体入力!D98=\"\",\"\",総体入力!D98)","v":""},{"$f":"IF(総体入力!F98=\"\",\"\",総体入力!F98)","v":""},{"$f":"IF(総体入力!E98=\"\",\"\",総体入力!E98)","v":""},{"$f":"IF(総体入力!$H98=31,\"○\",\"\")","v":""},{"$f":"IF(総体入力!$H98=32,\"○\",\"\")","v":""},{"$f":"IF(総体入力!$H98=33,\"○\",\"\")","v":""},{"$f":"IF(総体入力!$H98=34,\"○\",\"\")","v":""},{"$f":"IF(総体入力!$H98=35,\"○\",\"\")","v":""},{"$f":"IF(総体入力!$H98=36,\"○\",\"\")","v":""},{"$f":"IF(総体入力!$H98=45,\"○\",\"\")","v":""},{"$f":"IF(総体入力!$H98=39,\"○\",\"\")","v":""},{"$f":"IF(総体入力!$H98=40,\"○\",\"\")","v":""},{"$f":"IF(総体入力!$H98=41,\"○\",\"\")","v":""},{"$f":"IF(総体入力!$H98=42,\"○\",\"\")","v":""},{"$f":"IF(総体入力!$H98=43,\"○\",\"\")","v":""},{"$f":"IF(総体入力!$I98=51,\"○\",\"\")","v":""},{"$f":"IF(総体入力!$I98=52,\"○\",\"\")","v":""}]
[{"$f":"IF(総体入力!B32=\"\",\"\",総体入力!B32)","v":""},{"$f":"IF(総体入力!D32=\"\",\"\",総体入力!D32)","v":""},{"$f":"IF(総体入力!F32=\"\",\"\",総体入力!F32)","v":""},{"$f":"IF(総体入力!E32=\"\",\"\",総体入力!E32)","v":""},{"$f":"IF(総体入力!$H32=1,\"○\",\"\")","v":""},{"$f":"IF(総体入力!$H32=2,\"○\",\"\")","v":""},{"$f":"IF(総体入力!$H32=3,\"○\",\"\")","v":""},{"$f":"IF(総体入力!$H32=4,\"○\",\"\")","v":""},{"$f":"IF(総体入力!$H32=5,\"○\",\"\")","v":""},{"$f":"IF(総体入力!$H32=6,\"○\",\"\")","v":""},{"$f":"IF(総体入力!$H32=7,\"○\",\"\")","v":""},{"$f":"IF(総体入力!$H32=8,\"○\",\"\")","v":""},{"$f":"IF(総体入力!$H32=10,\"○\",\"\")","v":""},{"$f":"IF(総体入力!$H32=11,\"○\",\"\")","v":""},{"$f":"IF(総体入力!$H32=13,\"○\",\"\")","v":""},{"$f":"IF(総体入力!$H32=14,\"○\",\"\")","v":""},{"$f":"IF(総体入力!$H32=15,\"○\",\"\")","v":""},{"$f":"IF(総体入力!$H32=16,\"○\",\"\")","v":""},{"$f":"IF(総体入力!$H32=17,\"○\",\"\")","v":""},{"$f":"IF(総体入力!I32=20,\"○\",\"\")","v":""},{"$f":"IF(総体入力!I32=21,\"○\",\"\")","v":""},null,null,null,null,null,null,null,null,{"$f":"IF(総体入力!B99=\"\",\"\",総体入力!B99)","v":""},{"$f":"IF(総体入力!D99=\"\",\"\",総体入力!D99)","v":""},{"$f":"IF(総体入力!F99=\"\",\"\",総体入力!F99)","v":""},{"$f":"IF(総体入力!E99=\"\",\"\",総体入力!E99)","v":""},{"$f":"IF(総体入力!$H99=31,\"○\",\"\")","v":""},{"$f":"IF(総体入力!$H99=32,\"○\",\"\")","v":""},{"$f":"IF(総体入力!$H99=33,\"○\",\"\")","v":""},{"$f":"IF(総体入力!$H99=34,\"○\",\"\")","v":""},{"$f":"IF(総体入力!$H99=35,\"○\",\"\")","v":""},{"$f":"IF(総体入力!$H99=36,\"○\",\"\")","v":""},{"$f":"IF(総体入力!$H99=45,\"○\",\"\")","v":""},{"$f":"IF(総体入力!$H99=39,\"○\",\"\")","v":""},{"$f":"IF(総体入力!$H99=40,\"○\",\"\")","v":""},{"$f":"IF(総体入力!$H99=41,\"○\",\"\")","v":""},{"$f":"IF(総体入力!$H99=42,\"○\",\"\")","v":""},{"$f":"IF(総体入力!$H99=43,\"○\",\"\")","v":""},{"$f":"IF(総体入力!$I99=51,\"○\",\"\")","v":""},{"$f":"IF(総体入力!$I99=52,\"○\",\"\")","v":""}]
[{"$f":"IF(総体入力!B33=\"\",\"\",総体入力!B33)","v":""},{"$f":"IF(総体入力!D33=\"\",\"\",総体入力!D33)","v":""},{"$f":"IF(総体入力!F33=\"\",\"\",総体入力!F33)","v":""},{"$f":"IF(総体入力!E33=\"\",\"\",総体入力!E33)","v":""},{"$f":"IF(総体入力!$H33=1,\"○\",\"\")","v":""},{"$f":"IF(総体入力!$H33=2,\"○\",\"\")","v":""},{"$f":"IF(総体入力!$H33=3,\"○\",\"\")","v":""},{"$f":"IF(総体入力!$H33=4,\"○\",\"\")","v":""},{"$f":"IF(総体入力!$H33=5,\"○\",\"\")","v":""},{"$f":"IF(総体入力!$H33=6,\"○\",\"\")","v":""},{"$f":"IF(総体入力!$H33=7,\"○\",\"\")","v":""},{"$f":"IF(総体入力!$H33=8,\"○\",\"\")","v":""},{"$f":"IF(総体入力!$H33=10,\"○\",\"\")","v":""},{"$f":"IF(総体入力!$H33=11,\"○\",\"\")","v":""},{"$f":"IF(総体入力!$H33=13,\"○\",\"\")","v":""},{"$f":"IF(総体入力!$H33=14,\"○\",\"\")","v":""},{"$f":"IF(総体入力!$H33=15,\"○\",\"\")","v":""},{"$f":"IF(総体入力!$H33=16,\"○\",\"\")","v":""},{"$f":"IF(総体入力!$H33=17,\"○\",\"\")","v":""},{"$f":"IF(総体入力!I33=20,\"○\",\"\")","v":""},{"$f":"IF(総体入力!I33=21,\"○\",\"\")","v":""},null,null,null,null,null,null,null,null,{"$f":"IF(総体入力!B100=\"\",\"\",総体入力!B100)","v":""},{"$f":"IF(総体入力!D100=\"\",\"\",総体入力!D100)","v":""},{"$f":"IF(総体入力!F100=\"\",\"\",総体入力!F100)","v":""},{"$f":"IF(総体入力!E100=\"\",\"\",総体入力!E100)","v":""},{"$f":"IF(総体入力!$H100=31,\"○\",\"\")","v":""},{"$f":"IF(総体入力!$H100=32,\"○\",\"\")","v":""},{"$f":"IF(総体入力!$H100=33,\"○\",\"\")","v":""},{"$f":"IF(総体入力!$H100=34,\"○\",\"\")","v":""},{"$f":"IF(総体入力!$H100=35,\"○\",\"\")","v":""},{"$f":"IF(総体入力!$H100=36,\"○\",\"\")","v":""},{"$f":"IF(総体入力!$H100=45,\"○\",\"\")","v":""},{"$f":"IF(総体入力!$H100=39,\"○\",\"\")","v":""},{"$f":"IF(総体入力!$H100=40,\"○\",\"\")","v":""},{"$f":"IF(総体入力!$H100=41,\"○\",\"\")","v":""},{"$f":"IF(総体入力!$H100=42,\"○\",\"\")","v":""},{"$f":"IF(総体入力!$H100=43,\"○\",\"\")","v":""},{"$f":"IF(総体入力!$I100=51,\"○\",\"\")","v":""},{"$f":"IF(総体入力!$I100=52,\"○\",\"\")","v":""}]
[{"$f":"IF(総体入力!B34=\"\",\"\",総体入力!B34)","v":""},{"$f":"IF(総体入力!D34=\"\",\"\",総体入力!D34)","v":""},{"$f":"IF(総体入力!F34=\"\",\"\",総体入力!F34)","v":""},{"$f":"IF(総体入力!E34=\"\",\"\",総体入力!E34)","v":""},{"$f":"IF(総体入力!$H34=1,\"○\",\"\")","v":""},{"$f":"IF(総体入力!$H34=2,\"○\",\"\")","v":""},{"$f":"IF(総体入力!$H34=3,\"○\",\"\")","v":""},{"$f":"IF(総体入力!$H34=4,\"○\",\"\")","v":""},{"$f":"IF(総体入力!$H34=5,\"○\",\"\")","v":""},{"$f":"IF(総体入力!$H34=6,\"○\",\"\")","v":""},{"$f":"IF(総体入力!$H34=7,\"○\",\"\")","v":""},{"$f":"IF(総体入力!$H34=8,\"○\",\"\")","v":""},{"$f":"IF(総体入力!$H34=10,\"○\",\"\")","v":""},{"$f":"IF(総体入力!$H34=11,\"○\",\"\")","v":""},{"$f":"IF(総体入力!$H34=13,\"○\",\"\")","v":""},{"$f":"IF(総体入力!$H34=14,\"○\",\"\")","v":""},{"$f":"IF(総体入力!$H34=15,\"○\",\"\")","v":""},{"$f":"IF(総体入力!$H34=16,\"○\",\"\")","v":""},{"$f":"IF(総体入力!$H34=17,\"○\",\"\")","v":""},{"$f":"IF(総体入力!I34=20,\"○\",\"\")","v":""},{"$f":"IF(総体入力!I34=21,\"○\",\"\")","v":""},null,null,null,null,null,null,null,null,{"$f":"IF(総体入力!B101=\"\",\"\",総体入力!B101)","v":""},{"$f":"IF(総体入力!D101=\"\",\"\",総体入力!D101)","v":""},{"$f":"IF(総体入力!F101=\"\",\"\",総体入力!F101)","v":""},{"$f":"IF(総体入力!E101=\"\",\"\",総体入力!E101)","v":""},{"$f":"IF(総体入力!$H101=31,\"○\",\"\")","v":""},{"$f":"IF(総体入力!$H101=32,\"○\",\"\")","v":""},{"$f":"IF(総体入力!$H101=33,\"○\",\"\")","v":""},{"$f":"IF(総体入力!$H101=34,\"○\",\"\")","v":""},{"$f":"IF(総体入力!$H101=35,\"○\",\"\")","v":""},{"$f":"IF(総体入力!$H101=36,\"○\",\"\")","v":""},{"$f":"IF(総体入力!$H101=45,\"○\",\"\")","v":""},{"$f":"IF(総体入力!$H101=39,\"○\",\"\")","v":""},{"$f":"IF(総体入力!$H101=40,\"○\",\"\")","v":""},{"$f":"IF(総体入力!$H101=41,\"○\",\"\")","v":""},{"$f":"IF(総体入力!$H101=42,\"○\",\"\")","v":""},{"$f":"IF(総体入力!$H101=43,\"○\",\"\")","v":""},{"$f":"IF(総体入力!$I101=51,\"○\",\"\")","v":""},{"$f":"IF(総体入力!$I101=52,\"○\",\"\")","v":""}]
[{"$f":"IF(総体入力!B35=\"\",\"\",総体入力!B35)","v":""},{"$f":"IF(総体入力!D35=\"\",\"\",総体入力!D35)","v":""},{"$f":"IF(総体入力!F35=\"\",\"\",総体入力!F35)","v":""},{"$f":"IF(総体入力!E35=\"\",\"\",総体入力!E35)","v":""},{"$f":"IF(総体入力!$H35=1,\"○\",\"\")","v":""},{"$f":"IF(総体入力!$H35=2,\"○\",\"\")","v":""},{"$f":"IF(総体入力!$H35=3,\"○\",\"\")","v":""},{"$f":"IF(総体入力!$H35=4,\"○\",\"\")","v":""},{"$f":"IF(総体入力!$H35=5,\"○\",\"\")","v":""},{"$f":"IF(総体入力!$H35=6,\"○\",\"\")","v":""},{"$f":"IF(総体入力!$H35=7,\"○\",\"\")","v":""},{"$f":"IF(総体入力!$H35=8,\"○\",\"\")","v":""},{"$f":"IF(総体入力!$H35=10,\"○\",\"\")","v":""},{"$f":"IF(総体入力!$H35=11,\"○\",\"\")","v":""},{"$f":"IF(総体入力!$H35=13,\"○\",\"\")","v":""},{"$f":"IF(総体入力!$H35=14,\"○\",\"\")","v":""},{"$f":"IF(総体入力!$H35=15,\"○\",\"\")","v":""},{"$f":"IF(総体入力!$H35=16,\"○\",\"\")","v":""},{"$f":"IF(総体入力!$H35=17,\"○\",\"\")","v":""},{"$f":"IF(総体入力!I35=20,\"○\",\"\")","v":""},{"$f":"IF(総体入力!I35=21,\"○\",\"\")","v":""},null,null,null,null,null,null,null,null,{"$f":"IF(総体入力!B102=\"\",\"\",総体入力!B102)","v":""},{"$f":"IF(総体入力!D102=\"\",\"\",総体入力!D102)","v":""},{"$f":"IF(総体入力!F102=\"\",\"\",総体入力!F102)","v":""},{"$f":"IF(総体入力!E102=\"\",\"\",総体入力!E102)","v":""},{"$f":"IF(総体入力!$H102=31,\"○\",\"\")","v":""},{"$f":"IF(総体入力!$H102=32,\"○\",\"\")","v":""},{"$f":"IF(総体入力!$H102=33,\"○\",\"\")","v":""},{"$f":"IF(総体入力!$H102=34,\"○\",\"\")","v":""},{"$f":"IF(総体入力!$H102=35,\"○\",\"\")","v":""},{"$f":"IF(総体入力!$H102=36,\"○\",\"\")","v":""},{"$f":"IF(総体入力!$H102=45,\"○\",\"\")","v":""},{"$f":"IF(総体入力!$H102=39,\"○\",\"\")","v":""},{"$f":"IF(総体入力!$H102=40,\"○\",\"\")","v":""},{"$f":"IF(総体入力!$H102=41,\"○\",\"\")","v":""},{"$f":"IF(総体入力!$H102=42,\"○\",\"\")","v":""},{"$f":"IF(総体入力!$H102=43,\"○\",\"\")","v":""},{"$f":"IF(総体入力!$I102=51,\"○\",\"\")","v":""},{"$f":"IF(総体入力!$I102=52,\"○\",\"\")","v":""}]
[{"$f":"IF(総体入力!B36=\"\",\"\",総体入力!B36)","v":""},{"$f":"IF(総体入力!D36=\"\",\"\",総体入力!D36)","v":""},{"$f":"IF(総体入力!F36=\"\",\"\",総体入力!F36)","v":""},{"$f":"IF(総体入力!E36=\"\",\"\",総体入力!E36)","v":""},{"$f":"IF(総体入力!$H36=1,\"○\",\"\")","v":""},{"$f":"IF(総体入力!$H36=2,\"○\",\"\")","v":""},{"$f":"IF(総体入力!$H36=3,\"○\",\"\")","v":""},{"$f":"IF(総体入力!$H36=4,\"○\",\"\")","v":""},{"$f":"IF(総体入力!$H36=5,\"○\",\"\")","v":""},{"$f":"IF(総体入力!$H36=6,\"○\",\"\")","v":""},{"$f":"IF(総体入力!$H36=7,\"○\",\"\")","v":""},{"$f":"IF(総体入力!$H36=8,\"○\",\"\")","v":""},{"$f":"IF(総体入力!$H36=10,\"○\",\"\")","v":""},{"$f":"IF(総体入力!$H36=11,\"○\",\"\")","v":""},{"$f":"IF(総体入力!$H36=13,\"○\",\"\")","v":""},{"$f":"IF(総体入力!$H36=14,\"○\",\"\")","v":""},{"$f":"IF(総体入力!$H36=15,\"○\",\"\")","v":""},{"$f":"IF(総体入力!$H36=16,\"○\",\"\")","v":""},{"$f":"IF(総体入力!$H36=17,\"○\",\"\")","v":""},{"$f":"IF(総体入力!I36=20,\"○\",\"\")","v":""},{"$f":"IF(総体入力!I36=21,\"○\",\"\")","v":""},null,null,null,null,null,null,null,null,{"$f":"IF(総体入力!B103=\"\",\"\",総体入力!B103)","v":""},{"$f":"IF(総体入力!D103=\"\",\"\",総体入力!D103)","v":""},{"$f":"IF(総体入力!F103=\"\",\"\",総体入力!F103)","v":""},{"$f":"IF(総体入力!E103=\"\",\"\",総体入力!E103)","v":""},{"$f":"IF(総体入力!$H103=31,\"○\",\"\")","v":""},{"$f":"IF(総体入力!$H103=32,\"○\",\"\")","v":""},{"$f":"IF(総体入力!$H103=33,\"○\",\"\")","v":""},{"$f":"IF(総体入力!$H103=34,\"○\",\"\")","v":""},{"$f":"IF(総体入力!$H103=35,\"○\",\"\")","v":""},{"$f":"IF(総体入力!$H103=36,\"○\",\"\")","v":""},{"$f":"IF(総体入力!$H103=45,\"○\",\"\")","v":""},{"$f":"IF(総体入力!$H103=39,\"○\",\"\")","v":""},{"$f":"IF(総体入力!$H103=40,\"○\",\"\")","v":""},{"$f":"IF(総体入力!$H103=41,\"○\",\"\")","v":""},{"$f":"IF(総体入力!$H103=42,\"○\",\"\")","v":""},{"$f":"IF(総体入力!$H103=43,\"○\",\"\")","v":""},{"$f":"IF(総体入力!$I103=51,\"○\",\"\")","v":""},{"$f":"IF(総体入力!$I103=52,\"○\",\"\")","v":""}]
[{"$f":"IF(総体入力!B37=\"\",\"\",総体入力!B37)","v":""},{"$f":"IF(総体入力!D37=\"\",\"\",総体入力!D37)","v":""},{"$f":"IF(総体入力!F37=\"\",\"\",総体入力!F37)","v":""},{"$f":"IF(総体入力!E37=\"\",\"\",総体入力!E37)","v":""},{"$f":"IF(総体入力!$H37=1,\"○\",\"\")","v":""},{"$f":"IF(総体入力!$H37=2,\"○\",\"\")","v":""},{"$f":"IF(総体入力!$H37=3,\"○\",\"\")","v":""},{"$f":"IF(総体入力!$H37=4,\"○\",\"\")","v":""},{"$f":"IF(総体入力!$H37=5,\"○\",\"\")","v":""},{"$f":"IF(総体入力!$H37=6,\"○\",\"\")","v":""},{"$f":"IF(総体入力!$H37=7,\"○\",\"\")","v":""},{"$f":"IF(総体入力!$H37=8,\"○\",\"\")","v":""},{"$f":"IF(総体入力!$H37=10,\"○\",\"\")","v":""},{"$f":"IF(総体入力!$H37=11,\"○\",\"\")","v":""},{"$f":"IF(総体入力!$H37=13,\"○\",\"\")","v":""},{"$f":"IF(総体入力!$H37=14,\"○\",\"\")","v":""},{"$f":"IF(総体入力!$H37=15,\"○\",\"\")","v":""},{"$f":"IF(総体入力!$H37=16,\"○\",\"\")","v":""},{"$f":"IF(総体入力!$H37=17,\"○\",\"\")","v":""},{"$f":"IF(総体入力!I37=20,\"○\",\"\")","v":""},{"$f":"IF(総体入力!I37=21,\"○\",\"\")","v":""},null,null,null,null,null,null,null,null,{"$f":"IF(総体入力!B104=\"\",\"\",総体入力!B104)","v":""},{"$f":"IF(総体入力!D104=\"\",\"\",総体入力!D104)","v":""},{"$f":"IF(総体入力!F104=\"\",\"\",総体入力!F104)","v":""},{"$f":"IF(総体入力!E104=\"\",\"\",総体入力!E104)","v":""},{"$f":"IF(総体入力!$H104=31,\"○\",\"\")","v":""},{"$f":"IF(総体入力!$H104=32,\"○\",\"\")","v":""},{"$f":"IF(総体入力!$H104=33,\"○\",\"\")","v":""},{"$f":"IF(総体入力!$H104=34,\"○\",\"\")","v":""},{"$f":"IF(総体入力!$H104=35,\"○\",\"\")","v":""},{"$f":"IF(総体入力!$H104=36,\"○\",\"\")","v":""},{"$f":"IF(総体入力!$H104=45,\"○\",\"\")","v":""},{"$f":"IF(総体入力!$H104=39,\"○\",\"\")","v":""},{"$f":"IF(総体入力!$H104=40,\"○\",\"\")","v":""},{"$f":"IF(総体入力!$H104=41,\"○\",\"\")","v":""},{"$f":"IF(総体入力!$H104=42,\"○\",\"\")","v":""},{"$f":"IF(総体入力!$H104=43,\"○\",\"\")","v":""},{"$f":"IF(総体入力!$I104=51,\"○\",\"\")","v":""},{"$f":"IF(総体入力!$I104=52,\"○\",\"\")","v":""}]
[{"$f":"IF(総体入力!B38=\"\",\"\",総体入力!B38)","v":""},{"$f":"IF(総体入力!D38=\"\",\"\",総体入力!D38)","v":""},{"$f":"IF(総体入力!F38=\"\",\"\",総体入力!F38)","v":""},{"$f":"IF(総体入力!E38=\"\",\"\",総体入力!E38)","v":""},{"$f":"IF(総体入力!$H38=1,\"○\",\"\")","v":""},{"$f":"IF(総体入力!$H38=2,\"○\",\"\")","v":""},{"$f":"IF(総体入力!$H38=3,\"○\",\"\")","v":""},{"$f":"IF(総体入力!$H38=4,\"○\",\"\")","v":""},{"$f":"IF(総体入力!$H38=5,\"○\",\"\")","v":""},{"$f":"IF(総体入力!$H38=6,\"○\",\"\")","v":""},{"$f":"IF(総体入力!$H38=7,\"○\",\"\")","v":""},{"$f":"IF(総体入力!$H38=8,\"○\",\"\")","v":""},{"$f":"IF(総体入力!$H38=10,\"○\",\"\")","v":""},{"$f":"IF(総体入力!$H38=11,\"○\",\"\")","v":""},{"$f":"IF(総体入力!$H38=13,\"○\",\"\")","v":""},{"$f":"IF(総体入力!$H38=14,\"○\",\"\")","v":""},{"$f":"IF(総体入力!$H38=15,\"○\",\"\")","v":""},{"$f":"IF(総体入力!$H38=16,\"○\",\"\")","v":""},{"$f":"IF(総体入力!$H38=17,\"○\",\"\")","v":""},{"$f":"IF(総体入力!I38=20,\"○\",\"\")","v":""},{"$f":"IF(総体入力!I38=21,\"○\",\"\")","v":""},null,null,null,null,null,null,null,null,{"$f":"IF(総体入力!B105=\"\",\"\",総体入力!B105)","v":""},{"$f":"IF(総体入力!D105=\"\",\"\",総体入力!D105)","v":""},{"$f":"IF(総体入力!F105=\"\",\"\",総体入力!F105)","v":""},{"$f":"IF(総体入力!E105=\"\",\"\",総体入力!E105)","v":""},{"$f":"IF(総体入力!$H105=31,\"○\",\"\")","v":""},{"$f":"IF(総体入力!$H105=32,\"○\",\"\")","v":""},{"$f":"IF(総体入力!$H105=33,\"○\",\"\")","v":""},{"$f":"IF(総体入力!$H105=34,\"○\",\"\")","v":""},{"$f":"IF(総体入力!$H105=35,\"○\",\"\")","v":""},{"$f":"IF(総体入力!$H105=36,\"○\",\"\")","v":""},{"$f":"IF(総体入力!$H105=45,\"○\",\"\")","v":""},{"$f":"IF(総体入力!$H105=39,\"○\",\"\")","v":""},{"$f":"IF(総体入力!$H105=40,\"○\",\"\")","v":""},{"$f":"IF(総体入力!$H105=41,\"○\",\"\")","v":""},{"$f":"IF(総体入力!$H105=42,\"○\",\"\")","v":""},{"$f":"IF(総体入力!$H105=43,\"○\",\"\")","v":""},{"$f":"IF(総体入力!$I105=51,\"○\",\"\")","v":""},{"$f":"IF(総体入力!$I105=52,\"○\",\"\")","v":""}]
[{"$f":"IF(総体入力!B39=\"\",\"\",総体入力!B39)","v":""},{"$f":"IF(総体入力!D39=\"\",\"\",総体入力!D39)","v":""},{"$f":"IF(総体入力!F39=\"\",\"\",総体入力!F39)","v":""},{"$f":"IF(総体入力!E39=\"\",\"\",総体入力!E39)","v":""},{"$f":"IF(総体入力!$H39=1,\"○\",\"\")","v":""},{"$f":"IF(総体入力!$H39=2,\"○\",\"\")","v":""},{"$f":"IF(総体入力!$H39=3,\"○\",\"\")","v":""},{"$f":"IF(総体入力!$H39=4,\"○\",\"\")","v":""},{"$f":"IF(総体入力!$H39=5,\"○\",\"\")","v":""},{"$f":"IF(総体入力!$H39=6,\"○\",\"\")","v":""},{"$f":"IF(総体入力!$H39=7,\"○\",\"\")","v":""},{"$f":"IF(総体入力!$H39=8,\"○\",\"\")","v":""},{"$f":"IF(総体入力!$H39=10,\"○\",\"\")","v":""},{"$f":"IF(総体入力!$H39=11,\"○\",\"\")","v":""},{"$f":"IF(総体入力!$H39=13,\"○\",\"\")","v":""},{"$f":"IF(総体入力!$H39=14,\"○\",\"\")","v":""},{"$f":"IF(総体入力!$H39=15,\"○\",\"\")","v":""},{"$f":"IF(総体入力!$H39=16,\"○\",\"\")","v":""},{"$f":"IF(総体入力!$H39=17,\"○\",\"\")","v":""},{"$f":"IF(総体入力!I39=20,\"○\",\"\")","v":""},{"$f":"IF(総体入力!I39=21,\"○\",\"\")","v":""},null,null,null,null,null,null,null,null,{"$f":"IF(総体入力!B106=\"\",\"\",総体入力!B106)","v":""},{"$f":"IF(総体入力!D106=\"\",\"\",総体入力!D106)","v":""},{"$f":"IF(総体入力!F106=\"\",\"\",総体入力!F106)","v":""},{"$f":"IF(総体入力!E106=\"\",\"\",総体入力!E106)","v":""},{"$f":"IF(総体入力!$H106=31,\"○\",\"\")","v":""},{"$f":"IF(総体入力!$H106=32,\"○\",\"\")","v":""},{"$f":"IF(総体入力!$H106=33,\"○\",\"\")","v":""},{"$f":"IF(総体入力!$H106=34,\"○\",\"\")","v":""},{"$f":"IF(総体入力!$H106=35,\"○\",\"\")","v":""},{"$f":"IF(総体入力!$H106=36,\"○\",\"\")","v":""},{"$f":"IF(総体入力!$H106=45,\"○\",\"\")","v":""},{"$f":"IF(総体入力!$H106=39,\"○\",\"\")","v":""},{"$f":"IF(総体入力!$H106=40,\"○\",\"\")","v":""},{"$f":"IF(総体入力!$H106=41,\"○\",\"\")","v":""},{"$f":"IF(総体入力!$H106=42,\"○\",\"\")","v":""},{"$f":"IF(総体入力!$H106=43,\"○\",\"\")","v":""},{"$f":"IF(総体入力!$I106=51,\"○\",\"\")","v":""},{"$f":"IF(総体入力!$I106=52,\"○\",\"\")","v":""}]
[{"$f":"IF(総体入力!B40=\"\",\"\",総体入力!B40)","v":""},{"$f":"IF(総体入力!D40=\"\",\"\",総体入力!D40)","v":""},{"$f":"IF(総体入力!F40=\"\",\"\",総体入力!F40)","v":""},{"$f":"IF(総体入力!E40=\"\",\"\",総体入力!E40)","v":""},{"$f":"IF(総体入力!$H40=1,\"○\",\"\")","v":""},{"$f":"IF(総体入力!$H40=2,\"○\",\"\")","v":""},{"$f":"IF(総体入力!$H40=3,\"○\",\"\")","v":""},{"$f":"IF(総体入力!$H40=4,\"○\",\"\")","v":""},{"$f":"IF(総体入力!$H40=5,\"○\",\"\")","v":""},{"$f":"IF(総体入力!$H40=6,\"○\",\"\")","v":""},{"$f":"IF(総体入力!$H40=7,\"○\",\"\")","v":""},{"$f":"IF(総体入力!$H40=8,\"○\",\"\")","v":""},{"$f":"IF(総体入力!$H40=10,\"○\",\"\")","v":""},{"$f":"IF(総体入力!$H40=11,\"○\",\"\")","v":""},{"$f":"IF(総体入力!$H40=13,\"○\",\"\")","v":""},{"$f":"IF(総体入力!$H40=14,\"○\",\"\")","v":""},{"$f":"IF(総体入力!$H40=15,\"○\",\"\")","v":""},{"$f":"IF(総体入力!$H40=16,\"○\",\"\")","v":""},{"$f":"IF(総体入力!$H40=17,\"○\",\"\")","v":""},{"$f":"IF(総体入力!I40=20,\"○\",\"\")","v":""},{"$f":"IF(総体入力!I40=21,\"○\",\"\")","v":""},null,null,null,null,null,null,null,null,{"$f":"IF(総体入力!B107=\"\",\"\",総体入力!B107)","v":""},{"$f":"IF(総体入力!D107=\"\",\"\",総体入力!D107)","v":""},{"$f":"IF(総体入力!F107=\"\",\"\",総体入力!F107)","v":""},{"$f":"IF(総体入力!E107=\"\",\"\",総体入力!E107)","v":""},{"$f":"IF(総体入力!$H107=31,\"○\",\"\")","v":""},{"$f":"IF(総体入力!$H107=32,\"○\",\"\")","v":""},{"$f":"IF(総体入力!$H107=33,\"○\",\"\")","v":""},{"$f":"IF(総体入力!$H107=34,\"○\",\"\")","v":""},{"$f":"IF(総体入力!$H107=35,\"○\",\"\")","v":""},{"$f":"IF(総体入力!$H107=36,\"○\",\"\")","v":""},{"$f":"IF(総体入力!$H107=45,\"○\",\"\")","v":""},{"$f":"IF(総体入力!$H107=39,\"○\",\"\")","v":""},{"$f":"IF(総体入力!$H107=40,\"○\",\"\")","v":""},{"$f":"IF(総体入力!$H107=41,\"○\",\"\")","v":""},{"$f":"IF(総体入力!$H107=42,\"○\",\"\")","v":""},{"$f":"IF(総体入力!$H107=43,\"○\",\"\")","v":""},{"$f":"IF(総体入力!$I107=51,\"○\",\"\")","v":""},{"$f":"IF(総体入力!$I107=52,\"○\",\"\")","v":""}]
[]
[null,null,null,null,null,null,null,null,null,null,null,null,null,null,{"$f":"IF(総体一覧表!C5=\"\",\"令和　　年　　月　　日\",TODAY())","v":"令和　　年　　月　　日"},null,null,null,null,null,null,null,null,null,null,null,null,null,null,null,null,null,null,null,null,null,null,null,null,null,null,{"$f":"IF(AF5=\"\",\"令和　　年　　月　　日\",TODAY())","v":"令和　　年　　月　　日"}]
["　秋田県中学校体育連盟　会　長",null,null,null,null,"三浦　純也",null,null,null,null,"様",null,null,null,null,null,null,null,null,null,null,null,null,null,null,null,null,null,null,"　秋田県中学校体育連盟　会　長",null,null,null,{"$f":"F39","v":"三浦　純也"},null,null,null,null,"様"]
[]
[null,{"$f":"IF(必ずお読み下さい!G12=1,\"上記の生徒は大会要項に照らし適格者であり，学校代表としてふさわしく，保護者の同意を得ておりますので，大会への参加を申し込みいたします。\",IF(必ずお読み下さい!G12=2,\"上記の生徒は大会要項に照らし適格者であり，保護者の同意を得ておりますので，大会への参加を申し込みいたします。\",\"上記の生徒は大会要項に照らし適格者であり，学校代表としてふさわしく，\n保護者の同意を得ておりますので，大会への参加を申し込みいたします。\"))","v":"上記の生徒は大会要項に照らし適格者であり，学校代表としてふさわしく，\n保護者の同意を得ておりますので，大会への参加を申し込みいたします。"},null,null,null,null,null,null,null,null,null,null,null,null,null,null,null,null,null,null,null,null,null,null,null,null,null,null,null,null,{"$f":"IF(必ずお読み下さい!G12=1,\"上記の生徒は大会要項に照らし適格者であり，学校代表としてふさわしく，保護者の同意を得ておりますので，大会への参加を申し込みいたします。\",IF(必ずお読み下さい!G12=2,\"上記の生徒は大会要項に照らし適格者であり，保護者の同意を得ておりますので，大会への参加を申し込みいたします。\",\"上記の生徒は大会要項に照らし適格者であり，学校代表としてふさわしく，\n保護者の同意を得ておりますので，大会への参加を申し込みいたします。\"))","v":"上記の生徒は大会要項に照らし適格者であり，学校代表としてふさわしく，\n保護者の同意を得ておりますので，大会への参加を申し込みいたします。"}]
[null,{"$f":"C5","v":""},null,null,null,null,null,null,null,null,{"$f":"IF(必ずお読み下さい!G12=1,\"校　長\",IF(必ずお読み下さい!G12=2,\"代　表\",\"校　長\"))","v":"校　長"},null,{"$f":"IF(総体入力!D5=\"\",\"\",総体入力!D5)","v":""},null,null,null,null,null,{"$f":"IF(必ずお読み下さい!G12=1,\"職印\",IF(必ずお読み下さい!G12=2,\"印\",\"職印\"))","v":"職印"},null,null,null,null,null,null,null,null,null,null,null,{"$f":"IF(総体入力!D70=\"\",\"\",総体入力!D70)","v":""},null,null,null,null,null,null,{"$f":"IF(必ずお読み下さい!G12=1,\"校　長\",IF(必ずお読み下さい!G12=2,\"代　表\",\"校　長\"))","v":"校　長"},null,{"$f":"IF(総体入力!D72=\"\",\"\",総体入力!D72)","v":""},null,null,null,null,{"$f":"IF(必ずお読み下さい!G12=1,\"職印\",IF(必ずお読み下さい!G12=2,\"印\",\"職印\"))","v":"職印"}]
[null,null,null,null,null,null,null,null,null,null,"監　督",null,{"$f":"IF(総体入力!D4=\"\",\"\",総体入力!D4)","v":""},null,null,null,null,null,"印",null,null,null,null,null,null,null,null,null,null,null,null,null,null,null,null,null,null,"監　督",null,{"$f":"IF(総体入力!D71=\"\",\"\",総体入力!D71)","v":""},null,null,null,null,"印"]
[]
[]
[null,"※　引率者",{"$f":"IF(総体入力!$D$6=\"\",\"\",総体入力!$D$6)","v":""},null,"代理監督者",null,null,{"$f":"IF(総体入力!$D$7=\"\",\"\",総体入力!$D$7)","v":""},null,null,null,null,"中学校　　　（氏名）",null,null,null,{"$f":"IF(総体入力!$D$8=\"\",\"\",総体入力!$D$8)","v":""},null,null,null,null,null,null,null,null,null,null,null,null,null,"※　引率者",{"$f":"IF(総体入力!$D$73=\"\",\"\",総体入力!$D$73)","v":""},null,"代理監督者",null,{"$f":"IF(総体入力!$D$74=\"\",\"\",総体入力!$D$74)","v":""},null,null,null,"中学校　　（氏名）",null,null,{"$f":"IF(総体入力!$D$75=\"\",\"\",総体入力!$D$75)","v":""}]
[null,"注）　出場種目に○をつけて下さい。男子は黒で記入して下さい。引率・監督者の特例を適用した場合は、※の欄を記入して下さい。",null,null,null,null,null,null,null,null,null,null,null,null,null,null,null,null,null,null,null,null,null,null,null,null,null,null,null,null,"注）　出場種目に○をつけて下さい。女子は赤で記入して下さい。引率・監督者の特例を適用した場合は、※の欄を記入して下さい。"]
[]
[]
[]
[]
[]
[]
[]
[]
[]
[]
[]
[]
[]
[null,{"$f":"TODAY()","v":"2024-06-04"}]
[null,{"$f":"YEAR(B61)","v":2024}]
[null,"第",{"$f":"B62-1951","v":73},"回　秋田県中学校総合体育大会　陸上競技大会参加申込書（一覧表）男子"]
[null,null,null,"回　秋田県中学校総合体育大会　陸上競技大会参加申込書（一覧表）女子"]

{"sheet":"総体個表","index":4,"n_rows":362,"n_cols":26,"rows_kept":362,"cut":false,"hidden":false,"merged":[[176,5,180,5],[176,6,180,6],[170,5,174,5],[170,4,174,4],[170,6,174,6],[175,0,175,1],[176,0,180,0],[176,1,180,1],[176,2,180,2],[176,3,180,3],[176,4,180,4],[184,0,184,1],[185,0,189,0],[185,1,189,1],[185,2,189,2],[185,6,189,6],[191,10,195,10],[191,0,195,0],[191,1,195,1],[185,4,189,4],[185,5,189,5],[186,16,186,17],[189,15,189,17],[190,0,190,1],[185,7,189,7],[185,8,189,8],[185,9,186,9],[185,10,189,10],[187,9,189,9],[185,3,189,3],[184,11,243,11],[191,13,195,13],[193,9,195,9],[191,4,195,4],[191,5,195,5],[191,6,195,6],[191,7,195,7],[191,8,195,8],[191,9,192,9],[185,13,189,13],[202,0,202,1],[197,7,201,7],[197,8,201,8],[197,9,198,9],[197,4,201,4],[203,5,207,5],[208,0,208,1],[197,5,201,5],[191,2,195,2],[191,3,195,3],[197,6,201,6],[196,0,196,1],[197,0,201,0],[197,1,201,1],[197,2,201,2],[197,3,201,3],[221,5,225,5],[221,6,225,6],[197,10,201,10],[197,13,201,13],[199,9,201,9],[209,1,213,1],[209,2,213,2],[209,3,213,3],[209,4,213,4],[214,0,214,1],[215,0,219,0],[215,1,219,1],[203,6,207,6],[203,7,207,7],[209,7,213,7],[215,4,219,4],[209,6,213,6],[215,2,219,2],[209,5,213,5],[203,0,207,0],[203,1,207,1],[203,2,207,2],[203,3,207,3],[203,4,207,4],[215,10,219,10],[209,9,210,9],[209,10,213,10],[221,7,225,7],[203,13,207,13],[205,9,207,9],[209,13,213,13],[211,9,213,9],[203,9,204,9],[203,10,207,10],[203,8,207,8],[209,8,213,8],[215,13,219,13],[217,9,219,9],[221,13,225,13],[223,9,225,9],[215,9,216,9],[221,8,225,8],[215,7,219,7],[215,8,219,8],[226,0,226,1],[227,0,231,0],[227,1,231,1],[227,2,231,2],[220,0,220,1],[221,0,225,0],[221,1,225,1],[221,2,225,2],[209,0,213,0],[232,0,232,1],[233,13,237,13],[235,9,237,9],[227,9,228,9],[215,5,219,5],[215,6,219,6],[215,3,219,3],[227,13,231,13],[229,9,231,9],[227,6,231,6],[233,7,237,7],[233,8,237,8],[233,6,237,6],[227,10,231,10],[227,8,231,8],[233,4,237,4],[233,9,234,9],[233,10,237,10],[221,3,225,3],[221,4,225,4],[221,9,222,9],[221,10,225,10],[233,0,237,0],[233,1,237,1],[239,13,243,13],[241,9,243,9],[239,7,243,7],[239,8,243,8],[239,3,243,3],[239,4,243,4],[239,5,243,5],[227,3,231,3],[227,4,231,4],[227,5,231,5],[233,5,237,5],[233,3,237,3],[239,9,240,9],[239,10,243,10],[227,7,231,7],[233,2,237,2],[239,6,243,6],[245,7,249,7],[245,8,249,8],[245,6,249,6],[244,0,244,1],[245,0,249,0],[245,1,249,1],[238,0,238,1],[239,0,243,0],[239,1,243,1],[239,2,243,2],[250,0,250,1],[251,0,255,0],[251,1,255,1],[251,2,255,2],[251,3,255,3],[251,4,255,4],[251,5,255,5],[245,13,249,13],[247,9,249,9],[245,2,249,2],[251,10,255,10],[245,4,249,4],[245,9,246,9],[245,10,249,10],[245,5,249,5],[251,6,255,6],[251,7,255,7],[251,8,255,8],[251,13,255,13],[253,9,255,9],[245,3,249,3],[244,11,303,11],[263,10,267,10],[269,3,273,3],[259,9,261,9],[251,9,252,9],[257,10,261,10],[257,7,261,7],[257,8,261,8],[263,13,267,13],[265,9,267,9],[263,7,267,7],[263,8,267,8],[268,0,268,1],[269,0,273,0],[269,1,273,1],[269,2,273,2],[269,13,273,13],[256,0,256,1],[257,0,261,0],[257,1,261,1],[257,2,261,2],[257,5,261,5],[257,3,261,3],[262,0,262,1],[263,0,267,0],[263,1,267,1],[263,2,267,2],[257,4,261,4],[257,9,258,9],[263,6,267,6],[257,6,261,6],[263,3,267,3],[263,4,267,4],[263,5,267,5],[263,9,264,9],[257,13,261,13],[269,4,273,4],[269,9,270,9],[269,10,273,10],[269,5,273,5],[275,6,279,6],[274,0,274,1],[275,0,279,0],[275,1,279,1],[275,2,279,2],[275,3,279,3],[275,4,279,4],[271,9,273,9],[275,7,279,7],[275,8,279,8],[275,5,279,5],[269,7,273,7],[269,8,273,8],[269,6,273,6],[292,0,292,1],[293,0,297,0],[293,1,297,1],[293,2,297,2],[287,10,291,10],[275,13,279,13],[277,9,279,9],[281,13,285,13],[283,9,285,9],[275,9,276,9],[281,10,285,10],[287,7,291,7],[287,8,291,8],[287,13,291,13],[289,9,291,9],[281,7,285,7],[281,8,285,8],[275,10,279,10],[281,9,282,9],[287,9,288,9],[280,0,280,1],[281,0,285,0],[281,1,285,1],[281,2,285,2],[281,5,285,5],[281,3,285,3],[286,0,286,1],[287,0,291,0],[287,1,291,1],[287,2,291,2],[281,4,285,4],[287,3,291,3],[287,4,291,4],[287,5,291,5],[298,0,298,1],[299,0,303,0],[299,1,303,1],[299,2,303,2],[299,3,303,3],[299,4,303,4],[295,9,297,9],[293,3,297,3],[299,7,303,7],[299,8,303,8],[299,5,303,5],[293,7,297,7],[293,8,297,8],[293,6,297,6],[329,3,333,3],[329,13,333,13],[331,9,333,9],[323,5,327,5],[323,6,327,6],[299,10,303,10],[293,4,297,4],[293,9,294,9],[293,10,297,10],[293,5,297,5],[299,6,303,6],[293,13,297,13],[299,13,303,13],[301,9,303,9],[305,13,309,13],[307,9,309,9],[299,9,300,9],[305,10,309,10],[305,7,309,7],[305,8,309,8],[311,7,315,7],[311,8,315,8],[304,11,363,11],[323,10,327,10],[304,0,304,1],[305,0,309,0],[305,1,309,1],[305,2,309,2],[305,5,309,5],[305,3,309,3],[310,0,310,1],[311,0,315,0],[311,1,315,1],[311,2,315,2],[305,4,309,4],[317,3,321,3],[311,10,315,10],[311,13,315,13],[313,9,315,9],[317,13,321,13],[311,9,312,9],[317,4,321,4],[317,9,318,9],[317,10,321,10],[347,7,351,7],[329,7,333,7],[329,8,333,8],[323,7,327,7],[323,8,327,8],[347,9,348,9],[347,10,351,10],[347,13,351,13],[349,9,351,9],[341,9,342,9],[341,10,345,10],[341,13,345,13],[343,9,345,9],[341,7,345,7],[341,8,345,8],[347,8,351,8],[323,9,324,9],[335,10,339,10],[335,13,339,13],[337,9,339,9],[335,9,336,9],[335,7,339,7],[335,8,339,8],[323,13,327,13],[359,13,363,13],[361,9,363,9],[359,7,363,7],[359,8,363,8],[359,9,360,9],[359,10,363,10],[353,9,354,9],[353,10,357,10],[353,7,357,7],[353,8,357,8],[353,13,357,13],[355,9,357,9],[352,0,352,1],[353,0,357,0],[353,1,357,1],[353,2,357,2],[359,5,363,5],[359,6,363,6],[347,0,351,0],[347,1,351,1],[347,2,351,2],[347,3,351,3],[347,4,351,4],[347,6,351,6],[358,0,358,1],[359,0,363,0],[359,1,363,1],[359,2,363,2],[359,3,363,3],[359,4,363,4],[353,3,357,3],[353,4,357,4],[353,5,357,5],[353,6,357,6],[347,5,351,5],[170,10,174,10],[170,3,174,3],[158,3,162,3],[158,4,162,4],[158,5,162,5],[158,6,162,6],[164,5,168,5],[164,6,168,6],[163,0,163,1],[164,0,168,0],[164,1,168,1],[164,2,168,2],[164,7,168,7],[164,8,168,8],[164,9,165,9],[164,10,168,10],[341,3,345,3],[341,4,345,4],[334,0,334,1],[335,0,339,0],[335,1,339,1],[335,2,339,2],[335,3,339,3],[335,4,339,4],[169,0,169,1],[170,0,174,0],[170,1,174,1],[170,2,174,2],[316,0,316,1],[317,0,321,0],[317,1,321,1],[317,2,321,2],[322,0,322,1],[323,0,327,0],[323,1,327,1],[323,2,327,2],[323,3,327,3],[323,4,327,4],[311,3,315,3],[311,4,315,4],[328,0,328,1],[329,0,333,0],[329,1,333,1],[329,2,333,2],[346,0,346,1],[340,0,340,1],[341,0,345,0],[341,1,345,1],[341,2,345,2],[176,8,180,8],[176,9,177,9],[176,10,180,10],[329,5,333,5],[329,6,333,6],[319,9,321,9],[341,5,345,5],[341,6,345,6],[329,4,333,4],[329,9,330,9],[329,10,333,10],[317,5,321,5],[317,7,321,7],[317,8,321,8],[317,6,321,6],[325,9,327,9],[335,5,339,5],[335,6,339,6],[305,9,306,9],[311,6,315,6],[305,6,309,6],[311,5,315,5],[287,6,291,6],[281,6,285,6],[158,13,162,13],[160,9,162,9],[170,7,174,7],[164,13,168,13],[166,9,168,9],[158,9,159,9],[158,10,162,10],[170,8,174,8],[170,9,171,9],[158,7,162,7],[158,8,162,8],[121,11,180,11],[146,8,150,8],[140,8,144,8],[140,7,144,7],[140,9,141,9],[140,10,144,10],[134,7,138,7],[134,8,138,8],[170,13,174,13],[172,9,174,9],[176,13,180,13],[178,9,180,9],[176,7,180,7],[157,0,157,1],[158,0,162,0],[158,1,162,1],[158,2,162,2],[164,3,168,3],[164,4,168,4],[152,9,153,9],[152,10,156,10],[146,13,150,13],[148,9,150,9],[152,13,156,13],[154,9,156,9],[146,9,147,9],[146,10,150,10],[152,8,156,8],[151,0,151,1],[152,0,156,0],[152,1,156,1],[152,2,156,2],[152,5,156,5],[152,6,156,6],[152,3,156,3],[152,4,156,4],[146,3,150,3],[146,4,150,4],[146,5,150,5],[146,6,150,6],[145,0,145,1],[146,0,150,0],[146,1,150,1],[146,2,150,2],[152,7,156,7],[146,7,150,7],[133,0,133,1],[134,0,138,0],[134,1,138,1],[134,2,138,2],[134,13,138,13],[136,9,138,9],[140,13,144,13],[142,9,144,9],[134,9,135,9],[134,10,138,10],[140,5,144,5],[140,6,144,6],[140,3,144,3],[140,4,144,4],[139,0,139,1],[140,0,144,0],[140,1,144,1],[140,2,144,2],[134,3,138,3],[134,4,138,4],[134,5,138,5],[134,6,138,6],[127,0,127,1],[128,0,132,0],[128,1,132,1],[128,2,132,2],[128,5,132,5],[128,6,132,6],[128,3,132,3],[128,4,132,4],[122,13,126,13],[124,9,126,9],[128,13,132,13],[130,9,132,9],[122,9,123,9],[122,10,126,10],[128,7,132,7],[128,8,132,8],[122,8,126,8],[122,7,126,7],[128,9,129,9],[128,10,132,10],[122,3,126,3],[122,4,126,4],[122,5,126,5],[122,6,126,6],[121,0,121,1],[122,0,126,0],[122,1,126,1],[122,2,126,2],[116,7,120,7],[110,13,114,13],[112,9,114,9],[116,13,120,13],[118,9,120,9],[110,9,111,9],[110,10,114,10],[116,9,117,9],[116,5,120,5],[116,6,120,6],[116,3,120,3],[116,4,120,4],[115,0,115,1],[116,0,120,0],[116,1,120,1],[116,2,120,2],[116,10,120,10],[116,8,120,8],[110,8,114,8],[109,0,109,1],[110,0,114,0],[110,1,114,1],[110,2,114,2],[110,3,114,3],[110,4,114,4],[110,5,114,5],[110,6,114,6],[110,7,114,7],[104,9,105,9],[104,10,108,10],[98,13,102,13],[100,9,102,9],[104,13,108,13],[106,9,108,9],[98,9,99,9],[98,10,102,10],[61,11,120,11],[92,9,93,9],[92,10,96,10],[86,13,90,13],[88,9,90,9],[92,13,96,13],[94,9,96,9],[86,9,87,9],[86,10,90,10],[80,9,81,9],[80,10,84,10],[74,13,78,13],[76,9,78,9],[80,13,84,13],[82,9,84,9],[74,9,75,9],[104,7,108,7],[104,8,108,8],[103,0,103,1],[104,0,108,0],[104,1,108,1],[104,2,108,2],[104,5,108,5],[104,6,108,6],[104,3,108,3],[104,4,108,4],[98,7,102,7],[98,8,102,8],[97,0,97,1],[98,0,102,0],[98,1,102,1],[98,2,102,2],[98,3,102,3],[98,4,102,4],[98,5,102,5],[98,6,102,6],[92,7,96,7],[92,8,96,8],[91,0,91,1],[92,0,96,0],[92,1,96,1],[92,2,96,2],[92,5,96,5],[92,6,96,6],[92,3,96,3],[92,4,96,4],[86,7,90,7],[86,8,90,8],[85,0,85,1],[86,0,90,0],[86,1,90,1],[86,2,90,2],[86,3,90,3],[86,4,90,4],[86,5,90,5],[86,6,90,6],[74,10,78,10],[80,7,84,7],[80,8,84,8],[79,0,79,1],[80,0,84,0],[80,1,84,1],[80,2,84,2],[80,5,84,5],[80,6,84,6],[80,3,84,3],[80,4,84,4],[74,7,78,7],[74,8,78,8],[73,0,73,1],[74,0,78,0],[74,1,78,1],[74,2,78,2],[74,3,78,3],[74,4,78,4],[74,5,78,5],[74,6,78,6],[68,9,69,9],[68,10,72,10],[62,13,66,13],[64,9,66,9],[68,13,72,13],[70,9,72,9],[62,9,63,9],[62,10,66,10],[68,7,72,7],[68,8,72,8],[62,8,66,8],[67,0,67,1],[68,0,72,0],[68,1,72,1],[68,2,72,2],[68,5,72,5],[68,6,72,6],[68,3,72,3],[68,4,72,4],[62,7,66,7],[61,0,61,1],[62,0,66,0],[62,1,66,1],[62,2,66,2],[62,3,66,3],[62,4,66,4],[62,5,66,5],[62,6,66,6],[56,9,57,9],[56,10,60,10],[50,13,54,13],[52,9,54,9],[56,13,60,13],[58,9,60,9],[50,9,51,9],[50,10,54,10],[1,11,60,11],[56,7,60,7],[56,8,60,8],[50,8,54,8],[44,10,48,10],[38,13,42,13],[40,9,42,9],[44,13,48,13],[38,9,39,9],[38,10,42,10],[38,8,42,8],[32,10,36,10],[26,13,30,13],[28,9,30,9],[32,13,36,13],[26,9,27,9],[26,10,30,10],[55,0,55,1],[56,0,60,0],[56,1,60,1],[56,2,60,2],[56,5,60,5],[56,6,60,6],[56,3,60,3],[56,4,60,4],[50,7,54,7],[49,0,49,1],[50,0,54,0],[50,1,54,1],[50,2,54,2],[50,3,54,3],[50,4,54,4],[50,5,54,5],[50,6,54,6],[44,9,45,9],[46,9,48,9],[44,7,48,7],[44,8,48,8],[43,0,43,1],[44,0,48,0],[44,1,48,1],[44,2,48,2],[44,5,48,5],[44,6,48,6],[44,3,48,3],[44,4,48,4],[38,7,42,7],[37,0,37,1],[38,0,42,0],[38,1,42,1],[38,2,42,2],[38,3,42,3],[38,4,42,4],[38,5,42,5],[38,6,42,6],[32,9,33,9],[34,9,36,9],[32,7,36,7],[32,8,36,8],[31,0,31,1],[32,0,36,0],[32,1,36,1],[32,2,36,2],[32,5,36,5],[32,6,36,6],[32,3,36,3],[32,4,36,4],[14,13,18,13],[16,9,18,9],[20,13,24,13],[22,9,24,9],[14,9,15,9],[14,10,18,10],[20,9,21,9],[20,10,24,10],[26,7,30,7],[26,8,30,8],[26,5,30,5],[26,6,30,6],[14,6,18,6],[13,0,13,1],[14,0,18,0],[14,1,18,1],[14,2,18,2],[14,3,18,3],[26,3,30,3],[26,4,30,4],[14,7,18,7],[14,8,18,8],[20,7,24,7],[20,8,24,8],[14,5,18,5],[8,13,12,13],[10,9,12,9],[8,0,12,0],[8,1,12,1],[8,8,12,8],[8,9,9,9],[8,10,12,10],[2,3,6,3],[8,7,12,7],[3,16,3,17],[6,15,6,17],[7,0,7,1],[2,7,6,7],[2,8,6,8],[2,6,6,6],[2,13,6,13],[2,9,3,9],[2,10,6,10],[4,9,6,9],[1,0,1,1],[2,0,6,0],[2,1,6,1],[2,2,6,2],[8,2,12,2],[26,0,30,0],[20,5,24,5],[20,6,24,6],[26,1,30,1],[26,2,30,2],[20,0,24,0],[20,1,24,1],[20,2,24,2],[20,3,24,3],[20,4,24,4],[14,4,18,4],[8,3,12,3],[8,4,12,4],[8,5,12,5],[8,6,12,6],[2,4,6,4],[2,5,6,5],[25,0,25,1],[19,0,19,1]]}
["県総体"]
["総体種目",null,"組","レーン・順","ナンバーカード","名　　　前","学　　校","学年","色","郡市・順位","ベスト記録","１ページ目",null,"種目コード",null,null,null,null,null,"男子"]
[{"$f":"IF(F3=\"\",\"\",VLOOKUP(N3,P$8:R$33,2))","v":""},{"$f":"IF(F3=\"\",\"\",VLOOKUP(N3,P$8:R$33,3))","v":""},null,null,{"$f":"IF(総体入力!B11=\"\",\"\",総体入力!B11)","v":""},{"$f":"IF(総体入力!D11=\"\",\"\",総体入力!D11)","v":""},{"$f":"IF(F3=\"\",\"\",総体入力!K$3)","v":""},{"$f":"IF(総体入力!E11=\"\",\"\",総体入力!E11)","v":""},null,{"$f":"IF(F3=\"\",\"\",VLOOKUP($Z$3,総体入力!$W$29:$X$39,2,FALSE))","v":""},{"$f":"IF(総体入力!K11=\"\",\"\",総体入力!K11)","v":""},null,null,{"$f":"総体入力!H11","v":""},null,null,null,null,null,null,null,"１～１０",null,null,null,{"$f":"IF(総体入力!K4=\"\",\"\",VLOOKUP(総体入力!K4,総体入力!$X$29:$Y$40,2,FALSE))","v":""}]
[]
[null,null,null,null,null,null,null,null,null,{"$f":"IF(総体入力!L11=\"\",\"\",総体入力!L11)","v":""}]
[null,null,null,null,null,null,null,null,null,null,null,null,null,null,null,null,null,null,null,null,null,"１１～２０"]
[null,null,null,null,null,null,null,null,null,null,null,null,null,null,null,"種目コード一覧"]
["総体種目",null,"組","レーン・順","ナンバーカード","名　　　前","学　　校","学年","色","郡市・順位","ベスト記録",null,null,"種目コード",null,{"$f":"VLOOKUP(R8,種目コード一覧!$A$3:$B$20,2,FALSE)","v":1},"男","１年１００ｍ"]
[{"$f":"IF(F9=\"\",\"\",VLOOKUP(N9,P$8:R$33,2))","v":""},{"$f":"IF(F9=\"\",\"\",VLOOKUP(N9,P$8:R$33,3))","v":""},null,null,{"$f":"IF(総体入力!B12=\"\",\"\",総体入力!B12)","v":""},{"$f":"IF(総体入力!D12=\"\",\"\",総体入力!D12)","v":""},{"$f":"IF(F9=\"\",\"\",総体入力!K$3)","v":""},{"$f":"IF(総体入力!E12=\"\",\"\",総体入力!E12)","v":""},null,{"$f":"IF(F9=\"\",\"\",VLOOKUP($Z$3,総体入力!$W$29:$X$39,2,FALSE))","v":""},{"$f":"IF(総体入力!K12=\"\",\"\",総体入力!K12)","v":""},null,null,{"$f":"総体入力!H12","v":""},null,{"$f":"VLOOKUP(R9,種目コード一覧!$A$3:$B$20,2,FALSE)","v":2},"男","２年１００ｍ",null,null,null,"２１～３０"]
[null,null,null,null,null,null,null,null,null,null,null,null,null,null,null,{"$f":"VLOOKUP(R10,種目コード一覧!$A$3:$B$20,2,FALSE)","v":3},"男","３年１００ｍ"]
[null,null,null,null,null,null,null,null,null,{"$f":"IF(総体入力!L12=\"\",\"\",総体入力!L12)","v":""},null,null,null,null,null,{"$f":"VLOOKUP(R11,種目コード一覧!$A$3:$B$20,2,FALSE)","v":4},"男","共通２００ｍ"]
[null,null,null,null,null,null,null,null,null,null,null,null,null,null,null,{"$f":"VLOOKUP(R12,種目コード一覧!$A$3:$B$20,2,FALSE)","v":5},"男","共通４００ｍ"]
[null,null,null,null,null,null,null,null,null,null,null,null,null,null,null,{"$f":"VLOOKUP(R13,種目コード一覧!$A$3:$B$20,2,FALSE)","v":6},"男","共通８００ｍ",null,"各郡市色塗り"]
["総体種目",null,"組","レーン・順","ナンバーカード","名　　　前","学　　校","学年","色","郡市・順位","ベスト記録",null,null,"種目コード",null,{"$f":"VLOOKUP(R14,種目コード一覧!$A$3:$B$20,2,FALSE)","v":7},"男","１年１５００ｍ",null,"該当する郡市のボタンをクリック"]
[{"$f":"IF(F15=\"\",\"\",VLOOKUP(N15,P$8:R$33,2))","v":""},{"$f":"IF(F15=\"\",\"\",VLOOKUP(N15,P$8:R$33,3))","v":""},null,null,{"$f":"IF(総体入力!B13=\"\",\"\",総体入力!B13)","v":""},{"$f":"IF(総体入力!D13=\"\",\"\",総体入力!D13)","v":""},{"$f":"IF(F15=\"\",\"\",総体入力!K$3)","v":""},{"$f":"IF(総体入力!E13=\"\",\"\",総体入力!E13)","v":""},null,{"$f":"IF(F15=\"\",\"\",VLOOKUP($Z$3,総体入力!$W$29:$X$39,2,FALSE))","v":""},{"$f":"IF(総体入力!K13=\"\",\"\",総体入力!K13)","v":""},null,null,{"$f":"総体入力!H13","v":""},null,{"$f":"VLOOKUP(R15,種目コード一覧!$A$3:$B$20,2,FALSE)","v":8},"男","２・３年１５００ｍ"]
[null,null,null,null,null,null,null,null,null,null,null,null,null,null,null,{"$f":"VLOOKUP(R16,種目コード一覧!$A$3:$B$20,2,FALSE)","v":10},"男","共通３０００ｍ"]
[null,null,null,null,null,null,null,null,null,{"$f":"IF(総体入力!L13=\"\",\"\",総体入力!L13)","v":""},null,null,null,null,null,{"$f":"VLOOKUP(R17,種目コード一覧!$A$3:$B$20,2,FALSE)","v":11},"男","共通１１０ｍＨ"]
[null,null,null,null,null,null,null,null,null,null,null,null,null,null,null,{"$f":"VLOOKUP(R18,種目コード一覧!$A$3:$B$20,2,FALSE)","v":13},"男","共通走高跳"]
[null,null,null,null,null,null,null,null,null,null,null,null,null,null,null,{"$f":"VLOOKUP(R19,種目コード一覧!$A$3:$B$20,2,FALSE)","v":14},"男","共通棒高跳"]
["総体種目",null,"組","レーン・順","ナンバーカード","名　　　前","学　　校","学年","色","郡市・順位","ベスト記録",null,null,"種目コード",null,{"$f":"VLOOKUP(R20,種目コード一覧!$A$3:$B$20,2,FALSE)","v":15},"男","共通走幅跳"]
[{"$f":"IF(F21=\"\",\"\",VLOOKUP(N21,P$8:R$33,2))","v":""},{"$f":"IF(F21=\"\",\"\",VLOOKUP(N21,P$8:R$33,3))","v":""},null,null,{"$f":"IF(総体入力!B14=\"\",\"\",総体入力!B14)","v":""},{"$f":"IF(総体入力!D14=\"\",\"\",総体入力!D14)","v":""},{"$f":"IF(F21=\"\",\"\",総体入力!K$3)","v":""},{"$f":"IF(総体入力!E14=\"\",\"\",総体入力!E14)","v":""},null,{"$f":"IF(F21=\"\",\"\",VLOOKUP($Z$3,総体入力!$W$29:$X$39,2,FALSE))","v":""},{"$f":"IF(総体入力!K14=\"\",\"\",総体入力!K14)","v":""},null,null,{"$f":"総体入力!H14","v":""},null,{"$f":"VLOOKUP(R21,種目コード一覧!$A$3:$B$20,2,FALSE)","v":16},"男","共通砲丸投"]
[null,null,null,null,null,null,null,null,null,null,null,null,null,null,null,{"$f":"VLOOKUP(R22,種目コード一覧!$A$3:$B$20,2,FALSE)","v":17},"男","共通四種競技"]
[null,null,null,null,null,null,null,null,null,{"$f":"IF(総体入力!L14=\"\",\"\",総体入力!L14)","v":""}]
[]
[]
["総体種目",null,"組","レーン・順","ナンバーカード","名　　　前","学　　校","学年","色","郡市・順位","ベスト記録",null,null,"種目コード"]
[{"$f":"IF(F27=\"\",\"\",VLOOKUP(N27,P$8:R$33,2))","v":""},{"$f":"IF(F27=\"\",\"\",VLOOKUP(N27,P$8:R$33,3))","v":""},null,null,{"$f":"IF(総体入力!B15=\"\",\"\",総体入力!B15)","v":""},{"$f":"IF(総体入力!D15=\"\",\"\",総体入力!D15)","v":""},{"$f":"IF(F27=\"\",\"\",総体入力!K$3)","v":""},{"$f":"IF(総体入力!E15=\"\",\"\",総体入力!E15)","v":""},null,{"$f":"IF(F27=\"\",\"\",VLOOKUP($Z$3,総体入力!$W$29:$X$39,2,FALSE))","v":""},{"$f":"IF(総体入力!K15=\"\",\"\",総体入力!K15)","v":""},null,null,{"$f":"総体入力!H15","v":""}]
[]
[null,null,null,null,null,null,null,null,null,{"$f":"IF(総体入力!L15=\"\",\"\",総体入力!L15)","v":""}]
[]
[]
["総体種目",null,"組","レーン・順","ナンバーカード","名　　　前","学　　校","学年","色","郡市・順位","ベスト記録",null,null,"種目コード"]
[{"$f":"IF(F33=\"\",\"\",VLOOKUP(N33,P$8:R$33,2))","v":""},{"$f":"IF(F33=\"\",\"\",VLOOKUP(N33,P$8:R$33,3))","v":""},null,null,{"$f":"IF(総体入力!B16=\"\",\"\",総体入力!B16)","v":""},{"$f":"IF(総体入力!D16=\"\",\"\",総体入力!D16)","v":""},{"$f":"IF(F33=\"\",\"\",総体入力!K$3)","v":""},{"$f":"IF(総体入力!E16=\"\",\"\",総体入力!E16)","v":""},null,{"$f":"IF(F33=\"\",\"\",VLOOKUP($Z$3,総体入力!$W$29:$X$39,2,FALSE))","v":""},{"$f":"IF(総体入力!K16=\"\",\"\",総体入力!K16)","v":""},null,null,{"$f":"総体入力!H16","v":""}]
[]
[null,null,null,null,null,null,null,null,null,{"$f":"IF(総体入力!L16=\"\",\"\",総体入力!L16)","v":""}]
[]
[]
["総体種目",null,"組","レーン・順","ナンバーカード","名　　　前","学　　校","学年","色","郡市・順位","ベスト記録",null,null,"種目コード"]
[{"$f":"IF(F39=\"\",\"\",VLOOKUP(N39,P$8:R$33,2))","v":""},{"$f":"IF(F39=\"\",\"\",VLOOKUP(N39,P$8:R$33,3))","v":""},null,null,{"$f":"IF(総体入力!B17=\"\",\"\",総体入力!B17)","v":""},{"$f":"IF(総体入力!D17=\"\",\"\",総体入力!D17)","v":""},{"$f":"IF(F39=\"\",\"\",総体入力!K$3)","v":""},{"$f":"IF(総体入力!E17=\"\",\"\",総体入力!E17)","v":""},null,{"$f":"IF(F39=\"\",\"\",VLOOKUP($Z$3,総体入力!$W$29:$X$39,2,FALSE))","v":""},{"$f":"IF(総体入力!K17=\"\",\"\",総体入力!K17)","v":""},null,null,{"$f":"総体入力!H17","v":""}]
[]
[null,null,null,null,null,null,null,null,null,{"$f":"IF(総体入力!L17=\"\",\"\",総体入力!L17)","v":""}]
[]
[]
["総体種目",null,"組","レーン・順","ナンバーカード","名　　　前","学　　校","学年","色","郡市・順位","ベスト記録",null,null,"種目コード"]
[{"$f":"IF(F45=\"\",\"\",VLOOKUP(N45,P$8:R$33,2))","v":""},{"$f":"IF(F45=\"\",\"\",VLOOKUP(N45,P$8:R$33,3))","v":""},null,null,{"$f":"IF(総体入力!B18=\"\",\"\",総体入力!B18)","v":""},{"$f":"IF(総体入力!D18=\"\",\"\",総体入力!D18)","v":""},{"$f":"IF(F45=\"\",\"\",総体入力!K$3)","v":""},{"$f":"IF(総体入力!E18=\"\",\"\",総体入力!E18)","v":""},null,{"$f":"IF(F45=\"\",\"\",VLOOKUP($Z$3,総体入力!$W$29:$X$39,2,FALSE))","v":""},{"$f":"IF(総体入力!K18=\"\",\"\",総体入力!K18)","v":""},null,null,{"$f":"総体入力!H18","v":""}]
[]
[null,null,null,null,null,null,null,null,null,{"$f":"IF(総体入力!L18=\"\",\"\",総体入力!L18)","v":""}]
[]
[]
["総体種目",null,"組","レーン・順","ナンバーカード","名　　　前","学　　校","学年","色","郡市・順位","ベスト記録",null,null,"種目コード"]
[{"$f":"IF(F51=\"\",\"\",VLOOKUP(N51,P$8:R$33,2))","v":""},{"$f":"IF(F51=\"\",\"\",VLOOKUP(N51,P$8:R$33,3))","v":""},null,null,{"$f":"IF(総体入力!B19=\"\",\"\",総体入力!B19)","v":""},{"$f":"IF(総体入力!D19=\"\",\"\",総体入力!D19)","v":""},{"$f":"IF(F51=\"\",\"\",総体入力!K$3)","v":""},{"$f":"IF(総体入力!E19=\"\",\"\",総体入力!E19)","v":""},null,{"$f":"IF(F51=\"\",\"\",VLOOKUP($Z$3,総体入力!$W$29:$X$39,2,FALSE))","v":""},{"$f":"IF(総体入力!K19=\"\",\"\",総体入力!K19)","v":""},null,null,{"$f":"総体入力!H19","v":""}]
[]
[null,null,null,null,null,null,null,null,null,{"$f":"IF(総体入力!L19=\"\",\"\",総体入力!L19)","v":""}]
[]
[]
["総体種目",null,"組","レーン・順","ナンバーカード","名　　　前","学　　校","学年","色","郡市・順位","ベスト記録",null,null,"種目コード"]
[{"$f":"IF(F57=\"\",\"\",VLOOKUP(N57,P$8:R$33,2))","v":""},{"$f":"IF(F57=\"\",\"\",VLOOKUP(N57,P$8:R$33,3))","v":""},null,null,{"$f":"IF(総体入力!B20=\"\",\"\",総体入力!B20)","v":""},{"$f":"IF(総体入力!D20=\"\",\"\",総体入力!D20)","v":""},{"$f":"IF(F57=\"\",\"\",総体入力!K$3)","v":""},{"$f":"IF(総体入力!E20=\"\",\"\",総体入力!E20)","v":""},null,{"$f":"IF(F57=\"\",\"\",VLOOKUP($Z$3,総体入力!$W$29:$X$39,2,FALSE))","v":""},{"$f":"IF(総体入力!K20=\"\",\"\",総体入力!K20)","v":""},null,null,{"$f":"総体入力!H20","v":""}]
[]
[null,null,null,null,null,null,null,null,null,{"$f":"IF(総体入力!L20=\"\",\"\",総体入力!L20)","v":""}]
[]
[]
["総体種目",null,"組","レーン・順","ナンバーカード","名　　　前","学　　校","学年","色","郡市・順位","ベスト記録","２ページ目",null,"種目コード"]
[{"$f":"IF(F63=\"\",\"\",VLOOKUP(N63,P$8:R$33,2))","v":""},{"$f":"IF(F63=\"\",\"\",VLOOKUP(N63,P$8:R$33,3))","v":""},null,null,{"$f":"IF(総体入力!B21=\"\",\"\",総体入力!B21)","v":""},{"$f":"IF(総体入力!D21=\"\",\"\",総体入力!D21)","v":""},{"$f":"IF(F63=\"\",\"\",総体入力!K$3)","v":""},{"$f":"IF(総体入力!E21=\"\",\"\",総体入力!E21)","v":""},null,{"$f":"IF(F63=\"\",\"\",VLOOKUP($Z$3,総体入力!$W$29:$X$39,2,FALSE))","v":""},{"$f":"IF(総体入力!K21=\"\",\"\",総体入力!K21)","v":""},null,null,{"$f":"総体入力!H21","v":""}]
[]
[null,null,null,null,null,null,null,null,null,{"$f":"IF(総体入力!L21=\"\",\"\",総体入力!L21)","v":""}]
[]
[]
["総体種目",null,"組","レーン・順","ナンバーカード","名　　　前","学　　校","学年","色","郡市・順位","ベスト記録",null,null,"種目コード"]
[{"$f":"IF(F69=\"\",\"\",VLOOKUP(N69,P$8:R$33,2))","v":""},{"$f":"IF(F69=\"\",\"\",VLOOKUP(N69,P$8:R$33,3))","v":""},null,null,{"$f":"IF(総体入力!B22=\"\",\"\",総体入力!B22)","v":""},{"$f":"IF(総体入力!D22=\"\",\"\",総体入力!D22)","v":""},{"$f":"IF(F69=\"\",\"\",総体入力!K$3)","v":""},{"$f":"IF(総体入力!E22=\"\",\"\",総体入力!E22)","v":""},null,{"$f":"IF(F69=\"\",\"\",VLOOKUP($Z$3,総体入力!$W$29:$X$39,2,FALSE))","v":""},{"$f":"IF(総体入力!K22=\"\",\"\",総体入力!K22)","v":""},null,null,{"$f":"総体入力!H22","v":""}]
[]
[null,null,null,null,null,null,null,null,null,{"$f":"IF(総体入力!L22=\"\",\"\",総体入力!L22)","v":""}]
[]
[]
["総体種目",null,"組","レーン・順","ナンバーカード","名　　　前","学　　校","学年","色","郡市・順位","ベスト記録",null,null,"種目コード"]
[{"$f":"IF(F75=\"\",\"\",VLOOKUP(N75,P$8:R$33,2))","v":""},{"$f":"IF(F75=\"\",\"\",VLOOKUP(N75,P$8:R$33,3))","v":""},null,null,{"$f":"IF(総体入力!B23=\"\",\"\",総体入力!B23)","v":""},{"$f":"IF(総体入力!D23=\"\",\"\",総体入力!D23)","v":""},{"$f":"IF(F75=\"\",\"\",総体入力!K$3)","v":""},{"$f":"IF(総体入力!E23=\"\",\"\",総体入力!E23)","v":""},null,{"$f":"IF(F75=\"\",\"\",VLOOKUP($Z$3,総体入力!$W$29:$X$39,2,FALSE))","v":""},{"$f":"IF(総体入力!K23=\"\",\"\",総体入力!K23)","v":""},null,null,{"$f":"総体入力!H23","v":""}]
[]
[null,null,null,null,null,null,null,null,null,{"$f":"IF(総体入力!L23=\"\",\"\",総体入力!L23)","v":""}]
[]
[]
["総体種目",null,"組","レーン・順","ナンバーカード","名　　　前","学　　校","学年","色","郡市・順位","ベスト記録",null,null,"種目コード"]
[{"$f":"IF(F81=\"\",\"\",VLOOKUP(N81,P$8:R$33,2))","v":""},{"$f":"IF(F81=\"\",\"\",VLOOKUP(N81,P$8:R$33,3))","v":""},null,null,{"$f":"IF(総体入力!B24=\"\",\"\",総体入力!B24)","v":""},{"$f":"IF(総体入力!D24=\"\",\"\",総体入力!D24)","v":""},{"$f":"IF(F81=\"\",\"\",総体入力!K$3)","v":""},{"$f":"IF(総体入力!E24=\"\",\"\",総体入力!E24)","v":""},null,{"$f":"IF(F81=\"\",\"\",VLOOKUP($Z$3,総体入力!$W$29:$X$39,2,FALSE))","v":""},{"$f":"IF(総体入力!K24=\"\",\"\",総体入力!K24)","v":""},null,null,{"$f":"総体入力!H24","v":""}]
[]
[null,null,null,null,null,null,null,null,null,{"$f":"IF(総体入力!L24=\"\",\"\",総体入力!L24)","v":""}]
[]
[]
["総体種目",null,"組","レーン・順","ナンバーカード","名　　　前","学　　校","学年","色","郡市・順位","ベスト記録",null,null,"種目コード"]
[{"$f":"IF(F87=\"\",\"\",VLOOKUP(N87,P$8:R$33,2))","v":""},{"$f":"IF(F87=\"\",\"\",VLOOKUP(N87,P$8:R$33,3))","v":""},null,null,{"$f":"IF(総体入力!B25=\"\",\"\",総体入力!B25)","v":""},{"$f":"IF(総体入力!D25=\"\",\"\",総体入力!D25)","v":""},{"$f":"IF(F87=\"\",\"\",総体入力!K$3)","v":""},{"$f":"IF(総体入力!E25=\"\",\"\",総体入力!E25)","v":""},null,{"$f":"IF(F87=\"\",\"\",VLOOKUP($Z$3,総体入力!$W$29:$X$39,2,FALSE))","v":""},{"$f":"IF(総体入力!K25=\"\",\"\",総体入力!K25)","v":""},null,null,{"$f":"総体入力!H25","v":""}]
[]
[null,null,null,null,null,null,null,null,null,{"$f":"IF(総体入力!L25=\"\",\"\",総体入力!L25)","v":""}]
[]
[]
["総体種目",null,"組","レーン・順","ナンバーカード","名　　　前","学　　校","学年","色","郡市・順位","ベスト記録",null,null,"種目コード"]
[{"$f":"IF(F93=\"\",\"\",VLOOKUP(N93,P$8:R$33,2))","v":""},{"$f":"IF(F93=\"\",\"\",VLOOKUP(N93,P$8:R$33,3))","v":""},null,null,{"$f":"IF(総体入力!B26=\"\",\"\",総体入力!B26)","v":""},{"$f":"IF(総体入力!D26=\"\",\"\",総体入力!D26)","v":""},{"$f":"IF(F93=\"\",\"\",総体入力!K$3)","v":""},{"$f":"IF(総体入力!E26=\"\",\"\",総体入力!E26)","v":""},null,{"$f":"IF(F93=\"\",\"\",VLOOKUP($Z$3,総体入力!$W$29:$X$39,2,FALSE))","v":""},{"$f":"IF(総体入力!K26=\"\",\"\",総体入力!K26)","v":""},null,null,{"$f":"総体入力!H26","v":""}]
[]
[null,null,null,null,null,null,null,null,null,{"$f":"IF(総体入力!L26=\"\",\"\",総体入力!L26)","v":""}]
[]
[]
["総体種目",null,"組","レーン・順","ナンバーカード","名　　　前","学　　校","学年","色","郡市・順位","ベスト記録",null,null,"種目コード"]
[{"$f":"IF(F99=\"\",\"\",VLOOKUP(N99,P$8:R$33,2))","v":""},{"$f":"IF(F99=\"\",\"\",VLOOKUP(N99,P$8:R$33,3))","v":""},null,null,{"$f":"IF(総体入力!B27=\"\",\"\",総体入力!B27)","v":""},{"$f":"IF(総体入力!D27=\"\",\"\",総体入力!D27)","v":""},{"$f":"IF(F99=\"\",\"\",総体入力!K$3)","v":""},{"$f":"IF(総体入力!E27=\"\",\"\",総体入力!E27)","v":""},null,{"$f":"IF(F99=\"\",\"\",VLOOKUP($Z$3,総体入力!$W$29:$X$39,2,FALSE))","v":""},{"$f":"IF(総体入力!K27=\"\",\"\",総体入力!K27)","v":""},null,null,{"$f":"総体入力!H27","v":""}]
[]
[null,null,null,null,null,null,null,null,null,{"$f":"IF(総体入力!L27=\"\",\"\",総体入力!L27)","v":""}]
[]
[]
["総体種目",null,"組","レーン・順","ナンバーカード","名　　　前","学　　校","学年","色","郡市・順位","ベスト記録",null,null,"種目コード"]
[{"$f":"IF(F105=\"\",\"\",VLOOKUP(N105,P$8:R$33,2))","v":""},{"$f":"IF(F105=\"\",\"\",VLOOKUP(N105,P$8:R$33,3))","v":""},null,null,{"$f":"IF(総体入力!B28=\"\",\"\",総体入力!B28)","v":""},{"$f":"IF(総体入力!D28=\"\",\"\",総体入力!D28)","v":""},{"$f":"IF(F105=\"\",\"\",総体入力!K$3)","v":""},{"$f":"IF(総体入力!E28=\"\",\"\",総体入力!E28)","v":""},null,{"$f":"IF(F105=\"\",\"\",VLOOKUP($Z$3,総体入力!$W$29:$X$39,2,FALSE))","v":""},{"$f":"IF(総体入力!K28=\"\",\"\",総体入力!K28)","v":""},null,null,{"$f":"総体入力!H28","v":""}]
[]
[null,null,null,null,null,null,null,null,null,{"$f":"IF(総体入力!L28=\"\",\"\",総体入力!L28)","v":""}]
[]
[]
["総体種目",null,"組","レーン・順","ナンバーカード","名　　　前","学　　校","学年","色","郡市・順位","ベスト記録",null,null,"種目コード"]
[{"$f":"IF(F111=\"\",\"\",VLOOKUP(N111,P$8:R$33,2))","v":""},{"$f":"IF(F111=\"\",\"\",VLOOKUP(N111,P$8:R$33,3))","v":""},null,null,{"$f":"IF(総体入力!B29=\"\",\"\",総体入力!B29)","v":""},{"$f":"IF(総体入力!D29=\"\",\"\",総体入力!D29)","v":""},{"$f":"IF(F111=\"\",\"\",総体入力!K$3)","v":""},{"$f":"IF(総体入力!E29=\"\",\"\",総体入力!E29)","v":""},null,{"$f":"IF(F111=\"\",\"\",VLOOKUP($Z$3,総体入力!$W$29:$X$39,2,FALSE))","v":""},{"$f":"IF(総体入力!K29=\"\",\"\",総体入力!K29)","v":""},null,null,{"$f":"総体入力!H29","v":""}]
[]
[null,null,null,null,null,null,null,null,null,{"$f":"IF(総体入力!L29=\"\",\"\",総体入力!L29)","v":""}]
[]
[]
["総体種目",null,"組","レーン・順","ナンバーカード","名　　　前","学　　校","学年","色","郡市・順位","ベスト記録",null,null,"種目コード"]
[{"$f":"IF(F117=\"\",\"\",VLOOKUP(N117,P$8:R$33,2))","v":""},{"$f":"IF(F117=\"\",\"\",VLOOKUP(N117,P$8:R$33,3))","v":""},null,null,{"$f":"IF(総体入力!B30=\"\",\"\",総体入力!B30)","v":""},{"$f":"IF(総体入力!D30=\"\",\"\",総体入力!D30)","v":""},{"$f":"IF(F117=\"\",\"\",総体入力!K$3)","v":""},{"$f":"IF(総体入力!E30=\"\",\"\",総体入力!E30)","v":""},null,{"$f":"IF(F117=\"\",\"\",VLOOKUP($Z$3,総体入力!$W$29:$X$39,2,FALSE))","v":""},{"$f":"IF(総体入力!K30=\"\",\"\",総体入力!K30)","v":""},null,null,{"$f":"総体入力!H30","v":""}]
[]
[null,null,null,null,null,null,null,null,null,{"$f":"IF(総体入力!L30=\"\",\"\",総体入力!L30)","v":""}]
[]
[]
["総体種目",null,"組","レーン・順","ナンバーカード","名　　　前","学　　校","学年","色","郡市・順位","ベスト記録","３ページ目",null,"種目コード"]
[{"$f":"IF(F123=\"\",\"\",VLOOKUP(N123,P$8:R$33,2))","v":""},{"$f":"IF(F123=\"\",\"\",VLOOKUP(N123,P$8:R$33,3))","v":""},null,null,{"$f":"IF(総体入力!B31=\"\",\"\",総体入力!B31)","v":""},{"$f":"IF(総体入力!D31=\"\",\"\",総体入力!D31)","v":""},{"$f":"IF(F123=\"\",\"\",総体入力!K$3)","v":""},{"$f":"IF(総体入力!E31=\"\",\"\",総体入力!E31)","v":""},null,{"$f":"IF(F123=\"\",\"\",VLOOKUP($Z$3,総体入力!$W$29:$X$39,2,FALSE))","v":""},{"$f":"IF(総体入力!K31=\"\",\"\",総体入力!K31)","v":""},null,null,{"$f":"総体入力!H31","v":""}]
[]
[null,null,null,null,null,null,null,null,null,{"$f":"IF(総体入力!L31=\"\",\"\",総体入力!L31)","v":""}]
[]
[]
["総体種目",null,"組","レーン・順","ナンバーカード","名　　　前","学　　校","学年","色","郡市・順位","ベスト記録",null,null,"種目コード"]
[{"$f":"IF(F129=\"\",\"\",VLOOKUP(N129,P$8:R$33,2))","v":""},{"$f":"IF(F129=\"\",\"\",VLOOKUP(N129,P$8:R$33,3))","v":""},null,null,{"$f":"IF(総体入力!B32=\"\",\"\",総体入力!B32)","v":""},{"$f":"IF(総体入力!D32=\"\",\"\",総体入力!D32)","v":""},{"$f":"IF(F129=\"\",\"\",総体入力!K$3)","v":""},{"$f":"IF(総体入力!E32=\"\",\"\",総体入力!E32)","v":""},null,{"$f":"IF(F129=\"\",\"\",VLOOKUP($Z$3,総体入力!$W$29:$X$39,2,FALSE))","v":""},{"$f":"IF(総体入力!K32=\"\",\"\",総体入力!K32)","v":""},null,null,{"$f":"総体入力!H32","v":""}]
[]
[null,null,null,null,null,null,null,null,null,{"$f":"IF(総体入力!L32=\"\",\"\",総体入力!L32)","v":""}]
[]
[]
["総体種目",null,"組","レーン・順","ナンバーカード","名　　　前","学　　校","学年","色","郡市・順位","ベスト記録",null,null,"種目コード"]
[{"$f":"IF(F135=\"\",\"\",VLOOKUP(N135,P$8:R$33,2))","v":""},{"$f":"IF(F135=\"\",\"\",VLOOKUP(N135,P$8:R$33,3))","v":""},null,null,{"$f":"IF(総体入力!B33=\"\",\"\",総体入力!B33)","v":""},{"$f":"IF(総体入力!D33=\"\",\"\",総体入力!D33)","v":""},{"$f":"IF(F135=\"\",\"\",総体入力!K$3)","v":""},{"$f":"IF(総体入力!E33=\"\",\"\",総体入力!E33)","v":""},null,{"$f":"IF(F135=\"\",\"\",VLOOKUP($Z$3,総体入力!$W$29:$X$39,2,FALSE))","v":""},{"$f":"IF(総体入力!K33=\"\",\"\",総体入力!K33)","v":""},null,null,{"$f":"総体入力!H33","v":""}]
[]
[null,null,null,null,null,null,null,null,null,{"$f":"IF(総体入力!L33=\"\",\"\",総体入力!L33)","v":""}]
[]
[]
["総体種目",null,"組","レーン・順","ナンバーカード","名　　　前","学　　校","学年","色","郡市・順位","ベスト記録",null,null,"種目コード"]
[{"$f":"IF(F141=\"\",\"\",VLOOKUP(N141,P$8:R$33,2))","v":""},{"$f":"IF(F141=\"\",\"\",VLOOKUP(N141,P$8:R$33,3))","v":""},null,null,{"$f":"IF(総体入力!B34=\"\",\"\",総体入力!B34)","v":""},{"$f":"IF(総体入力!D34=\"\",\"\",総体入力!D34)","v":""},{"$f":"IF(F141=\"\",\"\",総体入力!K$3)","v":""},{"$f":"IF(総体入力!E34=\"\",\"\",総体入力!E34)","v":""},null,{"$f":"IF(F141=\"\",\"\",VLOOKUP($Z$3,総体入力!$W$29:$X$39,2,FALSE))","v":""},{"$f":"IF(総体入力!K34=\"\",\"\",総体入力!K34)","v":""},null,null,{"$f":"総体入力!H34","v":""}]
[]
[null,null,null,null,null,null,null,null,null,{"$f":"IF(総体入力!L34=\"\",\"\",総体入力!L34)","v":""}]
[]
[]
["総体種目",null,"組","レーン・順","ナンバーカード","名　　　前","学　　校","学年","色","郡市・順位","ベスト記録",null,null,"種目コード"]
[{"$f":"IF(F147=\"\",\"\",VLOOKUP(N147,P$8:R$33,2))","v":""},{"$f":"IF(F147=\"\",\"\",VLOOKUP(N147,P$8:R$33,3))","v":""},null,null,{"$f":"IF(総体入力!B35=\"\",\"\",総体入力!B35)","v":""},{"$f":"IF(総体入力!D35=\"\",\"\",総体入力!D35)","v":""},{"$f":"IF(F147=\"\",\"\",総体入力!K$3)","v":""},{"$f":"IF(総体入力!E35=\"\",\"\",総体入力!E35)","v":""},null,{"$f":"IF(F147=\"\",\"\",VLOOKUP($Z$3,総体入力!$W$29:$X$39,2,FALSE))","v":""},{"$f":"IF(総体入力!K35=\"\",\"\",総体入力!K35)","v":""},null,null,{"$f":"総体入力!H35","v":""}]
[]
[null,null,null,null,null,null,null,null,null,{"$f":"IF(総体入力!L35=\"\",\"\",総体入力!L35)","v":""}]
[]
[]
["総体種目",null,"組","レーン・順","ナンバーカード","名　　　前","学　　校","学年","色","郡市・順位","ベスト記録",null,null,"種目コード"]
[{"$f":"IF(F153=\"\",\"\",VLOOKUP(N153,P$8:R$33,2))","v":""},{"$f":"IF(F153=\"\",\"\",VLOOKUP(N153,P$8:R$33,3))","v":""},null,null,{"$f":"IF(総体入力!B36=\"\",\"\",総体入力!B36)","v":""},{"$f":"IF(総体入力!D36=\"\",\"\",総体入力!D36)","v":""},{"$f":"IF(F153=\"\",\"\",総体入力!K$3)","v":""},{"$f":"IF(総体入力!E36=\"\",\"\",総体入力!E36)","v":""},null,{"$f":"IF(F153=\"\",\"\",VLOOKUP($Z$3,総体入力!$W$29:$X$39,2,FALSE))","v":""},{"$f":"IF(総体入力!K36=\"\",\"\",総体入力!K36)","v":""},null,null,{"$f":"総体入力!H36","v":""}]
[]
[null,null,null,null,null,null,null,null,null,{"$f":"IF(総体入力!L36=\"\",\"\",総体入力!L36)","v":""}]
[]
[]
["総体種目",null,"組","レーン・順","ナンバーカード","名　　　前","学　　校","学年","色","郡市・順位","ベスト記録",null,null,"種目コード"]
[{"$f":"IF(F159=\"\",\"\",VLOOKUP(N159,P$8:R$33,2))","v":""},{"$f":"IF(F159=\"\",\"\",VLOOKUP(N159,P$8:R$33,3))","v":""},null,null,{"$f":"IF(総体入力!B37=\"\",\"\",総体入力!B37)","v":""},{"$f":"IF(総体入力!D37=\"\",\"\",総体入力!D37)","v":""},{"$f":"IF(F159=\"\",\"\",総体入力!K$3)","v":""},{"$f":"IF(総体入力!E37=\"\",\"\",総体入力!E37)","v":""},null,{"$f":"IF(F159=\"\",\"\",VLOOKUP($Z$3,総体入力!$W$29:$X$39,2,FALSE))","v":""},{"$f":"IF(総体入力!K37=\"\",\"\",総体入力!K37)","v":""},null,null,{"$f":"総体入力!H37","v":""}]
[]
[null,null,null,null,null,null,null,null,null,{"$f":"IF(総体入力!L37=\"\",\"\",総体入力!L37)","v":""}]
[]
[]
["総体種目",null,"組","レーン・順","ナンバーカード","名　　　前","学　　校","学年","色","郡市・順位","ベスト記録",null,null,"種目コード"]
[{"$f":"IF(F165=\"\",\"\",VLOOKUP(N165,P$8:R$33,2))","v":""},{"$f":"IF(F165=\"\",\"\",VLOOKUP(N165,P$8:R$33,3))","v":""},null,null,{"$f":"IF(総体入力!B38=\"\",\"\",総体入力!B38)","v":""},{"$f":"IF(総体入力!D38=\"\",\"\",総体入力!D38)","v":""},{"$f":"IF(F165=\"\",\"\",総体入力!K$3)","v":""},{"$f":"IF(総体入力!E38=\"\",\"\",総体入力!E38)","v":""},null,{"$f":"IF(F165=\"\",\"\",VLOOKUP($Z$3,総体入力!$W$29:$X$39,2,FALSE))","v":""},{"$f":"IF(総体入力!K38=\"\",\"\",総体入力!K38)","v":""},null,null,{"$f":"総体入力!H38","v":""}]
[]
[null,null,null,null,null,null,null,null,null,{"$f":"IF(総体入力!L38=\"\",\"\",総体入力!L38)","v":""}]
[]
[]
["総体種目",null,"組","レーン・順","ナンバーカード","名　　　前","学　　校","学年","色","郡市・順位","ベスト記録",null,null,"種目コード"]
[{"$f":"IF(F171=\"\",\"\",VLOOKUP(N171,P$8:R$33,2))","v":""},{"$f":"IF(F171=\"\",\"\",VLOOKUP(N171,P$8:R$33,3))","v":""},null,null,{"$f":"IF(総体入力!B39=\"\",\"\",総体入力!B39)","v":""},{"$f":"IF(総体入力!D39=\"\",\"\",総体入力!D39)","v":""},{"$f":"IF(F171=\"\",\"\",総体入力!K$3)","v":""},{"$f":"IF(総体入力!E39=\"\",\"\",総体入力!E39)","v":""},null,{"$f":"IF(F171=\"\",\"\",VLOOKUP($Z$3,総体入力!$W$29:$X$39,2,FALSE))","v":""},{"$f":"IF(総体入力!K39=\"\",\"\",総体入力!K39)","v":""},null,null,{"$f":"総体入力!H39","v":""}]
[]
[null,null,null,null,null,null,null,null,null,{"$f":"IF(総体入力!L39=\"\",\"\",総体入力!L39)","v":""}]
[]
[]
["総体種目",null,"組","レーン・順","ナンバーカード","名　　　前","学　　校","学年","色","郡市・順位","ベスト記録",null,null,"種目コード"]
[{"$f":"IF(F177=\"\",\"\",VLOOKUP(N177,P$8:R$33,2))","v":""},{"$f":"IF(F177=\"\",\"\",VLOOKUP(N177,P$8:R$33,3))","v":""},null,null,{"$f":"IF(総体入力!B40=\"\",\"\",総体入力!B40)","v":""},{"$f":"IF(総体入力!D40=\"\",\"\",総体入力!D40)","v":""},{"$f":"IF(F177=\"\",\"\",総体入力!K$3)","v":""},{"$f":"IF(総体入力!E40=\"\",\"\",総体入力!E40)","v":""},null,{"$f":"IF(F177=\"\",\"\",VLOOKUP($Z$3,総体入力!$W$29:$X$39,2,FALSE))","v":""},{"$f":"IF(総体入力!K40=\"\",\"\",総体入力!K40)","v":""},null,null,{"$f":"総体入力!H40","v":""}]
[]
[null,null,null,null,null,null,null,null,null,{"$f":"IF(総体入力!L40=\"\",\"\",総体入力!L40)","v":""}]
[]
[]
[]
[]
[]
["総体種目",null,"組","レーン・順","ナンバーカード","名　　　前","学　　校","学年","色","郡市・順位","ベスト記録","１ページ目",null,"種目コード",null,null,null,null,null,"女子"]
[{"$f":"IF(F186=\"\",\"\",VLOOKUP(N186,P$191:R$216,2,FALSE))","v":""},{"$f":"IF(F186=\"\",\"\",VLOOKUP(N186,P$191:R$216,3,FALSE))","v":""},null,null,{"$f":"IF(総体入力!B78=\"\",\"\",総体入力!B78)","v":""},{"$f":"IF(総体入力!D78=\"\",\"\",総体入力!D78)","v":""},{"$f":"IF(F186=\"\",\"\",総体入力!K$70)","v":""},{"$f":"IF(総体入力!E78=\"\",\"\",総体入力!E78)","v":""},null,{"$f":"IF(F186=\"\",\"\",VLOOKUP($Z$186,総体入力!$W$29:$X$40,2,FALSE))","v":""},{"$f":"IF(総体入力!K78=\"\",\"\",総体入力!K78)","v":""},null,null,{"$f":"総体入力!H78","v":""},null,null,null,null,null,null,null,"１～１０",null,null,null,{"$f":"Z3","v":""}]
[]
[null,null,null,null,null,null,null,null,null,{"$f":"IF(総体入力!L78=\"\",\"\",総体入力!L78)","v":""}]
[null,null,null,null,null,null,null,null,null,null,null,null,null,null,null,null,null,null,null,null,null,"１１～２０"]
[null,null,null,null,null,null,null,null,null,null,null,null,null,null,null,"種目コード一覧"]
["総体種目",null,"組","レーン・順","ナンバーカード","名　　　前","学　　校","学年","色","郡市・順位","ベスト記録",null,null,"種目コード",null,{"$f":"VLOOKUP(R191,種目コード一覧!$A$33:$B$46,2,FALSE)","v":31},"女","１年１００ｍ"]
[{"$f":"IF(F192=\"\",\"\",VLOOKUP(N192,P$191:R$216,2,FALSE))","v":""},{"$f":"IF(F192=\"\",\"\",VLOOKUP(N192,P$191:R$216,3,FALSE))","v":""},null,null,{"$f":"IF(総体入力!B79=\"\",\"\",総体入力!B79)","v":""},{"$f":"IF(総体入力!D79=\"\",\"\",総体入力!D79)","v":""},{"$f":"IF(F192=\"\",\"\",総体入力!K$70)","v":""},{"$f":"IF(総体入力!E79=\"\",\"\",総体入力!E79)","v":""},null,{"$f":"IF(F192=\"\",\"\",VLOOKUP($Z$186,総体入力!$W$29:$X$40,2,FALSE))","v":""},{"$f":"IF(総体入力!K79=\"\",\"\",総体入力!K79)","v":""},null,null,{"$f":"総体入力!H79","v":""},null,{"$f":"VLOOKUP(R192,種目コード一覧!$A$33:$B$46,2,FALSE)","v":32},"女","２年１００ｍ",null,null,null,"２１～３０"]
[null,null,null,null,null,null,null,null,null,null,null,null,null,null,null,{"$f":"VLOOKUP(R193,種目コード一覧!$A$33:$B$46,2,FALSE)","v":33},"女","３年１００ｍ"]
[null,null,null,null,null,null,null,null,null,{"$f":"IF(総体入力!L79=\"\",\"\",総体入力!L79)","v":""},null,null,null,null,null,{"$f":"VLOOKUP(R194,種目コード一覧!$A$33:$B$46,2,FALSE)","v":34},"女","共通２００ｍ"]
[null,null,null,null,null,null,null,null,null,null,null,null,null,null,null,{"$f":"VLOOKUP(R195,種目コード一覧!$A$33:$B$46,2,FALSE)","v":35},"女","共通８００ｍ"]
[null,null,null,null,null,null,null,null,null,null,null,null,null,null,null,{"$f":"VLOOKUP(R196,種目コード一覧!$A$33:$B$46,2,FALSE)","v":36},"女","１年１５００ｍ"]
["総体種目",null,"組","レーン・順","ナンバーカード","名　　　前","学　　校","学年","色","郡市・順位","ベスト記録",null,null,"種目コード",null,45,"女","２・３年１５００ｍ"]
[{"$f":"IF(F198=\"\",\"\",VLOOKUP(N198,P$191:R$216,2,FALSE))","v":""},{"$f":"IF(F198=\"\",\"\",VLOOKUP(N198,P$191:R$216,3,FALSE))","v":""},null,null,{"$f":"IF(総体入力!B80=\"\",\"\",総体入力!B80)","v":""},{"$f":"IF(総体入力!D80=\"\",\"\",総体入力!D80)","v":""},{"$f":"IF(F198=\"\",\"\",総体入力!K$70)","v":""},{"$f":"IF(総体入力!E80=\"\",\"\",総体入力!E80)","v":""},null,{"$f":"IF(F198=\"\",\"\",VLOOKUP($Z$186,総体入力!$W$29:$X$40,2,FALSE))","v":""},{"$f":"IF(総体入力!K80=\"\",\"\",総体入力!K80)","v":""},null,null,{"$f":"総体入力!H80","v":""},null,{"$f":"VLOOKUP(R198,種目コード一覧!$A$33:$B$46,2,FALSE)","v":39},"女","共通１００ｍＨ"]
[null,null,null,null,null,null,null,null,null,null,null,null,null,null,null,{"$f":"VLOOKUP(R199,種目コード一覧!$A$33:$B$46,2,FALSE)","v":40},"女","共通走高跳"]
[null,null,null,null,null,null,null,null,null,{"$f":"IF(総体入力!L80=\"\",\"\",総体入力!L80)","v":""},null,null,null,null,null,{"$f":"VLOOKUP(R200,種目コード一覧!$A$33:$B$46,2,FALSE)","v":41},"女","共通走幅跳"]
[null,null,null,null,null,null,null,null,null,null,null,null,null,null,null,{"$f":"VLOOKUP(R201,種目コード一覧!$A$33:$B$46,2,FALSE)","v":42},"女","共通砲丸投"]
[null,null,null,null,null,null,null,null,null,null,null,null,null,null,null,{"$f":"VLOOKUP(R202,種目コード一覧!$A$33:$B$46,2,FALSE)","v":43},"女","共通四種競技"]
["総体種目",null,"組","レーン・順","ナンバーカード","名　　　前","学　　校","学年","色","郡市・順位","ベスト記録",null,null,"種目コード"]
[{"$f":"IF(F204=\"\",\"\",VLOOKUP(N204,P$191:R$216,2,FALSE))","v":""},{"$f":"IF(F204=\"\",\"\",VLOOKUP(N204,P$191:R$216,3,FALSE))","v":""},null,null,{"$f":"IF(総体入力!B81=\"\",\"\",総体入力!B81)","v":""},{"$f":"IF(総体入力!D81=\"\",\"\",総体入力!D81)","v":""},{"$f":"IF(F204=\"\",\"\",総体入力!K$70)","v":""},{"$f":"IF(総体入力!E81=\"\",\"\",総体入力!E81)","v":""},null,{"$f":"IF(F204=\"\",\"\",VLOOKUP($Z$186,総体入力!$W$29:$X$40,2,FALSE))","v":""},{"$f":"IF(総体入力!K81=\"\",\"\",総体入力!K81)","v":""},null,null,{"$f":"総体入力!H81","v":""}]
[]
[null,null,null,null,null,null,null,null,null,{"$f":"IF(総体入力!L81=\"\",\"\",総体入力!L81)","v":""}]
[]
[]
["総体種目",null,"組","レーン・順","ナンバーカード","名　　　前","学　　校","学年","色","郡市・順位","ベスト記録",null,null,"種目コード"]
[{"$f":"IF(F210=\"\",\"\",VLOOKUP(N210,P$191:R$216,2,FALSE))","v":""},{"$f":"IF(F210=\"\",\"\",VLOOKUP(N210,P$191:R$216,3,FALSE))","v":""},null,null,{"$f":"IF(総体入力!B82=\"\",\"\",総体入力!B82)","v":""},{"$f":"IF(総体入力!D82=\"\",\"\",総体入力!D82)","v":""},{"$f":"IF(F210=\"\",\"\",総体入力!K$70)","v":""},{"$f":"IF(総体入力!E82=\"\",\"\",総体入力!E82)","v":""},null,{"$f":"IF(F210=\"\",\"\",VLOOKUP($Z$186,総体入力!$W$29:$X$40,2,FALSE))","v":""},{"$f":"IF(総体入力!K82=\"\",\"\",総体入力!K82)","v":""},null,null,{"$f":"総体入力!H82","v":""}]
[]
[null,null,null,null,null,null,null,null,null,{"$f":"IF(総体入力!L82=\"\",\"\",総体入力!L82)","v":""}]
[]
[]
["総体種目",null,"組","レーン・順","ナンバーカード","名　　　前","学　　校","学年","色","郡市・順位","ベスト記録",null,null,"種目コード"]
[{"$f":"IF(F216=\"\",\"\",VLOOKUP(N216,P$191:R$216,2,FALSE))","v":""},{"$f":"IF(F216=\"\",\"\",VLOOKUP(N216,P$191:R$216,3,FALSE))","v":""},null,null,{"$f":"IF(総体入力!B83=\"\",\"\",総体入力!B83)","v":""},{"$f":"IF(総体入力!D83=\"\",\"\",総体入力!D83)","v":""},{"$f":"IF(F216=\"\",\"\",総体入力!K$70)","v":""},{"$f":"IF(総体入力!E83=\"\",\"\",総体入力!E83)","v":""},null,{"$f":"IF(F216=\"\",\"\",VLOOKUP($Z$186,総体入力!$W$29:$X$40,2,FALSE))","v":""},{"$f":"IF(総体入力!K83=\"\",\"\",総体入力!K83)","v":""},null,null,{"$f":"総体入力!H83","v":""}]
[]
[null,null,null,null,null,null,null,null,null,{"$f":"IF(総体入力!L83=\"\",\"\",総体入力!L83)","v":""}]
[]
[]
["総体種目",null,"組","レーン・順","ナンバーカード","名　　　前","学　　校","学年","色","郡市・順位","ベスト記録",null,null,"種目コード"]
[{"$f":"IF(F222=\"\",\"\",VLOOKUP(N222,P$191:R$216,2,FALSE))","v":""},{"$f":"IF(F222=\"\",\"\",VLOOKUP(N222,P$191:R$216,3,FALSE))","v":""},null,null,{"$f":"IF(総体入力!B84=\"\",\"\",総体入力!B84)","v":""},{"$f":"IF(総体入力!D84=\"\",\"\",総体入力!D84)","v":""},{"$f":"IF(F222=\"\",\"\",総体入力!K$70)","v":""},{"$f":"IF(総体入力!E84=\"\",\"\",総体入力!E84)","v":""},null,{"$f":"IF(F222=\"\",\"\",VLOOKUP($Z$186,総体入力!$W$29:$X$40,2,FALSE))","v":""},{"$f":"IF(総体入力!K84=\"\",\"\",総体入力!K84)","v":""},null,null,{"$f":"総体入力!H84","v":""}]
[]
[null,null,null,null,null,null,null,null,null,{"$f":"IF(総体入力!L84=\"\",\"\",総体入力!L84)","v":""}]
[]
[]
["総体種目",null,"組","レーン・順","ナンバーカード","名　　　前","学　　校","学年","色","郡市・順位","ベスト記録",null,null,"種目コード"]
[{"$f":"IF(F228=\"\",\"\",VLOOKUP(N228,P$191:R$216,2,FALSE))","v":""},{"$f":"IF(F228=\"\",\"\",VLOOKUP(N228,P$191:R$216,3,FALSE))","v":""},null,null,{"$f":"IF(総体入力!B85=\"\",\"\",総体入力!B85)","v":""},{"$f":"IF(総体入力!D85=\"\",\"\",総体入力!D85)","v":""},{"$f":"IF(F228=\"\",\"\",総体入力!K$70)","v":""},{"$f":"IF(総体入力!E85=\"\",\"\",総体入力!E85)","v":""},null,{"$f":"IF(F228=\"\",\"\",VLOOKUP($Z$186,総体入力!$W$29:$X$40,2,FALSE))","v":""},{"$f":"IF(総体入力!K85=\"\",\"\",総体入力!K85)","v":""},null,null,{"$f":"総体入力!H85","v":""}]
[]
[null,null,null,null,null,null,null,null,null,{"$f":"IF(総体入力!L85=\"\",\"\",総体入力!L85)","v":""}]
[]
[]
["総体種目",null,"組","レーン・順","ナンバーカード","名　　　前","学　　校","学年","色","郡市・順位","ベスト記録",null,null,"種目コード"]
[{"$f":"IF(F234=\"\",\"\",VLOOKUP(N234,P$191:R$216,2,FALSE))","v":""},{"$f":"IF(F234=\"\",\"\",VLOOKUP(N234,P$191:R$216,3,FALSE))","v":""},null,null,{"$f":"IF(総体入力!B86=\"\",\"\",総体入力!B86)","v":""},{"$f":"IF(総体入力!D86=\"\",\"\",総体入力!D86)","v":""},{"$f":"IF(F234=\"\",\"\",総体入力!K$70)","v":""},{"$f":"IF(総体入力!E86=\"\",\"\",総体入力!E86)","v":""},null,{"$f":"IF(F234=\"\",\"\",VLOOKUP($Z$186,総体入力!$W$29:$X$40,2,FALSE))","v":""},{"$f":"IF(総体入力!K86=\"\",\"\",総体入力!K86)","v":""},null,null,{"$f":"総体入力!H86","v":""}]
[]
[null,null,null,null,null,null,null,null,null,{"$f":"IF(総体入力!L86=\"\",\"\",総体入力!L86)","v":""}]
[]
[]
["総体種目",null,"組","レーン・順","ナンバーカード","名　　　前","学　　校","学年","色","郡市・順位","ベスト記録",null,null,"種目コード"]
[{"$f":"IF(F240=\"\",\"\",VLOOKUP(N240,P$191:R$216,2,FALSE))","v":""},{"$f":"IF(F240=\"\",\"\",VLOOKUP(N240,P$191:R$216,3,FALSE))","v":""},null,null,{"$f":"IF(総体入力!B87=\"\",\"\",総体入力!B87)","v":""},{"$f":"IF(総体入力!D87=\"\",\"\",総体入力!D87)","v":""},{"$f":"IF(F240=\"\",\"\",総体入力!K$70)","v":""},{"$f":"IF(総体入力!E87=\"\",\"\",総体入力!E87)","v":""},null,{"$f":"IF(F240=\"\",\"\",VLOOKUP($Z$186,総体入力!$W$29:$X$40,2,FALSE))","v":""},{"$f":"IF(総体入力!K87=\"\",\"\",総体入力!K87)","v":""},null,null,{"$f":"総体入力!H87","v":""}]
[]
[null,null,null,null,null,null,null,null,null,{"$f":"IF(総体入力!L87=\"\",\"\",総体入力!L87)","v":""}]
[]
[]
["総体種目",null,"組","レーン・順","ナンバーカード","名　　　前","学　　校","学年","色","郡市・順位","ベスト記録","２ページ目",null,"種目コード"]
[{"$f":"IF(F246=\"\",\"\",VLOOKUP(N246,P$191:R$216,2,FALSE))","v":""},{"$f":"IF(F246=\"\",\"\",VLOOKUP(N246,P$191:R$216,3,FALSE))","v":""},null,null,{"$f":"IF(総体入力!B88=\"\",\"\",総体入力!B88)","v":""},{"$f":"IF(総体入力!D88=\"\",\"\",総体入力!D88)","v":""},{"$f":"IF(F246=\"\",\"\",総体入力!K$70)","v":""},{"$f":"IF(総体入力!E88=\"\",\"\",総体入力!E88)","v":""},null,{"$f":"IF(F246=\"\",\"\",VLOOKUP($Z$186,総体入力!$W$29:$X$40,2,FALSE))","v":""},{"$f":"IF(総体入力!K88=\"\",\"\",総体入力!K88)","v":""},null,null,{"$f":"総体入力!H88","v":""}]
[]
[null,null,null,null,null,null,null,null,null,{"$f":"IF(総体入力!L88=\"\",\"\",総体入力!L88)","v":""}]
[]
[]
["総体種目",null,"組","レーン・順","ナンバーカード","名　　　前","学　　校","学年","色","郡市・順位","ベスト記録",null,null,"種目コード"]
[{"$f":"IF(F252=\"\",\"\",VLOOKUP(N252,P$191:R$216,2,FALSE))","v":""},{"$f":"IF(F252=\"\",\"\",VLOOKUP(N252,P$191:R$216,3,FALSE))","v":""},null,null,{"$f":"IF(総体入力!B89=\"\",\"\",総体入力!B89)","v":""},{"$f":"IF(総体入力!D89=\"\",\"\",総体入力!D89)","v":""},{"$f":"IF(F252=\"\",\"\",総体入力!K$70)","v":""},{"$f":"IF(総体入力!E89=\"\",\"\",総体入力!E89)","v":""},null,{"$f":"IF(F252=\"\",\"\",VLOOKUP($Z$186,総体入力!$W$29:$X$40,2,FALSE))","v":""},{"$f":"IF(総体入力!K89=\"\",\"\",総体入力!K89)","v":""},null,null,{"$f":"総体入力!H89","v":""}]
[]
[null,null,null,null,null,null,null,null,null,{"$f":"IF(総体入力!L89=\"\",\"\",総体入力!L89)","v":""}]
[]
[]
["総体種目",null,"組","レーン・順","ナンバーカード","名　　　前","学　　校","学年","色","郡市・順位","ベスト記録",null,null,"種目コード"]
[{"$f":"IF(F258=\"\",\"\",VLOOKUP(N258,P$191:R$216,2,FALSE))","v":""},{"$f":"IF(F258=\"\",\"\",VLOOKUP(N258,P$191:R$216,3,FALSE))","v":""},null,null,{"$f":"IF(総体入力!B90=\"\",\"\",総体入力!B90)","v":""},{"$f":"IF(総体入力!D90=\"\",\"\",総体入力!D90)","v":""},{"$f":"IF(F258=\"\",\"\",総体入力!K$70)","v":""},{"$f":"IF(総体入力!E90=\"\",\"\",総体入力!E90)","v":""},null,{"$f":"IF(F258=\"\",\"\",VLOOKUP($Z$186,総体入力!$W$29:$X$40,2,FALSE))","v":""},{"$f":"IF(総体入力!K90=\"\",\"\",総体入力!K90)","v":""},null,null,{"$f":"総体入力!H90","v":""}]
[]
[null,null,null,null,null,null,null,null,null,{"$f":"IF(総体入力!L90=\"\",\"\",総体入力!L90)","v":""}]
[]
[]
["総体種目",null,"組","レーン・順","ナンバーカード","名　　　前","学　　校","学年","色","郡市・順位","ベスト記録",null,null,"種目コード"]
[{"$f":"IF(F264=\"\",\"\",VLOOKUP(N264,P$191:R$216,2,FALSE))","v":""},{"$f":"IF(F264=\"\",\"\",VLOOKUP(N264,P$191:R$216,3,FALSE))","v":""},null,null,{"$f":"IF(総体入力!B91=\"\",\"\",総体入力!B91)","v":""},{"$f":"IF(総体入力!D91=\"\",\"\",総体入力!D91)","v":""},{"$f":"IF(F264=\"\",\"\",総体入力!K$70)","v":""},{"$f":"IF(総体入力!E91=\"\",\"\",総体入力!E91)","v":""},null,{"$f":"IF(F264=\"\",\"\",VLOOKUP($Z$186,総体入力!$W$29:$X$40,2,FALSE))","v":""},{"$f":"IF(総体入力!K91=\"\",\"\",総体入力!K91)","v":""},null,null,{"$f":"総体入力!H91","v":""}]
[]
[null,null,null,null,null,null,null,null,null,{"$f":"IF(総体入力!L91=\"\",\"\",総体入力!L91)","v":""}]
[]
[]
["総体種目",null,"組","レーン・順","ナンバーカード","名　　　前","学　　校","学年","色","郡市・順位","ベスト記録",null,null,"種目コード"]
[{"$f":"IF(F270=\"\",\"\",VLOOKUP(N270,P$191:R$216,2,FALSE))","v":""},{"$f":"IF(F270=\"\",\"\",VLOOKUP(N270,P$191:R$216,3,FALSE))","v":""},null,null,{"$f":"IF(総体入力!B92=\"\",\"\",総体入力!B92)","v":""},{"$f":"IF(総体入力!D92=\"\",\"\",総体入力!D92)","v":""},{"$f":"IF(F270=\"\",\"\",総体入力!K$70)","v":""},{"$f":"IF(総体入力!E92=\"\",\"\",総体入力!E92)","v":""},null,{"$f":"IF(F270=\"\",\"\",VLOOKUP($Z$186,総体入力!$W$29:$X$40,2,FALSE))","v":""},{"$f":"IF(総体入力!K92=\"\",\"\",総体入力!K92)","v":""},null,null,{"$f":"総体入力!H92","v":""}]
[]
[null,null,null,null,null,null,null,null,null,{"$f":"IF(総体入力!L92=\"\",\"\",総体入力!L92)","v":""}]
[]
[]
["総体種目",null,"組","レーン・順","ナンバーカード","名　　　前","学　　校","学年","色","郡市・順位","ベスト記録",null,null,"種目コード"]
[{"$f":"IF(F276=\"\",\"\",VLOOKUP(N276,P$191:R$216,2,FALSE))","v":""},{"$f":"IF(F276=\"\",\"\",VLOOKUP(N276,P$191:R$216,3,FALSE))","v":""},null,null,{"$f":"IF(総体入力!B93=\"\",\"\",総体入力!B93)","v":""},{"$f":"IF(総体入力!D93=\"\",\"\",総体入力!D93)","v":""},{"$f":"IF(F276=\"\",\"\",総体入力!K$70)","v":""},{"$f":"IF(総体入力!E93=\"\",\"\",総体入力!E93)","v":""},null,{"$f":"IF(F276=\"\",\"\",VLOOKUP($Z$186,総体入力!$W$29:$X$40,2,FALSE))","v":""},{"$f":"IF(総体入力!K93=\"\",\"\",総体入力!K93)","v":""},null,null,{"$f":"総体入力!H93","v":""}]
[]
[null,null,null,null,null,null,null,null,null,{"$f":"IF(総体入力!L93=\"\",\"\",総体入力!L93)","v":""}]
[]
[]
["総体種目",null,"組","レーン・順","ナンバーカード","名　　　前","学　　校","学年","色","郡市・順位","ベスト記録",null,null,"種目コード"]
[{"$f":"IF(F282=\"\",\"\",VLOOKUP(N282,P$191:R$216,2,FALSE))","v":""},{"$f":"IF(F282=\"\",\"\",VLOOKUP(N282,P$191:R$216,3,FALSE))","v":""},null,null,{"$f":"IF(総体入力!B94=\"\",\"\",総体入力!B94)","v":""},{"$f":"IF(総体入力!D94=\"\",\"\",総体入力!D94)","v":""},{"$f":"IF(F282=\"\",\"\",総体入力!K$70)","v":""},{"$f":"IF(総体入力!E94=\"\",\"\",総体入力!E94)","v":""},null,{"$f":"IF(F282=\"\",\"\",VLOOKUP($Z$186,総体入力!$W$29:$X$40,2,FALSE))","v":""},{"$f":"IF(総体入力!K94=\"\",\"\",総体入力!K94)","v":""},null,null,{"$f":"総体入力!H94","v":""}]
[]
[null,null,null,null,null,null,null,null,null,{"$f":"IF(総体入力!L94=\"\",\"\",総体入力!L94)","v":""}]
[]
[]
["総体種目",null,"組","レーン・順","ナンバーカード","名　　　前","学　　校","学年","色","郡市・順位","ベスト記録",null,null,"種目コード"]
[{"$f":"IF(F288=\"\",\"\",VLOOKUP(N288,P$191:R$216,2,FALSE))","v":""},{"$f":"IF(F288=\"\",\"\",VLOOKUP(N288,P$191:R$216,3,FALSE))","v":""},null,null,{"$f":"IF(総体入力!B95=\"\",\"\",総体入力!B95)","v":""},{"$f":"IF(総体入力!D95=\"\",\"\",総体入力!D95)","v":""},{"$f":"IF(F288=\"\",\"\",総体入力!K$70)","v":""},{"$f":"IF(総体入力!E95=\"\",\"\",総体入力!E95)","v":""},null,{"$f":"IF(F288=\"\",\"\",VLOOKUP($Z$186,総体入力!$W$29:$X$40,2,FALSE))","v":""},{"$f":"IF(総体入力!K95=\"\",\"\",総体入力!K95)","v":""},null,null,{"$f":"総体入力!H95","v":""}]
[]
[null,null,null,null,null,null,null,null,null,{"$f":"IF(総体入力!L95=\"\",\"\",総体入力!L95)","v":""}]
[]
[]
["総体種目",null,"組","レーン・順","ナンバーカード","名　　　前","学　　校","学年","色","郡市・順位","ベスト記録",null,null,"種目コード"]
[{"$f":"IF(F294=\"\",\"\",VLOOKUP(N294,P$191:R$216,2,FALSE))","v":""},{"$f":"IF(F294=\"\",\"\",VLOOKUP(N294,P$191:R$216,3,FALSE))","v":""},null,null,{"$f":"IF(総体入力!B96=\"\",\"\",総体入力!B96)","v":""},{"$f":"IF(総体入力!D96=\"\",\"\",総体入力!D96)","v":""},{"$f":"IF(F294=\"\",\"\",総体入力!K$70)","v":""},{"$f":"IF(総体入力!E96=\"\",\"\",総体入力!E96)","v":""},null,{"$f":"IF(F294=\"\",\"\",VLOOKUP($Z$186,総体入力!$W$29:$X$40,2,FALSE))","v":""},{"$f":"IF(総体入力!K96=\"\",\"\",総体入力!K96)","v":""},null,null,{"$f":"総体入力!H96","v":""}]
[]
[null,null,null,null,null,null,null,null,null,{"$f":"IF(総体入力!L96=\"\",\"\",総体入力!L96)","v":""}]
[]
[]
["総体種目",null,"組","レーン・順","ナンバーカード","名　　　前","学　　校","学年","色","郡市・順位","ベスト記録",null,null,"種目コード"]
[{"$f":"IF(F300=\"\",\"\",VLOOKUP(N300,P$191:R$216,2,FALSE))","v":""},{"$f":"IF(F300=\"\",\"\",VLOOKUP(N300,P$191:R$216,3,FALSE))","v":""},null,null,{"$f":"IF(総体入力!B97=\"\",\"\",総体入力!B97)","v":""},{"$f":"IF(総体入力!D97=\"\",\"\",総体入力!D97)","v":""},{"$f":"IF(F300=\"\",\"\",総体入力!K$70)","v":""},{"$f":"IF(総体入力!E97=\"\",\"\",総体入力!E97)","v":""},null,{"$f":"IF(F300=\"\",\"\",VLOOKUP($Z$186,総体入力!$W$29:$X$40,2,FALSE))","v":""},{"$f":"IF(総体入力!K97=\"\",\"\",総体入力!K97)","v":""},null,null,{"$f":"総体入力!H97","v":""}]
[]
[null,null,null,null,null,null,null,null,null,{"$f":"IF(総体入力!L97=\"\",\"\",総体入力!L97)","v":""}]
[]
[]
["総体種目",null,"組","レーン・順","ナンバーカード","名　　　前","学　　校","学年","色","郡市・順位","ベスト記録","３ページ目",null,"種目コード"]
[{"$f":"IF(F306=\"\",\"\",VLOOKUP(N306,P$191:R$216,2,FALSE))","v":""},{"$f":"IF(F306=\"\",\"\",VLOOKUP(N306,P$191:R$216,3,FALSE))","v":""},null,null,{"$f":"IF(総体入力!B98=\"\",\"\",総体入力!B98)","v":""},{"$f":"IF(総体入力!D98=\"\",\"\",総体入力!D98)","v":""},{"$f":"IF(F306=\"\",\"\",総体入力!K$70)","v":""},{"$f":"IF(総体入力!E98=\"\",\"\",総体入力!E98)","v":""},null,{"$f":"IF(F306=\"\",\"\",VLOOKUP($Z$186,総体入力!$W$29:$X$40,2,FALSE))","v":""},{"$f":"IF(総体入力!K98=\"\",\"\",総体入力!K98)","v":""},null,null,{"$f":"総体入力!H98","v":""}]
[]
[null,null,null,null,null,null,null,null,null,{"$f":"IF(総体入力!L98=\"\",\"\",総体入力!L98)","v":""}]
[]
[]
["総体種目",null,"組","レーン・順","ナンバーカード","名　　　前","学　　校","学年","色","郡市・順位","ベスト記録",null,null,"種目コード"]
[{"$f":"IF(F312=\"\",\"\",VLOOKUP(N312,P$191:R$216,2,FALSE))","v":""},{"$f":"IF(F312=\"\",\"\",VLOOKUP(N312,P$191:R$216,3,FALSE))","v":""},null,null,{"$f":"IF(総体入力!B99=\"\",\"\",総体入力!B99)","v":""},{"$f":"IF(総体入力!D99=\"\",\"\",総体入力!D99)","v":""},{"$f":"IF(F312=\"\",\"\",総体入力!K$70)","v":""},{"$f":"IF(総体入力!E99=\"\",\"\",総体入力!E99)","v":""},null,{"$f":"IF(F312=\"\",\"\",VLOOKUP($Z$186,総体入力!$W$29:$X$40,2,FALSE))","v":""},{"$f":"IF(総体入力!K99=\"\",\"\",総体入力!K99)","v":""},null,null,{"$f":"総体入力!H99","v":""}]
[]
[null,null,null,null,null,null,null,null,null,{"$f":"IF(総体入力!L99=\"\",\"\",総体入力!L99)","v":""}]
[]
[]
["総体種目",null,"組","レーン・順","ナンバーカード","名　　　前","学　　校","学年","色","郡市・順位","ベスト記録",null,null,"種目コード"]
[{"$f":"IF(F318=\"\",\"\",VLOOKUP(N318,P$191:R$216,2,FALSE))","v":""},{"$f":"IF(F318=\"\",\"\",VLOOKUP(N318,P$191:R$216,3,FALSE))","v":""},null,null,{"$f":"IF(総体入力!B100=\"\",\"\",総体入力!B100)","v":""},{"$f":"IF(総体入力!D100=\"\",\"\",総体入力!D100)","v":""},{"$f":"IF(F318=\"\",\"\",総体入力!K$70)","v":""},{"$f":"IF(総体入力!E100=\"\",\"\",総体入力!E100)","v":""},null,{"$f":"IF(F318=\"\",\"\",VLOOKUP($Z$186,総体入力!$W$29:$X$40,2,FALSE))","v":""},{"$f":"IF(総体入力!K100=\"\",\"\",総体入力!K100)","v":""},null,null,{"$f":"総体入力!H100","v":""}]
[]
[null,null,null,null,null,null,null,null,null,{"$f":"IF(総体入力!L100=\"\",\"\",総体入力!L100)","v":""}]
[]
[]
["総体種目",null,"組","レーン・順","ナンバーカード","名　　　前","学　　校","学年","色","郡市・順位","ベスト記録",null,null,"種目コード"]
[{"$f":"IF(F324=\"\",\"\",VLOOKUP(N324,P$191:R$216,2,FALSE))","v":""},{"$f":"IF(F324=\"\",\"\",VLOOKUP(N324,P$191:R$216,3,FALSE))","v":""},null,null,{"$f":"IF(総体入力!B101=\"\",\"\",総体入力!B101)","v":""},{"$f":"IF(総体入力!D101=\"\",\"\",総体入力!D101)","v":""},{"$f":"IF(F324=\"\",\"\",総体入力!K$70)","v":""},{"$f":"IF(総体入力!E101=\"\",\"\",総体入力!E101)","v":""},null,{"$f":"IF(F324=\"\",\"\",VLOOKUP($Z$186,総体入力!$W$29:$X$40,2,FALSE))","v":""},{"$f":"IF(総体入力!K101=\"\",\"\",総体入力!K101)","v":""},null,null,{"$f":"総体入力!H101","v":""}]
[]
[null,null,null,null,null,null,null,null,null,{"$f":"IF(総体入力!L101=\"\",\"\",総体入力!L101)","v":""}]
[]
[]
["総体種目",null,"組","レーン・順","ナンバーカード","名　　　前","学　　校","学年","色","郡市・順位","ベスト記録",null,null,"種目コード"]
[{"$f":"IF(F330=\"\",\"\",VLOOKUP(N330,P$191:R$216,2,FALSE))","v":""},{"$f":"IF(F330=\"\",\"\",VLOOKUP(N330,P$191:R$216,3,FALSE))","v":""},null,null,{"$f":"IF(総体入力!B102=\"\",\"\",総体入力!B102)","v":""},{"$f":"IF(総体入力!D102=\"\",\"\",総体入力!D102)","v":""},{"$f":"IF(F330=\"\",\"\",総体入力!K$70)","v":""},{"$f":"IF(総体入力!E102=\"\",\"\",総体入力!E102)","v":""},null,{"$f":"IF(F330=\"\",\"\",VLOOKUP($Z$186,総体入力!$W$29:$X$40,2,FALSE))","v":""},{"$f":"IF(総体入力!K102=\"\",\"\",総体入力!K102)","v":""},null,null,{"$f":"総体入力!H102","v":""}]
[]
[null,null,null,null,null,null,null,null,null,{"$f":"IF(総体入力!L102=\"\",\"\",総体入力!L102)","v":""}]
[]
[]
["総体種目",null,"組","レーン・順","ナンバーカード","名　　　前","学　　校","学年","色","郡市・順位","ベスト記録",null,null,"種目コード"]
[{"$f":"IF(F336=\"\",\"\",VLOOKUP(N336,P$191:R$216,2,FALSE))","v":""},{"$f":"IF(F336=\"\",\"\",VLOOKUP(N336,P$191:R$216,3,FALSE))","v":""},null,null,{"$f":"IF(総体入力!B103=\"\",\"\",総体入力!B103)","v":""},{"$f":"IF(総体入力!D103=\"\",\"\",総体入力!D103)","v":""},{"$f":"IF(F336=\"\",\"\",総体入力!K$70)","v":""},{"$f":"IF(総体入力!E103=\"\",\"\",総体入力!E103)","v":""},null,{"$f":"IF(F336=\"\",\"\",VLOOKUP($Z$186,総体入力!$W$29:$X$40,2,FALSE))","v":""},{"$f":"IF(総体入力!K103=\"\",\"\",総体入力!K103)","v":""},null,null,{"$f":"総体入力!H103","v":""}]
[]
[null,null,null,null,null,null,null,null,null,{"$f":"IF(総体入力!L103=\"\",\"\",総体入力!L103)","v":""}]
[]
[]
["総体種目",null,"組","レーン・順","ナンバーカード","名　　　前","学　　校","学年","色","郡市・順位","ベスト記録",null,null,"種目コード"]
[{"$f":"IF(F342=\"\",\"\",VLOOKUP(N342,P$191:R$216,2,FALSE))","v":""},{"$f":"IF(F342=\"\",\"\",VLOOKUP(N342,P$191:R$216,3,FALSE))","v":""},null,null,{"$f":"IF(総体入力!B104=\"\",\"\",総体入力!B104)","v":""},{"$f":"IF(総体入力!D104=\"\",\"\",総体入力!D104)","v":""},{"$f":"IF(F342=\"\",\"\",総体入力!K$70)","v":""},{"$f":"IF(総体入力!E104=\"\",\"\",総体入力!E104)","v":""},null,{"$f":"IF(F342=\"\",\"\",VLOOKUP($Z$186,総体入力!$W$29:$X$40,2,FALSE))","v":""},{"$f":"IF(総体入力!K104=\"\",\"\",総体入力!K104)","v":""},null,null,{"$f":"総体入力!H104","v":""}]
[]
[null,null,null,null,null,null,null,null,null,{"$f":"IF(総体入力!L104=\"\",\"\",総体入力!L104)","v":""}]
[]
[]
["総体種目",null,"組","レーン・順","ナンバーカード","名　　　前","学　　校","学年","色","郡市・順位","ベスト記録",null,null,"種目コード"]
[{"$f":"IF(F348=\"\",\"\",VLOOKUP(N348,P$191:R$216,2,FALSE))","v":""},{"$f":"IF(F348=\"\",\"\",VLOOKUP(N348,P$191:R$216,3,FALSE))","v":""},null,null,{"$f":"IF(総体入力!B105=\"\",\"\",総体入力!B105)","v":""},{"$f":"IF(総体入力!D105=\"\",\"\",総体入力!D105)","v":""},{"$f":"IF(F348=\"\",\"\",総体入力!K$70)","v":""},{"$f":"IF(総体入力!E105=\"\",\"\",総体入力!E105)","v":""},null,{"$f":"IF(F348=\"\",\"\",VLOOKUP($Z$186,総体入力!$W$29:$X$40,2,FALSE))","v":""},{"$f":"IF(総体入力!K105=\"\",\"\",総体入力!K105)","v":""},null,null,{"$f":"総体入力!H105","v":""}]
[]
[null,null,null,null,null,null,null,null,null,{"$f":"IF(総体入力!L105=\"\",\"\",総体入力!L105)","v":""}]
[]
[]
["総体種目",null,"組","レーン・順","ナンバーカード","名　　　前","学　　校","学年","色","郡市・順位","ベスト記録",null,null,"種目コード"]
[{"$f":"IF(F354=\"\",\"\",VLOOKUP(N354,P$191:R$216,2,FALSE))","v":""},{"$f":"IF(F354=\"\",\"\",VLOOKUP(N354,P$191:R$216,3,FALSE))","v":""},null,null,{"$f":"IF(総体入力!B106=\"\",\"\",総体入力!B106)","v":""},{"$f":"IF(総体入力!D106=\"\",\"\",総体入力!D106)","v":""},{"$f":"IF(F354=\"\",\"\",総体入力!K$70)","v":""},{"$f":"IF(総体入力!E105=\"\",\"\",総体入力!E105)","v":""},null,{"$f":"IF(F354=\"\",\"\",VLOOKUP($Z$186,総体入力!$W$29:$X$40,2,FALSE))","v":""},{"$f":"IF(総体入力!K106=\"\",\"\",総体入力!K106)","v":""},null,null,{"$f":"総体入力!H106","v":""}]
[]
[null,null,null,null,null,null,null,null,null,{"$f":"IF(総体入力!L106=\"\",\"\",総体入力!L106)","v":""}]
[]
[]
["総体種目",null,"組","レーン・順","ナンバーカード","名　　　前","学　　校","学年","色","郡市・順位","ベスト記録",null,null,"種目コード"]
[{"$f":"IF(F360=\"\",\"\",VLOOKUP(N360,P$191:R$216,2,FALSE))","v":""},{"$f":"IF(F360=\"\",\"\",VLOOKUP(N360,P$191:R$216,3,FALSE))","v":""},null,null,{"$f":"IF(総体入力!B107=\"\",\"\",総体入力!B107)","v":""},{"$f":"IF(総体入力!D107=\"\",\"\",総体入力!D107)","v":""},{"$f":"IF(F360=\"\",\"\",総体入力!K$70)","v":""},{"$f":"IF(総体入力!E107=\"\",\"\",総体入力!E107)","v":""},null,{"$f":"IF(F360=\"\",\"\",VLOOKUP($Z$186,総体入力!$W$29:$X$40,2,FALSE))","v":""},{"$f":"IF(総体入力!K107=\"\",\"\",総体入力!K107)","v":""},null,null,{"$f":"総体入力!H107","v":""}]
[]
[null,null,null,null,null,null,null,null,null,{"$f":"IF(総体入力!L107=\"\",\"\",総体入力!L107)","v":""}]

{"sheet":"総体リレー","index":5,"n_rows":70,"n_cols":11,"rows_kept":70,"cut":false,"hidden":false,"merged":[[43,0,43,1],[44,2,55,2],[44,3,55,3],[50,7,51,7],[52,5,53,5],[52,6,53,6],[52,7,53,7],[48,7,49,7],[54,5,55,5],[54,6,55,6],[44,8,55,8],[44,9,55,9],[44,10,55,10],[45,0,45,1],[46,5,47,5],[46,6,47,6],[46,7,47,7],[48,5,49,5],[48,6,49,6],[69,5,70,5],[54,7,55,7],[58,0,58,1],[44,4,55,4],[44,5,45,5],[44,6,45,6],[44,7,45,7],[50,5,51,5],[50,6,51,6],[47,0,48,1],[49,0,50,1],[62,0,63,1],[64,0,65,1],[59,10,70,10],[60,0,60,1],[61,5,62,5],[61,6,62,6],[61,7,62,7],[63,5,64,5],[63,6,64,6],[63,7,64,7],[65,5,66,5],[59,6,60,6],[59,7,60,7],[59,8,70,8],[59,9,70,9],[65,6,66,6],[65,7,66,7],[67,6,68,6],[67,7,68,7],[69,6,70,6],[69,7,70,7],[59,2,70,2],[59,3,70,3],[59,4,70,4],[59,5,60,5],[67,5,68,5],[21,10,32,10],[23,6,24,6],[23,7,24,7],[25,6,26,6],[25,7,26,7],[21,8,32,8],[21,9,32,9],[27,6,28,6],[27,7,28,7],[29,6,30,6],[29,7,30,7],[31,6,32,6],[31,7,32,7],[21,6,22,6],[21,7,22,7],[6,8,17,8],[6,9,17,9],[6,10,17,10],[7,0,7,1],[8,5,9,5],[8,6,9,6],[8,7,9,7],[10,5,11,5],[10,6,11,6],[16,7,17,7],[6,4,17,4],[6,5,7,5],[6,6,7,6],[6,7,7,7],[12,5,13,5],[12,6,13,6],[12,7,13,7],[14,5,15,5],[14,6,15,6],[14,7,15,7],[10,7,11,7],[16,5,17,5],[16,6,17,6],[9,0,10,1],[11,0,12,1],[22,0,22,1],[23,5,24,5],[25,5,26,5],[27,5,28,5],[24,0,25,1],[26,0,27,1],[20,0,20,1],[5,0,5,1],[6,2,17,2],[6,3,17,3],[21,2,32,2],[21,3,32,3],[21,4,32,4],[21,5,22,5],[29,5,30,5],[31,5,32,5]]}
["県総体"]
[]
["男子"]
[]
[]
["総 体 種 目",null,"組","レーン","学校名","ナンバーカード","名　　　前","学年","色","郡市","ベスト記録"]
[null,null,null,null,{"$f":"IF(総体入力!K3=\"\",\"\",総体入力!K3)","v":""},{"$f":"IF(総体入力!B49=\"\",\"\",総体入力!B49)","v":""},{"$f":"IF(総体入力!D49=\"\",\"\",総体入力!D49)","v":""},{"$f":"IF(総体入力!E49=\"\",\"\",総体入力!E49)","v":""},null,{"$f":"IF(総体個表!$Z$3=\"\",\"\",VLOOKUP(総体個表!$Z$3,総体入力!$W$29:$X$40,2,FALSE))","v":""},{"$f":"IF(総体入力!N49=\"\",\"\",総体入力!N49)","v":""}]
["男"]
[null,null,null,null,null,{"$f":"IF(総体入力!B50=\"\",\"\",総体入力!B50)","v":""},{"$f":"IF(総体入力!D50=\"\",\"\",総体入力!D50)","v":""},{"$f":"IF(総体入力!E50=\"\",\"\",総体入力!E50)","v":""}]
["低学年"]
[null,null,null,null,null,{"$f":"IF(総体入力!B51=\"\",\"\",総体入力!B51)","v":""},{"$f":"IF(総体入力!D51=\"\",\"\",総体入力!D51)","v":""},{"$f":"IF(総体入力!E51=\"\",\"\",総体入力!E51)","v":""}]
["4×100mR"]
[null,null,null,null,null,{"$f":"IF(総体入力!B52=\"\",\"\",総体入力!B52)","v":""},{"$f":"IF(総体入力!D52=\"\",\"\",総体入力!D52)","v":""},{"$f":"IF(総体入力!E52=\"\",\"\",総体入力!E52)","v":""}]
[]
[null,null,null,null,null,{"$f":"IF(総体入力!B53=\"\",\"\",総体入力!B53)","v":""},{"$f":"IF(総体入力!D53=\"\",\"\",総体入力!D53)","v":""},{"$f":"IF(総体入力!E53=\"\",\"\",総体入力!E53)","v":""}]
[]
[null,null,null,null,null,{"$f":"IF(総体入力!B54=\"\",\"\",総体入力!B54)","v":""},{"$f":"IF(総体入力!D54=\"\",\"\",総体入力!D54)","v":""},{"$f":"IF(総体入力!E54=\"\",\"\",総体入力!E54)","v":""}]
[]
[]
[]
["総 体 種 目",null,"組","レーン","学校名","ナンバーカード","名　　　前","学年","色","郡市","ベスト記録"]
[null,null,null,null,{"$f":"IF(総体入力!K3=\"\",\"\",総体入力!K3)","v":""},{"$f":"IF(総体入力!B57=\"\",\"\",総体入力!B57)","v":""},{"$f":"IF(総体入力!D57=\"\",\"\",総体入力!D57)","v":""},{"$f":"IF(総体入力!E57=\"\",\"\",総体入力!E57)","v":""},null,{"$f":"IF(総体個表!$Z$3=\"\",\"\",VLOOKUP(総体個表!$Z$3,総体入力!$W$29:$X$40,2,FALSE))","v":""},{"$f":"IF(総体入力!N57=\"\",\"\",総体入力!N57)","v":""}]
["男"]
[null,null,null,null,null,{"$f":"IF(総体入力!B58=\"\",\"\",総体入力!B58)","v":""},{"$f":"IF(総体入力!D58=\"\",\"\",総体入力!D58)","v":""},{"$f":"IF(総体入力!E58=\"\",\"\",総体入力!E58)","v":""}]
["共通"]
[null,null,null,null,null,{"$f":"IF(総体入力!B59=\"\",\"\",総体入力!B59)","v":""},{"$f":"IF(総体入力!D59=\"\",\"\",総体入力!D59)","v":""},{"$f":"IF(総体入力!E59=\"\",\"\",総体入力!E59)","v":""}]
["4×100mR"]
[null,null,null,null,null,{"$f":"IF(総体入力!B60=\"\",\"\",総体入力!B60)","v":""},{"$f":"IF(総体入力!D60=\"\",\"\",総体入力!D60)","v":""},{"$f":"IF(総体入力!E60=\"\",\"\",総体入力!E60)","v":""}]
[]
[null,null,null,null,null,{"$f":"IF(総体入力!B61=\"\",\"\",総体入力!B61)","v":""},{"$f":"IF(総体入力!D61=\"\",\"\",総体入力!D61)","v":""},{"$f":"IF(総体入力!E61=\"\",\"\",総体入力!E61)","v":""}]
[]
[null,null,null,null,null,{"$f":"IF(総体入力!B62=\"\",\"\",総体入力!B62)","v":""},{"$f":"IF(総体入力!D62=\"\",\"\",総体入力!D62)","v":""},{"$f":"IF(総体入力!E62=\"\",\"\",総体入力!E62)","v":""}]
[]
[]
[]
[]
[]
[]
[]
[]
["女子"]
[]
[]
["総 体 種 目",null,"組","レーン","学校名","ナンバーカード","名　　　前","学年","色","郡市","ベスト記録"]
[null,null,null,null,{"$f":"IF(総体入力!K70=\"\",\"\",総体入力!K70)","v":""},{"$f":"IF(総体入力!B116=\"\",\"\",総体入力!B116)","v":""},{"$f":"IF(総体入力!D116=\"\",\"\",総体入力!D116)","v":""},{"$f":"IF(総体入力!E116=\"\",\"\",総体入力!E116)","v":""},null,{"$f":"IF(総体個表!$Z$3=12,\"\",VLOOKUP(総体個表!$Z$186,総体入力!$W$29:$X$40,2,FALSE))","v":{"$error":"#N/A"}},{"$f":"IF(総体入力!N116=\"\",\"\",総体入力!N116)","v":""}]
["女"]
[null,null,null,null,null,{"$f":"IF(総体入力!B117=\"\",\"\",総体入力!B117)","v":""},{"$f":"IF(総体入力!D117=\"\",\"\",総体入力!D117)","v":""},{"$f":"IF(総体入力!E117=\"\",\"\",総体入力!E117)","v":""}]
["低学年"]
[null,null,null,null,null,{"$f":"IF(総体入力!B118=\"\",\"\",総体入力!B118)","v":""},{"$f":"IF(総体入力!D118=\"\",\"\",総体入力!D118)","v":""},{"$f":"IF(総体入力!E118=\"\",\"\",総体入力!E118)","v":""}]
["4×100mR"]
[null,null,null,null,null,{"$f":"IF(総体入力!B119=\"\",\"\",総体入力!B119)","v":""},{"$f":"IF(総体入力!D119=\"\",\"\",総体入力!D119)","v":""},{"$f":"IF(総体入力!E119=\"\",\"\",総体入力!E119)","v":""}]
[]
[null,null,null,null,null,{"$f":"IF(総体入力!B120=\"\",\"\",総体入力!B120)","v":""},{"$f":"IF(総体入力!D120=\"\",\"\",総体入力!D120)","v":""},{"$f":"IF(総体入力!E120=\"\",\"\",総体入力!E120)","v":""}]
[]
[null,null,null,null,null,{"$f":"IF(総体入力!B121=\"\",\"\",総体入力!B121)","v":""},{"$f":"IF(総体入力!D121=\"\",\"\",総体入力!D121)","v":""},{"$f":"IF(総体入力!E121=\"\",\"\",総体入力!E121)","v":""}]
[]
[]
[]
["総 体 種 目",null,"組","レーン","学校名","ナンバーカード","名　　　前","学年","色","郡市","ベスト記録"]
[null,null,null,null,{"$f":"IF(総体入力!K70=\"\",\"\",総体入力!K70)","v":""},{"$f":"IF(総体入力!B124=\"\",\"\",総体入力!B124)","v":""},{"$f":"IF(総体入力!D124=\"\",\"\",総体入力!D124)","v":""},{"$f":"IF(総体入力!E124=\"\",\"\",総体入力!E124)","v":""},null,{"$f":"IF(総体個表!$Z$3=12,\"\",VLOOKUP(総体個表!$Z$186,総体入力!$W$29:$X$40,2,FALSE))","v":{"$error":"#N/A"}},{"$f":"IF(総体入力!N124=\"\",\"\",総体入力!N124)","v":""}]
["女"]
[null,null,null,null,null,{"$f":"IF(総体入力!B125=\"\",\"\",総体入力!B125)","v":""},{"$f":"IF(総体入力!D125=\"\",\"\",総体入力!D125)","v":""},{"$f":"IF(総体入力!E125=\"\",\"\",総体入力!E125)","v":""}]
["共通"]
[null,null,null,null,null,{"$f":"IF(総体入力!B126=\"\",\"\",総体入力!B126)","v":""},{"$f":"IF(総体入力!D126=\"\",\"\",総体入力!D126)","v":""},{"$f":"IF(総体入力!E126=\"\",\"\",総体入力!E126)","v":""}]
["4×100mR"]
[null,null,null,null,null,{"$f":"IF(総体入力!B127=\"\",\"\",総体入力!B127)","v":""},{"$f":"IF(総体入力!D127=\"\",\"\",総体入力!D127)","v":""},{"$f":"IF(総体入力!E127=\"\",\"\",総体入力!E127)","v":""}]
[]
[null,null,null,null,null,{"$f":"IF(総体入力!B128=\"\",\"\",総体入力!B128)","v":""},{"$f":"IF(総体入力!D128=\"\",\"\",総体入力!D128)","v":""},{"$f":"IF(総体入力!E128=\"\",\"\",総体入力!E128)","v":""}]
[]
[null,null,null,null,null,{"$f":"IF(総体入力!B129=\"\",\"\",総体入力!B129)","v":""},{"$f":"IF(総体入力!D129=\"\",\"\",総体入力!D129)","v":""},{"$f":"IF(総体入力!E129=\"\",\"\",総体入力!E129)","v":""}]

{"sheet":"部員情報","index":6,"n_rows":155,"n_cols":45,"rows_kept":155,"cut":false,"hidden":false,"merged":[]}
[]
[]
[]
[]
["ｱｽﾘｰﾄﾋﾞﾌﾞｽ","JAAF ID","氏　名","フリガナ","氏名英語表記","性別","生年月日（西暦）","学年",null,"フリガナ","氏名英字","性別","生年月日",null,null,null,null,null,null,null,null,null,null,null,null,null,null,null,null,null,null,null,"条件","番号","氏名","ふりがな","性","生年月日"]
[{"$f":"IF(登録データ貼付!E2=\"\",\"\",登録データ貼付!E2)","v":""},{"$f":"IF(登録データ貼付!B2=\"\",\"\",登録データ貼付!B2)","v":""},{"$f":"IF(登録データ貼付!C2=\"\",\"\",CONCATENATE(登録データ貼付!C2,\"　\",登録データ貼付!D2))","v":""},{"$f":"IF(J6=\"\",\"\",ASC(J6))","v":""},{"$f":"IF(K6=\"\",\"\",ASC(K6))","v":""},{"$f":"IF(L6=\"\",\"\",L6)","v":""},{"$f":"IF(M6=\"\",\"\",M6)","v":""},{"$f":"IF(登録データ貼付!V2=\"\",\"\",RIGHT(登録データ貼付!V2,1))","v":""},null,{"$f":"IF(登録データ貼付!F2=\"\",\"\",CONCATENATE(登録データ貼付!F2,\"　\",登録データ貼付!G2))","v":""},{"$f":"IF(登録データ貼付!H2=\"\",\"\",CONCATENATE(登録データ貼付!H2,\" \",登録データ貼付!I2))","v":""},{"$f":"IF(登録データ貼付!K2=\"\",\"\",LEFT(登録データ貼付!K2,1))","v":""},{"$f":"IF(登録データ貼付!S2=\"\",\"\",登録データ貼付!S2)","v":""},null,null,null,"学校名",{"$f":"IF(必ずお読み下さい!I7=\"\",\"\",必ずお読み下さい!I7)","v":""},null,null,null,null,null,null,null,null,null,null,null,null,null,null,false,{"$f":"IF($AG6=TRUE,B6,\"\")","v":""},{"$f":"IF($AG6=TRUE,C6,\"\")","v":""},{"$f":"IF($AG6=TRUE,D6,\"\")","v":""},{"$f":"IF($AG6=TRUE,F6,\"\")","v":""},{"$f":"IF($AG6=TRUE,G6,\"\")","v":""},{"$f":"IF($AG6=TRUE,#REF!,\"\")","v":""},{"$f":"IF($AG6=TRUE,#REF!,\"\")","v":""},{"$f":"IF($AG6=TRUE,#REF!,\"\")","v":""},{"$f":"IF($AG6=TRUE,#REF!,\"\")","v":""},{"$f":"IF($AG6=TRUE,#REF!,\"\")","v":""},{"$f":"IF($AG6=TRUE,#REF!,\"\")","v":""},{"$f":"IF($AG6=TRUE,H6,\"\")","v":""}]
[{"$f":"IF(登録データ貼付!E3=\"\",\"\",登録データ貼付!E3)","v":""},{"$f":"IF(登録データ貼付!B3=\"\",\"\",登録データ貼付!B3)","v":""},{"$f":"IF(登録データ貼付!C3=\"\",\"\",CONCATENATE(登録データ貼付!C3,\"　\",登録データ貼付!D3))","v":""},{"$f":"IF(J7=\"\",\"\",ASC(J7))","v":""},{"$f":"IF(K7=\"\",\"\",ASC(K7))","v":""},{"$f":"IF(L7=\"\",\"\",L7)","v":""},{"$f":"IF(M7=\"\",\"\",M7)","v":""},{"$f":"IF(登録データ貼付!V3=\"\",\"\",RIGHT(登録データ貼付!V3,1))","v":""},null,{"$f":"IF(登録データ貼付!F3=\"\",\"\",CONCATENATE(登録データ貼付!F3,\"　\",登録データ貼付!G3))","v":""},{"$f":"IF(登録データ貼付!H3=\"\",\"\",CONCATENATE(登録データ貼付!H3,\" \",登録データ貼付!I3))","v":""},{"$f":"IF(登録データ貼付!K3=\"\",\"\",LEFT(登録データ貼付!K3,1))","v":""},{"$f":"IF(登録データ貼付!S3=\"\",\"\",登録データ貼付!S3)","v":""},null,null,null,"学校コード",{"$f":"IF(R6=\"\",\"\",VLOOKUP(R6,Q9:T145,4,FALSE))","v":""},null,null,null,null,null,null,null,null,null,null,null,null,null,null,false,"","","","","",{"$f":"IF($AG7=TRUE,#REF!,\"\")","v":""},{"$f":"IF($AG7=TRUE,#REF!,\"\")","v":""},{"$f":"IF($AG7=TRUE,#REF!,\"\")","v":""},{"$f":"IF($AG7=TRUE,#REF!,\"\")","v":""},{"$f":"IF($AG7=TRUE,#REF!,\"\")","v":""},{"$f":"IF($AG7=TRUE,#REF!,\"\")","v":""},""]
[{"$f":"IF(登録データ貼付!E4=\"\",\"\",登録データ貼付!E4)","v":""},{"$f":"IF(登録データ貼付!B4=\"\",\"\",登録データ貼付!B4)","v":""},{"$f":"IF(登録データ貼付!C4=\"\",\"\",CONCATENATE(登録データ貼付!C4,\"　\",登録データ貼付!D4))","v":""},"","","","",{"$f":"IF(登録データ貼付!V4=\"\",\"\",RIGHT(登録データ貼付!V4,1))","v":""},null,{"$f":"IF(登録データ貼付!F4=\"\",\"\",CONCATENATE(登録データ貼付!F4,\"　\",登録データ貼付!G4))","v":""},{"$f":"IF(登録データ貼付!H4=\"\",\"\",CONCATENATE(登録データ貼付!H4,\" \",登録データ貼付!I4))","v":""},{"$f":"IF(登録データ貼付!K4=\"\",\"\",LEFT(登録データ貼付!K4,1))","v":""},{"$f":"IF(登録データ貼付!S4=\"\",\"\",登録データ貼付!S4)","v":""},null,null,null,null,null,null,null,null,null,null,null,null,null,null,null,null,null,null,null,false,"","","","","",{"$f":"IF($AG8=TRUE,#REF!,\"\")","v":""},{"$f":"IF($AG8=TRUE,#REF!,\"\")","v":""},{"$f":"IF($AG8=TRUE,#REF!,\"\")","v":""},{"$f":"IF($AG8=TRUE,#REF!,\"\")","v":""},{"$f":"IF($AG8=TRUE,#REF!,\"\")","v":""},{"$f":"IF($AG8=TRUE,#REF!,\"\")","v":""},""]
[{"$f":"IF(登録データ貼付!E5=\"\",\"\",登録データ貼付!E5)","v":""},{"$f":"IF(登録データ貼付!B5=\"\",\"\",登録データ貼付!B5)","v":""},{"$f":"IF(登録データ貼付!C5=\"\",\"\",CONCATENATE(登録データ貼付!C5,\"　\",登録データ貼付!D5))","v":""},"","","","",{"$f":"IF(登録データ貼付!V5=\"\",\"\",RIGHT(登録データ貼付!V5,1))","v":""},null,{"$f":"IF(登録データ貼付!F5=\"\",\"\",CONCATENATE(登録データ貼付!F5,\"　\",登録データ貼付!G5))","v":""},{"$f":"IF(登録データ貼付!H5=\"\",\"\",CONCATENATE(登録データ貼付!H5,\" \",登録データ貼付!I5))","v":""},{"$f":"IF(登録データ貼付!K5=\"\",\"\",LEFT(登録データ貼付!K5,1))","v":""},{"$f":"IF(登録データ貼付!S5=\"\",\"\",登録データ貼付!S5)","v":""},null,null,1,"秋大附属",1,null,701,"秋田大学教育文化学部附属","中学校",{"$f":"CONCATENATE(U9,$V$9)","v":"秋田大学教育文化学部附属中学校"},null,null,null,null,null,null,null,null,null,false,"","","","","",{"$f":"IF($AG9=TRUE,#REF!,\"\")","v":""},{"$f":"IF($AG9=TRUE,#REF!,\"\")","v":""},{"$f":"IF($AG9=TRUE,#REF!,\"\")","v":""},{"$f":"IF($AG9=TRUE,#REF!,\"\")","v":""},{"$f":"IF($AG9=TRUE,#REF!,\"\")","v":""},{"$f":"IF($AG9=TRUE,#REF!,\"\")","v":""},""]
[{"$f":"IF(登録データ貼付!E6=\"\",\"\",登録データ貼付!E6)","v":""},{"$f":"IF(登録データ貼付!B6=\"\",\"\",登録データ貼付!B6)","v":""},{"$f":"IF(登録データ貼付!C6=\"\",\"\",CONCATENATE(登録データ貼付!C6,\"　\",登録データ貼付!D6))","v":""},"","","","",{"$f":"IF(登録データ貼付!V6=\"\",\"\",RIGHT(登録データ貼付!V6,1))","v":""},null,{"$f":"IF(登録データ貼付!F6=\"\",\"\",CONCATENATE(登録データ貼付!F6,\"　\",登録データ貼付!G6))","v":""},{"$f":"IF(登録データ貼付!H6=\"\",\"\",CONCATENATE(登録データ貼付!H6,\" \",登録データ貼付!I6))","v":""},{"$f":"IF(登録データ貼付!K6=\"\",\"\",LEFT(登録データ貼付!K6,1))","v":""},{"$f":"IF(登録データ貼付!S6=\"\",\"\",登録データ貼付!S6)","v":""},null,null,2,"大館国際情報",2,null,702,"秋田県立大館国際情報学院",null,{"$f":"CONCATENATE(U10,$V$9)","v":"秋田県立大館国際情報学院中学校"},null,null,null,null,null,null,null,null,null,false,"","","","","",{"$f":"IF($AG10=TRUE,#REF!,\"\")","v":""},{"$f":"IF($AG10=TRUE,#REF!,\"\")","v":""},{"$f":"IF($AG10=TRUE,#REF!,\"\")","v":""},{"$f":"IF($AG10=TRUE,#REF!,\"\")","v":""},{"$f":"IF($AG10=TRUE,#REF!,\"\")","v":""},{"$f":"IF($AG10=TRUE,#REF!,\"\")","v":""},""]
[{"$f":"IF(登録データ貼付!E7=\"\",\"\",登録データ貼付!E7)","v":""},{"$f":"IF(登録データ貼付!B7=\"\",\"\",登録データ貼付!B7)","v":""},{"$f":"IF(登録データ貼付!C7=\"\",\"\",CONCATENATE(登録データ貼付!C7,\"　\",登録データ貼付!D7))","v":""},"","","","",{"$f":"IF(登録データ貼付!V7=\"\",\"\",RIGHT(登録データ貼付!V7,1))","v":""},null,{"$f":"IF(登録データ貼付!F7=\"\",\"\",CONCATENATE(登録データ貼付!F7,\"　\",登録データ貼付!G7))","v":""},{"$f":"IF(登録データ貼付!H7=\"\",\"\",CONCATENATE(登録データ貼付!H7,\" \",登録データ貼付!I7))","v":""},{"$f":"IF(登録データ貼付!K7=\"\",\"\",LEFT(登録データ貼付!K7,1))","v":""},{"$f":"IF(登録データ貼付!S7=\"\",\"\",登録データ貼付!S7)","v":""},null,null,3,"南高中等部",3,null,703,"秋田県立秋田南高等学校中等部",null,"秋田県立秋田南高等学校中等部",null,null,null,null,null,null,null,null,null,false,"","","","","",{"$f":"IF($AG11=TRUE,#REF!,\"\")","v":""},{"$f":"IF($AG11=TRUE,#REF!,\"\")","v":""},{"$f":"IF($AG11=TRUE,#REF!,\"\")","v":""},{"$f":"IF($AG11=TRUE,#REF!,\"\")","v":""},{"$f":"IF($AG11=TRUE,#REF!,\"\")","v":""},{"$f":"IF($AG11=TRUE,#REF!,\"\")","v":""},""]
[{"$f":"IF(登録データ貼付!E8=\"\",\"\",登録データ貼付!E8)","v":""},{"$f":"IF(登録データ貼付!B8=\"\",\"\",登録データ貼付!B8)","v":""},{"$f":"IF(登録データ貼付!C8=\"\",\"\",CONCATENATE(登録データ貼付!C8,\"　\",登録データ貼付!D8))","v":""},"","","","",{"$f":"IF(登録データ貼付!V8=\"\",\"\",RIGHT(登録データ貼付!V8,1))","v":""},null,{"$f":"IF(登録データ貼付!F8=\"\",\"\",CONCATENATE(登録データ貼付!F8,\"　\",登録データ貼付!G8))","v":""},{"$f":"IF(登録データ貼付!H8=\"\",\"\",CONCATENATE(登録データ貼付!H8,\" \",登録データ貼付!I8))","v":""},{"$f":"IF(登録データ貼付!K8=\"\",\"\",LEFT(登録データ貼付!K8,1))","v":""},{"$f":"IF(登録データ貼付!S8=\"\",\"\",登録データ貼付!S8)","v":""},null,null,4,"横手清陵学院",4,null,704,"秋田県立横手清陵学院",null,"秋田県立横手清陵学院中学校",null,null,null,null,null,null,null,null,null,false,"","","","","",{"$f":"IF($AG12=TRUE,#REF!,\"\")","v":""},{"$f":"IF($AG12=TRUE,#REF!,\"\")","v":""},{"$f":"IF($AG12=TRUE,#REF!,\"\")","v":""},{"$f":"IF($AG12=TRUE,#REF!,\"\")","v":""},{"$f":"IF($AG12=TRUE,#REF!,\"\")","v":""},{"$f":"IF($AG12=TRUE,#REF!,\"\")","v":""},""]
[{"$f":"IF(登録データ貼付!E9=\"\",\"\",登録データ貼付!E9)","v":""},{"$f":"IF(登録データ貼付!B9=\"\",\"\",登録データ貼付!B9)","v":""},{"$f":"IF(登録データ貼付!C9=\"\",\"\",CONCATENATE(登録データ貼付!C9,\"　\",登録データ貼付!D9))","v":""},"","","","",{"$f":"IF(登録データ貼付!V9=\"\",\"\",RIGHT(登録データ貼付!V9,1))","v":""},null,{"$f":"IF(登録データ貼付!F9=\"\",\"\",CONCATENATE(登録データ貼付!F9,\"　\",登録データ貼付!G9))","v":""},{"$f":"IF(登録データ貼付!H9=\"\",\"\",CONCATENATE(登録データ貼付!H9,\" \",登録データ貼付!I9))","v":""},{"$f":"IF(登録データ貼付!K9=\"\",\"\",LEFT(登録データ貼付!K9,1))","v":""},{"$f":"IF(登録データ貼付!S9=\"\",\"\",登録データ貼付!S9)","v":""},null,null,5,"花輪",5,null,705,"鹿角市立花輪",null,"鹿角市立花輪中学校",null,null,null,null,null,null,null,null,null,false,"","","","","",{"$f":"IF($AG13=TRUE,#REF!,\"\")","v":""},{"$f":"IF($AG13=TRUE,#REF!,\"\")","v":""},{"$f":"IF($AG13=TRUE,#REF!,\"\")","v":""},{"$f":"IF($AG13=TRUE,#REF!,\"\")","v":""},{"$f":"IF($AG13=TRUE,#REF!,\"\")","v":""},{"$f":"IF($AG13=TRUE,#REF!,\"\")","v":""},""]
[{"$f":"IF(登録データ貼付!E10=\"\",\"\",登録データ貼付!E10)","v":""},{"$f":"IF(登録データ貼付!B10=\"\",\"\",登録データ貼付!B10)","v":""},{"$f":"IF(登録データ貼付!C10=\"\",\"\",CONCATENATE(登録データ貼付!C10,\"　\",登録データ貼付!D10))","v":""},"","","","",{"$f":"IF(登録データ貼付!V10=\"\",\"\",RIGHT(登録データ貼付!V10,1))","v":""},null,{"$f":"IF(登録データ貼付!F10=\"\",\"\",CONCATENATE(登録データ貼付!F10,\"　\",登録データ貼付!G10))","v":""},{"$f":"IF(登録データ貼付!H10=\"\",\"\",CONCATENATE(登録データ貼付!H10,\" \",登録データ貼付!I10))","v":""},{"$f":"IF(登録データ貼付!K10=\"\",\"\",LEFT(登録データ貼付!K10,1))","v":""},{"$f":"IF(登録データ貼付!S10=\"\",\"\",登録データ貼付!S10)","v":""},null,null,6,"十和田",6,null,706,"鹿角市立十和田",null,"鹿角市立十和田中学校",null,null,null,null,null,null,null,null,null,false,"","","","","",{"$f":"IF($AG14=TRUE,#REF!,\"\")","v":""},{"$f":"IF($AG14=TRUE,#REF!,\"\")","v":""},{"$f":"IF($AG14=TRUE,#REF!,\"\")","v":""},{"$f":"IF($AG14=TRUE,#REF!,\"\")","v":""},{"$f":"IF($AG14=TRUE,#REF!,\"\")","v":""},{"$f":"IF($AG14=TRUE,#REF!,\"\")","v":""},""]
[{"$f":"IF(登録データ貼付!E11=\"\",\"\",登録データ貼付!E11)","v":""},{"$f":"IF(登録データ貼付!B11=\"\",\"\",登録データ貼付!B11)","v":""},{"$f":"IF(登録データ貼付!C11=\"\",\"\",CONCATENATE(登録データ貼付!C11,\"　\",登録データ貼付!D11))","v":""},"","","","",{"$f":"IF(登録データ貼付!V11=\"\",\"\",RIGHT(登録データ貼付!V11,1))","v":""},null,{"$f":"IF(登録データ貼付!F11=\"\",\"\",CONCATENATE(登録データ貼付!F11,\"　\",登録データ貼付!G11))","v":""},{"$f":"IF(登録データ貼付!H11=\"\",\"\",CONCATENATE(登録データ貼付!H11,\" \",登録データ貼付!I11))","v":""},{"$f":"IF(登録データ貼付!K11=\"\",\"\",LEFT(登録データ貼付!K11,1))","v":""},{"$f":"IF(登録データ貼付!S11=\"\",\"\",登録データ貼付!S11)","v":""},null,null,7,"尾去沢",7,null,707,"鹿角市立尾去沢",null,"鹿角市立尾去沢中学校",null,null,null,null,null,null,null,null,null,false,"","","","","",{"$f":"IF($AG15=TRUE,#REF!,\"\")","v":""},{"$f":"IF($AG15=TRUE,#REF!,\"\")","v":""},{"$f":"IF($AG15=TRUE,#REF!,\"\")","v":""},{"$f":"IF($AG15=TRUE,#REF!,\"\")","v":""},{"$f":"IF($AG15=TRUE,#REF!,\"\")","v":""},{"$f":"IF($AG15=TRUE,#REF!,\"\")","v":""},""]
[{"$f":"IF(登録データ貼付!E12=\"\",\"\",登録データ貼付!E12)","v":""},{"$f":"IF(登録データ貼付!B12=\"\",\"\",登録データ貼付!B12)","v":""},{"$f":"IF(登録データ貼付!C12=\"\",\"\",CONCATENATE(登録データ貼付!C12,\"　\",登録データ貼付!D12))","v":""},"","","","",{"$f":"IF(登録データ貼付!V12=\"\",\"\",RIGHT(登録データ貼付!V12,1))","v":""},null,{"$f":"IF(登録データ貼付!F12=\"\",\"\",CONCATENATE(登録データ貼付!F12,\"　\",登録データ貼付!G12))","v":""},{"$f":"IF(登録データ貼付!H12=\"\",\"\",CONCATENATE(登録データ貼付!H12,\" \",登録データ貼付!I12))","v":""},{"$f":"IF(登録データ貼付!K12=\"\",\"\",LEFT(登録データ貼付!K12,1))","v":""},{"$f":"IF(登録データ貼付!S12=\"\",\"\",登録データ貼付!S12)","v":""},null,null,8,"八幡平",8,null,708,"鹿角市立八幡平",null,"鹿角市立八幡平中学校",null,null,null,null,null,null,null,null,null,false,"","","","","",{"$f":"IF($AG16=TRUE,#REF!,\"\")","v":""},{"$f":"IF($AG16=TRUE,#REF!,\"\")","v":""},{"$f":"IF($AG16=TRUE,#REF!,\"\")","v":""},{"$f":"IF($AG16=TRUE,#REF!,\"\")","v":""},{"$f":"IF($AG16=TRUE,#REF!,\"\")","v":""},{"$f":"IF($AG16=TRUE,#REF!,\"\")","v":""},""]
[{"$f":"IF(登録データ貼付!E13=\"\",\"\",登録データ貼付!E13)","v":""},{"$f":"IF(登録データ貼付!B13=\"\",\"\",登録データ貼付!B13)","v":""},{"$f":"IF(登録データ貼付!C13=\"\",\"\",CONCATENATE(登録データ貼付!C13,\"　\",登録データ貼付!D13))","v":""},"","","","",{"$f":"IF(登録データ貼付!V13=\"\",\"\",RIGHT(登録データ貼付!V13,1))","v":""},null,{"$f":"IF(登録データ貼付!F13=\"\",\"\",CONCATENATE(登録データ貼付!F13,\"　\",登録データ貼付!G13))","v":""},{"$f":"IF(登録データ貼付!H13=\"\",\"\",CONCATENATE(登録データ貼付!H13,\" \",登録データ貼付!I13))","v":""},{"$f":"IF(登録データ貼付!K13=\"\",\"\",LEFT(登録データ貼付!K13,1))","v":""},{"$f":"IF(登録データ貼付!S13=\"\",\"\",登録データ貼付!S13)","v":""},null,null,9,"小坂",9,null,709,"小坂町立小坂",null,"小坂町立小坂中学校",null,null,null,null,null,null,null,null,null,false,"","","","","",{"$f":"IF($AG17=TRUE,#REF!,\"\")","v":""},{"$f":"IF($AG17=TRUE,#REF!,\"\")","v":""},{"$f":"IF($AG17=TRUE,#REF!,\"\")","v":""},{"$f":"IF($AG17=TRUE,#REF!,\"\")","v":""},{"$f":"IF($AG17=TRUE,#REF!,\"\")","v":""},{"$f":"IF($AG17=TRUE,#REF!,\"\")","v":""},""]
[{"$f":"IF(登録データ貼付!E14=\"\",\"\",登録データ貼付!E14)","v":""},{"$f":"IF(登録データ貼付!B14=\"\",\"\",登録データ貼付!B14)","v":""},{"$f":"IF(登録データ貼付!C14=\"\",\"\",CONCATENATE(登録データ貼付!C14,\"　\",登録データ貼付!D14))","v":""},"","","","",{"$f":"IF(登録データ貼付!V14=\"\",\"\",RIGHT(登録データ貼付!V14,1))","v":""},null,{"$f":"IF(登録データ貼付!F14=\"\",\"\",CONCATENATE(登録データ貼付!F14,\"　\",登録データ貼付!G14))","v":""},{"$f":"IF(登録データ貼付!H14=\"\",\"\",CONCATENATE(登録データ貼付!H14,\" \",登録データ貼付!I14))","v":""},{"$f":"IF(登録データ貼付!K14=\"\",\"\",LEFT(登録データ貼付!K14,1))","v":""},{"$f":"IF(登録データ貼付!S14=\"\",\"\",登録データ貼付!S14)","v":""},null,null,10,"大館第一",10,null,710,"大館市立第一",null,"大館市立第一中学校",null,null,null,null,null,null,null,null,null,false,"","","","","",{"$f":"IF($AG18=TRUE,#REF!,\"\")","v":""},{"$f":"IF($AG18=TRUE,#REF!,\"\")","v":""},{"$f":"IF($AG18=TRUE,#REF!,\"\")","v":""},{"$f":"IF($AG18=TRUE,#REF!,\"\")","v":""},{"$f":"IF($AG18=TRUE,#REF!,\"\")","v":""},{"$f":"IF($AG18=TRUE,#REF!,\"\")","v":""},""]
[{"$f":"IF(登録データ貼付!E15=\"\",\"\",登録データ貼付!E15)","v":""},{"$f":"IF(登録データ貼付!B15=\"\",\"\",登録データ貼付!B15)","v":""},{"$f":"IF(登録データ貼付!C15=\"\",\"\",CONCATENATE(登録データ貼付!C15,\"　\",登録データ貼付!D15))","v":""},"","","","",{"$f":"IF(登録データ貼付!V15=\"\",\"\",RIGHT(登録データ貼付!V15,1))","v":""},null,{"$f":"IF(登録データ貼付!F15=\"\",\"\",CONCATENATE(登録データ貼付!F15,\"　\",登録データ貼付!G15))","v":""},{"$f":"IF(登録データ貼付!H15=\"\",\"\",CONCATENATE(登録データ貼付!H15,\" \",登録データ貼付!I15))","v":""},{"$f":"IF(登録データ貼付!K15=\"\",\"\",LEFT(登録データ貼付!K15,1))","v":""},{"$f":"IF(登録データ貼付!S15=\"\",\"\",登録データ貼付!S15)","v":""},null,null,11,"北陽",11,null,711,"大館市立北陽",null,"大館市立北陽中学校",null,null,null,null,null,null,null,null,null,false,"","","","","",{"$f":"IF($AG19=TRUE,#REF!,\"\")","v":""},{"$f":"IF($AG19=TRUE,#REF!,\"\")","v":""},{"$f":"IF($AG19=TRUE,#REF!,\"\")","v":""},{"$f":"IF($AG19=TRUE,#REF!,\"\")","v":""},{"$f":"IF($AG19=TRUE,#REF!,\"\")","v":""},{"$f":"IF($AG19=TRUE,#REF!,\"\")","v":""},""]
[{"$f":"IF(登録データ貼付!E16=\"\",\"\",登録データ貼付!E16)","v":""},{"$f":"IF(登録データ貼付!B16=\"\",\"\",登録データ貼付!B16)","v":""},{"$f":"IF(登録データ貼付!C16=\"\",\"\",CONCATENATE(登録データ貼付!C16,\"　\",登録データ貼付!D16))","v":""},"","","","",{"$f":"IF(登録データ貼付!V16=\"\",\"\",RIGHT(登録データ貼付!V16,1))","v":""},null,{"$f":"IF(登録データ貼付!F16=\"\",\"\",CONCATENATE(登録データ貼付!F16,\"　\",登録データ貼付!G16))","v":""},{"$f":"IF(登録データ貼付!H16=\"\",\"\",CONCATENATE(登録データ貼付!H16,\" \",登録データ貼付!I16))","v":""},{"$f":"IF(登録データ貼付!K16=\"\",\"\",LEFT(登録データ貼付!K16,1))","v":""},{"$f":"IF(登録データ貼付!S16=\"\",\"\",登録データ貼付!S16)","v":""},null,null,12,"下川沿",12,null,712,"大館市立下川沿",null,"大館市立下川沿中学校",null,null,null,null,null,null,null,null,null,false,"","","","","",{"$f":"IF($AG20=TRUE,#REF!,\"\")","v":""},{"$f":"IF($AG20=TRUE,#REF!,\"\")","v":""},{"$f":"IF($AG20=TRUE,#REF!,\"\")","v":""},{"$f":"IF($AG20=TRUE,#REF!,\"\")","v":""},{"$f":"IF($AG20=TRUE,#REF!,\"\")","v":""},{"$f":"IF($AG20=TRUE,#REF!,\"\")","v":""},""]
[{"$f":"IF(登録データ貼付!E17=\"\",\"\",登録データ貼付!E17)","v":""},{"$f":"IF(登録データ貼付!B17=\"\",\"\",登録データ貼付!B17)","v":""},{"$f":"IF(登録データ貼付!C17=\"\",\"\",CONCATENATE(登録データ貼付!C17,\"　\",登録データ貼付!D17))","v":""},"","","","",{"$f":"IF(登録データ貼付!V17=\"\",\"\",RIGHT(登録データ貼付!V17,1))","v":""},null,{"$f":"IF(登録データ貼付!F17=\"\",\"\",CONCATENATE(登録データ貼付!F17,\"　\",登録データ貼付!G17))","v":""},{"$f":"IF(登録データ貼付!H17=\"\",\"\",CONCATENATE(登録データ貼付!H17,\" \",登録データ貼付!I17))","v":""},{"$f":"IF(登録データ貼付!K17=\"\",\"\",LEFT(登録データ貼付!K17,1))","v":""},{"$f":"IF(登録データ貼付!S17=\"\",\"\",登録データ貼付!S17)","v":""},null,null,13,"大館南",13,null,713,"大館市立南",null,"大館市立南中学校",null,null,null,null,null,null,null,null,null,false,"","","","","",{"$f":"IF($AG21=TRUE,#REF!,\"\")","v":""},{"$f":"IF($AG21=TRUE,#REF!,\"\")","v":""},{"$f":"IF($AG21=TRUE,#REF!,\"\")","v":""},{"$f":"IF($AG21=TRUE,#REF!,\"\")","v":""},{"$f":"IF($AG21=TRUE,#REF!,\"\")","v":""},{"$f":"IF($AG21=TRUE,#REF!,\"\")","v":""},""]
[{"$f":"IF(登録データ貼付!E18=\"\",\"\",登録データ貼付!E18)","v":""},{"$f":"IF(登録データ貼付!B18=\"\",\"\",登録データ貼付!B18)","v":""},{"$f":"IF(登録データ貼付!C18=\"\",\"\",CONCATENATE(登録データ貼付!C18,\"　\",登録データ貼付!D18))","v":""},"","","","",{"$f":"IF(登録データ貼付!V18=\"\",\"\",RIGHT(登録データ貼付!V18,1))","v":""},null,{"$f":"IF(登録データ貼付!F18=\"\",\"\",CONCATENATE(登録データ貼付!F18,\"　\",登録データ貼付!G18))","v":""},{"$f":"IF(登録データ貼付!H18=\"\",\"\",CONCATENATE(登録データ貼付!H18,\" \",登録データ貼付!I18))","v":""},{"$f":"IF(登録データ貼付!K18=\"\",\"\",LEFT(登録データ貼付!K18,1))","v":""},{"$f":"IF(登録データ貼付!S18=\"\",\"\",登録データ貼付!S18)","v":""},null,null,14,"成章",14,null,714,"大館市立成章",null,"大館市立成章中学校",null,null,null,null,null,null,null,null,null,false,"","","","","",{"$f":"IF($AG22=TRUE,#REF!,\"\")","v":""},{"$f":"IF($AG22=TRUE,#REF!,\"\")","v":""},{"$f":"IF($AG22=TRUE,#REF!,\"\")","v":""},{"$f":"IF($AG22=TRUE,#REF!,\"\")","v":""},{"$f":"IF($AG22=TRUE,#REF!,\"\")","v":""},{"$f":"IF($AG22=TRUE,#REF!,\"\")","v":""},""]
[{"$f":"IF(登録データ貼付!E19=\"\",\"\",登録データ貼付!E19)","v":""},{"$f":"IF(登録データ貼付!B19=\"\",\"\",登録データ貼付!B19)","v":""},{"$f":"IF(登録データ貼付!C19=\"\",\"\",CONCATENATE(登録データ貼付!C19,\"　\",登録データ貼付!D19))","v":""},"","","","",{"$f":"IF(登録データ貼付!V19=\"\",\"\",RIGHT(登録データ貼付!V19,1))","v":""},null,{"$f":"IF(登録データ貼付!F19=\"\",\"\",CONCATENATE(登録データ貼付!F19,\"　\",登録データ貼付!G19))","v":""},{"$f":"IF(登録データ貼付!H19=\"\",\"\",CONCATENATE(登録データ貼付!H19,\" \",登録データ貼付!I19))","v":""},{"$f":"IF(登録データ貼付!K19=\"\",\"\",LEFT(登録データ貼付!K19,1))","v":""},{"$f":"IF(登録データ貼付!S19=\"\",\"\",登録データ貼付!S19)","v":""},null,null,15,"大館東",15,null,715,"大館市立東",null,"大館市立東中学校",null,null,null,null,null,null,null,null,null,false,"","","","","",{"$f":"IF($AG23=TRUE,#REF!,\"\")","v":""},{"$f":"IF($AG23=TRUE,#REF!,\"\")","v":""},{"$f":"IF($AG23=TRUE,#REF!,\"\")","v":""},{"$f":"IF($AG23=TRUE,#REF!,\"\")","v":""},{"$f":"IF($AG23=TRUE,#REF!,\"\")","v":""},{"$f":"IF($AG23=TRUE,#REF!,\"\")","v":""},""]
[{"$f":"IF(登録データ貼付!E20=\"\",\"\",登録データ貼付!E20)","v":""},{"$f":"IF(登録データ貼付!B20=\"\",\"\",登録データ貼付!B20)","v":""},{"$f":"IF(登録データ貼付!C20=\"\",\"\",CONCATENATE(登録データ貼付!C20,\"　\",登録データ貼付!D20))","v":""},"","","","",{"$f":"IF(登録データ貼付!V20=\"\",\"\",RIGHT(登録データ貼付!V20,1))","v":""},null,{"$f":"IF(登録データ貼付!F20=\"\",\"\",CONCATENATE(登録データ貼付!F20,\"　\",登録データ貼付!G20))","v":""},{"$f":"IF(登録データ貼付!H20=\"\",\"\",CONCATENATE(登録データ貼付!H20,\" \",登録データ貼付!I20))","v":""},{"$f":"IF(登録データ貼付!K20=\"\",\"\",LEFT(登録データ貼付!K20,1))","v":""},{"$f":"IF(登録データ貼付!S20=\"\",\"\",登録データ貼付!S20)","v":""},null,null,16,"比内",16,null,716,"大館市立比内",null,"大館市立比内中学校",null,null,null,null,null,null,null,null,null,false,"","","","","",{"$f":"IF($AG24=TRUE,#REF!,\"\")","v":""},{"$f":"IF($AG24=TRUE,#REF!,\"\")","v":""},{"$f":"IF($AG24=TRUE,#REF!,\"\")","v":""},{"$f":"IF($AG24=TRUE,#REF!,\"\")","v":""},{"$f":"IF($AG24=TRUE,#REF!,\"\")","v":""},{"$f":"IF($AG24=TRUE,#REF!,\"\")","v":""},""]
[{"$f":"IF(登録データ貼付!E21=\"\",\"\",登録データ貼付!E21)","v":""},{"$f":"IF(登録データ貼付!B21=\"\",\"\",登録データ貼付!B21)","v":""},{"$f":"IF(登録データ貼付!C21=\"\",\"\",CONCATENATE(登録データ貼付!C21,\"　\",登録データ貼付!D21))","v":""},"","","","",{"$f":"IF(登録データ貼付!V21=\"\",\"\",RIGHT(登録データ貼付!V21,1))","v":""},null,{"$f":"IF(登録データ貼付!F21=\"\",\"\",CONCATENATE(登録データ貼付!F21,\"　\",登録データ貼付!G21))","v":""},{"$f":"IF(登録データ貼付!H21=\"\",\"\",CONCATENATE(登録データ貼付!H21,\" \",登録データ貼付!I21))","v":""},{"$f":"IF(登録データ貼付!K21=\"\",\"\",LEFT(登録データ貼付!K21,1))","v":""},{"$f":"IF(登録データ貼付!S21=\"\",\"\",登録データ貼付!S21)","v":""},null,null,17,"田代",17,null,717,"大館市立田代",null,"大館市立田代中学校",null,null,null,null,null,null,null,null,null,false,"","","","","",{"$f":"IF($AG25=TRUE,#REF!,\"\")","v":""},{"$f":"IF($AG25=TRUE,#REF!,\"\")","v":""},{"$f":"IF($AG25=TRUE,#REF!,\"\")","v":""},{"$f":"IF($AG25=TRUE,#REF!,\"\")","v":""},{"$f":"IF($AG25=TRUE,#REF!,\"\")","v":""},{"$f":"IF($AG25=TRUE,#REF!,\"\")","v":""},""]
[{"$f":"IF(登録データ貼付!E22=\"\",\"\",登録データ貼付!E22)","v":""},{"$f":"IF(登録データ貼付!B22=\"\",\"\",登録データ貼付!B22)","v":""},{"$f":"IF(登録データ貼付!C22=\"\",\"\",CONCATENATE(登録データ貼付!C22,\"　\",登録データ貼付!D22))","v":""},"","","","",{"$f":"IF(登録データ貼付!V22=\"\",\"\",RIGHT(登録データ貼付!V22,1))","v":""},null,{"$f":"IF(登録データ貼付!F22=\"\",\"\",CONCATENATE(登録データ貼付!F22,\"　\",登録データ貼付!G22))","v":""},{"$f":"IF(登録データ貼付!H22=\"\",\"\",CONCATENATE(登録データ貼付!H22,\" \",登録データ貼付!I22))","v":""},{"$f":"IF(登録データ貼付!K22=\"\",\"\",LEFT(登録データ貼付!K22,1))","v":""},{"$f":"IF(登録データ貼付!S22=\"\",\"\",登録データ貼付!S22)","v":""},null,null,18,"鷹巣",18,null,718,"北秋田市立鷹巣",null,"北秋田市立鷹巣中学校",null,null,null,null,null,null,null,null,null,false,"","","","","",{"$f":"IF($AG26=TRUE,#REF!,\"\")","v":""},{"$f":"IF($AG26=TRUE,#REF!,\"\")","v":""},{"$f":"IF($AG26=TRUE,#REF!,\"\")","v":""},{"$f":"IF($AG26=TRUE,#REF!,\"\")","v":""},{"$f":"IF($AG26=TRUE,#REF!,\"\")","v":""},{"$f":"IF($AG26=TRUE,#REF!,\"\")","v":""},""]
[{"$f":"IF(登録データ貼付!E23=\"\",\"\",登録データ貼付!E23)","v":""},{"$f":"IF(登録データ貼付!B23=\"\",\"\",登録データ貼付!B23)","v":""},{"$f":"IF(登録データ貼付!C23=\"\",\"\",CONCATENATE(登録データ貼付!C23,\"　\",登録データ貼付!D23))","v":""},"","","","",{"$f":"IF(登録データ貼付!V23=\"\",\"\",RIGHT(登録データ貼付!V23,1))","v":""},null,{"$f":"IF(登録データ貼付!F23=\"\",\"\",CONCATENATE(登録データ貼付!F23,\"　\",登録データ貼付!G23))","v":""},{"$f":"IF(登録データ貼付!H23=\"\",\"\",CONCATENATE(登録データ貼付!H23,\" \",登録データ貼付!I23))","v":""},{"$f":"IF(登録データ貼付!K23=\"\",\"\",LEFT(登録データ貼付!K23,1))","v":""},{"$f":"IF(登録データ貼付!S23=\"\",\"\",登録データ貼付!S23)","v":""},null,null,19,"森吉",19,null,719,"北秋田市立森吉",null,"北秋田市立森吉中学校",null,null,null,null,null,null,null,null,null,false,"","","","","",{"$f":"IF($AG27=TRUE,#REF!,\"\")","v":""},{"$f":"IF($AG27=TRUE,#REF!,\"\")","v":""},{"$f":"IF($AG27=TRUE,#REF!,\"\")","v":""},{"$f":"IF($AG27=TRUE,#REF!,\"\")","v":""},{"$f":"IF($AG27=TRUE,#REF!,\"\")","v":""},{"$f":"IF($AG27=TRUE,#REF!,\"\")","v":""},""]
[{"$f":"IF(登録データ貼付!E24=\"\",\"\",登録データ貼付!E24)","v":""},{"$f":"IF(登録データ貼付!B24=\"\",\"\",登録データ貼付!B24)","v":""},{"$f":"IF(登録データ貼付!C24=\"\",\"\",CONCATENATE(登録データ貼付!C24,\"　\",登録データ貼付!D24))","v":""},"","","","",{"$f":"IF(登録データ貼付!V24=\"\",\"\",RIGHT(登録データ貼付!V24,1))","v":""},null,{"$f":"IF(登録データ貼付!F24=\"\",\"\",CONCATENATE(登録データ貼付!F24,\"　\",登録データ貼付!G24))","v":""},{"$f":"IF(登録データ貼付!H24=\"\",\"\",CONCATENATE(登録データ貼付!H24,\" \",登録データ貼付!I24))","v":""},{"$f":"IF(登録データ貼付!K24=\"\",\"\",LEFT(登録データ貼付!K24,1))","v":""},{"$f":"IF(登録データ貼付!S24=\"\",\"\",登録データ貼付!S24)","v":""},null,null,20,"阿仁",20,null,720,"北秋田市立阿仁",null,"北秋田市立阿仁中学校",null,null,null,null,null,null,null,null,null,false,"","","","","",{"$f":"IF($AG28=TRUE,#REF!,\"\")","v":""},{"$f":"IF($AG28=TRUE,#REF!,\"\")","v":""},{"$f":"IF($AG28=TRUE,#REF!,\"\")","v":""},{"$f":"IF($AG28=TRUE,#REF!,\"\")","v":""},{"$f":"IF($AG28=TRUE,#REF!,\"\")","v":""},{"$f":"IF($AG28=TRUE,#REF!,\"\")","v":""},""]
[{"$f":"IF(登録データ貼付!E25=\"\",\"\",登録データ貼付!E25)","v":""},{"$f":"IF(登録データ貼付!B25=\"\",\"\",登録データ貼付!B25)","v":""},{"$f":"IF(登録データ貼付!C25=\"\",\"\",CONCATENATE(登録データ貼付!C25,\"　\",登録データ貼付!D25))","v":""},"","","","",{"$f":"IF(登録データ貼付!V25=\"\",\"\",RIGHT(登録データ貼付!V25,1))","v":""},null,{"$f":"IF(登録データ貼付!F25=\"\",\"\",CONCATENATE(登録データ貼付!F25,\"　\",登録データ貼付!G25))","v":""},{"$f":"IF(登録データ貼付!H25=\"\",\"\",CONCATENATE(登録データ貼付!H25,\" \",登録データ貼付!I25))","v":""},{"$f":"IF(登録データ貼付!K25=\"\",\"\",LEFT(登録データ貼付!K25,1))","v":""},{"$f":"IF(登録データ貼付!S25=\"\",\"\",登録データ貼付!S25)","v":""},null,null,21,"合川",21,null,721,"北秋田市立合川",null,"北秋田市立合川中学校",null,null,null,null,null,null,null,null,null,false,"","","","","",{"$f":"IF($AG29=TRUE,#REF!,\"\")","v":""},{"$f":"IF($AG29=TRUE,#REF!,\"\")","v":""},{"$f":"IF($AG29=TRUE,#REF!,\"\")","v":""},{"$f":"IF($AG29=TRUE,#REF!,\"\")","v":""},{"$f":"IF($AG29=TRUE,#REF!,\"\")","v":""},{"$f":"IF($AG29=TRUE,#REF!,\"\")","v":""},""]
[{"$f":"IF(登録データ貼付!E26=\"\",\"\",登録データ貼付!E26)","v":""},{"$f":"IF(登録データ貼付!B26=\"\",\"\",登録データ貼付!B26)","v":""},{"$f":"IF(登録データ貼付!C26=\"\",\"\",CONCATENATE(登録データ貼付!C26,\"　\",登録データ貼付!D26))","v":""},"","","","",{"$f":"IF(登録データ貼付!V26=\"\",\"\",RIGHT(登録データ貼付!V26,1))","v":""},null,{"$f":"IF(登録データ貼付!F26=\"\",\"\",CONCATENATE(登録データ貼付!F26,\"　\",登録データ貼付!G26))","v":""},{"$f":"IF(登録データ貼付!H26=\"\",\"\",CONCATENATE(登録データ貼付!H26,\" \",登録データ貼付!I26))","v":""},{"$f":"IF(登録データ貼付!K26=\"\",\"\",LEFT(登録データ貼付!K26,1))","v":""},{"$f":"IF(登録データ貼付!S26=\"\",\"\",登録データ貼付!S26)","v":""},null,null,22,"上小阿仁",22,null,722,"上小阿仁村立上小阿仁",null,"上小阿仁村立上小阿仁中学校",null,null,null,null,null,null,null,null,null,false,"","","","","",{"$f":"IF($AG30=TRUE,#REF!,\"\")","v":""},{"$f":"IF($AG30=TRUE,#REF!,\"\")","v":""},{"$f":"IF($AG30=TRUE,#REF!,\"\")","v":""},{"$f":"IF($AG30=TRUE,#REF!,\"\")","v":""},{"$f":"IF($AG30=TRUE,#REF!,\"\")","v":""},{"$f":"IF($AG30=TRUE,#REF!,\"\")","v":""},""]
[{"$f":"IF(登録データ貼付!E27=\"\",\"\",登録データ貼付!E27)","v":""},{"$f":"IF(登録データ貼付!B27=\"\",\"\",登録データ貼付!B27)","v":""},{"$f":"IF(登録データ貼付!C27=\"\",\"\",CONCATENATE(登録データ貼付!C27,\"　\",登録データ貼付!D27))","v":""},"","","","",{"$f":"IF(登録データ貼付!V27=\"\",\"\",RIGHT(登録データ貼付!V27,1))","v":""},null,{"$f":"IF(登録データ貼付!F27=\"\",\"\",CONCATENATE(登録データ貼付!F27,\"　\",登録データ貼付!G27))","v":""},{"$f":"IF(登録データ貼付!H27=\"\",\"\",CONCATENATE(登録データ貼付!H27,\" \",登録データ貼付!I27))","v":""},{"$f":"IF(登録データ貼付!K27=\"\",\"\",LEFT(登録データ貼付!K27,1))","v":""},{"$f":"IF(登録データ貼付!S27=\"\",\"\",登録データ貼付!S27)","v":""},null,null,23,"能代第一",23,null,723,"能代市立能代第一",null,"能代市立能代第一中学校",null,null,null,null,null,null,null,null,null,false,"","","","","",{"$f":"IF($AG31=TRUE,#REF!,\"\")","v":""},{"$f":"IF($AG31=TRUE,#REF!,\"\")","v":""},{"$f":"IF($AG31=TRUE,#REF!,\"\")","v":""},{"$f":"IF($AG31=TRUE,#REF!,\"\")","v":""},{"$f":"IF($AG31=TRUE,#REF!,\"\")","v":""},{"$f":"IF($AG31=TRUE,#REF!,\"\")","v":""},""]
[{"$f":"IF(登録データ貼付!E28=\"\",\"\",登録データ貼付!E28)","v":""},{"$f":"IF(登録データ貼付!B28=\"\",\"\",登録データ貼付!B28)","v":""},{"$f":"IF(登録データ貼付!C28=\"\",\"\",CONCATENATE(登録データ貼付!C28,\"　\",登録データ貼付!D28))","v":""},"","","","",{"$f":"IF(登録データ貼付!V28=\"\",\"\",RIGHT(登録データ貼付!V28,1))","v":""},null,{"$f":"IF(登録データ貼付!F28=\"\",\"\",CONCATENATE(登録データ貼付!F28,\"　\",登録データ貼付!G28))","v":""},{"$f":"IF(登録データ貼付!H28=\"\",\"\",CONCATENATE(登録データ貼付!H28,\" \",登録データ貼付!I28))","v":""},{"$f":"IF(登録データ貼付!K28=\"\",\"\",LEFT(登録データ貼付!K28,1))","v":""},{"$f":"IF(登録データ貼付!S28=\"\",\"\",登録データ貼付!S28)","v":""},null,null,24,"能代第二",24,null,724,"能代市立能代第二",null,"能代市立能代第二中学校",null,null,null,null,null,null,null,null,null,false,"","","","","",{"$f":"IF($AG32=TRUE,#REF!,\"\")","v":""},{"$f":"IF($AG32=TRUE,#REF!,\"\")","v":""},{"$f":"IF($AG32=TRUE,#REF!,\"\")","v":""},{"$f":"IF($AG32=TRUE,#REF!,\"\")","v":""},{"$f":"IF($AG32=TRUE,#REF!,\"\")","v":""},{"$f":"IF($AG32=TRUE,#REF!,\"\")","v":""},""]
[{"$f":"IF(登録データ貼付!E29=\"\",\"\",登録データ貼付!E29)","v":""},{"$f":"IF(登録データ貼付!B29=\"\",\"\",登録データ貼付!B29)","v":""},{"$f":"IF(登録データ貼付!C29=\"\",\"\",CONCATENATE(登録データ貼付!C29,\"　\",登録データ貼付!D29))","v":""},"","","","",{"$f":"IF(登録データ貼付!V29=\"\",\"\",RIGHT(登録データ貼付!V29,1))","v":""},null,{"$f":"IF(登録データ貼付!F29=\"\",\"\",CONCATENATE(登録データ貼付!F29,\"　\",登録データ貼付!G29))","v":""},{"$f":"IF(登録データ貼付!H29=\"\",\"\",CONCATENATE(登録データ貼付!H29,\" \",登録データ貼付!I29))","v":""},{"$f":"IF(登録データ貼付!K29=\"\",\"\",LEFT(登録データ貼付!K29,1))","v":""},{"$f":"IF(登録データ貼付!S29=\"\",\"\",登録データ貼付!S29)","v":""},null,null,25,"能代東",25,null,725,"能代市立能代東",null,"能代市立能代東中学校",null,null,null,null,null,null,null,null,null,false,"","","","","",{"$f":"IF($AG33=TRUE,#REF!,\"\")","v":""},{"$f":"IF($AG33=TRUE,#REF!,\"\")","v":""},{"$f":"IF($AG33=TRUE,#REF!,\"\")","v":""},{"$f":"IF($AG33=TRUE,#REF!,\"\")","v":""},{"$f":"IF($AG33=TRUE,#REF!,\"\")","v":""},{"$f":"IF($AG33=TRUE,#REF!,\"\")","v":""},""]
[{"$f":"IF(登録データ貼付!E30=\"\",\"\",登録データ貼付!E30)","v":""},{"$f":"IF(登録データ貼付!B30=\"\",\"\",登録データ貼付!B30)","v":""},{"$f":"IF(登録データ貼付!C30=\"\",\"\",CONCATENATE(登録データ貼付!C30,\"　\",登録データ貼付!D30))","v":""},"","","","",{"$f":"IF(登録データ貼付!V30=\"\",\"\",RIGHT(登録データ貼付!V30,1))","v":""},null,{"$f":"IF(登録データ貼付!F30=\"\",\"\",CONCATENATE(登録データ貼付!F30,\"　\",登録データ貼付!G30))","v":""},{"$f":"IF(登録データ貼付!H30=\"\",\"\",CONCATENATE(登録データ貼付!H30,\" \",登録データ貼付!I30))","v":""},{"$f":"IF(登録データ貼付!K30=\"\",\"\",LEFT(登録データ貼付!K30,1))","v":""},{"$f":"IF(登録データ貼付!S30=\"\",\"\",登録データ貼付!S30)","v":""},null,null,26,"東雲",26,null,726,"能代市立東雲",null,"能代市立東雲中学校",null,null,null,null,null,null,null,null,null,false,"","","","","",{"$f":"IF($AG34=TRUE,#REF!,\"\")","v":""},{"$f":"IF($AG34=TRUE,#REF!,\"\")","v":""},{"$f":"IF($AG34=TRUE,#REF!,\"\")","v":""},{"$f":"IF($AG34=TRUE,#REF!,\"\")","v":""},{"$f":"IF($AG34=TRUE,#REF!,\"\")","v":""},{"$f":"IF($AG34=TRUE,#REF!,\"\")","v":""},""]
[{"$f":"IF(登録データ貼付!E31=\"\",\"\",登録データ貼付!E31)","v":""},{"$f":"IF(登録データ貼付!B31=\"\",\"\",登録データ貼付!B31)","v":""},{"$f":"IF(登録データ貼付!C31=\"\",\"\",CONCATENATE(登録データ貼付!C31,\"　\",登録データ貼付!D31))","v":""},"","","","",{"$f":"IF(登録データ貼付!V31=\"\",\"\",RIGHT(登録データ貼付!V31,1))","v":""},null,{"$f":"IF(登録データ貼付!F31=\"\",\"\",CONCATENATE(登録データ貼付!F31,\"　\",登録データ貼付!G31))","v":""},{"$f":"IF(登録データ貼付!H31=\"\",\"\",CONCATENATE(登録データ貼付!H31,\" \",登録データ貼付!I31))","v":""},{"$f":"IF(登録データ貼付!K31=\"\",\"\",LEFT(登録データ貼付!K31,1))","v":""},{"$f":"IF(登録データ貼付!S31=\"\",\"\",登録データ貼付!S31)","v":""},null,null,27,"能代南",27,null,727,"能代市立能代南",null,"能代市立能代南中学校",null,null,null,null,null,null,null,null,null,false,"","","","","",{"$f":"IF($AG35=TRUE,#REF!,\"\")","v":""},{"$f":"IF($AG35=TRUE,#REF!,\"\")","v":""},{"$f":"IF($AG35=TRUE,#REF!,\"\")","v":""},{"$f":"IF($AG35=TRUE,#REF!,\"\")","v":""},{"$f":"IF($AG35=TRUE,#REF!,\"\")","v":""},{"$f":"IF($AG35=TRUE,#REF!,\"\")","v":""},""]
[{"$f":"IF(登録データ貼付!E32=\"\",\"\",登録データ貼付!E32)","v":""},{"$f":"IF(登録データ貼付!B32=\"\",\"\",登録データ貼付!B32)","v":""},{"$f":"IF(登録データ貼付!C32=\"\",\"\",CONCATENATE(登録データ貼付!C32,\"　\",登録データ貼付!D32))","v":""},"","","","",{"$f":"IF(登録データ貼付!V32=\"\",\"\",RIGHT(登録データ貼付!V32,1))","v":""},null,{"$f":"IF(登録データ貼付!F32=\"\",\"\",CONCATENATE(登録データ貼付!F32,\"　\",登録データ貼付!G32))","v":""},{"$f":"IF(登録データ貼付!H32=\"\",\"\",CONCATENATE(登録データ貼付!H32,\" \",登録データ貼付!I32))","v":""},{"$f":"IF(登録データ貼付!K32=\"\",\"\",LEFT(登録データ貼付!K32,1))","v":""},{"$f":"IF(登録データ貼付!S32=\"\",\"\",登録データ貼付!S32)","v":""},null,null,28,"二ツ井",28,null,728,"能代市立二ツ井",null,"能代市立二ツ井中学校",null,null,null,null,null,null,null,null,null,false,"","","","","",{"$f":"IF($AG36=TRUE,#REF!,\"\")","v":""},{"$f":"IF($AG36=TRUE,#REF!,\"\")","v":""},{"$f":"IF($AG36=TRUE,#REF!,\"\")","v":""},{"$f":"IF($AG36=TRUE,#REF!,\"\")","v":""},{"$f":"IF($AG36=TRUE,#REF!,\"\")","v":""},{"$f":"IF($AG36=TRUE,#REF!,\"\")","v":""},""]
[{"$f":"IF(登録データ貼付!E33=\"\",\"\",登録データ貼付!E33)","v":""},{"$f":"IF(登録データ貼付!B33=\"\",\"\",登録データ貼付!B33)","v":""},{"$f":"IF(登録データ貼付!C33=\"\",\"\",CONCATENATE(登録データ貼付!C33,\"　\",登録データ貼付!D33))","v":""},"","","","",{"$f":"IF(登録データ貼付!V33=\"\",\"\",RIGHT(登録データ貼付!V33,1))","v":""},null,{"$f":"IF(登録データ貼付!F33=\"\",\"\",CONCATENATE(登録データ貼付!F33,\"　\",登録データ貼付!G33))","v":""},{"$f":"IF(登録データ貼付!H33=\"\",\"\",CONCATENATE(登録データ貼付!H33,\" \",登録データ貼付!I33))","v":""},{"$f":"IF(登録データ貼付!K33=\"\",\"\",LEFT(登録データ貼付!K33,1))","v":""},{"$f":"IF(登録データ貼付!S33=\"\",\"\",登録データ貼付!S33)","v":""},null,null,29,"藤里",29,null,729,"藤里町立藤里",null,"藤里町立藤里中学校",null,null,null,null,null,null,null,null,null,false,"","","","","",{"$f":"IF($AG37=TRUE,#REF!,\"\")","v":""},{"$f":"IF($AG37=TRUE,#REF!,\"\")","v":""},{"$f":"IF($AG37=TRUE,#REF!,\"\")","v":""},{"$f":"IF($AG37=TRUE,#REF!,\"\")","v":""},{"$f":"IF($AG37=TRUE,#REF!,\"\")","v":""},{"$f":"IF($AG37=TRUE,#REF!,\"\")","v":""},""]
[{"$f":"IF(登録データ貼付!E34=\"\",\"\",登録データ貼付!E34)","v":""},{"$f":"IF(登録データ貼付!B34=\"\",\"\",登録データ貼付!B34)","v":""},{"$f":"IF(登録データ貼付!C34=\"\",\"\",CONCATENATE(登録データ貼付!C34,\"　\",登録データ貼付!D34))","v":""},"","","","",{"$f":"IF(登録データ貼付!V34=\"\",\"\",RIGHT(登録データ貼付!V34,1))","v":""},null,{"$f":"IF(登録データ貼付!F34=\"\",\"\",CONCATENATE(登録データ貼付!F34,\"　\",登録データ貼付!G34))","v":""},{"$f":"IF(登録データ貼付!H34=\"\",\"\",CONCATENATE(登録データ貼付!H34,\" \",登録データ貼付!I34))","v":""},{"$f":"IF(登録データ貼付!K34=\"\",\"\",LEFT(登録データ貼付!K34,1))","v":""},{"$f":"IF(登録データ貼付!S34=\"\",\"\",登録データ貼付!S34)","v":""},null,null,30,"琴丘",30,null,730,"三種町立琴丘",null,"三種町立琴丘中学校",null,null,null,null,null,null,null,null,null,false,{"$f":"IF($AG38=TRUE,B38,\"\")","v":""},{"$f":"IF($AG38=TRUE,C38,\"\")","v":""},{"$f":"IF($AG38=TRUE,D38,\"\")","v":""},{"$f":"IF($AG38=TRUE,F38,\"\")","v":""},{"$f":"IF($AG38=TRUE,G38,\"\")","v":""},{"$f":"IF($AG38=TRUE,#REF!,\"\")","v":""},{"$f":"IF($AG38=TRUE,#REF!,\"\")","v":""},{"$f":"IF($AG38=TRUE,#REF!,\"\")","v":""},{"$f":"IF($AG38=TRUE,#REF!,\"\")","v":""},{"$f":"IF($AG38=TRUE,#REF!,\"\")","v":""},{"$f":"IF($AG38=TRUE,#REF!,\"\")","v":""},{"$f":"IF($AG38=TRUE,H38,\"\")","v":""}]
[{"$f":"IF(登録データ貼付!E35=\"\",\"\",登録データ貼付!E35)","v":""},{"$f":"IF(登録データ貼付!B35=\"\",\"\",登録データ貼付!B35)","v":""},{"$f":"IF(登録データ貼付!C35=\"\",\"\",CONCATENATE(登録データ貼付!C35,\"　\",登録データ貼付!D35))","v":""},"","","","",{"$f":"IF(登録データ貼付!V35=\"\",\"\",RIGHT(登録データ貼付!V35,1))","v":""},null,{"$f":"IF(登録データ貼付!F35=\"\",\"\",CONCATENATE(登録データ貼付!F35,\"　\",登録データ貼付!G35))","v":""},{"$f":"IF(登録データ貼付!H35=\"\",\"\",CONCATENATE(登録データ貼付!H35,\" \",登録データ貼付!I35))","v":""},{"$f":"IF(登録データ貼付!K35=\"\",\"\",LEFT(登録データ貼付!K35,1))","v":""},{"$f":"IF(登録データ貼付!S35=\"\",\"\",登録データ貼付!S35)","v":""},null,null,31,"山本",31,null,731,"三種町立山本",null,"三種町立山本中学校",null,null,null,null,null,null,null,null,null,false,"","","","","",{"$f":"IF($AG39=TRUE,#REF!,\"\")","v":""},{"$f":"IF($AG39=TRUE,#REF!,\"\")","v":""},{"$f":"IF($AG39=TRUE,#REF!,\"\")","v":""},{"$f":"IF($AG39=TRUE,#REF!,\"\")","v":""},{"$f":"IF($AG39=TRUE,#REF!,\"\")","v":""},{"$f":"IF($AG39=TRUE,#REF!,\"\")","v":""},""]
[{"$f":"IF(登録データ貼付!E36=\"\",\"\",登録データ貼付!E36)","v":""},{"$f":"IF(登録データ貼付!B36=\"\",\"\",登録データ貼付!B36)","v":""},{"$f":"IF(登録データ貼付!C36=\"\",\"\",CONCATENATE(登録データ貼付!C36,\"　\",登録データ貼付!D36))","v":""},"","","","",{"$f":"IF(登録データ貼付!V36=\"\",\"\",RIGHT(登録データ貼付!V36,1))","v":""},null,{"$f":"IF(登録データ貼付!F36=\"\",\"\",CONCATENATE(登録データ貼付!F36,\"　\",登録データ貼付!G36))","v":""},{"$f":"IF(登録データ貼付!H36=\"\",\"\",CONCATENATE(登録データ貼付!H36,\" \",登録データ貼付!I36))","v":""},{"$f":"IF(登録データ貼付!K36=\"\",\"\",LEFT(登録データ貼付!K36,1))","v":""},{"$f":"IF(登録データ貼付!S36=\"\",\"\",登録データ貼付!S36)","v":""},null,null,32,"八竜",32,null,732,"三種町立八竜",null,"三種町立八竜中学校",null,null,null,null,null,null,null,null,null,false,"","","","","",{"$f":"IF($AG40=TRUE,#REF!,\"\")","v":""},{"$f":"IF($AG40=TRUE,#REF!,\"\")","v":""},{"$f":"IF($AG40=TRUE,#REF!,\"\")","v":""},{"$f":"IF($AG40=TRUE,#REF!,\"\")","v":""},{"$f":"IF($AG40=TRUE,#REF!,\"\")","v":""},{"$f":"IF($AG40=TRUE,#REF!,\"\")","v":""},""]
[{"$f":"IF(登録データ貼付!E37=\"\",\"\",登録データ貼付!E37)","v":""},{"$f":"IF(登録データ貼付!B37=\"\",\"\",登録データ貼付!B37)","v":""},{"$f":"IF(登録データ貼付!C37=\"\",\"\",CONCATENATE(登録データ貼付!C37,\"　\",登録データ貼付!D37))","v":""},"","","","",{"$f":"IF(登録データ貼付!V37=\"\",\"\",RIGHT(登録データ貼付!V37,1))","v":""},null,{"$f":"IF(登録データ貼付!F37=\"\",\"\",CONCATENATE(登録データ貼付!F37,\"　\",登録データ貼付!G37))","v":""},{"$f":"IF(登録データ貼付!H37=\"\",\"\",CONCATENATE(登録データ貼付!H37,\" \",登録データ貼付!I37))","v":""},{"$f":"IF(登録データ貼付!K37=\"\",\"\",LEFT(登録データ貼付!K37,1))","v":""},{"$f":"IF(登録データ貼付!S37=\"\",\"\",登録データ貼付!S37)","v":""},null,null,33,"八峰",33,null,733,"八峰町立八峰",null,"八峰町立八峰中学校",null,null,null,null,null,null,null,null,null,false,"","","","","",{"$f":"IF($AG41=TRUE,#REF!,\"\")","v":""},{"$f":"IF($AG41=TRUE,#REF!,\"\")","v":""},{"$f":"IF($AG41=TRUE,#REF!,\"\")","v":""},{"$f":"IF($AG41=TRUE,#REF!,\"\")","v":""},{"$f":"IF($AG41=TRUE,#REF!,\"\")","v":""},{"$f":"IF($AG41=TRUE,#REF!,\"\")","v":""},""]
[{"$f":"IF(登録データ貼付!E38=\"\",\"\",登録データ貼付!E38)","v":""},{"$f":"IF(登録データ貼付!B38=\"\",\"\",登録データ貼付!B38)","v":""},{"$f":"IF(登録データ貼付!C38=\"\",\"\",CONCATENATE(登録データ貼付!C38,\"　\",登録データ貼付!D38))","v":""},"","","","",{"$f":"IF(登録データ貼付!V38=\"\",\"\",RIGHT(登録データ貼付!V38,1))","v":""},null,{"$f":"IF(登録データ貼付!F38=\"\",\"\",CONCATENATE(登録データ貼付!F38,\"　\",登録データ貼付!G38))","v":""},{"$f":"IF(登録データ貼付!H38=\"\",\"\",CONCATENATE(登録データ貼付!H38,\" \",登録データ貼付!I38))","v":""},{"$f":"IF(登録データ貼付!K38=\"\",\"\",LEFT(登録データ貼付!K38,1))","v":""},{"$f":"IF(登録データ貼付!S38=\"\",\"\",登録データ貼付!S38)","v":""},null,null,34,"秋田東",34,null,734,"秋田市立秋田東",null,"秋田市立秋田東中学校",null,null,null,null,null,null,null,null,null,false,"","","","","",{"$f":"IF($AG42=TRUE,#REF!,\"\")","v":""},{"$f":"IF($AG42=TRUE,#REF!,\"\")","v":""},{"$f":"IF($AG42=TRUE,#REF!,\"\")","v":""},{"$f":"IF($AG42=TRUE,#REF!,\"\")","v":""},{"$f":"IF($AG42=TRUE,#REF!,\"\")","v":""},{"$f":"IF($AG42=TRUE,#REF!,\"\")","v":""},""]
[{"$f":"IF(登録データ貼付!E39=\"\",\"\",登録データ貼付!E39)","v":""},{"$f":"IF(登録データ貼付!B39=\"\",\"\",登録データ貼付!B39)","v":""},{"$f":"IF(登録データ貼付!C39=\"\",\"\",CONCATENATE(登録データ貼付!C39,\"　\",登録データ貼付!D39))","v":""},"","","","",{"$f":"IF(登録データ貼付!V39=\"\",\"\",RIGHT(登録データ貼付!V39,1))","v":""},null,{"$f":"IF(登録データ貼付!F39=\"\",\"\",CONCATENATE(登録データ貼付!F39,\"　\",登録データ貼付!G39))","v":""},{"$f":"IF(登録データ貼付!H39=\"\",\"\",CONCATENATE(登録データ貼付!H39,\" \",登録データ貼付!I39))","v":""},{"$f":"IF(登録データ貼付!K39=\"\",\"\",LEFT(登録データ貼付!K39,1))","v":""},{"$f":"IF(登録データ貼付!S39=\"\",\"\",登録データ貼付!S39)","v":""},null,null,35,"秋田南",35,null,735,"秋田市立秋田南",null,"秋田市立秋田南中学校",null,null,null,null,null,null,null,null,null,false,"","","","","",{"$f":"IF($AG43=TRUE,#REF!,\"\")","v":""},{"$f":"IF($AG43=TRUE,#REF!,\"\")","v":""},{"$f":"IF($AG43=TRUE,#REF!,\"\")","v":""},{"$f":"IF($AG43=TRUE,#REF!,\"\")","v":""},{"$f":"IF($AG43=TRUE,#REF!,\"\")","v":""},{"$f":"IF($AG43=TRUE,#REF!,\"\")","v":""},""]
[{"$f":"IF(登録データ貼付!E40=\"\",\"\",登録データ貼付!E40)","v":""},{"$f":"IF(登録データ貼付!B40=\"\",\"\",登録データ貼付!B40)","v":""},{"$f":"IF(登録データ貼付!C40=\"\",\"\",CONCATENATE(登録データ貼付!C40,\"　\",登録データ貼付!D40))","v":""},"","","","",{"$f":"IF(登録データ貼付!V40=\"\",\"\",RIGHT(登録データ貼付!V40,1))","v":""},null,{"$f":"IF(登録データ貼付!F40=\"\",\"\",CONCATENATE(登録データ貼付!F40,\"　\",登録データ貼付!G40))","v":""},{"$f":"IF(登録データ貼付!H40=\"\",\"\",CONCATENATE(登録データ貼付!H40,\" \",登録データ貼付!I40))","v":""},{"$f":"IF(登録データ貼付!K40=\"\",\"\",LEFT(登録データ貼付!K40,1))","v":""},{"$f":"IF(登録データ貼付!S40=\"\",\"\",登録データ貼付!S40)","v":""},null,null,36,"山王",36,null,736,"秋田市立山王",null,{"$f":"CONCATENATE(U44,$V$9)","v":"秋田市立山王中学校"},null,null,null,null,null,null,null,null,null,false,"","","","","",{"$f":"IF($AG44=TRUE,#REF!,\"\")","v":""},{"$f":"IF($AG44=TRUE,#REF!,\"\")","v":""},{"$f":"IF($AG44=TRUE,#REF!,\"\")","v":""},{"$f":"IF($AG44=TRUE,#REF!,\"\")","v":""},{"$f":"IF($AG44=TRUE,#REF!,\"\")","v":""},{"$f":"IF($AG44=TRUE,#REF!,\"\")","v":""},""]
[{"$f":"IF(登録データ貼付!E41=\"\",\"\",登録データ貼付!E41)","v":""},{"$f":"IF(登録データ貼付!B41=\"\",\"\",登録データ貼付!B41)","v":""},{"$f":"IF(登録データ貼付!C41=\"\",\"\",CONCATENATE(登録データ貼付!C41,\"　\",登録データ貼付!D41))","v":""},"","","","",{"$f":"IF(登録データ貼付!V41=\"\",\"\",RIGHT(登録データ貼付!V41,1))","v":""},null,{"$f":"IF(登録データ貼付!F41=\"\",\"\",CONCATENATE(登録データ貼付!F41,\"　\",登録データ貼付!G41))","v":""},{"$f":"IF(登録データ貼付!H41=\"\",\"\",CONCATENATE(登録データ貼付!H41,\" \",登録データ貼付!I41))","v":""},{"$f":"IF(登録データ貼付!K41=\"\",\"\",LEFT(登録データ貼付!K41,1))","v":""},{"$f":"IF(登録データ貼付!S41=\"\",\"\",登録データ貼付!S41)","v":""},null,null,37,"土崎",37,null,737,"秋田市立土崎",null,"秋田市立土崎中学校",null,null,null,null,null,null,null,null,null,false,"","","","","",{"$f":"IF($AG45=TRUE,#REF!,\"\")","v":""},{"$f":"IF($AG45=TRUE,#REF!,\"\")","v":""},{"$f":"IF($AG45=TRUE,#REF!,\"\")","v":""},{"$f":"IF($AG45=TRUE,#REF!,\"\")","v":""},{"$f":"IF($AG45=TRUE,#REF!,\"\")","v":""},{"$f":"IF($AG45=TRUE,#REF!,\"\")","v":""},""]
[{"$f":"IF(登録データ貼付!E42=\"\",\"\",登録データ貼付!E42)","v":""},{"$f":"IF(登録データ貼付!B42=\"\",\"\",登録データ貼付!B42)","v":""},{"$f":"IF(登録データ貼付!C42=\"\",\"\",CONCATENATE(登録データ貼付!C42,\"　\",登録データ貼付!D42))","v":""},"","","","",{"$f":"IF(登録データ貼付!V42=\"\",\"\",RIGHT(登録データ貼付!V42,1))","v":""},null,{"$f":"IF(登録データ貼付!F42=\"\",\"\",CONCATENATE(登録データ貼付!F42,\"　\",登録データ貼付!G42))","v":""},{"$f":"IF(登録データ貼付!H42=\"\",\"\",CONCATENATE(登録データ貼付!H42,\" \",登録データ貼付!I42))","v":""},{"$f":"IF(登録データ貼付!K42=\"\",\"\",LEFT(登録データ貼付!K42,1))","v":""},{"$f":"IF(登録データ貼付!S42=\"\",\"\",登録データ貼付!S42)","v":""},null,null,38,"秋田西",38,null,738,"秋田市立秋田西",null,"秋田市立秋田西中学校",null,null,null,null,null,null,null,null,null,false,"","","","","",{"$f":"IF($AG46=TRUE,#REF!,\"\")","v":""},{"$f":"IF($AG46=TRUE,#REF!,\"\")","v":""},{"$f":"IF($AG46=TRUE,#REF!,\"\")","v":""},{"$f":"IF($AG46=TRUE,#REF!,\"\")","v":""},{"$f":"IF($AG46=TRUE,#REF!,\"\")","v":""},{"$f":"IF($AG46=TRUE,#REF!,\"\")","v":""},""]
[{"$f":"IF(登録データ貼付!E43=\"\",\"\",登録データ貼付!E43)","v":""},{"$f":"IF(登録データ貼付!B43=\"\",\"\",登録データ貼付!B43)","v":""},{"$f":"IF(登録データ貼付!C43=\"\",\"\",CONCATENATE(登録データ貼付!C43,\"　\",登録データ貼付!D43))","v":""},"","","","",{"$f":"IF(登録データ貼付!V43=\"\",\"\",RIGHT(登録データ貼付!V43,1))","v":""},null,{"$f":"IF(登録データ貼付!F43=\"\",\"\",CONCATENATE(登録データ貼付!F43,\"　\",登録データ貼付!G43))","v":""},{"$f":"IF(登録データ貼付!H43=\"\",\"\",CONCATENATE(登録データ貼付!H43,\" \",登録データ貼付!I43))","v":""},{"$f":"IF(登録データ貼付!K43=\"\",\"\",LEFT(登録データ貼付!K43,1))","v":""},{"$f":"IF(登録データ貼付!S43=\"\",\"\",登録データ貼付!S43)","v":""},null,null,39,"太平",39,null,739,"秋田市立太平",null,"秋田市立太平中学校",null,null,null,null,null,null,null,null,null,false,"","","","","",{"$f":"IF($AG47=TRUE,#REF!,\"\")","v":""},{"$f":"IF($AG47=TRUE,#REF!,\"\")","v":""},{"$f":"IF($AG47=TRUE,#REF!,\"\")","v":""},{"$f":"IF($AG47=TRUE,#REF!,\"\")","v":""},{"$f":"IF($AG47=TRUE,#REF!,\"\")","v":""},{"$f":"IF($AG47=TRUE,#REF!,\"\")","v":""},""]
[{"$f":"IF(登録データ貼付!E44=\"\",\"\",登録データ貼付!E44)","v":""},{"$f":"IF(登録データ貼付!B44=\"\",\"\",登録データ貼付!B44)","v":""},{"$f":"IF(登録データ貼付!C44=\"\",\"\",CONCATENATE(登録データ貼付!C44,\"　\",登録データ貼付!D44))","v":""},"","","","",{"$f":"IF(登録データ貼付!V44=\"\",\"\",RIGHT(登録データ貼付!V44,1))","v":""},null,{"$f":"IF(登録データ貼付!F44=\"\",\"\",CONCATENATE(登録データ貼付!F44,\"　\",登録データ貼付!G44))","v":""},{"$f":"IF(登録データ貼付!H44=\"\",\"\",CONCATENATE(登録データ貼付!H44,\" \",登録データ貼付!I44))","v":""},{"$f":"IF(登録データ貼付!K44=\"\",\"\",LEFT(登録データ貼付!K44,1))","v":""},{"$f":"IF(登録データ貼付!S44=\"\",\"\",登録データ貼付!S44)","v":""},null,null,40,"外旭川",40,null,740,"秋田市立外旭川",null,"秋田市立外旭川中学校",null,null,null,null,null,null,null,null,null,false,"","","","","",{"$f":"IF($AG48=TRUE,#REF!,\"\")","v":""},{"$f":"IF($AG48=TRUE,#REF!,\"\")","v":""},{"$f":"IF($AG48=TRUE,#REF!,\"\")","v":""},{"$f":"IF($AG48=TRUE,#REF!,\"\")","v":""},{"$f":"IF($AG48=TRUE,#REF!,\"\")","v":""},{"$f":"IF($AG48=TRUE,#REF!,\"\")","v":""},""]
[{"$f":"IF(登録データ貼付!E45=\"\",\"\",登録データ貼付!E45)","v":""},{"$f":"IF(登録データ貼付!B45=\"\",\"\",登録データ貼付!B45)","v":""},{"$f":"IF(登録データ貼付!C45=\"\",\"\",CONCATENATE(登録データ貼付!C45,\"　\",登録データ貼付!D45))","v":""},"","","","",{"$f":"IF(登録データ貼付!V45=\"\",\"\",RIGHT(登録データ貼付!V45,1))","v":""},null,{"$f":"IF(登録データ貼付!F45=\"\",\"\",CONCATENATE(登録データ貼付!F45,\"　\",登録データ貼付!G45))","v":""},{"$f":"IF(登録データ貼付!H45=\"\",\"\",CONCATENATE(登録データ貼付!H45,\" \",登録データ貼付!I45))","v":""},{"$f":"IF(登録データ貼付!K45=\"\",\"\",LEFT(登録データ貼付!K45,1))","v":""},{"$f":"IF(登録データ貼付!S45=\"\",\"\",登録データ貼付!S45)","v":""},null,null,41,"秋田北",41,null,741,"秋田市立秋田北",null,"秋田市立秋田北中学校",null,null,null,null,null,null,null,null,null,false,"","","","","",{"$f":"IF($AG49=TRUE,#REF!,\"\")","v":""},{"$f":"IF($AG49=TRUE,#REF!,\"\")","v":""},{"$f":"IF($AG49=TRUE,#REF!,\"\")","v":""},{"$f":"IF($AG49=TRUE,#REF!,\"\")","v":""},{"$f":"IF($AG49=TRUE,#REF!,\"\")","v":""},{"$f":"IF($AG49=TRUE,#REF!,\"\")","v":""},""]
[{"$f":"IF(登録データ貼付!E46=\"\",\"\",登録データ貼付!E46)","v":""},{"$f":"IF(登録データ貼付!B46=\"\",\"\",登録データ貼付!B46)","v":""},{"$f":"IF(登録データ貼付!C46=\"\",\"\",CONCATENATE(登録データ貼付!C46,\"　\",登録データ貼付!D46))","v":""},"","","","",{"$f":"IF(登録データ貼付!V46=\"\",\"\",RIGHT(登録データ貼付!V46,1))","v":""},null,{"$f":"IF(登録データ貼付!F46=\"\",\"\",CONCATENATE(登録データ貼付!F46,\"　\",登録データ貼付!G46))","v":""},{"$f":"IF(登録データ貼付!H46=\"\",\"\",CONCATENATE(登録データ貼付!H46,\" \",登録データ貼付!I46))","v":""},{"$f":"IF(登録データ貼付!K46=\"\",\"\",LEFT(登録データ貼付!K46,1))","v":""},{"$f":"IF(登録データ貼付!S46=\"\",\"\",登録データ貼付!S46)","v":""},null,null,42,"豊岩",42,null,742,"秋田市立豊岩",null,"秋田市立豊岩中学校",null,null,null,null,null,null,null,null,null,false,"","","","","",{"$f":"IF($AG50=TRUE,#REF!,\"\")","v":""},{"$f":"IF($AG50=TRUE,#REF!,\"\")","v":""},{"$f":"IF($AG50=TRUE,#REF!,\"\")","v":""},{"$f":"IF($AG50=TRUE,#REF!,\"\")","v":""},{"$f":"IF($AG50=TRUE,#REF!,\"\")","v":""},{"$f":"IF($AG50=TRUE,#REF!,\"\")","v":""},""]
[{"$f":"IF(登録データ貼付!E47=\"\",\"\",登録データ貼付!E47)","v":""},{"$f":"IF(登録データ貼付!B47=\"\",\"\",登録データ貼付!B47)","v":""},{"$f":"IF(登録データ貼付!C47=\"\",\"\",CONCATENATE(登録データ貼付!C47,\"　\",登録データ貼付!D47))","v":""},"","","","",{"$f":"IF(登録データ貼付!V47=\"\",\"\",RIGHT(登録データ貼付!V47,1))","v":""},null,{"$f":"IF(登録データ貼付!F47=\"\",\"\",CONCATENATE(登録データ貼付!F47,\"　\",登録データ貼付!G47))","v":""},{"$f":"IF(登録データ貼付!H47=\"\",\"\",CONCATENATE(登録データ貼付!H47,\" \",登録データ貼付!I47))","v":""},{"$f":"IF(登録データ貼付!K47=\"\",\"\",LEFT(登録データ貼付!K47,1))","v":""},{"$f":"IF(登録データ貼付!S47=\"\",\"\",登録データ貼付!S47)","v":""},null,null,43,"城南",43,null,743,"秋田市立城南",null,"秋田市立城南中学校",null,null,null,null,null,null,null,null,null,false,"","","","","",{"$f":"IF($AG51=TRUE,#REF!,\"\")","v":""},{"$f":"IF($AG51=TRUE,#REF!,\"\")","v":""},{"$f":"IF($AG51=TRUE,#REF!,\"\")","v":""},{"$f":"IF($AG51=TRUE,#REF!,\"\")","v":""},{"$f":"IF($AG51=TRUE,#REF!,\"\")","v":""},{"$f":"IF($AG51=TRUE,#REF!,\"\")","v":""},""]
[{"$f":"IF(登録データ貼付!E48=\"\",\"\",登録データ貼付!E48)","v":""},{"$f":"IF(登録データ貼付!B48=\"\",\"\",登録データ貼付!B48)","v":""},{"$f":"IF(登録データ貼付!C48=\"\",\"\",CONCATENATE(登録データ貼付!C48,\"　\",登録データ貼付!D48))","v":""},"","","","",{"$f":"IF(登録データ貼付!V48=\"\",\"\",RIGHT(登録データ貼付!V48,1))","v":""},null,{"$f":"IF(登録データ貼付!F48=\"\",\"\",CONCATENATE(登録データ貼付!F48,\"　\",登録データ貼付!G48))","v":""},{"$f":"IF(登録データ貼付!H48=\"\",\"\",CONCATENATE(登録データ貼付!H48,\" \",登録データ貼付!I48))","v":""},{"$f":"IF(登録データ貼付!K48=\"\",\"\",LEFT(登録データ貼付!K48,1))","v":""},{"$f":"IF(登録データ貼付!S48=\"\",\"\",登録データ貼付!S48)","v":""},null,null,44,"下北手",44,null,744,"秋田市立下北手",null,"秋田市立下北手中学校",null,null,null,null,null,null,null,null,null,false,"","","","","",{"$f":"IF($AG52=TRUE,#REF!,\"\")","v":""},{"$f":"IF($AG52=TRUE,#REF!,\"\")","v":""},{"$f":"IF($AG52=TRUE,#REF!,\"\")","v":""},{"$f":"IF($AG52=TRUE,#REF!,\"\")","v":""},{"$f":"IF($AG52=TRUE,#REF!,\"\")","v":""},{"$f":"IF($AG52=TRUE,#REF!,\"\")","v":""},""]
[{"$f":"IF(登録データ貼付!E49=\"\",\"\",登録データ貼付!E49)","v":""},{"$f":"IF(登録データ貼付!B49=\"\",\"\",登録データ貼付!B49)","v":""},{"$f":"IF(登録データ貼付!C49=\"\",\"\",CONCATENATE(登録データ貼付!C49,\"　\",登録データ貼付!D49))","v":""},"","","","",{"$f":"IF(登録データ貼付!V49=\"\",\"\",RIGHT(登録データ貼付!V49,1))","v":""},null,{"$f":"IF(登録データ貼付!F49=\"\",\"\",CONCATENATE(登録データ貼付!F49,\"　\",登録データ貼付!G49))","v":""},{"$f":"IF(登録データ貼付!H49=\"\",\"\",CONCATENATE(登録データ貼付!H49,\" \",登録データ貼付!I49))","v":""},{"$f":"IF(登録データ貼付!K49=\"\",\"\",LEFT(登録データ貼付!K49,1))","v":""},{"$f":"IF(登録データ貼付!S49=\"\",\"\",登録データ貼付!S49)","v":""},null,null,45,"下浜",45,null,745,"秋田市立下浜",null,"秋田市立下浜中学校",null,null,null,null,null,null,null,null,null,false,"","","","","",{"$f":"IF($AG53=TRUE,#REF!,\"\")","v":""},{"$f":"IF($AG53=TRUE,#REF!,\"\")","v":""},{"$f":"IF($AG53=TRUE,#REF!,\"\")","v":""},{"$f":"IF($AG53=TRUE,#REF!,\"\")","v":""},{"$f":"IF($AG53=TRUE,#REF!,\"\")","v":""},{"$f":"IF($AG53=TRUE,#REF!,\"\")","v":""},""]
[{"$f":"IF(登録データ貼付!E50=\"\",\"\",登録データ貼付!E50)","v":""},{"$f":"IF(登録データ貼付!B50=\"\",\"\",登録データ貼付!B50)","v":""},{"$f":"IF(登録データ貼付!C50=\"\",\"\",CONCATENATE(登録データ貼付!C50,\"　\",登録データ貼付!D50))","v":""},"","","","",{"$f":"IF(登録データ貼付!V50=\"\",\"\",RIGHT(登録データ貼付!V50,1))","v":""},null,{"$f":"IF(登録データ貼付!F50=\"\",\"\",CONCATENATE(登録データ貼付!F50,\"　\",登録データ貼付!G50))","v":""},{"$f":"IF(登録データ貼付!H50=\"\",\"\",CONCATENATE(登録データ貼付!H50,\" \",登録データ貼付!I50))","v":""},{"$f":"IF(登録データ貼付!K50=\"\",\"\",LEFT(登録データ貼付!K50,1))","v":""},{"$f":"IF(登録データ貼付!S50=\"\",\"\",登録データ貼付!S50)","v":""},null,null,46,"城東",46,null,746,"秋田市立城東",null,"秋田市立城東中学校",null,null,null,null,null,null,null,null,null,false,"","","","","",{"$f":"IF($AG54=TRUE,#REF!,\"\")","v":""},{"$f":"IF($AG54=TRUE,#REF!,\"\")","v":""},{"$f":"IF($AG54=TRUE,#REF!,\"\")","v":""},{"$f":"IF($AG54=TRUE,#REF!,\"\")","v":""},{"$f":"IF($AG54=TRUE,#REF!,\"\")","v":""},{"$f":"IF($AG54=TRUE,#REF!,\"\")","v":""},""]
[{"$f":"IF(登録データ貼付!E51=\"\",\"\",登録データ貼付!E51)","v":""},{"$f":"IF(登録データ貼付!B51=\"\",\"\",登録データ貼付!B51)","v":""},{"$f":"IF(登録データ貼付!C51=\"\",\"\",CONCATENATE(登録データ貼付!C51,\"　\",登録データ貼付!D51))","v":""},"","","","",{"$f":"IF(登録データ貼付!V51=\"\",\"\",RIGHT(登録データ貼付!V51,1))","v":""},null,{"$f":"IF(登録データ貼付!F51=\"\",\"\",CONCATENATE(登録データ貼付!F51,\"　\",登録データ貼付!G51))","v":""},{"$f":"IF(登録データ貼付!H51=\"\",\"\",CONCATENATE(登録データ貼付!H51,\" \",登録データ貼付!I51))","v":""},{"$f":"IF(登録データ貼付!K51=\"\",\"\",LEFT(登録データ貼付!K51,1))","v":""},{"$f":"IF(登録データ貼付!S51=\"\",\"\",登録データ貼付!S51)","v":""},null,null,47,"泉",47,null,747,"秋田市立泉",null,"秋田市立泉中学校",null,null,null,null,null,null,null,null,null,false,"","","","","",{"$f":"IF($AG55=TRUE,#REF!,\"\")","v":""},{"$f":"IF($AG55=TRUE,#REF!,\"\")","v":""},{"$f":"IF($AG55=TRUE,#REF!,\"\")","v":""},{"$f":"IF($AG55=TRUE,#REF!,\"\")","v":""},{"$f":"IF($AG55=TRUE,#REF!,\"\")","v":""},{"$f":"IF($AG55=TRUE,#REF!,\"\")","v":""},""]
[{"$f":"IF(登録データ貼付!E52=\"\",\"\",登録データ貼付!E52)","v":""},{"$f":"IF(登録データ貼付!B52=\"\",\"\",登録データ貼付!B52)","v":""},{"$f":"IF(登録データ貼付!C52=\"\",\"\",CONCATENATE(登録データ貼付!C52,\"　\",登録データ貼付!D52))","v":""},"","","","",{"$f":"IF(登録データ貼付!V52=\"\",\"\",RIGHT(登録データ貼付!V52,1))","v":""},null,{"$f":"IF(登録データ貼付!F52=\"\",\"\",CONCATENATE(登録データ貼付!F52,\"　\",登録データ貼付!G52))","v":""},{"$f":"IF(登録データ貼付!H52=\"\",\"\",CONCATENATE(登録データ貼付!H52,\" \",登録データ貼付!I52))","v":""},{"$f":"IF(登録データ貼付!K52=\"\",\"\",LEFT(登録データ貼付!K52,1))","v":""},{"$f":"IF(登録データ貼付!S52=\"\",\"\",登録データ貼付!S52)","v":""},null,null,48,"将軍野",48,null,748,"秋田市立将軍野",null,"秋田市立将軍野中学校",null,null,null,null,null,null,null,null,null,false,"","","","","",{"$f":"IF($AG56=TRUE,#REF!,\"\")","v":""},{"$f":"IF($AG56=TRUE,#REF!,\"\")","v":""},{"$f":"IF($AG56=TRUE,#REF!,\"\")","v":""},{"$f":"IF($AG56=TRUE,#REF!,\"\")","v":""},{"$f":"IF($AG56=TRUE,#REF!,\"\")","v":""},{"$f":"IF($AG56=TRUE,#REF!,\"\")","v":""},""]
[{"$f":"IF(登録データ貼付!E53=\"\",\"\",登録データ貼付!E53)","v":""},{"$f":"IF(登録データ貼付!B53=\"\",\"\",登録データ貼付!B53)","v":""},{"$f":"IF(登録データ貼付!C53=\"\",\"\",CONCATENATE(登録データ貼付!C53,\"　\",登録データ貼付!D53))","v":""},"","","","",{"$f":"IF(登録データ貼付!V53=\"\",\"\",RIGHT(登録データ貼付!V53,1))","v":""},null,{"$f":"IF(登録データ貼付!F53=\"\",\"\",CONCATENATE(登録データ貼付!F53,\"　\",登録データ貼付!G53))","v":""},{"$f":"IF(登録データ貼付!H53=\"\",\"\",CONCATENATE(登録データ貼付!H53,\" \",登録データ貼付!I53))","v":""},{"$f":"IF(登録データ貼付!K53=\"\",\"\",LEFT(登録データ貼付!K53,1))","v":""},{"$f":"IF(登録データ貼付!S53=\"\",\"\",登録データ貼付!S53)","v":""},null,null,49,"御野場",49,null,749,"秋田市立御野場",null,"秋田市立御野場中学校",null,null,null,null,null,null,null,null,null,false,"","","","","",{"$f":"IF($AG57=TRUE,#REF!,\"\")","v":""},{"$f":"IF($AG57=TRUE,#REF!,\"\")","v":""},{"$f":"IF($AG57=TRUE,#REF!,\"\")","v":""},{"$f":"IF($AG57=TRUE,#REF!,\"\")","v":""},{"$f":"IF($AG57=TRUE,#REF!,\"\")","v":""},{"$f":"IF($AG57=TRUE,#REF!,\"\")","v":""},""]
[{"$f":"IF(登録データ貼付!E54=\"\",\"\",登録データ貼付!E54)","v":""},{"$f":"IF(登録データ貼付!B54=\"\",\"\",登録データ貼付!B54)","v":""},{"$f":"IF(登録データ貼付!C54=\"\",\"\",CONCATENATE(登録データ貼付!C54,\"　\",登録データ貼付!D54))","v":""},"","","","",{"$f":"IF(登録データ貼付!V54=\"\",\"\",RIGHT(登録データ貼付!V54,1))","v":""},null,{"$f":"IF(登録データ貼付!F54=\"\",\"\",CONCATENATE(登録データ貼付!F54,\"　\",登録データ貼付!G54))","v":""},{"$f":"IF(登録データ貼付!H54=\"\",\"\",CONCATENATE(登録データ貼付!H54,\" \",登録データ貼付!I54))","v":""},{"$f":"IF(登録データ貼付!K54=\"\",\"\",LEFT(登録データ貼付!K54,1))","v":""},{"$f":"IF(登録データ貼付!S54=\"\",\"\",登録データ貼付!S54)","v":""},null,null,50,"勝平",50,null,750,"秋田市立勝平",null,"秋田市立勝平中学校",null,null,null,null,null,null,null,null,null,false,"","","","","",{"$f":"IF($AG58=TRUE,#REF!,\"\")","v":""},{"$f":"IF($AG58=TRUE,#REF!,\"\")","v":""},{"$f":"IF($AG58=TRUE,#REF!,\"\")","v":""},{"$f":"IF($AG58=TRUE,#REF!,\"\")","v":""},{"$f":"IF($AG58=TRUE,#REF!,\"\")","v":""},{"$f":"IF($AG58=TRUE,#REF!,\"\")","v":""},""]
[{"$f":"IF(登録データ貼付!E55=\"\",\"\",登録データ貼付!E55)","v":""},{"$f":"IF(登録データ貼付!B55=\"\",\"\",登録データ貼付!B55)","v":""},{"$f":"IF(登録データ貼付!C55=\"\",\"\",CONCATENATE(登録データ貼付!C55,\"　\",登録データ貼付!D55))","v":""},"","","","",{"$f":"IF(登録データ貼付!V55=\"\",\"\",RIGHT(登録データ貼付!V55,1))","v":""},null,{"$f":"IF(登録データ貼付!F55=\"\",\"\",CONCATENATE(登録データ貼付!F55,\"　\",登録データ貼付!G55))","v":""},{"$f":"IF(登録データ貼付!H55=\"\",\"\",CONCATENATE(登録データ貼付!H55,\" \",登録データ貼付!I55))","v":""},{"$f":"IF(登録データ貼付!K55=\"\",\"\",LEFT(登録データ貼付!K55,1))","v":""},{"$f":"IF(登録データ貼付!S55=\"\",\"\",登録データ貼付!S55)","v":""},null,null,51,"勝平千秋",51,null,751,"秋田市立勝平千秋分校",null,"秋田市立勝平千秋分校中学校",null,null,null,null,null,null,null,null,null,false,"","","","","",{"$f":"IF($AG59=TRUE,#REF!,\"\")","v":""},{"$f":"IF($AG59=TRUE,#REF!,\"\")","v":""},{"$f":"IF($AG59=TRUE,#REF!,\"\")","v":""},{"$f":"IF($AG59=TRUE,#REF!,\"\")","v":""},{"$f":"IF($AG59=TRUE,#REF!,\"\")","v":""},{"$f":"IF($AG59=TRUE,#REF!,\"\")","v":""},""]
[{"$f":"IF(登録データ貼付!E56=\"\",\"\",登録データ貼付!E56)","v":""},{"$f":"IF(登録データ貼付!B56=\"\",\"\",登録データ貼付!B56)","v":""},{"$f":"IF(登録データ貼付!C56=\"\",\"\",CONCATENATE(登録データ貼付!C56,\"　\",登録データ貼付!D56))","v":""},"","","","",{"$f":"IF(登録データ貼付!V56=\"\",\"\",RIGHT(登録データ貼付!V56,1))","v":""},null,{"$f":"IF(登録データ貼付!F56=\"\",\"\",CONCATENATE(登録データ貼付!F56,\"　\",登録データ貼付!G56))","v":""},{"$f":"IF(登録データ貼付!H56=\"\",\"\",CONCATENATE(登録データ貼付!H56,\" \",登録データ貼付!I56))","v":""},{"$f":"IF(登録データ貼付!K56=\"\",\"\",LEFT(登録データ貼付!K56,1))","v":""},{"$f":"IF(登録データ貼付!S56=\"\",\"\",登録データ貼付!S56)","v":""},null,null,52,"飯島",52,null,752,"秋田市立飯島",null,"秋田市立飯島中学校",null,null,null,null,null,null,null,null,null,false,"","","","","",{"$f":"IF($AG60=TRUE,#REF!,\"\")","v":""},{"$f":"IF($AG60=TRUE,#REF!,\"\")","v":""},{"$f":"IF($AG60=TRUE,#REF!,\"\")","v":""},{"$f":"IF($AG60=TRUE,#REF!,\"\")","v":""},{"$f":"IF($AG60=TRUE,#REF!,\"\")","v":""},{"$f":"IF($AG60=TRUE,#REF!,\"\")","v":""},""]
[{"$f":"IF(登録データ貼付!E57=\"\",\"\",登録データ貼付!E57)","v":""},{"$f":"IF(登録データ貼付!B57=\"\",\"\",登録データ貼付!B57)","v":""},{"$f":"IF(登録データ貼付!C57=\"\",\"\",CONCATENATE(登録データ貼付!C57,\"　\",登録データ貼付!D57))","v":""},"","","","",{"$f":"IF(登録データ貼付!V57=\"\",\"\",RIGHT(登録データ貼付!V57,1))","v":""},null,{"$f":"IF(登録データ貼付!F57=\"\",\"\",CONCATENATE(登録データ貼付!F57,\"　\",登録データ貼付!G57))","v":""},{"$f":"IF(登録データ貼付!H57=\"\",\"\",CONCATENATE(登録データ貼付!H57,\" \",登録データ貼付!I57))","v":""},{"$f":"IF(登録データ貼付!K57=\"\",\"\",LEFT(登録データ貼付!K57,1))","v":""},{"$f":"IF(登録データ貼付!S57=\"\",\"\",登録データ貼付!S57)","v":""},null,null,53,"桜",53,null,753,"秋田市立桜",null,"秋田市立桜中学校",null,null,null,null,null,null,null,null,null,false,"","","","","",{"$f":"IF($AG61=TRUE,#REF!,\"\")","v":""},{"$f":"IF($AG61=TRUE,#REF!,\"\")","v":""},{"$f":"IF($AG61=TRUE,#REF!,\"\")","v":""},{"$f":"IF($AG61=TRUE,#REF!,\"\")","v":""},{"$f":"IF($AG61=TRUE,#REF!,\"\")","v":""},{"$f":"IF($AG61=TRUE,#REF!,\"\")","v":""},""]
[{"$f":"IF(登録データ貼付!E58=\"\",\"\",登録データ貼付!E58)","v":""},{"$f":"IF(登録データ貼付!B58=\"\",\"\",登録データ貼付!B58)","v":""},{"$f":"IF(登録データ貼付!C58=\"\",\"\",CONCATENATE(登録データ貼付!C58,\"　\",登録データ貼付!D58))","v":""},"","","","",{"$f":"IF(登録データ貼付!V58=\"\",\"\",RIGHT(登録データ貼付!V58,1))","v":""},null,{"$f":"IF(登録データ貼付!F58=\"\",\"\",CONCATENATE(登録データ貼付!F58,\"　\",登録データ貼付!G58))","v":""},{"$f":"IF(登録データ貼付!H58=\"\",\"\",CONCATENATE(登録データ貼付!H58,\" \",登録データ貼付!I58))","v":""},{"$f":"IF(登録データ貼付!K58=\"\",\"\",LEFT(登録データ貼付!K58,1))","v":""},{"$f":"IF(登録データ貼付!S58=\"\",\"\",登録データ貼付!S58)","v":""},null,null,54,"御所野学院",54,null,754,"秋田市立御所野学院",null,"秋田市立御所野学院中学校",null,null,null,null,null,null,null,null,null,false,"","","","","",{"$f":"IF($AG62=TRUE,#REF!,\"\")","v":""},{"$f":"IF($AG62=TRUE,#REF!,\"\")","v":""},{"$f":"IF($AG62=TRUE,#REF!,\"\")","v":""},{"$f":"IF($AG62=TRUE,#REF!,\"\")","v":""},{"$f":"IF($AG62=TRUE,#REF!,\"\")","v":""},{"$f":"IF($AG62=TRUE,#REF!,\"\")","v":""},""]
[{"$f":"IF(登録データ貼付!E59=\"\",\"\",登録データ貼付!E59)","v":""},{"$f":"IF(登録データ貼付!B59=\"\",\"\",登録データ貼付!B59)","v":""},{"$f":"IF(登録データ貼付!C59=\"\",\"\",CONCATENATE(登録データ貼付!C59,\"　\",登録データ貼付!D59))","v":""},"","","","",{"$f":"IF(登録データ貼付!V59=\"\",\"\",RIGHT(登録データ貼付!V59,1))","v":""},null,{"$f":"IF(登録データ貼付!F59=\"\",\"\",CONCATENATE(登録データ貼付!F59,\"　\",登録データ貼付!G59))","v":""},{"$f":"IF(登録データ貼付!H59=\"\",\"\",CONCATENATE(登録データ貼付!H59,\" \",登録データ貼付!I59))","v":""},{"$f":"IF(登録データ貼付!K59=\"\",\"\",LEFT(登録データ貼付!K59,1))","v":""},{"$f":"IF(登録データ貼付!S59=\"\",\"\",登録データ貼付!S59)","v":""},null,null,55,"岩見三内",55,null,755,"秋田市立岩見三内",null,"秋田市立岩見三内中学校",null,null,null,null,null,null,null,null,null,false,"","","","","",{"$f":"IF($AG63=TRUE,#REF!,\"\")","v":""},{"$f":"IF($AG63=TRUE,#REF!,\"\")","v":""},{"$f":"IF($AG63=TRUE,#REF!,\"\")","v":""},{"$f":"IF($AG63=TRUE,#REF!,\"\")","v":""},{"$f":"IF($AG63=TRUE,#REF!,\"\")","v":""},{"$f":"IF($AG63=TRUE,#REF!,\"\")","v":""},""]
[{"$f":"IF(登録データ貼付!E60=\"\",\"\",登録データ貼付!E60)","v":""},{"$f":"IF(登録データ貼付!B60=\"\",\"\",登録データ貼付!B60)","v":""},{"$f":"IF(登録データ貼付!C60=\"\",\"\",CONCATENATE(登録データ貼付!C60,\"　\",登録データ貼付!D60))","v":""},"","","","",{"$f":"IF(登録データ貼付!V60=\"\",\"\",RIGHT(登録データ貼付!V60,1))","v":""},null,{"$f":"IF(登録データ貼付!F60=\"\",\"\",CONCATENATE(登録データ貼付!F60,\"　\",登録データ貼付!G60))","v":""},{"$f":"IF(登録データ貼付!H60=\"\",\"\",CONCATENATE(登録データ貼付!H60,\" \",登録データ貼付!I60))","v":""},{"$f":"IF(登録データ貼付!K60=\"\",\"\",LEFT(登録データ貼付!K60,1))","v":""},{"$f":"IF(登録データ貼付!S60=\"\",\"\",登録データ貼付!S60)","v":""},null,null,56,"河辺",56,null,756,"秋田市立河辺",null,"秋田市立河辺中学校",null,null,null,null,null,null,null,null,null,false,"","","","","",{"$f":"IF($AG64=TRUE,#REF!,\"\")","v":""},{"$f":"IF($AG64=TRUE,#REF!,\"\")","v":""},{"$f":"IF($AG64=TRUE,#REF!,\"\")","v":""},{"$f":"IF($AG64=TRUE,#REF!,\"\")","v":""},{"$f":"IF($AG64=TRUE,#REF!,\"\")","v":""},{"$f":"IF($AG64=TRUE,#REF!,\"\")","v":""},""]
[{"$f":"IF(登録データ貼付!E61=\"\",\"\",登録データ貼付!E61)","v":""},{"$f":"IF(登録データ貼付!B61=\"\",\"\",登録データ貼付!B61)","v":""},{"$f":"IF(登録データ貼付!C61=\"\",\"\",CONCATENATE(登録データ貼付!C61,\"　\",登録データ貼付!D61))","v":""},"","","","",{"$f":"IF(登録データ貼付!V61=\"\",\"\",RIGHT(登録データ貼付!V61,1))","v":""},null,{"$f":"IF(登録データ貼付!F61=\"\",\"\",CONCATENATE(登録データ貼付!F61,\"　\",登録データ貼付!G61))","v":""},{"$f":"IF(登録データ貼付!H61=\"\",\"\",CONCATENATE(登録データ貼付!H61,\" \",登録データ貼付!I61))","v":""},{"$f":"IF(登録データ貼付!K61=\"\",\"\",LEFT(登録データ貼付!K61,1))","v":""},{"$f":"IF(登録データ貼付!S61=\"\",\"\",登録データ貼付!S61)","v":""},null,null,57,"雄和",57,null,757,"秋田市立雄和",null,"秋田市立雄和中学校",null,null,null,null,null,null,null,null,null,false,"","","","","",{"$f":"IF($AG65=TRUE,#REF!,\"\")","v":""},{"$f":"IF($AG65=TRUE,#REF!,\"\")","v":""},{"$f":"IF($AG65=TRUE,#REF!,\"\")","v":""},{"$f":"IF($AG65=TRUE,#REF!,\"\")","v":""},{"$f":"IF($AG65=TRUE,#REF!,\"\")","v":""},{"$f":"IF($AG65=TRUE,#REF!,\"\")","v":""},""]
[{"$f":"IF(登録データ貼付!E62=\"\",\"\",登録データ貼付!E62)","v":""},{"$f":"IF(登録データ貼付!B62=\"\",\"\",登録データ貼付!B62)","v":""},{"$f":"IF(登録データ貼付!C62=\"\",\"\",CONCATENATE(登録データ貼付!C62,\"　\",登録データ貼付!D62))","v":""},"","","","",{"$f":"IF(登録データ貼付!V62=\"\",\"\",RIGHT(登録データ貼付!V62,1))","v":""},null,{"$f":"IF(登録データ貼付!F62=\"\",\"\",CONCATENATE(登録データ貼付!F62,\"　\",登録データ貼付!G62))","v":""},{"$f":"IF(登録データ貼付!H62=\"\",\"\",CONCATENATE(登録データ貼付!H62,\" \",登録データ貼付!I62))","v":""},{"$f":"IF(登録データ貼付!K62=\"\",\"\",LEFT(登録データ貼付!K62,1))","v":""},{"$f":"IF(登録データ貼付!S62=\"\",\"\",登録データ貼付!S62)","v":""},null,null,58,"男鹿南",58,null,758,"男鹿市立男鹿南",null,"男鹿市立男鹿南中学校",null,null,null,null,null,null,null,null,null,false,"","","","","",{"$f":"IF($AG66=TRUE,#REF!,\"\")","v":""},{"$f":"IF($AG66=TRUE,#REF!,\"\")","v":""},{"$f":"IF($AG66=TRUE,#REF!,\"\")","v":""},{"$f":"IF($AG66=TRUE,#REF!,\"\")","v":""},{"$f":"IF($AG66=TRUE,#REF!,\"\")","v":""},{"$f":"IF($AG66=TRUE,#REF!,\"\")","v":""},""]
[{"$f":"IF(登録データ貼付!E63=\"\",\"\",登録データ貼付!E63)","v":""},{"$f":"IF(登録データ貼付!B63=\"\",\"\",登録データ貼付!B63)","v":""},{"$f":"IF(登録データ貼付!C63=\"\",\"\",CONCATENATE(登録データ貼付!C63,\"　\",登録データ貼付!D63))","v":""},"","","","",{"$f":"IF(登録データ貼付!V63=\"\",\"\",RIGHT(登録データ貼付!V63,1))","v":""},null,{"$f":"IF(登録データ貼付!F63=\"\",\"\",CONCATENATE(登録データ貼付!F63,\"　\",登録データ貼付!G63))","v":""},{"$f":"IF(登録データ貼付!H63=\"\",\"\",CONCATENATE(登録データ貼付!H63,\" \",登録データ貼付!I63))","v":""},{"$f":"IF(登録データ貼付!K63=\"\",\"\",LEFT(登録データ貼付!K63,1))","v":""},{"$f":"IF(登録データ貼付!S63=\"\",\"\",登録データ貼付!S63)","v":""},null,null,59,"男鹿北",59,null,759,"男鹿市立男鹿北",null,"男鹿市立男鹿北中学校",null,null,null,null,null,null,null,null,null,false,"","","","","",{"$f":"IF($AG67=TRUE,#REF!,\"\")","v":""},{"$f":"IF($AG67=TRUE,#REF!,\"\")","v":""},{"$f":"IF($AG67=TRUE,#REF!,\"\")","v":""},{"$f":"IF($AG67=TRUE,#REF!,\"\")","v":""},{"$f":"IF($AG67=TRUE,#REF!,\"\")","v":""},{"$f":"IF($AG67=TRUE,#REF!,\"\")","v":""},""]
[{"$f":"IF(登録データ貼付!E64=\"\",\"\",登録データ貼付!E64)","v":""},{"$f":"IF(登録データ貼付!B64=\"\",\"\",登録データ貼付!B64)","v":""},{"$f":"IF(登録データ貼付!C64=\"\",\"\",CONCATENATE(登録データ貼付!C64,\"　\",登録データ貼付!D64))","v":""},"","","","",{"$f":"IF(登録データ貼付!V64=\"\",\"\",RIGHT(登録データ貼付!V64,1))","v":""},null,{"$f":"IF(登録データ貼付!F64=\"\",\"\",CONCATENATE(登録データ貼付!F64,\"　\",登録データ貼付!G64))","v":""},{"$f":"IF(登録データ貼付!H64=\"\",\"\",CONCATENATE(登録データ貼付!H64,\" \",登録データ貼付!I64))","v":""},{"$f":"IF(登録データ貼付!K64=\"\",\"\",LEFT(登録データ貼付!K64,1))","v":""},{"$f":"IF(登録データ貼付!S64=\"\",\"\",登録データ貼付!S64)","v":""},null,null,60,"男鹿東",60,null,760,"男鹿市立男鹿東",null,"男鹿市立男鹿東中学校",null,null,null,null,null,null,null,null,null,false,"","","","","",{"$f":"IF($AG68=TRUE,#REF!,\"\")","v":""},{"$f":"IF($AG68=TRUE,#REF!,\"\")","v":""},{"$f":"IF($AG68=TRUE,#REF!,\"\")","v":""},{"$f":"IF($AG68=TRUE,#REF!,\"\")","v":""},{"$f":"IF($AG68=TRUE,#REF!,\"\")","v":""},{"$f":"IF($AG68=TRUE,#REF!,\"\")","v":""},""]
[{"$f":"IF(登録データ貼付!E65=\"\",\"\",登録データ貼付!E65)","v":""},{"$f":"IF(登録データ貼付!B65=\"\",\"\",登録データ貼付!B65)","v":""},{"$f":"IF(登録データ貼付!C65=\"\",\"\",CONCATENATE(登録データ貼付!C65,\"　\",登録データ貼付!D65))","v":""},"","","","",{"$f":"IF(登録データ貼付!V65=\"\",\"\",RIGHT(登録データ貼付!V65,1))","v":""},null,{"$f":"IF(登録データ貼付!F65=\"\",\"\",CONCATENATE(登録データ貼付!F65,\"　\",登録データ貼付!G65))","v":""},{"$f":"IF(登録データ貼付!H65=\"\",\"\",CONCATENATE(登録データ貼付!H65,\" \",登録データ貼付!I65))","v":""},{"$f":"IF(登録データ貼付!K65=\"\",\"\",LEFT(登録データ貼付!K65,1))","v":""},{"$f":"IF(登録データ貼付!S65=\"\",\"\",登録データ貼付!S65)","v":""},null,null,61,"潟西",61,null,761,"男鹿市立潟西",null,"男鹿市立潟西中学校",null,null,null,null,null,null,null,null,null,false,"","","","","",{"$f":"IF($AG69=TRUE,#REF!,\"\")","v":""},{"$f":"IF($AG69=TRUE,#REF!,\"\")","v":""},{"$f":"IF($AG69=TRUE,#REF!,\"\")","v":""},{"$f":"IF($AG69=TRUE,#REF!,\"\")","v":""},{"$f":"IF($AG69=TRUE,#REF!,\"\")","v":""},{"$f":"IF($AG69=TRUE,#REF!,\"\")","v":""},""]
[{"$f":"IF(登録データ貼付!E66=\"\",\"\",登録データ貼付!E66)","v":""},{"$f":"IF(登録データ貼付!B66=\"\",\"\",登録データ貼付!B66)","v":""},{"$f":"IF(登録データ貼付!C66=\"\",\"\",CONCATENATE(登録データ貼付!C66,\"　\",登録データ貼付!D66))","v":""},"","","","",{"$f":"IF(登録データ貼付!V66=\"\",\"\",RIGHT(登録データ貼付!V66,1))","v":""},null,{"$f":"IF(登録データ貼付!F66=\"\",\"\",CONCATENATE(登録データ貼付!F66,\"　\",登録データ貼付!G66))","v":""},{"$f":"IF(登録データ貼付!H66=\"\",\"\",CONCATENATE(登録データ貼付!H66,\" \",登録データ貼付!I66))","v":""},{"$f":"IF(登録データ貼付!K66=\"\",\"\",LEFT(登録データ貼付!K66,1))","v":""},{"$f":"IF(登録データ貼付!S66=\"\",\"\",登録データ貼付!S66)","v":""},null,null,62,"天王",62,null,762,"潟上市立天王",null,"潟上市立天王中学校",null,null,null,null,null,null,null,null,null,false,{"$f":"IF($AG70=TRUE,B70,\"\")","v":""},{"$f":"IF($AG70=TRUE,C70,\"\")","v":""},{"$f":"IF($AG70=TRUE,D70,\"\")","v":""},{"$f":"IF($AG70=TRUE,F70,\"\")","v":""},{"$f":"IF($AG70=TRUE,G70,\"\")","v":""},{"$f":"IF($AG70=TRUE,#REF!,\"\")","v":""},{"$f":"IF($AG70=TRUE,#REF!,\"\")","v":""},{"$f":"IF($AG70=TRUE,#REF!,\"\")","v":""},{"$f":"IF($AG70=TRUE,#REF!,\"\")","v":""},{"$f":"IF($AG70=TRUE,#REF!,\"\")","v":""},{"$f":"IF($AG70=TRUE,#REF!,\"\")","v":""},{"$f":"IF($AG70=TRUE,H70,\"\")","v":""}]
[{"$f":"IF(登録データ貼付!E67=\"\",\"\",登録データ貼付!E67)","v":""},{"$f":"IF(登録データ貼付!B67=\"\",\"\",登録データ貼付!B67)","v":""},{"$f":"IF(登録データ貼付!C67=\"\",\"\",CONCATENATE(登録データ貼付!C67,\"　\",登録データ貼付!D67))","v":""},{"$f":"IF(J71=\"\",\"\",ASC(J71))","v":""},{"$f":"IF(K71=\"\",\"\",ASC(K71))","v":""},{"$f":"IF(L71=\"\",\"\",L71)","v":""},{"$f":"IF(M71=\"\",\"\",M71)","v":""},{"$f":"IF(登録データ貼付!V67=\"\",\"\",RIGHT(登録データ貼付!V67,1))","v":""},null,{"$f":"IF(登録データ貼付!F67=\"\",\"\",CONCATENATE(登録データ貼付!F67,\"　\",登録データ貼付!G67))","v":""},{"$f":"IF(登録データ貼付!H67=\"\",\"\",CONCATENATE(登録データ貼付!H67,\" \",登録データ貼付!I67))","v":""},{"$f":"IF(登録データ貼付!K67=\"\",\"\",LEFT(登録データ貼付!K67,1))","v":""},{"$f":"IF(登録データ貼付!S67=\"\",\"\",登録データ貼付!S67)","v":""},null,null,63,"天王南",63,null,763,"潟上市立天王南",null,"潟上市立天王南中学校",null,null,null,null,null,null,null,null,null,false,"","","","","",{"$f":"IF($AG71=TRUE,#REF!,\"\")","v":""},{"$f":"IF($AG71=TRUE,#REF!,\"\")","v":""},{"$f":"IF($AG71=TRUE,#REF!,\"\")","v":""},{"$f":"IF($AG71=TRUE,#REF!,\"\")","v":""},{"$f":"IF($AG71=TRUE,#REF!,\"\")","v":""},{"$f":"IF($AG71=TRUE,#REF!,\"\")","v":""},""]
[{"$f":"IF(登録データ貼付!E68=\"\",\"\",登録データ貼付!E68)","v":""},{"$f":"IF(登録データ貼付!B68=\"\",\"\",登録データ貼付!B68)","v":""},{"$f":"IF(登録データ貼付!C68=\"\",\"\",CONCATENATE(登録データ貼付!C68,\"　\",登録データ貼付!D68))","v":""},"","","","",{"$f":"IF(登録データ貼付!V68=\"\",\"\",RIGHT(登録データ貼付!V68,1))","v":""},null,{"$f":"IF(登録データ貼付!F68=\"\",\"\",CONCATENATE(登録データ貼付!F68,\"　\",登録データ貼付!G68))","v":""},{"$f":"IF(登録データ貼付!H68=\"\",\"\",CONCATENATE(登録データ貼付!H68,\" \",登録データ貼付!I68))","v":""},{"$f":"IF(登録データ貼付!K68=\"\",\"\",LEFT(登録データ貼付!K68,1))","v":""},{"$f":"IF(登録データ貼付!S68=\"\",\"\",登録データ貼付!S68)","v":""},null,null,64,"羽城",64,null,764,"潟上市立羽城",null,"潟上市立羽城中学校",null,null,null,null,null,null,null,null,null,false,"","","","","",{"$f":"IF($AG72=TRUE,#REF!,\"\")","v":""},{"$f":"IF($AG72=TRUE,#REF!,\"\")","v":""},{"$f":"IF($AG72=TRUE,#REF!,\"\")","v":""},{"$f":"IF($AG72=TRUE,#REF!,\"\")","v":""},{"$f":"IF($AG72=TRUE,#REF!,\"\")","v":""},{"$f":"IF($AG72=TRUE,#REF!,\"\")","v":""},""]
[{"$f":"IF(登録データ貼付!E69=\"\",\"\",登録データ貼付!E69)","v":""},{"$f":"IF(登録データ貼付!B69=\"\",\"\",登録データ貼付!B69)","v":""},{"$f":"IF(登録データ貼付!C69=\"\",\"\",CONCATENATE(登録データ貼付!C69,\"　\",登録データ貼付!D69))","v":""},"","","","",{"$f":"IF(登録データ貼付!V69=\"\",\"\",RIGHT(登録データ貼付!V69,1))","v":""},null,{"$f":"IF(登録データ貼付!F69=\"\",\"\",CONCATENATE(登録データ貼付!F69,\"　\",登録データ貼付!G69))","v":""},{"$f":"IF(登録データ貼付!H69=\"\",\"\",CONCATENATE(登録データ貼付!H69,\" \",登録データ貼付!I69))","v":""},{"$f":"IF(登録データ貼付!K69=\"\",\"\",LEFT(登録データ貼付!K69,1))","v":""},{"$f":"IF(登録データ貼付!S69=\"\",\"\",登録データ貼付!S69)","v":""},null,null,65,"五城目第一",65,null,765,"五城目町立五城目第一",null,"五城目町立五城目第一中学校",null,null,null,null,null,null,null,null,null,false,"","","","","",{"$f":"IF($AG73=TRUE,#REF!,\"\")","v":""},{"$f":"IF($AG73=TRUE,#REF!,\"\")","v":""},{"$f":"IF($AG73=TRUE,#REF!,\"\")","v":""},{"$f":"IF($AG73=TRUE,#REF!,\"\")","v":""},{"$f":"IF($AG73=TRUE,#REF!,\"\")","v":""},{"$f":"IF($AG73=TRUE,#REF!,\"\")","v":""},""]
[{"$f":"IF(登録データ貼付!E70=\"\",\"\",登録データ貼付!E70)","v":""},{"$f":"IF(登録データ貼付!B70=\"\",\"\",登録データ貼付!B70)","v":""},{"$f":"IF(登録データ貼付!C70=\"\",\"\",CONCATENATE(登録データ貼付!C70,\"　\",登録データ貼付!D70))","v":""},"","","","",{"$f":"IF(登録データ貼付!V70=\"\",\"\",RIGHT(登録データ貼付!V70,1))","v":""},null,{"$f":"IF(登録データ貼付!F70=\"\",\"\",CONCATENATE(登録データ貼付!F70,\"　\",登録データ貼付!G70))","v":""},{"$f":"IF(登録データ貼付!H70=\"\",\"\",CONCATENATE(登録データ貼付!H70,\" \",登録データ貼付!I70))","v":""},{"$f":"IF(登録データ貼付!K70=\"\",\"\",LEFT(登録データ貼付!K70,1))","v":""},{"$f":"IF(登録データ貼付!S70=\"\",\"\",登録データ貼付!S70)","v":""},null,null,66,"八郎潟",66,null,766,"八郎潟町立八郎潟",null,"八郎潟町立八郎潟中学校",null,null,null,null,null,null,null,null,null,false,"","","","","",{"$f":"IF($AG74=TRUE,#REF!,\"\")","v":""},{"$f":"IF($AG74=TRUE,#REF!,\"\")","v":""},{"$f":"IF($AG74=TRUE,#REF!,\"\")","v":""},{"$f":"IF($AG74=TRUE,#REF!,\"\")","v":""},{"$f":"IF($AG74=TRUE,#REF!,\"\")","v":""},{"$f":"IF($AG74=TRUE,#REF!,\"\")","v":""},""]
[{"$f":"IF(登録データ貼付!E71=\"\",\"\",登録データ貼付!E71)","v":""},{"$f":"IF(登録データ貼付!B71=\"\",\"\",登録データ貼付!B71)","v":""},{"$f":"IF(登録データ貼付!C71=\"\",\"\",CONCATENATE(登録データ貼付!C71,\"　\",登録データ貼付!D71))","v":""},"","","","",{"$f":"IF(登録データ貼付!V71=\"\",\"\",RIGHT(登録データ貼付!V71,1))","v":""},null,{"$f":"IF(登録データ貼付!F71=\"\",\"\",CONCATENATE(登録データ貼付!F71,\"　\",登録データ貼付!G71))","v":""},{"$f":"IF(登録データ貼付!H71=\"\",\"\",CONCATENATE(登録データ貼付!H71,\" \",登録データ貼付!I71))","v":""},{"$f":"IF(登録データ貼付!K71=\"\",\"\",LEFT(登録データ貼付!K71,1))","v":""},{"$f":"IF(登録データ貼付!S71=\"\",\"\",登録データ貼付!S71)","v":""},null,null,67,"大潟",67,null,767,"大潟村立大潟",null,{"$f":"CONCATENATE(U75,$V$9)","v":"大潟村立大潟中学校"},null,null,null,null,null,null,null,null,null,false,"","","","","",{"$f":"IF($AG75=TRUE,#REF!,\"\")","v":""},{"$f":"IF($AG75=TRUE,#REF!,\"\")","v":""},{"$f":"IF($AG75=TRUE,#REF!,\"\")","v":""},{"$f":"IF($AG75=TRUE,#REF!,\"\")","v":""},{"$f":"IF($AG75=TRUE,#REF!,\"\")","v":""},{"$f":"IF($AG75=TRUE,#REF!,\"\")","v":""},""]
[{"$f":"IF(登録データ貼付!E72=\"\",\"\",登録データ貼付!E72)","v":""},{"$f":"IF(登録データ貼付!B72=\"\",\"\",登録データ貼付!B72)","v":""},{"$f":"IF(登録データ貼付!C72=\"\",\"\",CONCATENATE(登録データ貼付!C72,\"　\",登録データ貼付!D72))","v":""},"","","","",{"$f":"IF(登録データ貼付!V72=\"\",\"\",RIGHT(登録データ貼付!V72,1))","v":""},null,{"$f":"IF(登録データ貼付!F72=\"\",\"\",CONCATENATE(登録データ貼付!F72,\"　\",登録データ貼付!G72))","v":""},{"$f":"IF(登録データ貼付!H72=\"\",\"\",CONCATENATE(登録データ貼付!H72,\" \",登録データ貼付!I72))","v":""},{"$f":"IF(登録データ貼付!K72=\"\",\"\",LEFT(登録データ貼付!K72,1))","v":""},{"$f":"IF(登録データ貼付!S72=\"\",\"\",登録データ貼付!S72)","v":""},null,null,68,"本荘北",68,null,768,"由利本荘市立本荘北",null,"由利本荘市立本荘北中学校",null,null,null,null,null,null,null,null,null,false,"","","","","",{"$f":"IF($AG76=TRUE,#REF!,\"\")","v":""},{"$f":"IF($AG76=TRUE,#REF!,\"\")","v":""},{"$f":"IF($AG76=TRUE,#REF!,\"\")","v":""},{"$f":"IF($AG76=TRUE,#REF!,\"\")","v":""},{"$f":"IF($AG76=TRUE,#REF!,\"\")","v":""},{"$f":"IF($AG76=TRUE,#REF!,\"\")","v":""},""]
[{"$f":"IF(登録データ貼付!E73=\"\",\"\",登録データ貼付!E73)","v":""},{"$f":"IF(登録データ貼付!B73=\"\",\"\",登録データ貼付!B73)","v":""},{"$f":"IF(登録データ貼付!C73=\"\",\"\",CONCATENATE(登録データ貼付!C73,\"　\",登録データ貼付!D73))","v":""},"","","","",{"$f":"IF(登録データ貼付!V73=\"\",\"\",RIGHT(登録データ貼付!V73,1))","v":""},null,{"$f":"IF(登録データ貼付!F73=\"\",\"\",CONCATENATE(登録データ貼付!F73,\"　\",登録データ貼付!G73))","v":""},{"$f":"IF(登録データ貼付!H73=\"\",\"\",CONCATENATE(登録データ貼付!H73,\" \",登録データ貼付!I73))","v":""},{"$f":"IF(登録データ貼付!K73=\"\",\"\",LEFT(登録データ貼付!K73,1))","v":""},{"$f":"IF(登録データ貼付!S73=\"\",\"\",登録データ貼付!S73)","v":""},null,null,69,"本荘南",69,null,769,"由利本荘市立本荘南",null,"由利本荘市立本荘南中学校",null,null,null,null,null,null,null,null,null,false,"","","","","",{"$f":"IF($AG77=TRUE,#REF!,\"\")","v":""},{"$f":"IF($AG77=TRUE,#REF!,\"\")","v":""},{"$f":"IF($AG77=TRUE,#REF!,\"\")","v":""},{"$f":"IF($AG77=TRUE,#REF!,\"\")","v":""},{"$f":"IF($AG77=TRUE,#REF!,\"\")","v":""},{"$f":"IF($AG77=TRUE,#REF!,\"\")","v":""},""]
[{"$f":"IF(登録データ貼付!E74=\"\",\"\",登録データ貼付!E74)","v":""},{"$f":"IF(登録データ貼付!B74=\"\",\"\",登録データ貼付!B74)","v":""},{"$f":"IF(登録データ貼付!C74=\"\",\"\",CONCATENATE(登録データ貼付!C74,\"　\",登録データ貼付!D74))","v":""},"","","","",{"$f":"IF(登録データ貼付!V74=\"\",\"\",RIGHT(登録データ貼付!V74,1))","v":""},null,{"$f":"IF(登録データ貼付!F74=\"\",\"\",CONCATENATE(登録データ貼付!F74,\"　\",登録データ貼付!G74))","v":""},{"$f":"IF(登録データ貼付!H74=\"\",\"\",CONCATENATE(登録データ貼付!H74,\" \",登録データ貼付!I74))","v":""},{"$f":"IF(登録データ貼付!K74=\"\",\"\",LEFT(登録データ貼付!K74,1))","v":""},{"$f":"IF(登録データ貼付!S74=\"\",\"\",登録データ貼付!S74)","v":""},null,null,70,"本荘東",70,null,770,"由利本荘市立本荘東",null,"由利本荘市立本荘東中学校",null,null,null,null,null,null,null,null,null,false,"","","","","",{"$f":"IF($AG78=TRUE,#REF!,\"\")","v":""},{"$f":"IF($AG78=TRUE,#REF!,\"\")","v":""},{"$f":"IF($AG78=TRUE,#REF!,\"\")","v":""},{"$f":"IF($AG78=TRUE,#REF!,\"\")","v":""},{"$f":"IF($AG78=TRUE,#REF!,\"\")","v":""},{"$f":"IF($AG78=TRUE,#REF!,\"\")","v":""},""]
[{"$f":"IF(登録データ貼付!E75=\"\",\"\",登録データ貼付!E75)","v":""},{"$f":"IF(登録データ貼付!B75=\"\",\"\",登録データ貼付!B75)","v":""},{"$f":"IF(登録データ貼付!C75=\"\",\"\",CONCATENATE(登録データ貼付!C75,\"　\",登録データ貼付!D75))","v":""},"","","","",{"$f":"IF(登録データ貼付!V75=\"\",\"\",RIGHT(登録データ貼付!V75,1))","v":""},null,{"$f":"IF(登録データ貼付!F75=\"\",\"\",CONCATENATE(登録データ貼付!F75,\"　\",登録データ貼付!G75))","v":""},{"$f":"IF(登録データ貼付!H75=\"\",\"\",CONCATENATE(登録データ貼付!H75,\" \",登録データ貼付!I75))","v":""},{"$f":"IF(登録データ貼付!K75=\"\",\"\",LEFT(登録データ貼付!K75,1))","v":""},{"$f":"IF(登録データ貼付!S75=\"\",\"\",登録データ貼付!S75)","v":""},null,null,71,"矢島",71,null,771,"由利本荘市立矢島",null,"由利本荘市立矢島中学校",null,null,null,null,null,null,null,null,null,false,"","","","","",{"$f":"IF($AG79=TRUE,#REF!,\"\")","v":""},{"$f":"IF($AG79=TRUE,#REF!,\"\")","v":""},{"$f":"IF($AG79=TRUE,#REF!,\"\")","v":""},{"$f":"IF($AG79=TRUE,#REF!,\"\")","v":""},{"$f":"IF($AG79=TRUE,#REF!,\"\")","v":""},{"$f":"IF($AG79=TRUE,#REF!,\"\")","v":""},""]
[{"$f":"IF(登録データ貼付!E76=\"\",\"\",登録データ貼付!E76)","v":""},{"$f":"IF(登録データ貼付!B76=\"\",\"\",登録データ貼付!B76)","v":""},{"$f":"IF(登録データ貼付!C76=\"\",\"\",CONCATENATE(登録データ貼付!C76,\"　\",登録データ貼付!D76))","v":""},"","","","",{"$f":"IF(登録データ貼付!V76=\"\",\"\",RIGHT(登録データ貼付!V76,1))","v":""},null,{"$f":"IF(登録データ貼付!F76=\"\",\"\",CONCATENATE(登録データ貼付!F76,\"　\",登録データ貼付!G76))","v":""},{"$f":"IF(登録データ貼付!H76=\"\",\"\",CONCATENATE(登録データ貼付!H76,\" \",登録データ貼付!I76))","v":""},{"$f":"IF(登録データ貼付!K76=\"\",\"\",LEFT(登録データ貼付!K76,1))","v":""},{"$f":"IF(登録データ貼付!S76=\"\",\"\",登録データ貼付!S76)","v":""},null,null,72,"岩城",72,null,772,"由利本荘市立岩城",null,"由利本荘市立岩城中学校",null,null,null,null,null,null,null,null,null,false,"","","","","",{"$f":"IF($AG80=TRUE,#REF!,\"\")","v":""},{"$f":"IF($AG80=TRUE,#REF!,\"\")","v":""},{"$f":"IF($AG80=TRUE,#REF!,\"\")","v":""},{"$f":"IF($AG80=TRUE,#REF!,\"\")","v":""},{"$f":"IF($AG80=TRUE,#REF!,\"\")","v":""},{"$f":"IF($AG80=TRUE,#REF!,\"\")","v":""},""]
[{"$f":"IF(登録データ貼付!E77=\"\",\"\",登録データ貼付!E77)","v":""},{"$f":"IF(登録データ貼付!B77=\"\",\"\",登録データ貼付!B77)","v":""},{"$f":"IF(登録データ貼付!C77=\"\",\"\",CONCATENATE(登録データ貼付!C77,\"　\",登録データ貼付!D77))","v":""},"","","","",{"$f":"IF(登録データ貼付!V77=\"\",\"\",RIGHT(登録データ貼付!V77,1))","v":""},null,{"$f":"IF(登録データ貼付!F77=\"\",\"\",CONCATENATE(登録データ貼付!F77,\"　\",登録データ貼付!G77))","v":""},{"$f":"IF(登録データ貼付!H77=\"\",\"\",CONCATENATE(登録データ貼付!H77,\" \",登録データ貼付!I77))","v":""},{"$f":"IF(登録データ貼付!K77=\"\",\"\",LEFT(登録データ貼付!K77,1))","v":""},{"$f":"IF(登録データ貼付!S77=\"\",\"\",登録データ貼付!S77)","v":""},null,null,73,"由利",73,null,773,"由利本荘市立由利",null,"由利本荘市立由利中学校",null,null,null,null,null,null,null,null,null,false,"","","","","",{"$f":"IF($AG81=TRUE,#REF!,\"\")","v":""},{"$f":"IF($AG81=TRUE,#REF!,\"\")","v":""},{"$f":"IF($AG81=TRUE,#REF!,\"\")","v":""},{"$f":"IF($AG81=TRUE,#REF!,\"\")","v":""},{"$f":"IF($AG81=TRUE,#REF!,\"\")","v":""},{"$f":"IF($AG81=TRUE,#REF!,\"\")","v":""},""]
[{"$f":"IF(登録データ貼付!E78=\"\",\"\",登録データ貼付!E78)","v":""},{"$f":"IF(登録データ貼付!B78=\"\",\"\",登録データ貼付!B78)","v":""},{"$f":"IF(登録データ貼付!C78=\"\",\"\",CONCATENATE(登録データ貼付!C78,\"　\",登録データ貼付!D78))","v":""},"","","","",{"$f":"IF(登録データ貼付!V78=\"\",\"\",RIGHT(登録データ貼付!V78,1))","v":""},null,{"$f":"IF(登録データ貼付!F78=\"\",\"\",CONCATENATE(登録データ貼付!F78,\"　\",登録データ貼付!G78))","v":""},{"$f":"IF(登録データ貼付!H78=\"\",\"\",CONCATENATE(登録データ貼付!H78,\" \",登録データ貼付!I78))","v":""},{"$f":"IF(登録データ貼付!K78=\"\",\"\",LEFT(登録データ貼付!K78,1))","v":""},{"$f":"IF(登録データ貼付!S78=\"\",\"\",登録データ貼付!S78)","v":""},null,null,74,"西目",74,null,774,"由利本荘市立西目",null,"由利本荘市立西目中学校",null,null,null,null,null,null,null,null,null,false,"","","","","",{"$f":"IF($AG82=TRUE,#REF!,\"\")","v":""},{"$f":"IF($AG82=TRUE,#REF!,\"\")","v":""},{"$f":"IF($AG82=TRUE,#REF!,\"\")","v":""},{"$f":"IF($AG82=TRUE,#REF!,\"\")","v":""},{"$f":"IF($AG82=TRUE,#REF!,\"\")","v":""},{"$f":"IF($AG82=TRUE,#REF!,\"\")","v":""},""]
[{"$f":"IF(登録データ貼付!E79=\"\",\"\",登録データ貼付!E79)","v":""},{"$f":"IF(登録データ貼付!B79=\"\",\"\",登録データ貼付!B79)","v":""},{"$f":"IF(登録データ貼付!C79=\"\",\"\",CONCATENATE(登録データ貼付!C79,\"　\",登録データ貼付!D79))","v":""},"","","","",{"$f":"IF(登録データ貼付!V79=\"\",\"\",RIGHT(登録データ貼付!V79,1))","v":""},null,{"$f":"IF(登録データ貼付!F79=\"\",\"\",CONCATENATE(登録データ貼付!F79,\"　\",登録データ貼付!G79))","v":""},{"$f":"IF(登録データ貼付!H79=\"\",\"\",CONCATENATE(登録データ貼付!H79,\" \",登録データ貼付!I79))","v":""},{"$f":"IF(登録データ貼付!K79=\"\",\"\",LEFT(登録データ貼付!K79,1))","v":""},{"$f":"IF(登録データ貼付!S79=\"\",\"\",登録データ貼付!S79)","v":""},null,null,75,"鳥海",75,null,775,"由利本荘市立鳥海",null,"由利本荘市立鳥海中学校",null,null,null,null,null,null,null,null,null,false,"","","","","",{"$f":"IF($AG83=TRUE,#REF!,\"\")","v":""},{"$f":"IF($AG83=TRUE,#REF!,\"\")","v":""},{"$f":"IF($AG83=TRUE,#REF!,\"\")","v":""},{"$f":"IF($AG83=TRUE,#REF!,\"\")","v":""},{"$f":"IF($AG83=TRUE,#REF!,\"\")","v":""},{"$f":"IF($AG83=TRUE,#REF!,\"\")","v":""},""]
[{"$f":"IF(登録データ貼付!E80=\"\",\"\",登録データ貼付!E80)","v":""},{"$f":"IF(登録データ貼付!B80=\"\",\"\",登録データ貼付!B80)","v":""},{"$f":"IF(登録データ貼付!C80=\"\",\"\",CONCATENATE(登録データ貼付!C80,\"　\",登録データ貼付!D80))","v":""},"","","","",{"$f":"IF(登録データ貼付!V80=\"\",\"\",RIGHT(登録データ貼付!V80,1))","v":""},null,{"$f":"IF(登録データ貼付!F80=\"\",\"\",CONCATENATE(登録データ貼付!F80,\"　\",登録データ貼付!G80))","v":""},{"$f":"IF(登録データ貼付!H80=\"\",\"\",CONCATENATE(登録データ貼付!H80,\" \",登録データ貼付!I80))","v":""},{"$f":"IF(登録データ貼付!K80=\"\",\"\",LEFT(登録データ貼付!K80,1))","v":""},{"$f":"IF(登録データ貼付!S80=\"\",\"\",登録データ貼付!S80)","v":""},null,null,76,"東由利",76,null,776,"由利本荘市立東由利",null,"由利本荘市立東由利中学校",null,null,null,null,null,null,null,null,null,false,"","","","","",{"$f":"IF($AG84=TRUE,#REF!,\"\")","v":""},{"$f":"IF($AG84=TRUE,#REF!,\"\")","v":""},{"$f":"IF($AG84=TRUE,#REF!,\"\")","v":""},{"$f":"IF($AG84=TRUE,#REF!,\"\")","v":""},{"$f":"IF($AG84=TRUE,#REF!,\"\")","v":""},{"$f":"IF($AG84=TRUE,#REF!,\"\")","v":""},""]
[{"$f":"IF(登録データ貼付!E81=\"\",\"\",登録データ貼付!E81)","v":""},{"$f":"IF(登録データ貼付!B81=\"\",\"\",登録データ貼付!B81)","v":""},{"$f":"IF(登録データ貼付!C81=\"\",\"\",CONCATENATE(登録データ貼付!C81,\"　\",登録データ貼付!D81))","v":""},"","","","",{"$f":"IF(登録データ貼付!V81=\"\",\"\",RIGHT(登録データ貼付!V81,1))","v":""},null,{"$f":"IF(登録データ貼付!F81=\"\",\"\",CONCATENATE(登録データ貼付!F81,\"　\",登録データ貼付!G81))","v":""},{"$f":"IF(登録データ貼付!H81=\"\",\"\",CONCATENATE(登録データ貼付!H81,\" \",登録データ貼付!I81))","v":""},{"$f":"IF(登録データ貼付!K81=\"\",\"\",LEFT(登録データ貼付!K81,1))","v":""},{"$f":"IF(登録データ貼付!S81=\"\",\"\",登録データ貼付!S81)","v":""},null,null,77,"大内",77,null,777,"由利本荘市立大内",null,"由利本荘市立大内中学校",null,null,null,null,null,null,null,null,null,false,"","","","","",{"$f":"IF($AG85=TRUE,#REF!,\"\")","v":""},{"$f":"IF($AG85=TRUE,#REF!,\"\")","v":""},{"$f":"IF($AG85=TRUE,#REF!,\"\")","v":""},{"$f":"IF($AG85=TRUE,#REF!,\"\")","v":""},{"$f":"IF($AG85=TRUE,#REF!,\"\")","v":""},{"$f":"IF($AG85=TRUE,#REF!,\"\")","v":""},""]
[{"$f":"IF(登録データ貼付!E82=\"\",\"\",登録データ貼付!E82)","v":""},{"$f":"IF(登録データ貼付!B82=\"\",\"\",登録データ貼付!B82)","v":""},{"$f":"IF(登録データ貼付!C82=\"\",\"\",CONCATENATE(登録データ貼付!C82,\"　\",登録データ貼付!D82))","v":""},"","","","",{"$f":"IF(登録データ貼付!V82=\"\",\"\",RIGHT(登録データ貼付!V82,1))","v":""},null,{"$f":"IF(登録データ貼付!F82=\"\",\"\",CONCATENATE(登録データ貼付!F82,\"　\",登録データ貼付!G82))","v":""},{"$f":"IF(登録データ貼付!H82=\"\",\"\",CONCATENATE(登録データ貼付!H82,\" \",登録データ貼付!I82))","v":""},{"$f":"IF(登録データ貼付!K82=\"\",\"\",LEFT(登録データ貼付!K82,1))","v":""},{"$f":"IF(登録データ貼付!S82=\"\",\"\",登録データ貼付!S82)","v":""},null,null,78,"仁賀保",78,null,778,"にかほ市立仁賀保",null,"にかほ市立仁賀保中学校",null,null,null,null,null,null,null,null,null,false,"","","","","",{"$f":"IF($AG86=TRUE,#REF!,\"\")","v":""},{"$f":"IF($AG86=TRUE,#REF!,\"\")","v":""},{"$f":"IF($AG86=TRUE,#REF!,\"\")","v":""},{"$f":"IF($AG86=TRUE,#REF!,\"\")","v":""},{"$f":"IF($AG86=TRUE,#REF!,\"\")","v":""},{"$f":"IF($AG86=TRUE,#REF!,\"\")","v":""},""]
[{"$f":"IF(登録データ貼付!E83=\"\",\"\",登録データ貼付!E83)","v":""},{"$f":"IF(登録データ貼付!B83=\"\",\"\",登録データ貼付!B83)","v":""},{"$f":"IF(登録データ貼付!C83=\"\",\"\",CONCATENATE(登録データ貼付!C83,\"　\",登録データ貼付!D83))","v":""},"","","","",{"$f":"IF(登録データ貼付!V83=\"\",\"\",RIGHT(登録データ貼付!V83,1))","v":""},null,{"$f":"IF(登録データ貼付!F83=\"\",\"\",CONCATENATE(登録データ貼付!F83,\"　\",登録データ貼付!G83))","v":""},{"$f":"IF(登録データ貼付!H83=\"\",\"\",CONCATENATE(登録データ貼付!H83,\" \",登録データ貼付!I83))","v":""},{"$f":"IF(登録データ貼付!K83=\"\",\"\",LEFT(登録データ貼付!K83,1))","v":""},{"$f":"IF(登録データ貼付!S83=\"\",\"\",登録データ貼付!S83)","v":""},null,null,79,"金浦",79,null,779,"にかほ市立金浦",null,"にかほ市立金浦中学校",null,null,null,null,null,null,null,null,null,false,"","","","","",{"$f":"IF($AG87=TRUE,#REF!,\"\")","v":""},{"$f":"IF($AG87=TRUE,#REF!,\"\")","v":""},{"$f":"IF($AG87=TRUE,#REF!,\"\")","v":""},{"$f":"IF($AG87=TRUE,#REF!,\"\")","v":""},{"$f":"IF($AG87=TRUE,#REF!,\"\")","v":""},{"$f":"IF($AG87=TRUE,#REF!,\"\")","v":""},""]
[{"$f":"IF(登録データ貼付!E84=\"\",\"\",登録データ貼付!E84)","v":""},{"$f":"IF(登録データ貼付!B84=\"\",\"\",登録データ貼付!B84)","v":""},{"$f":"IF(登録データ貼付!C84=\"\",\"\",CONCATENATE(登録データ貼付!C84,\"　\",登録データ貼付!D84))","v":""},"","","","",{"$f":"IF(登録データ貼付!V84=\"\",\"\",RIGHT(登録データ貼付!V84,1))","v":""},null,{"$f":"IF(登録データ貼付!F84=\"\",\"\",CONCATENATE(登録データ貼付!F84,\"　\",登録データ貼付!G84))","v":""},{"$f":"IF(登録データ貼付!H84=\"\",\"\",CONCATENATE(登録データ貼付!H84,\" \",登録データ貼付!I84))","v":""},{"$f":"IF(登録データ貼付!K84=\"\",\"\",LEFT(登録データ貼付!K84,1))","v":""},{"$f":"IF(登録データ貼付!S84=\"\",\"\",登録データ貼付!S84)","v":""},null,null,80,"象潟",80,null,780,"にかほ市立象潟",null,"にかほ市立象潟中学校",null,null,null,null,null,null,null,null,null,false,"","","","","",{"$f":"IF($AG88=TRUE,#REF!,\"\")","v":""},{"$f":"IF($AG88=TRUE,#REF!,\"\")","v":""},{"$f":"IF($AG88=TRUE,#REF!,\"\")","v":""},{"$f":"IF($AG88=TRUE,#REF!,\"\")","v":""},{"$f":"IF($AG88=TRUE,#REF!,\"\")","v":""},{"$f":"IF($AG88=TRUE,#REF!,\"\")","v":""},""]
[{"$f":"IF(登録データ貼付!E85=\"\",\"\",登録データ貼付!E85)","v":""},{"$f":"IF(登録データ貼付!B85=\"\",\"\",登録データ貼付!B85)","v":""},{"$f":"IF(登録データ貼付!C85=\"\",\"\",CONCATENATE(登録データ貼付!C85,\"　\",登録データ貼付!D85))","v":""},"","","","",{"$f":"IF(登録データ貼付!V85=\"\",\"\",RIGHT(登録データ貼付!V85,1))","v":""},null,{"$f":"IF(登録データ貼付!F85=\"\",\"\",CONCATENATE(登録データ貼付!F85,\"　\",登録データ貼付!G85))","v":""},{"$f":"IF(登録データ貼付!H85=\"\",\"\",CONCATENATE(登録データ貼付!H85,\" \",登録データ貼付!I85))","v":""},{"$f":"IF(登録データ貼付!K85=\"\",\"\",LEFT(登録データ貼付!K85,1))","v":""},{"$f":"IF(登録データ貼付!S85=\"\",\"\",登録データ貼付!S85)","v":""},null,null,81,"大曲",81,null,781,"大仙市立大曲",null,"大仙市立大曲中学校",null,null,null,null,null,null,null,null,null,false,"","","","","",{"$f":"IF($AG89=TRUE,#REF!,\"\")","v":""},{"$f":"IF($AG89=TRUE,#REF!,\"\")","v":""},{"$f":"IF($AG89=TRUE,#REF!,\"\")","v":""},{"$f":"IF($AG89=TRUE,#REF!,\"\")","v":""},{"$f":"IF($AG89=TRUE,#REF!,\"\")","v":""},{"$f":"IF($AG89=TRUE,#REF!,\"\")","v":""},""]
[{"$f":"IF(登録データ貼付!E86=\"\",\"\",登録データ貼付!E86)","v":""},{"$f":"IF(登録データ貼付!B86=\"\",\"\",登録データ貼付!B86)","v":""},{"$f":"IF(登録データ貼付!C86=\"\",\"\",CONCATENATE(登録データ貼付!C86,\"　\",登録データ貼付!D86))","v":""},"","","","",{"$f":"IF(登録データ貼付!V86=\"\",\"\",RIGHT(登録データ貼付!V86,1))","v":""},null,{"$f":"IF(登録データ貼付!F86=\"\",\"\",CONCATENATE(登録データ貼付!F86,\"　\",登録データ貼付!G86))","v":""},{"$f":"IF(登録データ貼付!H86=\"\",\"\",CONCATENATE(登録データ貼付!H86,\" \",登録データ貼付!I86))","v":""},{"$f":"IF(登録データ貼付!K86=\"\",\"\",LEFT(登録データ貼付!K86,1))","v":""},{"$f":"IF(登録データ貼付!S86=\"\",\"\",登録データ貼付!S86)","v":""},null,null,82,"大曲西",82,null,782,"大仙市立大曲西",null,"大仙市立大曲西中学校",null,null,null,null,null,null,null,null,null,false,"","","","","",{"$f":"IF($AG90=TRUE,#REF!,\"\")","v":""},{"$f":"IF($AG90=TRUE,#REF!,\"\")","v":""},{"$f":"IF($AG90=TRUE,#REF!,\"\")","v":""},{"$f":"IF($AG90=TRUE,#REF!,\"\")","v":""},{"$f":"IF($AG90=TRUE,#REF!,\"\")","v":""},{"$f":"IF($AG90=TRUE,#REF!,\"\")","v":""},""]
[{"$f":"IF(登録データ貼付!E87=\"\",\"\",登録データ貼付!E87)","v":""},{"$f":"IF(登録データ貼付!B87=\"\",\"\",登録データ貼付!B87)","v":""},{"$f":"IF(登録データ貼付!C87=\"\",\"\",CONCATENATE(登録データ貼付!C87,\"　\",登録データ貼付!D87))","v":""},"","","","",{"$f":"IF(登録データ貼付!V87=\"\",\"\",RIGHT(登録データ貼付!V87,1))","v":""},null,{"$f":"IF(登録データ貼付!F87=\"\",\"\",CONCATENATE(登録データ貼付!F87,\"　\",登録データ貼付!G87))","v":""},{"$f":"IF(登録データ貼付!H87=\"\",\"\",CONCATENATE(登録データ貼付!H87,\" \",登録データ貼付!I87))","v":""},{"$f":"IF(登録データ貼付!K87=\"\",\"\",LEFT(登録データ貼付!K87,1))","v":""},{"$f":"IF(登録データ貼付!S87=\"\",\"\",登録データ貼付!S87)","v":""},null,null,83,"大曲南",83,null,783,"大仙市立大曲南",null,"大仙市立大曲南中学校",null,null,null,null,null,null,null,null,null,false,"","","","","",{"$f":"IF($AG91=TRUE,#REF!,\"\")","v":""},{"$f":"IF($AG91=TRUE,#REF!,\"\")","v":""},{"$f":"IF($AG91=TRUE,#REF!,\"\")","v":""},{"$f":"IF($AG91=TRUE,#REF!,\"\")","v":""},{"$f":"IF($AG91=TRUE,#REF!,\"\")","v":""},{"$f":"IF($AG91=TRUE,#REF!,\"\")","v":""},""]
[{"$f":"IF(登録データ貼付!E88=\"\",\"\",登録データ貼付!E88)","v":""},{"$f":"IF(登録データ貼付!B88=\"\",\"\",登録データ貼付!B88)","v":""},{"$f":"IF(登録データ貼付!C88=\"\",\"\",CONCATENATE(登録データ貼付!C88,\"　\",登録データ貼付!D88))","v":""},"","","","",{"$f":"IF(登録データ貼付!V88=\"\",\"\",RIGHT(登録データ貼付!V88,1))","v":""},null,{"$f":"IF(登録データ貼付!F88=\"\",\"\",CONCATENATE(登録データ貼付!F88,\"　\",登録データ貼付!G88))","v":""},{"$f":"IF(登録データ貼付!H88=\"\",\"\",CONCATENATE(登録データ貼付!H88,\" \",登録データ貼付!I88))","v":""},{"$f":"IF(登録データ貼付!K88=\"\",\"\",LEFT(登録データ貼付!K88,1))","v":""},{"$f":"IF(登録データ貼付!S88=\"\",\"\",登録データ貼付!S88)","v":""},null,null,84,"平和",84,null,784,"大仙市立平和",null,"大仙市立平和中学校",null,null,null,null,null,null,null,null,null,false,"","","","","",{"$f":"IF($AG92=TRUE,#REF!,\"\")","v":""},{"$f":"IF($AG92=TRUE,#REF!,\"\")","v":""},{"$f":"IF($AG92=TRUE,#REF!,\"\")","v":""},{"$f":"IF($AG92=TRUE,#REF!,\"\")","v":""},{"$f":"IF($AG92=TRUE,#REF!,\"\")","v":""},{"$f":"IF($AG92=TRUE,#REF!,\"\")","v":""},""]
[{"$f":"IF(登録データ貼付!E89=\"\",\"\",登録データ貼付!E89)","v":""},{"$f":"IF(登録データ貼付!B89=\"\",\"\",登録データ貼付!B89)","v":""},{"$f":"IF(登録データ貼付!C89=\"\",\"\",CONCATENATE(登録データ貼付!C89,\"　\",登録データ貼付!D89))","v":""},"","","","",{"$f":"IF(登録データ貼付!V89=\"\",\"\",RIGHT(登録データ貼付!V89,1))","v":""},null,{"$f":"IF(登録データ貼付!F89=\"\",\"\",CONCATENATE(登録データ貼付!F89,\"　\",登録データ貼付!G89))","v":""},{"$f":"IF(登録データ貼付!H89=\"\",\"\",CONCATENATE(登録データ貼付!H89,\" \",登録データ貼付!I89))","v":""},{"$f":"IF(登録データ貼付!K89=\"\",\"\",LEFT(登録データ貼付!K89,1))","v":""},{"$f":"IF(登録データ貼付!S89=\"\",\"\",登録データ貼付!S89)","v":""},null,null,85,"西仙北",85,null,785,"大仙市立西仙北",null,"大仙市立西仙北中学校",null,null,null,null,null,null,null,null,null,false,"","","","","",{"$f":"IF($AG93=TRUE,#REF!,\"\")","v":""},{"$f":"IF($AG93=TRUE,#REF!,\"\")","v":""},{"$f":"IF($AG93=TRUE,#REF!,\"\")","v":""},{"$f":"IF($AG93=TRUE,#REF!,\"\")","v":""},{"$f":"IF($AG93=TRUE,#REF!,\"\")","v":""},{"$f":"IF($AG93=TRUE,#REF!,\"\")","v":""},""]
[{"$f":"IF(登録データ貼付!E90=\"\",\"\",登録データ貼付!E90)","v":""},{"$f":"IF(登録データ貼付!B90=\"\",\"\",登録データ貼付!B90)","v":""},{"$f":"IF(登録データ貼付!C90=\"\",\"\",CONCATENATE(登録データ貼付!C90,\"　\",登録データ貼付!D90))","v":""},"","","","",{"$f":"IF(登録データ貼付!V90=\"\",\"\",RIGHT(登録データ貼付!V90,1))","v":""},null,{"$f":"IF(登録データ貼付!F90=\"\",\"\",CONCATENATE(登録データ貼付!F90,\"　\",登録データ貼付!G90))","v":""},{"$f":"IF(登録データ貼付!H90=\"\",\"\",CONCATENATE(登録データ貼付!H90,\" \",登録データ貼付!I90))","v":""},{"$f":"IF(登録データ貼付!K90=\"\",\"\",LEFT(登録データ貼付!K90,1))","v":""},{"$f":"IF(登録データ貼付!S90=\"\",\"\",登録データ貼付!S90)","v":""},null,null,86,"中仙",86,null,786,"大仙市立中仙",null,"大仙市立中仙中学校",null,null,null,null,null,null,null,null,null,false,"","","","","",{"$f":"IF($AG94=TRUE,#REF!,\"\")","v":""},{"$f":"IF($AG94=TRUE,#REF!,\"\")","v":""},{"$f":"IF($AG94=TRUE,#REF!,\"\")","v":""},{"$f":"IF($AG94=TRUE,#REF!,\"\")","v":""},{"$f":"IF($AG94=TRUE,#REF!,\"\")","v":""},{"$f":"IF($AG94=TRUE,#REF!,\"\")","v":""},""]
[{"$f":"IF(登録データ貼付!E91=\"\",\"\",登録データ貼付!E91)","v":""},{"$f":"IF(登録データ貼付!B91=\"\",\"\",登録データ貼付!B91)","v":""},{"$f":"IF(登録データ貼付!C91=\"\",\"\",CONCATENATE(登録データ貼付!C91,\"　\",登録データ貼付!D91))","v":""},"","","","",{"$f":"IF(登録データ貼付!V91=\"\",\"\",RIGHT(登録データ貼付!V91,1))","v":""},null,{"$f":"IF(登録データ貼付!F91=\"\",\"\",CONCATENATE(登録データ貼付!F91,\"　\",登録データ貼付!G91))","v":""},{"$f":"IF(登録データ貼付!H91=\"\",\"\",CONCATENATE(登録データ貼付!H91,\" \",登録データ貼付!I91))","v":""},{"$f":"IF(登録データ貼付!K91=\"\",\"\",LEFT(登録データ貼付!K91,1))","v":""},{"$f":"IF(登録データ貼付!S91=\"\",\"\",登録データ貼付!S91)","v":""},null,null,87,"協和",87,null,787,"大仙市立協和",null,"大仙市立協和中学校",null,null,null,null,null,null,null,null,null,false,"","","","","",{"$f":"IF($AG95=TRUE,#REF!,\"\")","v":""},{"$f":"IF($AG95=TRUE,#REF!,\"\")","v":""},{"$f":"IF($AG95=TRUE,#REF!,\"\")","v":""},{"$f":"IF($AG95=TRUE,#REF!,\"\")","v":""},{"$f":"IF($AG95=TRUE,#REF!,\"\")","v":""},{"$f":"IF($AG95=TRUE,#REF!,\"\")","v":""},""]
[{"$f":"IF(登録データ貼付!E92=\"\",\"\",登録データ貼付!E92)","v":""},{"$f":"IF(登録データ貼付!B92=\"\",\"\",登録データ貼付!B92)","v":""},{"$f":"IF(登録データ貼付!C92=\"\",\"\",CONCATENATE(登録データ貼付!C92,\"　\",登録データ貼付!D92))","v":""},"","","","",{"$f":"IF(登録データ貼付!V92=\"\",\"\",RIGHT(登録データ貼付!V92,1))","v":""},null,{"$f":"IF(登録データ貼付!F92=\"\",\"\",CONCATENATE(登録データ貼付!F92,\"　\",登録データ貼付!G92))","v":""},{"$f":"IF(登録データ貼付!H92=\"\",\"\",CONCATENATE(登録データ貼付!H92,\" \",登録データ貼付!I92))","v":""},{"$f":"IF(登録データ貼付!K92=\"\",\"\",LEFT(登録データ貼付!K92,1))","v":""},{"$f":"IF(登録データ貼付!S92=\"\",\"\",登録データ貼付!S92)","v":""},null,null,88,"南外",88,null,788,"大仙市立南外",null,"大仙市立南外中学校",null,null,null,null,null,null,null,null,null,false,"","","","","",{"$f":"IF($AG96=TRUE,#REF!,\"\")","v":""},{"$f":"IF($AG96=TRUE,#REF!,\"\")","v":""},{"$f":"IF($AG96=TRUE,#REF!,\"\")","v":""},{"$f":"IF($AG96=TRUE,#REF!,\"\")","v":""},{"$f":"IF($AG96=TRUE,#REF!,\"\")","v":""},{"$f":"IF($AG96=TRUE,#REF!,\"\")","v":""},""]
[{"$f":"IF(登録データ貼付!E93=\"\",\"\",登録データ貼付!E93)","v":""},{"$f":"IF(登録データ貼付!B93=\"\",\"\",登録データ貼付!B93)","v":""},{"$f":"IF(登録データ貼付!C93=\"\",\"\",CONCATENATE(登録データ貼付!C93,\"　\",登録データ貼付!D93))","v":""},"","","","",{"$f":"IF(登録データ貼付!V93=\"\",\"\",RIGHT(登録データ貼付!V93,1))","v":""},null,{"$f":"IF(登録データ貼付!F93=\"\",\"\",CONCATENATE(登録データ貼付!F93,\"　\",登録データ貼付!G93))","v":""},{"$f":"IF(登録データ貼付!H93=\"\",\"\",CONCATENATE(登録データ貼付!H93,\" \",登録データ貼付!I93))","v":""},{"$f":"IF(登録データ貼付!K93=\"\",\"\",LEFT(登録データ貼付!K93,1))","v":""},{"$f":"IF(登録データ貼付!S93=\"\",\"\",登録データ貼付!S93)","v":""},null,null,89,"仙北",89,null,789,"大仙市立仙北",null,"大仙市立仙北中学校",null,null,null,null,null,null,null,null,null,false,"","","","","",{"$f":"IF($AG97=TRUE,#REF!,\"\")","v":""},{"$f":"IF($AG97=TRUE,#REF!,\"\")","v":""},{"$f":"IF($AG97=TRUE,#REF!,\"\")","v":""},{"$f":"IF($AG97=TRUE,#REF!,\"\")","v":""},{"$f":"IF($AG97=TRUE,#REF!,\"\")","v":""},{"$f":"IF($AG97=TRUE,#REF!,\"\")","v":""},""]
[{"$f":"IF(登録データ貼付!E94=\"\",\"\",登録データ貼付!E94)","v":""},{"$f":"IF(登録データ貼付!B94=\"\",\"\",登録データ貼付!B94)","v":""},{"$f":"IF(登録データ貼付!C94=\"\",\"\",CONCATENATE(登録データ貼付!C94,\"　\",登録データ貼付!D94))","v":""},"","","","",{"$f":"IF(登録データ貼付!V94=\"\",\"\",RIGHT(登録データ貼付!V94,1))","v":""},null,{"$f":"IF(登録データ貼付!F94=\"\",\"\",CONCATENATE(登録データ貼付!F94,\"　\",登録データ貼付!G94))","v":""},{"$f":"IF(登録データ貼付!H94=\"\",\"\",CONCATENATE(登録データ貼付!H94,\" \",登録データ貼付!I94))","v":""},{"$f":"IF(登録データ貼付!K94=\"\",\"\",LEFT(登録データ貼付!K94,1))","v":""},{"$f":"IF(登録データ貼付!S94=\"\",\"\",登録データ貼付!S94)","v":""},null,null,90,"太田",90,null,790,"大仙市立太田",null,"大仙市立太田中学校",null,null,null,null,null,null,null,null,null,false,"","","","","",{"$f":"IF($AG98=TRUE,#REF!,\"\")","v":""},{"$f":"IF($AG98=TRUE,#REF!,\"\")","v":""},{"$f":"IF($AG98=TRUE,#REF!,\"\")","v":""},{"$f":"IF($AG98=TRUE,#REF!,\"\")","v":""},{"$f":"IF($AG98=TRUE,#REF!,\"\")","v":""},{"$f":"IF($AG98=TRUE,#REF!,\"\")","v":""},""]
[{"$f":"IF(登録データ貼付!E95=\"\",\"\",登録データ貼付!E95)","v":""},{"$f":"IF(登録データ貼付!B95=\"\",\"\",登録データ貼付!B95)","v":""},{"$f":"IF(登録データ貼付!C95=\"\",\"\",CONCATENATE(登録データ貼付!C95,\"　\",登録データ貼付!D95))","v":""},"","","","",{"$f":"IF(登録データ貼付!V95=\"\",\"\",RIGHT(登録データ貼付!V95,1))","v":""},null,{"$f":"IF(登録データ貼付!F95=\"\",\"\",CONCATENATE(登録データ貼付!F95,\"　\",登録データ貼付!G95))","v":""},{"$f":"IF(登録データ貼付!H95=\"\",\"\",CONCATENATE(登録データ貼付!H95,\" \",登録データ貼付!I95))","v":""},{"$f":"IF(登録データ貼付!K95=\"\",\"\",LEFT(登録データ貼付!K95,1))","v":""},{"$f":"IF(登録データ貼付!S95=\"\",\"\",登録データ貼付!S95)","v":""},null,null,91,"角館",91,null,791,"仙北市立角館",null,"仙北市立角館中学校",null,null,null,null,null,null,null,null,null,false,"","","","","",{"$f":"IF($AG99=TRUE,#REF!,\"\")","v":""},{"$f":"IF($AG99=TRUE,#REF!,\"\")","v":""},{"$f":"IF($AG99=TRUE,#REF!,\"\")","v":""},{"$f":"IF($AG99=TRUE,#REF!,\"\")","v":""},{"$f":"IF($AG99=TRUE,#REF!,\"\")","v":""},{"$f":"IF($AG99=TRUE,#REF!,\"\")","v":""},""]
[{"$f":"IF(登録データ貼付!E96=\"\",\"\",登録データ貼付!E96)","v":""},{"$f":"IF(登録データ貼付!B96=\"\",\"\",登録データ貼付!B96)","v":""},{"$f":"IF(登録データ貼付!C96=\"\",\"\",CONCATENATE(登録データ貼付!C96,\"　\",登録データ貼付!D96))","v":""},"","","","",{"$f":"IF(登録データ貼付!V96=\"\",\"\",RIGHT(登録データ貼付!V96,1))","v":""},null,{"$f":"IF(登録データ貼付!F96=\"\",\"\",CONCATENATE(登録データ貼付!F96,\"　\",登録データ貼付!G96))","v":""},{"$f":"IF(登録データ貼付!H96=\"\",\"\",CONCATENATE(登録データ貼付!H96,\" \",登録データ貼付!I96))","v":""},{"$f":"IF(登録データ貼付!K96=\"\",\"\",LEFT(登録データ貼付!K96,1))","v":""},{"$f":"IF(登録データ貼付!S96=\"\",\"\",登録データ貼付!S96)","v":""},null,null,92,"生保内",92,null,792,"仙北市立生保内",null,"仙北市立生保内中学校",null,null,null,null,null,null,null,null,null,false,"","","","","",{"$f":"IF($AG100=TRUE,#REF!,\"\")","v":""},{"$f":"IF($AG100=TRUE,#REF!,\"\")","v":""},{"$f":"IF($AG100=TRUE,#REF!,\"\")","v":""},{"$f":"IF($AG100=TRUE,#REF!,\"\")","v":""},{"$f":"IF($AG100=TRUE,#REF!,\"\")","v":""},{"$f":"IF($AG100=TRUE,#REF!,\"\")","v":""},""]
[{"$f":"IF(登録データ貼付!E97=\"\",\"\",登録データ貼付!E97)","v":""},{"$f":"IF(登録データ貼付!B97=\"\",\"\",登録データ貼付!B97)","v":""},{"$f":"IF(登録データ貼付!C97=\"\",\"\",CONCATENATE(登録データ貼付!C97,\"　\",登録データ貼付!D97))","v":""},"","","","",{"$f":"IF(登録データ貼付!V97=\"\",\"\",RIGHT(登録データ貼付!V97,1))","v":""},null,{"$f":"IF(登録データ貼付!F97=\"\",\"\",CONCATENATE(登録データ貼付!F97,\"　\",登録データ貼付!G97))","v":""},{"$f":"IF(登録データ貼付!H97=\"\",\"\",CONCATENATE(登録データ貼付!H97,\" \",登録データ貼付!I97))","v":""},{"$f":"IF(登録データ貼付!K97=\"\",\"\",LEFT(登録データ貼付!K97,1))","v":""},{"$f":"IF(登録データ貼付!S97=\"\",\"\",登録データ貼付!S97)","v":""},null,null,93,"神代",93,null,793,"仙北市立神代",null,"仙北市立神代中学校",null,null,null,null,null,null,null,null,null,false,"","","","","",{"$f":"IF($AG101=TRUE,#REF!,\"\")","v":""},{"$f":"IF($AG101=TRUE,#REF!,\"\")","v":""},{"$f":"IF($AG101=TRUE,#REF!,\"\")","v":""},{"$f":"IF($AG101=TRUE,#REF!,\"\")","v":""},{"$f":"IF($AG101=TRUE,#REF!,\"\")","v":""},{"$f":"IF($AG101=TRUE,#REF!,\"\")","v":""},""]
[{"$f":"IF(登録データ貼付!E98=\"\",\"\",登録データ貼付!E98)","v":""},{"$f":"IF(登録データ貼付!B98=\"\",\"\",登録データ貼付!B98)","v":""},{"$f":"IF(登録データ貼付!C98=\"\",\"\",CONCATENATE(登録データ貼付!C98,\"　\",登録データ貼付!D98))","v":""},"","","","",{"$f":"IF(登録データ貼付!V98=\"\",\"\",RIGHT(登録データ貼付!V98,1))","v":""},null,{"$f":"IF(登録データ貼付!F98=\"\",\"\",CONCATENATE(登録データ貼付!F98,\"　\",登録データ貼付!G98))","v":""},{"$f":"IF(登録データ貼付!H98=\"\",\"\",CONCATENATE(登録データ貼付!H98,\" \",登録データ貼付!I98))","v":""},{"$f":"IF(登録データ貼付!K98=\"\",\"\",LEFT(登録データ貼付!K98,1))","v":""},{"$f":"IF(登録データ貼付!S98=\"\",\"\",登録データ貼付!S98)","v":""},null,null,94,"西明寺",94,null,794,"仙北市立西明寺",null,"仙北市立西明寺中学校",null,null,null,null,null,null,null,null,null,false,{"$f":"IF($AG102=TRUE,B102,\"\")","v":""},{"$f":"IF($AG102=TRUE,C102,\"\")","v":""},{"$f":"IF($AG102=TRUE,D102,\"\")","v":""},{"$f":"IF($AG102=TRUE,F102,\"\")","v":""},{"$f":"IF($AG102=TRUE,G102,\"\")","v":""},{"$f":"IF($AG102=TRUE,#REF!,\"\")","v":""},{"$f":"IF($AG102=TRUE,#REF!,\"\")","v":""},{"$f":"IF($AG102=TRUE,#REF!,\"\")","v":""},{"$f":"IF($AG102=TRUE,#REF!,\"\")","v":""},{"$f":"IF($AG102=TRUE,#REF!,\"\")","v":""},{"$f":"IF($AG102=TRUE,#REF!,\"\")","v":""},{"$f":"IF($AG102=TRUE,H102,\"\")","v":""}]
[{"$f":"IF(登録データ貼付!E99=\"\",\"\",登録データ貼付!E99)","v":""},{"$f":"IF(登録データ貼付!B99=\"\",\"\",登録データ貼付!B99)","v":""},{"$f":"IF(登録データ貼付!C99=\"\",\"\",CONCATENATE(登録データ貼付!C99,\"　\",登録データ貼付!D99))","v":""},"","","","",{"$f":"IF(登録データ貼付!V99=\"\",\"\",RIGHT(登録データ貼付!V99,1))","v":""},null,{"$f":"IF(登録データ貼付!F99=\"\",\"\",CONCATENATE(登録データ貼付!F99,\"　\",登録データ貼付!G99))","v":""},{"$f":"IF(登録データ貼付!H99=\"\",\"\",CONCATENATE(登録データ貼付!H99,\" \",登録データ貼付!I99))","v":""},{"$f":"IF(登録データ貼付!K99=\"\",\"\",LEFT(登録データ貼付!K99,1))","v":""},{"$f":"IF(登録データ貼付!S99=\"\",\"\",登録データ貼付!S99)","v":""},null,null,95,"桧木内",95,null,795,"仙北市立桧木内",null,"仙北市立桧木内中学校",null,null,null,null,null,null,null,null,null,false,"","","","","",{"$f":"IF($AG103=TRUE,#REF!,\"\")","v":""},{"$f":"IF($AG103=TRUE,#REF!,\"\")","v":""},{"$f":"IF($AG103=TRUE,#REF!,\"\")","v":""},{"$f":"IF($AG103=TRUE,#REF!,\"\")","v":""},{"$f":"IF($AG103=TRUE,#REF!,\"\")","v":""},{"$f":"IF($AG103=TRUE,#REF!,\"\")","v":""},""]
[{"$f":"IF(登録データ貼付!E100=\"\",\"\",登録データ貼付!E100)","v":""},{"$f":"IF(登録データ貼付!B100=\"\",\"\",登録データ貼付!B100)","v":""},{"$f":"IF(登録データ貼付!C100=\"\",\"\",CONCATENATE(登録データ貼付!C100,\"　\",登録データ貼付!D100))","v":""},"","","","",{"$f":"IF(登録データ貼付!V100=\"\",\"\",RIGHT(登録データ貼付!V100,1))","v":""},null,{"$f":"IF(登録データ貼付!F100=\"\",\"\",CONCATENATE(登録データ貼付!F100,\"　\",登録データ貼付!G100))","v":""},{"$f":"IF(登録データ貼付!H100=\"\",\"\",CONCATENATE(登録データ貼付!H100,\" \",登録データ貼付!I100))","v":""},{"$f":"IF(登録データ貼付!K100=\"\",\"\",LEFT(登録データ貼付!K100,1))","v":""},{"$f":"IF(登録データ貼付!S100=\"\",\"\",登録データ貼付!S100)","v":""},null,null,96,"美郷",96,null,796,"美郷町立美郷",null,"美郷町立美郷中学校",null,null,null,null,null,null,null,null,null,false,"","","","","",{"$f":"IF($AG104=TRUE,#REF!,\"\")","v":""},{"$f":"IF($AG104=TRUE,#REF!,\"\")","v":""},{"$f":"IF($AG104=TRUE,#REF!,\"\")","v":""},{"$f":"IF($AG104=TRUE,#REF!,\"\")","v":""},{"$f":"IF($AG104=TRUE,#REF!,\"\")","v":""},{"$f":"IF($AG104=TRUE,#REF!,\"\")","v":""},""]
[{"$f":"IF(登録データ貼付!E101=\"\",\"\",登録データ貼付!E101)","v":""},{"$f":"IF(登録データ貼付!B101=\"\",\"\",登録データ貼付!B101)","v":""},{"$f":"IF(登録データ貼付!C101=\"\",\"\",CONCATENATE(登録データ貼付!C101,\"　\",登録データ貼付!D101))","v":""},"","","","",{"$f":"IF(登録データ貼付!V101=\"\",\"\",RIGHT(登録データ貼付!V101,1))","v":""},null,{"$f":"IF(登録データ貼付!F101=\"\",\"\",CONCATENATE(登録データ貼付!F101,\"　\",登録データ貼付!G101))","v":""},{"$f":"IF(登録データ貼付!H101=\"\",\"\",CONCATENATE(登録データ貼付!H101,\" \",登録データ貼付!I101))","v":""},{"$f":"IF(登録データ貼付!K101=\"\",\"\",LEFT(登録データ貼付!K101,1))","v":""},{"$f":"IF(登録データ貼付!S101=\"\",\"\",登録データ貼付!S101)","v":""},null,null,97,"横手南",97,null,797,"横手市立横手南",null,"横手市立横手南中学校",null,null,null,null,"100人以上の場合",null,null,null,null,false,"","","","","",{"$f":"IF($AG105=TRUE,#REF!,\"\")","v":""},{"$f":"IF($AG105=TRUE,#REF!,\"\")","v":""},{"$f":"IF($AG105=TRUE,#REF!,\"\")","v":""},{"$f":"IF($AG105=TRUE,#REF!,\"\")","v":""},{"$f":"IF($AG105=TRUE,#REF!,\"\")","v":""},{"$f":"IF($AG105=TRUE,#REF!,\"\")","v":""},""]
[{"$f":"IF(登録データ貼付!E102=\"\",\"\",登録データ貼付!E102)","v":""},{"$f":"IF(登録データ貼付!B102=\"\",\"\",登録データ貼付!B102)","v":""},{"$f":"IF(登録データ貼付!C102=\"\",\"\",CONCATENATE(登録データ貼付!C102,\"　\",登録データ貼付!D102))","v":""},"","","","",{"$f":"IF(登録データ貼付!V102=\"\",\"\",RIGHT(登録データ貼付!V102,1))","v":""},null,{"$f":"IF(登録データ貼付!F102=\"\",\"\",CONCATENATE(登録データ貼付!F102,\"　\",登録データ貼付!G102))","v":""},{"$f":"IF(登録データ貼付!H102=\"\",\"\",CONCATENATE(登録データ貼付!H102,\" \",登録データ貼付!I102))","v":""},{"$f":"IF(登録データ貼付!K102=\"\",\"\",LEFT(登録データ貼付!K102,1))","v":""},{"$f":"IF(登録データ貼付!S102=\"\",\"\",登録データ貼付!S102)","v":""},null,null,98,"横手北",98,null,798,"横手市立横手北",null,"横手市立横手北中学校",null,null,null,null,"ここから入力",null,null,null,null,false,"","","","","",{"$f":"IF($AG106=TRUE,#REF!,\"\")","v":""},{"$f":"IF($AG106=TRUE,#REF!,\"\")","v":""},{"$f":"IF($AG106=TRUE,#REF!,\"\")","v":""},{"$f":"IF($AG106=TRUE,#REF!,\"\")","v":""},{"$f":"IF($AG106=TRUE,#REF!,\"\")","v":""},{"$f":"IF($AG106=TRUE,#REF!,\"\")","v":""},""]
[{"$f":"IF(登録データ貼付!E103=\"\",\"\",登録データ貼付!E103)","v":""},{"$f":"IF(登録データ貼付!B103=\"\",\"\",登録データ貼付!B103)","v":""},{"$f":"IF(登録データ貼付!C103=\"\",\"\",CONCATENATE(登録データ貼付!C103,\"　\",登録データ貼付!D103))","v":""},"","","","",{"$f":"IF(登録データ貼付!V103=\"\",\"\",RIGHT(登録データ貼付!V103,1))","v":""},null,{"$f":"IF(登録データ貼付!F103=\"\",\"\",CONCATENATE(登録データ貼付!F103,\"　\",登録データ貼付!G103))","v":""},{"$f":"IF(登録データ貼付!H103=\"\",\"\",CONCATENATE(登録データ貼付!H103,\" \",登録データ貼付!I103))","v":""},{"$f":"IF(登録データ貼付!K103=\"\",\"\",LEFT(登録データ貼付!K103,1))","v":""},{"$f":"IF(登録データ貼付!S103=\"\",\"\",登録データ貼付!S103)","v":""},null,null,99,"増田",99,null,799,"横手市立増田",null,"横手市立増田中学校",null,null,null,null,"入力するときは、秋田南中学校 武石まで連絡を！",null,null,null,null,false,"","","","","",{"$f":"IF($AG107=TRUE,#REF!,\"\")","v":""},{"$f":"IF($AG107=TRUE,#REF!,\"\")","v":""},{"$f":"IF($AG107=TRUE,#REF!,\"\")","v":""},{"$f":"IF($AG107=TRUE,#REF!,\"\")","v":""},{"$f":"IF($AG107=TRUE,#REF!,\"\")","v":""},{"$f":"IF($AG107=TRUE,#REF!,\"\")","v":""},""]
[{"$f":"IF(登録データ貼付!E104=\"\",\"\",登録データ貼付!E104)","v":""},{"$f":"IF(登録データ貼付!B104=\"\",\"\",登録データ貼付!B104)","v":""},{"$f":"IF(登録データ貼付!C104=\"\",\"\",CONCATENATE(登録データ貼付!C104,\"　\",登録データ貼付!D104))","v":""},"","","","",{"$f":"IF(登録データ貼付!V104=\"\",\"\",RIGHT(登録データ貼付!V104,1))","v":""},null,{"$f":"IF(登録データ貼付!F104=\"\",\"\",CONCATENATE(登録データ貼付!F104,\"　\",登録データ貼付!G104))","v":""},{"$f":"IF(登録データ貼付!H104=\"\",\"\",CONCATENATE(登録データ貼付!H104,\" \",登録データ貼付!I104))","v":""},{"$f":"IF(登録データ貼付!K104=\"\",\"\",LEFT(登録データ貼付!K104,1))","v":""},{"$f":"IF(登録データ貼付!S104=\"\",\"\",登録データ貼付!S104)","v":""},null,null,100,"平鹿",100,null,800,"横手市立平鹿",null,"横手市立平鹿中学校",null,null,null,null,null,null,null,null,null,false,"","","","","",{"$f":"IF($AG108=TRUE,#REF!,\"\")","v":""},{"$f":"IF($AG108=TRUE,#REF!,\"\")","v":""},{"$f":"IF($AG108=TRUE,#REF!,\"\")","v":""},{"$f":"IF($AG108=TRUE,#REF!,\"\")","v":""},{"$f":"IF($AG108=TRUE,#REF!,\"\")","v":""},{"$f":"IF($AG108=TRUE,#REF!,\"\")","v":""},""]
[{"$f":"IF(登録データ貼付!E105=\"\",\"\",登録データ貼付!E105)","v":""},{"$f":"IF(登録データ貼付!B105=\"\",\"\",登録データ貼付!B105)","v":""},{"$f":"IF(登録データ貼付!C105=\"\",\"\",CONCATENATE(登録データ貼付!C105,\"　\",登録データ貼付!D105))","v":""},"","","","",{"$f":"IF(登録データ貼付!V105=\"\",\"\",RIGHT(登録データ貼付!V105,1))","v":""},null,{"$f":"IF(登録データ貼付!F105=\"\",\"\",CONCATENATE(登録データ貼付!F105,\"　\",登録データ貼付!G105))","v":""},{"$f":"IF(登録データ貼付!H105=\"\",\"\",CONCATENATE(登録データ貼付!H105,\" \",登録データ貼付!I105))","v":""},{"$f":"IF(登録データ貼付!K105=\"\",\"\",LEFT(登録データ貼付!K105,1))","v":""},{"$f":"IF(登録データ貼付!S105=\"\",\"\",登録データ貼付!S105)","v":""},null,null,101,"横手明峰",101,null,801,"横手市立横手明峰",null,"横手市立横手明峰中学校",null,null,null,null,null,null,null,null,null,false,"","","","","",{"$f":"IF($AG109=TRUE,#REF!,\"\")","v":""},{"$f":"IF($AG109=TRUE,#REF!,\"\")","v":""},{"$f":"IF($AG109=TRUE,#REF!,\"\")","v":""},{"$f":"IF($AG109=TRUE,#REF!,\"\")","v":""},{"$f":"IF($AG109=TRUE,#REF!,\"\")","v":""},{"$f":"IF($AG109=TRUE,#REF!,\"\")","v":""},""]
[{"$f":"IF(登録データ貼付!E106=\"\",\"\",登録データ貼付!E106)","v":""},{"$f":"IF(登録データ貼付!B106=\"\",\"\",登録データ貼付!B106)","v":""},{"$f":"IF(登録データ貼付!C106=\"\",\"\",CONCATENATE(登録データ貼付!C106,\"　\",登録データ貼付!D106))","v":""},"","","","",{"$f":"IF(登録データ貼付!V106=\"\",\"\",RIGHT(登録データ貼付!V106,1))","v":""},null,{"$f":"IF(登録データ貼付!F106=\"\",\"\",CONCATENATE(登録データ貼付!F106,\"　\",登録データ貼付!G106))","v":""},{"$f":"IF(登録データ貼付!H106=\"\",\"\",CONCATENATE(登録データ貼付!H106,\" \",登録データ貼付!I106))","v":""},{"$f":"IF(登録データ貼付!K106=\"\",\"\",LEFT(登録データ貼付!K106,1))","v":""},{"$f":"IF(登録データ貼付!S106=\"\",\"\",登録データ貼付!S106)","v":""},null,null,102,"十文字",102,null,802,"横手市立十文字",null,"横手市立十文字中学校",null,null,null,null,null,null,null,null,null,false,"","","","","",{"$f":"IF($AG110=TRUE,#REF!,\"\")","v":""},{"$f":"IF($AG110=TRUE,#REF!,\"\")","v":""},{"$f":"IF($AG110=TRUE,#REF!,\"\")","v":""},{"$f":"IF($AG110=TRUE,#REF!,\"\")","v":""},{"$f":"IF($AG110=TRUE,#REF!,\"\")","v":""},{"$f":"IF($AG110=TRUE,#REF!,\"\")","v":""},""]
[{"$f":"IF(登録データ貼付!E107=\"\",\"\",登録データ貼付!E107)","v":""},{"$f":"IF(登録データ貼付!B107=\"\",\"\",登録データ貼付!B107)","v":""},{"$f":"IF(登録データ貼付!C107=\"\",\"\",CONCATENATE(登録データ貼付!C107,\"　\",登録データ貼付!D107))","v":""},"","","","",{"$f":"IF(登録データ貼付!V107=\"\",\"\",RIGHT(登録データ貼付!V107,1))","v":""},null,{"$f":"IF(登録データ貼付!F107=\"\",\"\",CONCATENATE(登録データ貼付!F107,\"　\",登録データ貼付!G107))","v":""},{"$f":"IF(登録データ貼付!H107=\"\",\"\",CONCATENATE(登録データ貼付!H107,\" \",登録データ貼付!I107))","v":""},{"$f":"IF(登録データ貼付!K107=\"\",\"\",LEFT(登録データ貼付!K107,1))","v":""},{"$f":"IF(登録データ貼付!S107=\"\",\"\",登録データ貼付!S107)","v":""},null,null,103,"湯沢北",103,null,803,"湯沢市立湯沢北",null,"湯沢市立湯沢北中学校",null,null,null,null,null,null,null,null,null,false,"","","","","",{"$f":"IF($AG111=TRUE,#REF!,\"\")","v":""},{"$f":"IF($AG111=TRUE,#REF!,\"\")","v":""},{"$f":"IF($AG111=TRUE,#REF!,\"\")","v":""},{"$f":"IF($AG111=TRUE,#REF!,\"\")","v":""},{"$f":"IF($AG111=TRUE,#REF!,\"\")","v":""},{"$f":"IF($AG111=TRUE,#REF!,\"\")","v":""},""]
[{"$f":"IF(登録データ貼付!E108=\"\",\"\",登録データ貼付!E108)","v":""},{"$f":"IF(登録データ貼付!B108=\"\",\"\",登録データ貼付!B108)","v":""},{"$f":"IF(登録データ貼付!C108=\"\",\"\",CONCATENATE(登録データ貼付!C108,\"　\",登録データ貼付!D108))","v":""},"","","","",{"$f":"IF(登録データ貼付!V108=\"\",\"\",RIGHT(登録データ貼付!V108,1))","v":""},null,{"$f":"IF(登録データ貼付!F108=\"\",\"\",CONCATENATE(登録データ貼付!F108,\"　\",登録データ貼付!G108))","v":""},{"$f":"IF(登録データ貼付!H108=\"\",\"\",CONCATENATE(登録データ貼付!H108,\" \",登録データ貼付!I108))","v":""},{"$f":"IF(登録データ貼付!K108=\"\",\"\",LEFT(登録データ貼付!K108,1))","v":""},{"$f":"IF(登録データ貼付!S108=\"\",\"\",登録データ貼付!S108)","v":""},null,null,104,"山田",104,null,804,"湯沢市立山田",null,"湯沢市立山田中学校",null,null,null,null,null,null,null,null,null,false,"","","","","",{"$f":"IF($AG112=TRUE,#REF!,\"\")","v":""},{"$f":"IF($AG112=TRUE,#REF!,\"\")","v":""},{"$f":"IF($AG112=TRUE,#REF!,\"\")","v":""},{"$f":"IF($AG112=TRUE,#REF!,\"\")","v":""},{"$f":"IF($AG112=TRUE,#REF!,\"\")","v":""},{"$f":"IF($AG112=TRUE,#REF!,\"\")","v":""},""]
[{"$f":"IF(登録データ貼付!E109=\"\",\"\",登録データ貼付!E109)","v":""},{"$f":"IF(登録データ貼付!B109=\"\",\"\",登録データ貼付!B109)","v":""},{"$f":"IF(登録データ貼付!C109=\"\",\"\",CONCATENATE(登録データ貼付!C109,\"　\",登録データ貼付!D109))","v":""},"","","","",{"$f":"IF(登録データ貼付!V109=\"\",\"\",RIGHT(登録データ貼付!V109,1))","v":""},null,{"$f":"IF(登録データ貼付!F109=\"\",\"\",CONCATENATE(登録データ貼付!F109,\"　\",登録データ貼付!G109))","v":""},{"$f":"IF(登録データ貼付!H109=\"\",\"\",CONCATENATE(登録データ貼付!H109,\" \",登録データ貼付!I109))","v":""},{"$f":"IF(登録データ貼付!K109=\"\",\"\",LEFT(登録データ貼付!K109,1))","v":""},{"$f":"IF(登録データ貼付!S109=\"\",\"\",登録データ貼付!S109)","v":""},null,null,105,"湯沢南",105,null,805,"湯沢市立湯沢南",null,"湯沢市立湯沢南中学校",null,null,null,null,null,null,null,null,null,false,"","","","","",{"$f":"IF($AG113=TRUE,#REF!,\"\")","v":""},{"$f":"IF($AG113=TRUE,#REF!,\"\")","v":""},{"$f":"IF($AG113=TRUE,#REF!,\"\")","v":""},{"$f":"IF($AG113=TRUE,#REF!,\"\")","v":""},{"$f":"IF($AG113=TRUE,#REF!,\"\")","v":""},{"$f":"IF($AG113=TRUE,#REF!,\"\")","v":""},""]
[{"$f":"IF(登録データ貼付!E110=\"\",\"\",登録データ貼付!E110)","v":""},{"$f":"IF(登録データ貼付!B110=\"\",\"\",登録データ貼付!B110)","v":""},{"$f":"IF(登録データ貼付!C110=\"\",\"\",CONCATENATE(登録データ貼付!C110,\"　\",登録データ貼付!D110))","v":""},"","","","",{"$f":"IF(登録データ貼付!V110=\"\",\"\",RIGHT(登録データ貼付!V110,1))","v":""},null,{"$f":"IF(登録データ貼付!F110=\"\",\"\",CONCATENATE(登録データ貼付!F110,\"　\",登録データ貼付!G110))","v":""},{"$f":"IF(登録データ貼付!H110=\"\",\"\",CONCATENATE(登録データ貼付!H110,\" \",登録データ貼付!I110))","v":""},{"$f":"IF(登録データ貼付!K110=\"\",\"\",LEFT(登録データ貼付!K110,1))","v":""},{"$f":"IF(登録データ貼付!S110=\"\",\"\",登録データ貼付!S110)","v":""},null,null,106,"稲川",106,null,806,"湯沢市立稲川",null,"湯沢市立稲川中学校",null,null,null,null,null,null,null,null,null,false,"","","","","",{"$f":"IF($AG114=TRUE,#REF!,\"\")","v":""},{"$f":"IF($AG114=TRUE,#REF!,\"\")","v":""},{"$f":"IF($AG114=TRUE,#REF!,\"\")","v":""},{"$f":"IF($AG114=TRUE,#REF!,\"\")","v":""},{"$f":"IF($AG114=TRUE,#REF!,\"\")","v":""},{"$f":"IF($AG114=TRUE,#REF!,\"\")","v":""},""]
[{"$f":"IF(登録データ貼付!E111=\"\",\"\",登録データ貼付!E111)","v":""},{"$f":"IF(登録データ貼付!B111=\"\",\"\",登録データ貼付!B111)","v":""},{"$f":"IF(登録データ貼付!C111=\"\",\"\",CONCATENATE(登録データ貼付!C111,\"　\",登録データ貼付!D111))","v":""},"","","","",{"$f":"IF(登録データ貼付!V111=\"\",\"\",RIGHT(登録データ貼付!V111,1))","v":""},null,{"$f":"IF(登録データ貼付!F111=\"\",\"\",CONCATENATE(登録データ貼付!F111,\"　\",登録データ貼付!G111))","v":""},{"$f":"IF(登録データ貼付!H111=\"\",\"\",CONCATENATE(登録データ貼付!H111,\" \",登録データ貼付!I111))","v":""},{"$f":"IF(登録データ貼付!K111=\"\",\"\",LEFT(登録データ貼付!K111,1))","v":""},{"$f":"IF(登録データ貼付!S111=\"\",\"\",登録データ貼付!S111)","v":""},null,null,107,"雄勝",107,null,807,"湯沢市立雄勝",null,"湯沢市立雄勝中学校",null,null,null,null,null,null,null,null,null,false,"","","","","",{"$f":"IF($AG115=TRUE,#REF!,\"\")","v":""},{"$f":"IF($AG115=TRUE,#REF!,\"\")","v":""},{"$f":"IF($AG115=TRUE,#REF!,\"\")","v":""},{"$f":"IF($AG115=TRUE,#REF!,\"\")","v":""},{"$f":"IF($AG115=TRUE,#REF!,\"\")","v":""},{"$f":"IF($AG115=TRUE,#REF!,\"\")","v":""},""]
[{"$f":"IF(登録データ貼付!E112=\"\",\"\",登録データ貼付!E112)","v":""},{"$f":"IF(登録データ貼付!B112=\"\",\"\",登録データ貼付!B112)","v":""},{"$f":"IF(登録データ貼付!C112=\"\",\"\",CONCATENATE(登録データ貼付!C112,\"　\",登録データ貼付!D112))","v":""},"","","","",{"$f":"IF(登録データ貼付!V112=\"\",\"\",RIGHT(登録データ貼付!V112,1))","v":""},null,{"$f":"IF(登録データ貼付!F112=\"\",\"\",CONCATENATE(登録データ貼付!F112,\"　\",登録データ貼付!G112))","v":""},{"$f":"IF(登録データ貼付!H112=\"\",\"\",CONCATENATE(登録データ貼付!H112,\" \",登録データ貼付!I112))","v":""},{"$f":"IF(登録データ貼付!K112=\"\",\"\",LEFT(登録データ貼付!K112,1))","v":""},{"$f":"IF(登録データ貼付!S112=\"\",\"\",登録データ貼付!S112)","v":""},null,null,108,"皆瀬",108,null,808,"湯沢市立皆瀬",null,"湯沢市立皆瀬中学校",null,null,null,null,null,null,null,null,null,false,"","","","","",{"$f":"IF($AG116=TRUE,#REF!,\"\")","v":""},{"$f":"IF($AG116=TRUE,#REF!,\"\")","v":""},{"$f":"IF($AG116=TRUE,#REF!,\"\")","v":""},{"$f":"IF($AG116=TRUE,#REF!,\"\")","v":""},{"$f":"IF($AG116=TRUE,#REF!,\"\")","v":""},{"$f":"IF($AG116=TRUE,#REF!,\"\")","v":""},""]
[{"$f":"IF(登録データ貼付!E113=\"\",\"\",登録データ貼付!E113)","v":""},{"$f":"IF(登録データ貼付!B113=\"\",\"\",登録データ貼付!B113)","v":""},{"$f":"IF(登録データ貼付!C113=\"\",\"\",CONCATENATE(登録データ貼付!C113,\"　\",登録データ貼付!D113))","v":""},"","","","",{"$f":"IF(登録データ貼付!V113=\"\",\"\",RIGHT(登録データ貼付!V113,1))","v":""},null,{"$f":"IF(登録データ貼付!F113=\"\",\"\",CONCATENATE(登録データ貼付!F113,\"　\",登録データ貼付!G113))","v":""},{"$f":"IF(登録データ貼付!H113=\"\",\"\",CONCATENATE(登録データ貼付!H113,\" \",登録データ貼付!I113))","v":""},{"$f":"IF(登録データ貼付!K113=\"\",\"\",LEFT(登録データ貼付!K113,1))","v":""},{"$f":"IF(登録データ貼付!S113=\"\",\"\",登録データ貼付!S113)","v":""},null,null,109,"羽後",109,null,809,"羽後町立羽後",null,"羽後町立羽後中学校",null,null,null,null,null,null,null,null,null,false,"","","","","",{"$f":"IF($AG117=TRUE,#REF!,\"\")","v":""},{"$f":"IF($AG117=TRUE,#REF!,\"\")","v":""},{"$f":"IF($AG117=TRUE,#REF!,\"\")","v":""},{"$f":"IF($AG117=TRUE,#REF!,\"\")","v":""},{"$f":"IF($AG117=TRUE,#REF!,\"\")","v":""},{"$f":"IF($AG117=TRUE,#REF!,\"\")","v":""},""]
[{"$f":"IF(登録データ貼付!E114=\"\",\"\",登録データ貼付!E114)","v":""},{"$f":"IF(登録データ貼付!B114=\"\",\"\",登録データ貼付!B114)","v":""},{"$f":"IF(登録データ貼付!C114=\"\",\"\",CONCATENATE(登録データ貼付!C114,\"　\",登録データ貼付!D114))","v":""},"","","","",{"$f":"IF(登録データ貼付!V114=\"\",\"\",RIGHT(登録データ貼付!V114,1))","v":""},null,{"$f":"IF(登録データ貼付!F114=\"\",\"\",CONCATENATE(登録データ貼付!F114,\"　\",登録データ貼付!G114))","v":""},{"$f":"IF(登録データ貼付!H114=\"\",\"\",CONCATENATE(登録データ貼付!H114,\" \",登録データ貼付!I114))","v":""},{"$f":"IF(登録データ貼付!K114=\"\",\"\",LEFT(登録データ貼付!K114,1))","v":""},{"$f":"IF(登録データ貼付!S114=\"\",\"\",登録データ貼付!S114)","v":""},null,null,110,"東成瀬",110,null,810,"東成瀬村立東成瀬",null,"東成瀬村立東成瀬中学校",null,null,null,null,null,null,null,null,null,false,"","","","","",{"$f":"IF($AG118=TRUE,#REF!,\"\")","v":""},{"$f":"IF($AG118=TRUE,#REF!,\"\")","v":""},{"$f":"IF($AG118=TRUE,#REF!,\"\")","v":""},{"$f":"IF($AG118=TRUE,#REF!,\"\")","v":""},{"$f":"IF($AG118=TRUE,#REF!,\"\")","v":""},{"$f":"IF($AG118=TRUE,#REF!,\"\")","v":""},""]
[{"$f":"IF(登録データ貼付!E115=\"\",\"\",登録データ貼付!E115)","v":""},{"$f":"IF(登録データ貼付!B115=\"\",\"\",登録データ貼付!B115)","v":""},{"$f":"IF(登録データ貼付!C115=\"\",\"\",CONCATENATE(登録データ貼付!C115,\"　\",登録データ貼付!D115))","v":""},"","","","",{"$f":"IF(登録データ貼付!V115=\"\",\"\",RIGHT(登録データ貼付!V115,1))","v":""},null,{"$f":"IF(登録データ貼付!F115=\"\",\"\",CONCATENATE(登録データ貼付!F115,\"　\",登録データ貼付!G115))","v":""},{"$f":"IF(登録データ貼付!H115=\"\",\"\",CONCATENATE(登録データ貼付!H115,\" \",登録データ貼付!I115))","v":""},{"$f":"IF(登録データ貼付!K115=\"\",\"\",LEFT(登録データ貼付!K115,1))","v":""},{"$f":"IF(登録データ貼付!S115=\"\",\"\",登録データ貼付!S115)","v":""},null,null,111,"井川義務教育",111,null,811,"井川町立井川義務教育",null,"井川町立井川義務教育学校",null,null,null,null,null,null,null,null,null,false,"","","","","",{"$f":"IF($AG119=TRUE,#REF!,\"\")","v":""},{"$f":"IF($AG119=TRUE,#REF!,\"\")","v":""},{"$f":"IF($AG119=TRUE,#REF!,\"\")","v":""},{"$f":"IF($AG119=TRUE,#REF!,\"\")","v":""},{"$f":"IF($AG119=TRUE,#REF!,\"\")","v":""},{"$f":"IF($AG119=TRUE,#REF!,\"\")","v":""},""]
[{"$f":"IF(登録データ貼付!E116=\"\",\"\",登録データ貼付!E116)","v":""},{"$f":"IF(登録データ貼付!B116=\"\",\"\",登録データ貼付!B116)","v":""},{"$f":"IF(登録データ貼付!C116=\"\",\"\",CONCATENATE(登録データ貼付!C116,\"　\",登録データ貼付!D116))","v":""},"","","","",{"$f":"IF(登録データ貼付!V116=\"\",\"\",RIGHT(登録データ貼付!V116,1))","v":""},null,{"$f":"IF(登録データ貼付!F116=\"\",\"\",CONCATENATE(登録データ貼付!F116,\"　\",登録データ貼付!G116))","v":""},{"$f":"IF(登録データ貼付!H116=\"\",\"\",CONCATENATE(登録データ貼付!H116,\" \",登録データ貼付!I116))","v":""},{"$f":"IF(登録データ貼付!K116=\"\",\"\",LEFT(登録データ貼付!K116,1))","v":""},{"$f":"IF(登録データ貼付!S116=\"\",\"\",登録データ貼付!S116)","v":""},null,null,112,"聴覚支援",112,null,812,"聴覚支援",null,"秋田県立聴覚支援学校",null,null,null,null,null,null,null,null,null,false,"","","","","",{"$f":"IF($AG120=TRUE,#REF!,\"\")","v":""},{"$f":"IF($AG120=TRUE,#REF!,\"\")","v":""},{"$f":"IF($AG120=TRUE,#REF!,\"\")","v":""},{"$f":"IF($AG120=TRUE,#REF!,\"\")","v":""},{"$f":"IF($AG120=TRUE,#REF!,\"\")","v":""},{"$f":"IF($AG120=TRUE,#REF!,\"\")","v":""},""]
[{"$f":"IF(登録データ貼付!E117=\"\",\"\",登録データ貼付!E117)","v":""},{"$f":"IF(登録データ貼付!B117=\"\",\"\",登録データ貼付!B117)","v":""},{"$f":"IF(登録データ貼付!C117=\"\",\"\",CONCATENATE(登録データ貼付!C117,\"　\",登録データ貼付!D117))","v":""},"","","","",{"$f":"IF(登録データ貼付!V117=\"\",\"\",RIGHT(登録データ貼付!V117,1))","v":""},null,{"$f":"IF(登録データ貼付!F117=\"\",\"\",CONCATENATE(登録データ貼付!F117,\"　\",登録データ貼付!G117))","v":""},{"$f":"IF(登録データ貼付!H117=\"\",\"\",CONCATENATE(登録データ貼付!H117,\" \",登録データ貼付!I117))","v":""},{"$f":"IF(登録データ貼付!K117=\"\",\"\",LEFT(登録データ貼付!K117,1))","v":""},{"$f":"IF(登録データ貼付!S117=\"\",\"\",登録データ貼付!S117)","v":""},null,null,null,null,null,null,null,null,null,null,null,null,null,null,null,null,null,null,null,false,"","","","","",{"$f":"IF($AG121=TRUE,#REF!,\"\")","v":""},{"$f":"IF($AG121=TRUE,#REF!,\"\")","v":""},{"$f":"IF($AG121=TRUE,#REF!,\"\")","v":""},{"$f":"IF($AG121=TRUE,#REF!,\"\")","v":""},{"$f":"IF($AG121=TRUE,#REF!,\"\")","v":""},{"$f":"IF($AG121=TRUE,#REF!,\"\")","v":""},""]
[{"$f":"IF(登録データ貼付!E118=\"\",\"\",登録データ貼付!E118)","v":""},{"$f":"IF(登録データ貼付!B118=\"\",\"\",登録データ貼付!B118)","v":""},{"$f":"IF(登録データ貼付!C118=\"\",\"\",CONCATENATE(登録データ貼付!C118,\"　\",登録データ貼付!D118))","v":""},"","","","",{"$f":"IF(登録データ貼付!V118=\"\",\"\",RIGHT(登録データ貼付!V118,1))","v":""},null,{"$f":"IF(登録データ貼付!F118=\"\",\"\",CONCATENATE(登録データ貼付!F118,\"　\",登録データ貼付!G118))","v":""},{"$f":"IF(登録データ貼付!H118=\"\",\"\",CONCATENATE(登録データ貼付!H118,\" \",登録データ貼付!I118))","v":""},{"$f":"IF(登録データ貼付!K118=\"\",\"\",LEFT(登録データ貼付!K118,1))","v":""},{"$f":"IF(登録データ貼付!S118=\"\",\"\",登録データ貼付!S118)","v":""},null,null,null,null,null,null,null,null,null,null,null,null,null,null,null,null,null,null,null,false,"","","","","",{"$f":"IF($AG122=TRUE,#REF!,\"\")","v":""},{"$f":"IF($AG122=TRUE,#REF!,\"\")","v":""},{"$f":"IF($AG122=TRUE,#REF!,\"\")","v":""},{"$f":"IF($AG122=TRUE,#REF!,\"\")","v":""},{"$f":"IF($AG122=TRUE,#REF!,\"\")","v":""},{"$f":"IF($AG122=TRUE,#REF!,\"\")","v":""},""]
[{"$f":"IF(登録データ貼付!E119=\"\",\"\",登録データ貼付!E119)","v":""},{"$f":"IF(登録データ貼付!B119=\"\",\"\",登録データ貼付!B119)","v":""},{"$f":"IF(登録データ貼付!C119=\"\",\"\",CONCATENATE(登録データ貼付!C119,\"　\",登録データ貼付!D119))","v":""},"","","","",{"$f":"IF(登録データ貼付!V119=\"\",\"\",RIGHT(登録データ貼付!V119,1))","v":""},null,{"$f":"IF(登録データ貼付!F119=\"\",\"\",CONCATENATE(登録データ貼付!F119,\"　\",登録データ貼付!G119))","v":""},{"$f":"IF(登録データ貼付!H119=\"\",\"\",CONCATENATE(登録データ貼付!H119,\" \",登録データ貼付!I119))","v":""},{"$f":"IF(登録データ貼付!K119=\"\",\"\",LEFT(登録データ貼付!K119,1))","v":""},{"$f":"IF(登録データ貼付!S119=\"\",\"\",登録データ貼付!S119)","v":""},null,null,null,null,null,null,null,null,null,null,null,null,null,null,null,null,null,null,null,false,"","","","","",{"$f":"IF($AG123=TRUE,#REF!,\"\")","v":""},{"$f":"IF($AG123=TRUE,#REF!,\"\")","v":""},{"$f":"IF($AG123=TRUE,#REF!,\"\")","v":""},{"$f":"IF($AG123=TRUE,#REF!,\"\")","v":""},{"$f":"IF($AG123=TRUE,#REF!,\"\")","v":""},{"$f":"IF($AG123=TRUE,#REF!,\"\")","v":""},""]
[{"$f":"IF(登録データ貼付!E120=\"\",\"\",登録データ貼付!E120)","v":""},{"$f":"IF(登録データ貼付!B120=\"\",\"\",登録データ貼付!B120)","v":""},{"$f":"IF(登録データ貼付!C120=\"\",\"\",CONCATENATE(登録データ貼付!C120,\"　\",登録データ貼付!D120))","v":""},"","","","",{"$f":"IF(登録データ貼付!V120=\"\",\"\",RIGHT(登録データ貼付!V120,1))","v":""},null,{"$f":"IF(登録データ貼付!F120=\"\",\"\",CONCATENATE(登録データ貼付!F120,\"　\",登録データ貼付!G120))","v":""},{"$f":"IF(登録データ貼付!H120=\"\",\"\",CONCATENATE(登録データ貼付!H120,\" \",登録データ貼付!I120))","v":""},{"$f":"IF(登録データ貼付!K120=\"\",\"\",LEFT(登録データ貼付!K120,1))","v":""},{"$f":"IF(登録データ貼付!S120=\"\",\"\",登録データ貼付!S120)","v":""},null,null,null,null,null,null,null,null,null,null,null,null,null,null,null,null,null,null,null,false,"","","","","",{"$f":"IF($AG124=TRUE,#REF!,\"\")","v":""},{"$f":"IF($AG124=TRUE,#REF!,\"\")","v":""},{"$f":"IF($AG124=TRUE,#REF!,\"\")","v":""},{"$f":"IF($AG124=TRUE,#REF!,\"\")","v":""},{"$f":"IF($AG124=TRUE,#REF!,\"\")","v":""},{"$f":"IF($AG124=TRUE,#REF!,\"\")","v":""},""]
[{"$f":"IF(登録データ貼付!E121=\"\",\"\",登録データ貼付!E121)","v":""},{"$f":"IF(登録データ貼付!B121=\"\",\"\",登録データ貼付!B121)","v":""},{"$f":"IF(登録データ貼付!C121=\"\",\"\",CONCATENATE(登録データ貼付!C121,\"　\",登録データ貼付!D121))","v":""},"","","","",{"$f":"IF(登録データ貼付!V121=\"\",\"\",RIGHT(登録データ貼付!V121,1))","v":""},null,{"$f":"IF(登録データ貼付!F121=\"\",\"\",CONCATENATE(登録データ貼付!F121,\"　\",登録データ貼付!G121))","v":""},{"$f":"IF(登録データ貼付!H121=\"\",\"\",CONCATENATE(登録データ貼付!H121,\" \",登録データ貼付!I121))","v":""},{"$f":"IF(登録データ貼付!K121=\"\",\"\",LEFT(登録データ貼付!K121,1))","v":""},{"$f":"IF(登録データ貼付!S121=\"\",\"\",登録データ貼付!S121)","v":""},null,null,null,null,null,null,null,null,null,null,null,null,null,null,null,null,null,null,null,false,"","","","","",{"$f":"IF($AG125=TRUE,#REF!,\"\")","v":""},{"$f":"IF($AG125=TRUE,#REF!,\"\")","v":""},{"$f":"IF($AG125=TRUE,#REF!,\"\")","v":""},{"$f":"IF($AG125=TRUE,#REF!,\"\")","v":""},{"$f":"IF($AG125=TRUE,#REF!,\"\")","v":""},{"$f":"IF($AG125=TRUE,#REF!,\"\")","v":""},""]
[{"$f":"IF(登録データ貼付!E122=\"\",\"\",登録データ貼付!E122)","v":""},{"$f":"IF(登録データ貼付!B122=\"\",\"\",登録データ貼付!B122)","v":""},{"$f":"IF(登録データ貼付!C122=\"\",\"\",CONCATENATE(登録データ貼付!C122,\"　\",登録データ貼付!D122))","v":""},"","","","",{"$f":"IF(登録データ貼付!V122=\"\",\"\",RIGHT(登録データ貼付!V122,1))","v":""},null,{"$f":"IF(登録データ貼付!F122=\"\",\"\",CONCATENATE(登録データ貼付!F122,\"　\",登録データ貼付!G122))","v":""},{"$f":"IF(登録データ貼付!H122=\"\",\"\",CONCATENATE(登録データ貼付!H122,\" \",登録データ貼付!I122))","v":""},{"$f":"IF(登録データ貼付!K122=\"\",\"\",LEFT(登録データ貼付!K122,1))","v":""},{"$f":"IF(登録データ貼付!S122=\"\",\"\",登録データ貼付!S122)","v":""},null,null,null,null,null,null,null,null,null,null,null,null,null,null,null,null,null,null,null,false,"","","","","",{"$f":"IF($AG126=TRUE,#REF!,\"\")","v":""},{"$f":"IF($AG126=TRUE,#REF!,\"\")","v":""},{"$f":"IF($AG126=TRUE,#REF!,\"\")","v":""},{"$f":"IF($AG126=TRUE,#REF!,\"\")","v":""},{"$f":"IF($AG126=TRUE,#REF!,\"\")","v":""},{"$f":"IF($AG126=TRUE,#REF!,\"\")","v":""},""]
[{"$f":"IF(登録データ貼付!E123=\"\",\"\",登録データ貼付!E123)","v":""},{"$f":"IF(登録データ貼付!B123=\"\",\"\",登録データ貼付!B123)","v":""},{"$f":"IF(登録データ貼付!C123=\"\",\"\",CONCATENATE(登録データ貼付!C123,\"　\",登録データ貼付!D123))","v":""},"","","","",{"$f":"IF(登録データ貼付!V123=\"\",\"\",RIGHT(登録データ貼付!V123,1))","v":""},null,{"$f":"IF(登録データ貼付!F123=\"\",\"\",CONCATENATE(登録データ貼付!F123,\"　\",登録データ貼付!G123))","v":""},{"$f":"IF(登録データ貼付!H123=\"\",\"\",CONCATENATE(登録データ貼付!H123,\" \",登録データ貼付!I123))","v":""},{"$f":"IF(登録データ貼付!K123=\"\",\"\",LEFT(登録データ貼付!K123,1))","v":""},{"$f":"IF(登録データ貼付!S123=\"\",\"\",登録データ貼付!S123)","v":""},null,null,null,null,null,null,null,null,null,null,null,null,null,null,null,null,null,null,null,false,"","","","","",{"$f":"IF($AG127=TRUE,#REF!,\"\")","v":""},{"$f":"IF($AG127=TRUE,#REF!,\"\")","v":""},{"$f":"IF($AG127=TRUE,#REF!,\"\")","v":""},{"$f":"IF($AG127=TRUE,#REF!,\"\")","v":""},{"$f":"IF($AG127=TRUE,#REF!,\"\")","v":""},{"$f":"IF($AG127=TRUE,#REF!,\"\")","v":""},""]
[{"$f":"IF(登録データ貼付!E124=\"\",\"\",登録データ貼付!E124)","v":""},{"$f":"IF(登録データ貼付!B124=\"\",\"\",登録データ貼付!B124)","v":""},{"$f":"IF(登録データ貼付!C124=\"\",\"\",CONCATENATE(登録データ貼付!C124,\"　\",登録データ貼付!D124))","v":""},"","","","",{"$f":"IF(登録データ貼付!V124=\"\",\"\",RIGHT(登録データ貼付!V124,1))","v":""},null,{"$f":"IF(登録データ貼付!F124=\"\",\"\",CONCATENATE(登録データ貼付!F124,\"　\",登録データ貼付!G124))","v":""},{"$f":"IF(登録データ貼付!H124=\"\",\"\",CONCATENATE(登録データ貼付!H124,\" \",登録データ貼付!I124))","v":""},{"$f":"IF(登録データ貼付!K124=\"\",\"\",LEFT(登録データ貼付!K124,1))","v":""},{"$f":"IF(登録データ貼付!S124=\"\",\"\",登録データ貼付!S124)","v":""},null,null,null,null,null,null,null,null,null,null,null,null,null,null,null,null,null,null,null,false,"","","","","",{"$f":"IF($AG128=TRUE,#REF!,\"\")","v":""},{"$f":"IF($AG128=TRUE,#REF!,\"\")","v":""},{"$f":"IF($AG128=TRUE,#REF!,\"\")","v":""},{"$f":"IF($AG128=TRUE,#REF!,\"\")","v":""},{"$f":"IF($AG128=TRUE,#REF!,\"\")","v":""},{"$f":"IF($AG128=TRUE,#REF!,\"\")","v":""},""]
[{"$f":"IF(登録データ貼付!E125=\"\",\"\",登録データ貼付!E125)","v":""},{"$f":"IF(登録データ貼付!B125=\"\",\"\",登録データ貼付!B125)","v":""},{"$f":"IF(登録データ貼付!C125=\"\",\"\",CONCATENATE(登録データ貼付!C125,\"　\",登録データ貼付!D125))","v":""},"","","","",{"$f":"IF(登録データ貼付!V125=\"\",\"\",RIGHT(登録データ貼付!V125,1))","v":""},null,{"$f":"IF(登録データ貼付!F125=\"\",\"\",CONCATENATE(登録データ貼付!F125,\"　\",登録データ貼付!G125))","v":""},{"$f":"IF(登録データ貼付!H125=\"\",\"\",CONCATENATE(登録データ貼付!H125,\" \",登録データ貼付!I125))","v":""},{"$f":"IF(登録データ貼付!K125=\"\",\"\",LEFT(登録データ貼付!K125,1))","v":""},{"$f":"IF(登録データ貼付!S125=\"\",\"\",登録データ貼付!S125)","v":""},null,null,null,null,null,null,null,null,null,null,null,null,null,null,null,null,null,null,null,false,"","","","","",{"$f":"IF($AG129=TRUE,#REF!,\"\")","v":""},{"$f":"IF($AG129=TRUE,#REF!,\"\")","v":""},{"$f":"IF($AG129=TRUE,#REF!,\"\")","v":""},{"$f":"IF($AG129=TRUE,#REF!,\"\")","v":""},{"$f":"IF($AG129=TRUE,#REF!,\"\")","v":""},{"$f":"IF($AG129=TRUE,#REF!,\"\")","v":""},""]
[{"$f":"IF(登録データ貼付!E126=\"\",\"\",登録データ貼付!E126)","v":""},{"$f":"IF(登録データ貼付!B126=\"\",\"\",登録データ貼付!B126)","v":""},{"$f":"IF(登録データ貼付!C126=\"\",\"\",CONCATENATE(登録データ貼付!C126,\"　\",登録データ貼付!D126))","v":""},"","","","",{"$f":"IF(登録データ貼付!V126=\"\",\"\",RIGHT(登録データ貼付!V126,1))","v":""},null,{"$f":"IF(登録データ貼付!F126=\"\",\"\",CONCATENATE(登録データ貼付!F126,\"　\",登録データ貼付!G126))","v":""},{"$f":"IF(登録データ貼付!H126=\"\",\"\",CONCATENATE(登録データ貼付!H126,\" \",登録データ貼付!I126))","v":""},{"$f":"IF(登録データ貼付!K126=\"\",\"\",LEFT(登録データ貼付!K126,1))","v":""},{"$f":"IF(登録データ貼付!S126=\"\",\"\",登録データ貼付!S126)","v":""},null,null,null,null,null,null,null,null,null,null,null,null,null,null,null,null,null,null,null,false,"","","","","",{"$f":"IF($AG130=TRUE,#REF!,\"\")","v":""},{"$f":"IF($AG130=TRUE,#REF!,\"\")","v":""},{"$f":"IF($AG130=TRUE,#REF!,\"\")","v":""},{"$f":"IF($AG130=TRUE,#REF!,\"\")","v":""},{"$f":"IF($AG130=TRUE,#REF!,\"\")","v":""},{"$f":"IF($AG130=TRUE,#REF!,\"\")","v":""},""]
[{"$f":"IF(登録データ貼付!E127=\"\",\"\",登録データ貼付!E127)","v":""},{"$f":"IF(登録データ貼付!B127=\"\",\"\",登録データ貼付!B127)","v":""},{"$f":"IF(登録データ貼付!C127=\"\",\"\",CONCATENATE(登録データ貼付!C127,\"　\",登録データ貼付!D127))","v":""},"","","","",{"$f":"IF(登録データ貼付!V127=\"\",\"\",RIGHT(登録データ貼付!V127,1))","v":""},null,{"$f":"IF(登録データ貼付!F127=\"\",\"\",CONCATENATE(登録データ貼付!F127,\"　\",登録データ貼付!G127))","v":""},{"$f":"IF(登録データ貼付!H127=\"\",\"\",CONCATENATE(登録データ貼付!H127,\" \",登録データ貼付!I127))","v":""},{"$f":"IF(登録データ貼付!K127=\"\",\"\",LEFT(登録データ貼付!K127,1))","v":""},{"$f":"IF(登録データ貼付!S127=\"\",\"\",登録データ貼付!S127)","v":""},null,null,null,null,null,null,null,null,null,null,null,null,null,null,null,null,null,null,null,false,"","","","","",{"$f":"IF($AG131=TRUE,#REF!,\"\")","v":""},{"$f":"IF($AG131=TRUE,#REF!,\"\")","v":""},{"$f":"IF($AG131=TRUE,#REF!,\"\")","v":""},{"$f":"IF($AG131=TRUE,#REF!,\"\")","v":""},{"$f":"IF($AG131=TRUE,#REF!,\"\")","v":""},{"$f":"IF($AG131=TRUE,#REF!,\"\")","v":""},""]
[{"$f":"IF(登録データ貼付!E128=\"\",\"\",登録データ貼付!E128)","v":""},{"$f":"IF(登録データ貼付!B128=\"\",\"\",登録データ貼付!B128)","v":""},{"$f":"IF(登録データ貼付!C128=\"\",\"\",CONCATENATE(登録データ貼付!C128,\"　\",登録データ貼付!D128))","v":""},"","","","",{"$f":"IF(登録データ貼付!V128=\"\",\"\",RIGHT(登録データ貼付!V128,1))","v":""},null,{"$f":"IF(登録データ貼付!F128=\"\",\"\",CONCATENATE(登録データ貼付!F128,\"　\",登録データ貼付!G128))","v":""},{"$f":"IF(登録データ貼付!H128=\"\",\"\",CONCATENATE(登録データ貼付!H128,\" \",登録データ貼付!I128))","v":""},{"$f":"IF(登録データ貼付!K128=\"\",\"\",LEFT(登録データ貼付!K128,1))","v":""},{"$f":"IF(登録データ貼付!S128=\"\",\"\",登録データ貼付!S128)","v":""},null,null,null,null,null,null,null,null,null,null,null,null,null,null,null,null,null,null,null,false,"","","","","",{"$f":"IF($AG132=TRUE,#REF!,\"\")","v":""},{"$f":"IF($AG132=TRUE,#REF!,\"\")","v":""},{"$f":"IF($AG132=TRUE,#REF!,\"\")","v":""},{"$f":"IF($AG132=TRUE,#REF!,\"\")","v":""},{"$f":"IF($AG132=TRUE,#REF!,\"\")","v":""},{"$f":"IF($AG132=TRUE,#REF!,\"\")","v":""},""]
[{"$f":"IF(登録データ貼付!E129=\"\",\"\",登録データ貼付!E129)","v":""},{"$f":"IF(登録データ貼付!B129=\"\",\"\",登録データ貼付!B129)","v":""},{"$f":"IF(登録データ貼付!C129=\"\",\"\",CONCATENATE(登録データ貼付!C129,\"　\",登録データ貼付!D129))","v":""},"","","","",{"$f":"IF(登録データ貼付!V129=\"\",\"\",RIGHT(登録データ貼付!V129,1))","v":""},null,{"$f":"IF(登録データ貼付!F129=\"\",\"\",CONCATENATE(登録データ貼付!F129,\"　\",登録データ貼付!G129))","v":""},{"$f":"IF(登録データ貼付!H129=\"\",\"\",CONCATENATE(登録データ貼付!H129,\" \",登録データ貼付!I129))","v":""},{"$f":"IF(登録データ貼付!K129=\"\",\"\",LEFT(登録データ貼付!K129,1))","v":""},{"$f":"IF(登録データ貼付!S129=\"\",\"\",登録データ貼付!S129)","v":""},null,null,null,null,null,null,null,null,null,null,null,null,null,null,null,null,null,null,null,false,"","","","","",{"$f":"IF($AG133=TRUE,#REF!,\"\")","v":""},{"$f":"IF($AG133=TRUE,#REF!,\"\")","v":""},{"$f":"IF($AG133=TRUE,#REF!,\"\")","v":""},{"$f":"IF($AG133=TRUE,#REF!,\"\")","v":""},{"$f":"IF($AG133=TRUE,#REF!,\"\")","v":""},{"$f":"IF($AG133=TRUE,#REF!,\"\")","v":""},""]
[{"$f":"IF(登録データ貼付!E130=\"\",\"\",登録データ貼付!E130)","v":""},{"$f":"IF(登録データ貼付!B130=\"\",\"\",登録データ貼付!B130)","v":""},{"$f":"IF(登録データ貼付!C130=\"\",\"\",CONCATENATE(登録データ貼付!C130,\"　\",登録データ貼付!D130))","v":""},"","","","",{"$f":"IF(登録データ貼付!V130=\"\",\"\",RIGHT(登録データ貼付!V130,1))","v":""},null,{"$f":"IF(登録データ貼付!F130=\"\",\"\",CONCATENATE(登録データ貼付!F130,\"　\",登録データ貼付!G130))","v":""},{"$f":"IF(登録データ貼付!H130=\"\",\"\",CONCATENATE(登録データ貼付!H130,\" \",登録データ貼付!I130))","v":""},{"$f":"IF(登録データ貼付!K130=\"\",\"\",LEFT(登録データ貼付!K130,1))","v":""},{"$f":"IF(登録データ貼付!S130=\"\",\"\",登録データ貼付!S130)","v":""},null,null,null,null,null,null,null,null,null,null,null,null,null,null,null,null,null,null,null,false,{"$f":"IF($AG134=TRUE,B134,\"\")","v":""},{"$f":"IF($AG134=TRUE,C134,\"\")","v":""},{"$f":"IF($AG134=TRUE,D134,\"\")","v":""},{"$f":"IF($AG134=TRUE,F134,\"\")","v":""},{"$f":"IF($AG134=TRUE,G134,\"\")","v":""},{"$f":"IF($AG134=TRUE,#REF!,\"\")","v":""},{"$f":"IF($AG134=TRUE,#REF!,\"\")","v":""},{"$f":"IF($AG134=TRUE,#REF!,\"\")","v":""},{"$f":"IF($AG134=TRUE,#REF!,\"\")","v":""},{"$f":"IF($AG134=TRUE,#REF!,\"\")","v":""},{"$f":"IF($AG134=TRUE,#REF!,\"\")","v":""},{"$f":"IF($AG134=TRUE,H134,\"\")","v":""}]
[{"$f":"IF(登録データ貼付!E131=\"\",\"\",登録データ貼付!E131)","v":""},{"$f":"IF(登録データ貼付!B131=\"\",\"\",登録データ貼付!B131)","v":""},{"$f":"IF(登録データ貼付!C131=\"\",\"\",CONCATENATE(登録データ貼付!C131,\"　\",登録データ貼付!D131))","v":""},{"$f":"IF(J135=\"\",\"\",ASC(J135))","v":""},{"$f":"IF(K135=\"\",\"\",ASC(K135))","v":""},{"$f":"IF(L135=\"\",\"\",L135)","v":""},{"$f":"IF(M135=\"\",\"\",M135)","v":""},{"$f":"IF(登録データ貼付!V131=\"\",\"\",RIGHT(登録データ貼付!V131,1))","v":""},null,{"$f":"IF(登録データ貼付!F131=\"\",\"\",CONCATENATE(登録データ貼付!F131,\"　\",登録データ貼付!G131))","v":""},{"$f":"IF(登録データ貼付!H131=\"\",\"\",CONCATENATE(登録データ貼付!H131,\" \",登録データ貼付!I131))","v":""},{"$f":"IF(登録データ貼付!K131=\"\",\"\",LEFT(登録データ貼付!K131,1))","v":""},{"$f":"IF(登録データ貼付!S131=\"\",\"\",登録データ貼付!S131)","v":""},null,null,null,null,null,null,null,null,null,null,null,null,null,null,null,null,null,null,null,false,"","","","","",{"$f":"IF($AG135=TRUE,#REF!,\"\")","v":""},{"$f":"IF($AG135=TRUE,#REF!,\"\")","v":""},{"$f":"IF($AG135=TRUE,#REF!,\"\")","v":""},{"$f":"IF($AG135=TRUE,#REF!,\"\")","v":""},{"$f":"IF($AG135=TRUE,#REF!,\"\")","v":""},{"$f":"IF($AG135=TRUE,#REF!,\"\")","v":""},""]
[{"$f":"IF(登録データ貼付!E132=\"\",\"\",登録データ貼付!E132)","v":""},{"$f":"IF(登録データ貼付!B132=\"\",\"\",登録データ貼付!B132)","v":""},{"$f":"IF(登録データ貼付!C132=\"\",\"\",CONCATENATE(登録データ貼付!C132,\"　\",登録データ貼付!D132))","v":""},"","","","",{"$f":"IF(登録データ貼付!V132=\"\",\"\",RIGHT(登録データ貼付!V132,1))","v":""},null,{"$f":"IF(登録データ貼付!F132=\"\",\"\",CONCATENATE(登録データ貼付!F132,\"　\",登録データ貼付!G132))","v":""},{"$f":"IF(登録データ貼付!H132=\"\",\"\",CONCATENATE(登録データ貼付!H132,\" \",登録データ貼付!I132))","v":""},{"$f":"IF(登録データ貼付!K132=\"\",\"\",LEFT(登録データ貼付!K132,1))","v":""},{"$f":"IF(登録データ貼付!S132=\"\",\"\",登録データ貼付!S132)","v":""},null,null,null,null,null,null,null,null,null,null,null,null,null,null,null,null,null,null,null,false,"","","","","",{"$f":"IF($AG136=TRUE,#REF!,\"\")","v":""},{"$f":"IF($AG136=TRUE,#REF!,\"\")","v":""},{"$f":"IF($AG136=TRUE,#REF!,\"\")","v":""},{"$f":"IF($AG136=TRUE,#REF!,\"\")","v":""},{"$f":"IF($AG136=TRUE,#REF!,\"\")","v":""},{"$f":"IF($AG136=TRUE,#REF!,\"\")","v":""},""]
[{"$f":"IF(登録データ貼付!E133=\"\",\"\",登録データ貼付!E133)","v":""},{"$f":"IF(登録データ貼付!B133=\"\",\"\",登録データ貼付!B133)","v":""},{"$f":"IF(登録データ貼付!C133=\"\",\"\",CONCATENATE(登録データ貼付!C133,\"　\",登録データ貼付!D133))","v":""},"","","","",{"$f":"IF(登録データ貼付!V133=\"\",\"\",RIGHT(登録データ貼付!V133,1))","v":""},null,{"$f":"IF(登録データ貼付!F133=\"\",\"\",CONCATENATE(登録データ貼付!F133,\"　\",登録データ貼付!G133))","v":""},{"$f":"IF(登録データ貼付!H133=\"\",\"\",CONCATENATE(登録データ貼付!H133,\" \",登録データ貼付!I133))","v":""},{"$f":"IF(登録データ貼付!K133=\"\",\"\",LEFT(登録データ貼付!K133,1))","v":""},{"$f":"IF(登録データ貼付!S133=\"\",\"\",登録データ貼付!S133)","v":""},null,null,null,null,null,null,null,null,null,null,null,null,null,null,null,null,null,null,null,false,"","","","","",{"$f":"IF($AG137=TRUE,#REF!,\"\")","v":""},{"$f":"IF($AG137=TRUE,#REF!,\"\")","v":""},{"$f":"IF($AG137=TRUE,#REF!,\"\")","v":""},{"$f":"IF($AG137=TRUE,#REF!,\"\")","v":""},{"$f":"IF($AG137=TRUE,#REF!,\"\")","v":""},{"$f":"IF($AG137=TRUE,#REF!,\"\")","v":""},""]
[{"$f":"IF(登録データ貼付!E134=\"\",\"\",登録データ貼付!E134)","v":""},{"$f":"IF(登録データ貼付!B134=\"\",\"\",登録データ貼付!B134)","v":""},{"$f":"IF(登録データ貼付!C134=\"\",\"\",CONCATENATE(登録データ貼付!C134,\"　\",登録データ貼付!D134))","v":""},"","","","",{"$f":"IF(登録データ貼付!V134=\"\",\"\",RIGHT(登録データ貼付!V134,1))","v":""},null,{"$f":"IF(登録データ貼付!F134=\"\",\"\",CONCATENATE(登録データ貼付!F134,\"　\",登録データ貼付!G134))","v":""},{"$f":"IF(登録データ貼付!H134=\"\",\"\",CONCATENATE(登録データ貼付!H134,\" \",登録データ貼付!I134))","v":""},{"$f":"IF(登録データ貼付!K134=\"\",\"\",LEFT(登録データ貼付!K134,1))","v":""},{"$f":"IF(登録データ貼付!S134=\"\",\"\",登録データ貼付!S134)","v":""},null,null,null,null,null,null,null,null,null,null,null,null,null,null,null,null,null,null,null,false,"","","","","",{"$f":"IF($AG138=TRUE,#REF!,\"\")","v":""},{"$f":"IF($AG138=TRUE,#REF!,\"\")","v":""},{"$f":"IF($AG138=TRUE,#REF!,\"\")","v":""},{"$f":"IF($AG138=TRUE,#REF!,\"\")","v":""},{"$f":"IF($AG138=TRUE,#REF!,\"\")","v":""},{"$f":"IF($AG138=TRUE,#REF!,\"\")","v":""},""]
[{"$f":"IF(登録データ貼付!E135=\"\",\"\",登録データ貼付!E135)","v":""},{"$f":"IF(登録データ貼付!B135=\"\",\"\",登録データ貼付!B135)","v":""},{"$f":"IF(登録データ貼付!C135=\"\",\"\",CONCATENATE(登録データ貼付!C135,\"　\",登録データ貼付!D135))","v":""},"","","","",{"$f":"IF(登録データ貼付!V135=\"\",\"\",RIGHT(登録データ貼付!V135,1))","v":""},null,{"$f":"IF(登録データ貼付!F135=\"\",\"\",CONCATENATE(登録データ貼付!F135,\"　\",登録データ貼付!G135))","v":""},{"$f":"IF(登録データ貼付!H135=\"\",\"\",CONCATENATE(登録データ貼付!H135,\" \",登録データ貼付!I135))","v":""},{"$f":"IF(登録データ貼付!K135=\"\",\"\",LEFT(登録データ貼付!K135,1))","v":""},{"$f":"IF(登録データ貼付!S135=\"\",\"\",登録データ貼付!S135)","v":""},null,null,null,null,null,null,null,null,null,null,null,null,null,null,null,null,null,null,null,false,"","","","","",{"$f":"IF($AG139=TRUE,#REF!,\"\")","v":""},{"$f":"IF($AG139=TRUE,#REF!,\"\")","v":""},{"$f":"IF($AG139=TRUE,#REF!,\"\")","v":""},{"$f":"IF($AG139=TRUE,#REF!,\"\")","v":""},{"$f":"IF($AG139=TRUE,#REF!,\"\")","v":""},{"$f":"IF($AG139=TRUE,#REF!,\"\")","v":""},""]
[{"$f":"IF(登録データ貼付!E136=\"\",\"\",登録データ貼付!E136)","v":""},{"$f":"IF(登録データ貼付!B136=\"\",\"\",登録データ貼付!B136)","v":""},{"$f":"IF(登録データ貼付!C136=\"\",\"\",CONCATENATE(登録データ貼付!C136,\"　\",登録データ貼付!D136))","v":""},"","","","",{"$f":"IF(登録データ貼付!V136=\"\",\"\",RIGHT(登録データ貼付!V136,1))","v":""},null,{"$f":"IF(登録データ貼付!F136=\"\",\"\",CONCATENATE(登録データ貼付!F136,\"　\",登録データ貼付!G136))","v":""},{"$f":"IF(登録データ貼付!H136=\"\",\"\",CONCATENATE(登録データ貼付!H136,\" \",登録データ貼付!I136))","v":""},{"$f":"IF(登録データ貼付!K136=\"\",\"\",LEFT(登録データ貼付!K136,1))","v":""},{"$f":"IF(登録データ貼付!S136=\"\",\"\",登録データ貼付!S136)","v":""},null,null,null,null,null,null,null,null,null,null,null,null,null,null,null,null,null,null,null,false,"","","","","",{"$f":"IF($AG140=TRUE,#REF!,\"\")","v":""},{"$f":"IF($AG140=TRUE,#REF!,\"\")","v":""},{"$f":"IF($AG140=TRUE,#REF!,\"\")","v":""},{"$f":"IF($AG140=TRUE,#REF!,\"\")","v":""},{"$f":"IF($AG140=TRUE,#REF!,\"\")","v":""},{"$f":"IF($AG140=TRUE,#REF!,\"\")","v":""},""]
[{"$f":"IF(登録データ貼付!E137=\"\",\"\",登録データ貼付!E137)","v":""},{"$f":"IF(登録データ貼付!B137=\"\",\"\",登録データ貼付!B137)","v":""},{"$f":"IF(登録データ貼付!C137=\"\",\"\",CONCATENATE(登録データ貼付!C137,\"　\",登録データ貼付!D137))","v":""},"","","","",{"$f":"IF(登録データ貼付!V137=\"\",\"\",RIGHT(登録データ貼付!V137,1))","v":""},null,{"$f":"IF(登録データ貼付!F137=\"\",\"\",CONCATENATE(登録データ貼付!F137,\"　\",登録データ貼付!G137))","v":""},{"$f":"IF(登録データ貼付!H137=\"\",\"\",CONCATENATE(登録データ貼付!H137,\" \",登録データ貼付!I137))","v":""},{"$f":"IF(登録データ貼付!K137=\"\",\"\",LEFT(登録データ貼付!K137,1))","v":""},{"$f":"IF(登録データ貼付!S137=\"\",\"\",登録データ貼付!S137)","v":""},null,null,null,null,null,null,null,null,null,null,null,null,null,null,null,null,null,null,null,false,"","","","","",{"$f":"IF($AG141=TRUE,#REF!,\"\")","v":""},{"$f":"IF($AG141=TRUE,#REF!,\"\")","v":""},{"$f":"IF($AG141=TRUE,#REF!,\"\")","v":""},{"$f":"IF($AG141=TRUE,#REF!,\"\")","v":""},{"$f":"IF($AG141=TRUE,#REF!,\"\")","v":""},{"$f":"IF($AG141=TRUE,#REF!,\"\")","v":""},""]
[{"$f":"IF(登録データ貼付!E138=\"\",\"\",登録データ貼付!E138)","v":""},{"$f":"IF(登録データ貼付!B138=\"\",\"\",登録データ貼付!B138)","v":""},{"$f":"IF(登録データ貼付!C138=\"\",\"\",CONCATENATE(登録データ貼付!C138,\"　\",登録データ貼付!D138))","v":""},"","","","",{"$f":"IF(登録データ貼付!V138=\"\",\"\",RIGHT(登録データ貼付!V138,1))","v":""},null,{"$f":"IF(登録データ貼付!F138=\"\",\"\",CONCATENATE(登録データ貼付!F138,\"　\",登録データ貼付!G138))","v":""},{"$f":"IF(登録データ貼付!H138=\"\",\"\",CONCATENATE(登録データ貼付!H138,\" \",登録データ貼付!I138))","v":""},{"$f":"IF(登録データ貼付!K138=\"\",\"\",LEFT(登録データ貼付!K138,1))","v":""},{"$f":"IF(登録データ貼付!S138=\"\",\"\",登録データ貼付!S138)","v":""},null,null,null,null,null,null,null,null,null,null,null,null,null,null,null,null,null,null,null,false,"","","","","",{"$f":"IF($AG142=TRUE,#REF!,\"\")","v":""},{"$f":"IF($AG142=TRUE,#REF!,\"\")","v":""},{"$f":"IF($AG142=TRUE,#REF!,\"\")","v":""},{"$f":"IF($AG142=TRUE,#REF!,\"\")","v":""},{"$f":"IF($AG142=TRUE,#REF!,\"\")","v":""},{"$f":"IF($AG142=TRUE,#REF!,\"\")","v":""},""]
[{"$f":"IF(登録データ貼付!E139=\"\",\"\",登録データ貼付!E139)","v":""},{"$f":"IF(登録データ貼付!B139=\"\",\"\",登録データ貼付!B139)","v":""},{"$f":"IF(登録データ貼付!C139=\"\",\"\",CONCATENATE(登録データ貼付!C139,\"　\",登録データ貼付!D139))","v":""},"","","","",{"$f":"IF(登録データ貼付!V139=\"\",\"\",RIGHT(登録データ貼付!V139,1))","v":""},null,{"$f":"IF(登録データ貼付!F139=\"\",\"\",CONCATENATE(登録データ貼付!F139,\"　\",登録データ貼付!G139))","v":""},{"$f":"IF(登録データ貼付!H139=\"\",\"\",CONCATENATE(登録データ貼付!H139,\" \",登録データ貼付!I139))","v":""},{"$f":"IF(登録データ貼付!K139=\"\",\"\",LEFT(登録データ貼付!K139,1))","v":""},{"$f":"IF(登録データ貼付!S139=\"\",\"\",登録データ貼付!S139)","v":""},null,null,null,null,null,null,null,null,null,null,null,null,null,null,null,null,null,null,null,false,"","","","","",{"$f":"IF($AG143=TRUE,#REF!,\"\")","v":""},{"$f":"IF($AG143=TRUE,#REF!,\"\")","v":""},{"$f":"IF($AG143=TRUE,#REF!,\"\")","v":""},{"$f":"IF($AG143=TRUE,#REF!,\"\")","v":""},{"$f":"IF($AG143=TRUE,#REF!,\"\")","v":""},{"$f":"IF($AG143=TRUE,#REF!,\"\")","v":""},""]
[{"$f":"IF(登録データ貼付!E140=\"\",\"\",登録データ貼付!E140)","v":""},{"$f":"IF(登録データ貼付!B140=\"\",\"\",登録データ貼付!B140)","v":""},{"$f":"IF(登録データ貼付!C140=\"\",\"\",CONCATENATE(登録データ貼付!C140,\"　\",登録データ貼付!D140))","v":""},"","","","",{"$f":"IF(登録データ貼付!V140=\"\",\"\",RIGHT(登録データ貼付!V140,1))","v":""},null,{"$f":"IF(登録データ貼付!F140=\"\",\"\",CONCATENATE(登録データ貼付!F140,\"　\",登録データ貼付!G140))","v":""},{"$f":"IF(登録データ貼付!H140=\"\",\"\",CONCATENATE(登録データ貼付!H140,\" \",登録データ貼付!I140))","v":""},{"$f":"IF(登録データ貼付!K140=\"\",\"\",LEFT(登録データ貼付!K140,1))","v":""},{"$f":"IF(登録データ貼付!S140=\"\",\"\",登録データ貼付!S140)","v":""},null,null,null,null,null,null,null,null,null,null,null,null,null,null,null,null,null,null,null,false,"","","","","",{"$f":"IF($AG144=TRUE,#REF!,\"\")","v":""},{"$f":"IF($AG144=TRUE,#REF!,\"\")","v":""},{"$f":"IF($AG144=TRUE,#REF!,\"\")","v":""},{"$f":"IF($AG144=TRUE,#REF!,\"\")","v":""},{"$f":"IF($AG144=TRUE,#REF!,\"\")","v":""},{"$f":"IF($AG144=TRUE,#REF!,\"\")","v":""},""]
[{"$f":"IF(登録データ貼付!E141=\"\",\"\",登録データ貼付!E141)","v":""},{"$f":"IF(登録データ貼付!B141=\"\",\"\",登録データ貼付!B141)","v":""},{"$f":"IF(登録データ貼付!C141=\"\",\"\",CONCATENATE(登録データ貼付!C141,\"　\",登録データ貼付!D141))","v":""},"","","","",{"$f":"IF(登録データ貼付!V141=\"\",\"\",RIGHT(登録データ貼付!V141,1))","v":""},null,{"$f":"IF(登録データ貼付!F141=\"\",\"\",CONCATENATE(登録データ貼付!F141,\"　\",登録データ貼付!G141))","v":""},{"$f":"IF(登録データ貼付!H141=\"\",\"\",CONCATENATE(登録データ貼付!H141,\" \",登録データ貼付!I141))","v":""},{"$f":"IF(登録データ貼付!K141=\"\",\"\",LEFT(登録データ貼付!K141,1))","v":""},{"$f":"IF(登録データ貼付!S141=\"\",\"\",登録データ貼付!S141)","v":""},null,null,null,null,null,null,null,null,null,null,null,null,null,null,null,null,null,null,null,false,"","","","","",{"$f":"IF($AG145=TRUE,#REF!,\"\")","v":""},{"$f":"IF($AG145=TRUE,#REF!,\"\")","v":""},{"$f":"IF($AG145=TRUE,#REF!,\"\")","v":""},{"$f":"IF($AG145=TRUE,#REF!,\"\")","v":""},{"$f":"IF($AG145=TRUE,#REF!,\"\")","v":""},{"$f":"IF($AG145=TRUE,#REF!,\"\")","v":""},""]
[{"$f":"IF(登録データ貼付!E142=\"\",\"\",登録データ貼付!E142)","v":""},{"$f":"IF(登録データ貼付!B142=\"\",\"\",登録データ貼付!B142)","v":""},{"$f":"IF(登録データ貼付!C142=\"\",\"\",CONCATENATE(登録データ貼付!C142,\"　\",登録データ貼付!D142))","v":""},"","","","",{"$f":"IF(登録データ貼付!V142=\"\",\"\",RIGHT(登録データ貼付!V142,1))","v":""},null,{"$f":"IF(登録データ貼付!F142=\"\",\"\",CONCATENATE(登録データ貼付!F142,\"　\",登録データ貼付!G142))","v":""},{"$f":"IF(登録データ貼付!H142=\"\",\"\",CONCATENATE(登録データ貼付!H142,\" \",登録データ貼付!I142))","v":""},{"$f":"IF(登録データ貼付!K142=\"\",\"\",LEFT(登録データ貼付!K142,1))","v":""},{"$f":"IF(登録データ貼付!S142=\"\",\"\",登録データ貼付!S142)","v":""},null,null,null,null,null,null,null,null,null,null,null,null,null,null,null,null,null,null,null,false,"","","","","",{"$f":"IF($AG146=TRUE,#REF!,\"\")","v":""},{"$f":"IF($AG146=TRUE,#REF!,\"\")","v":""},{"$f":"IF($AG146=TRUE,#REF!,\"\")","v":""},{"$f":"IF($AG146=TRUE,#REF!,\"\")","v":""},{"$f":"IF($AG146=TRUE,#REF!,\"\")","v":""},{"$f":"IF($AG146=TRUE,#REF!,\"\")","v":""},""]
[{"$f":"IF(登録データ貼付!E143=\"\",\"\",登録データ貼付!E143)","v":""},{"$f":"IF(登録データ貼付!B143=\"\",\"\",登録データ貼付!B143)","v":""},{"$f":"IF(登録データ貼付!C143=\"\",\"\",CONCATENATE(登録データ貼付!C143,\"　\",登録データ貼付!D143))","v":""},"","","","",{"$f":"IF(登録データ貼付!V143=\"\",\"\",RIGHT(登録データ貼付!V143,1))","v":""},null,{"$f":"IF(登録データ貼付!F143=\"\",\"\",CONCATENATE(登録データ貼付!F143,\"　\",登録データ貼付!G143))","v":""},{"$f":"IF(登録データ貼付!H143=\"\",\"\",CONCATENATE(登録データ貼付!H143,\" \",登録データ貼付!I143))","v":""},{"$f":"IF(登録データ貼付!K143=\"\",\"\",LEFT(登録データ貼付!K143,1))","v":""},{"$f":"IF(登録データ貼付!S143=\"\",\"\",登録データ貼付!S143)","v":""},null,null,null,null,null,null,null,null,null,null,null,null,null,null,null,null,null,null,null,false,"","","","","",{"$f":"IF($AG147=TRUE,#REF!,\"\")","v":""},{"$f":"IF($AG147=TRUE,#REF!,\"\")","v":""},{"$f":"IF($AG147=TRUE,#REF!,\"\")","v":""},{"$f":"IF($AG147=TRUE,#REF!,\"\")","v":""},{"$f":"IF($AG147=TRUE,#REF!,\"\")","v":""},{"$f":"IF($AG147=TRUE,#REF!,\"\")","v":""},""]
[{"$f":"IF(登録データ貼付!E144=\"\",\"\",登録データ貼付!E144)","v":""},{"$f":"IF(登録データ貼付!B144=\"\",\"\",登録データ貼付!B144)","v":""},{"$f":"IF(登録データ貼付!C144=\"\",\"\",CONCATENATE(登録データ貼付!C144,\"　\",登録データ貼付!D144))","v":""},"","","","",{"$f":"IF(登録データ貼付!V144=\"\",\"\",RIGHT(登録データ貼付!V144,1))","v":""},null,{"$f":"IF(登録データ貼付!F144=\"\",\"\",CONCATENATE(登録データ貼付!F144,\"　\",登録データ貼付!G144))","v":""},{"$f":"IF(登録データ貼付!H144=\"\",\"\",CONCATENATE(登録データ貼付!H144,\" \",登録データ貼付!I144))","v":""},{"$f":"IF(登録データ貼付!K144=\"\",\"\",LEFT(登録データ貼付!K144,1))","v":""},{"$f":"IF(登録データ貼付!S144=\"\",\"\",登録データ貼付!S144)","v":""},null,null,null,null,null,null,null,null,null,null,null,null,null,null,null,null,null,null,null,false,"","","","","",{"$f":"IF($AG148=TRUE,#REF!,\"\")","v":""},{"$f":"IF($AG148=TRUE,#REF!,\"\")","v":""},{"$f":"IF($AG148=TRUE,#REF!,\"\")","v":""},{"$f":"IF($AG148=TRUE,#REF!,\"\")","v":""},{"$f":"IF($AG148=TRUE,#REF!,\"\")","v":""},{"$f":"IF($AG148=TRUE,#REF!,\"\")","v":""},""]
[{"$f":"IF(登録データ貼付!E145=\"\",\"\",登録データ貼付!E145)","v":""},{"$f":"IF(登録データ貼付!B145=\"\",\"\",登録データ貼付!B145)","v":""},{"$f":"IF(登録データ貼付!C145=\"\",\"\",CONCATENATE(登録データ貼付!C145,\"　\",登録データ貼付!D145))","v":""},"","","","",{"$f":"IF(登録データ貼付!V145=\"\",\"\",RIGHT(登録データ貼付!V145,1))","v":""},null,{"$f":"IF(登録データ貼付!F145=\"\",\"\",CONCATENATE(登録データ貼付!F145,\"　\",登録データ貼付!G145))","v":""},{"$f":"IF(登録データ貼付!H145=\"\",\"\",CONCATENATE(登録データ貼付!H145,\" \",登録データ貼付!I145))","v":""},{"$f":"IF(登録データ貼付!K145=\"\",\"\",LEFT(登録データ貼付!K145,1))","v":""},{"$f":"IF(登録データ貼付!S145=\"\",\"\",登録データ貼付!S145)","v":""},null,null,null,null,null,null,null,null,null,null,null,null,null,null,null,null,null,null,null,false,"","","","","",{"$f":"IF($AG149=TRUE,#REF!,\"\")","v":""},{"$f":"IF($AG149=TRUE,#REF!,\"\")","v":""},{"$f":"IF($AG149=TRUE,#REF!,\"\")","v":""},{"$f":"IF($AG149=TRUE,#REF!,\"\")","v":""},{"$f":"IF($AG149=TRUE,#REF!,\"\")","v":""},{"$f":"IF($AG149=TRUE,#REF!,\"\")","v":""},""]
[{"$f":"IF(登録データ貼付!E146=\"\",\"\",登録データ貼付!E146)","v":""},{"$f":"IF(登録データ貼付!B146=\"\",\"\",登録データ貼付!B146)","v":""},{"$f":"IF(登録データ貼付!C146=\"\",\"\",CONCATENATE(登録データ貼付!C146,\"　\",登録データ貼付!D146))","v":""},"","","","",{"$f":"IF(登録データ貼付!V146=\"\",\"\",RIGHT(登録データ貼付!V146,1))","v":""},null,{"$f":"IF(登録データ貼付!F146=\"\",\"\",CONCATENATE(登録データ貼付!F146,\"　\",登録データ貼付!G146))","v":""},{"$f":"IF(登録データ貼付!H146=\"\",\"\",CONCATENATE(登録データ貼付!H146,\" \",登録データ貼付!I146))","v":""},{"$f":"IF(登録データ貼付!K146=\"\",\"\",LEFT(登録データ貼付!K146,1))","v":""},{"$f":"IF(登録データ貼付!S146=\"\",\"\",登録データ貼付!S146)","v":""},null,null,null,null,null,null,null,null,null,null,null,null,null,null,null,null,null,null,null,false,"","","","","",{"$f":"IF($AG150=TRUE,#REF!,\"\")","v":""},{"$f":"IF($AG150=TRUE,#REF!,\"\")","v":""},{"$f":"IF($AG150=TRUE,#REF!,\"\")","v":""},{"$f":"IF($AG150=TRUE,#REF!,\"\")","v":""},{"$f":"IF($AG150=TRUE,#REF!,\"\")","v":""},{"$f":"IF($AG150=TRUE,#REF!,\"\")","v":""},""]
[{"$f":"IF(登録データ貼付!E147=\"\",\"\",登録データ貼付!E147)","v":""},{"$f":"IF(登録データ貼付!B147=\"\",\"\",登録データ貼付!B147)","v":""},{"$f":"IF(登録データ貼付!C147=\"\",\"\",CONCATENATE(登録データ貼付!C147,\"　\",登録データ貼付!D147))","v":""},"","","","",{"$f":"IF(登録データ貼付!V147=\"\",\"\",RIGHT(登録データ貼付!V147,1))","v":""},null,{"$f":"IF(登録データ貼付!F147=\"\",\"\",CONCATENATE(登録データ貼付!F147,\"　\",登録データ貼付!G147))","v":""},{"$f":"IF(登録データ貼付!H147=\"\",\"\",CONCATENATE(登録データ貼付!H147,\" \",登録データ貼付!I147))","v":""},{"$f":"IF(登録データ貼付!K147=\"\",\"\",LEFT(登録データ貼付!K147,1))","v":""},{"$f":"IF(登録データ貼付!S147=\"\",\"\",登録データ貼付!S147)","v":""},null,null,null,null,null,null,null,null,null,null,null,null,null,null,null,null,null,null,null,false,"","","","","",{"$f":"IF($AG151=TRUE,#REF!,\"\")","v":""},{"$f":"IF($AG151=TRUE,#REF!,\"\")","v":""},{"$f":"IF($AG151=TRUE,#REF!,\"\")","v":""},{"$f":"IF($AG151=TRUE,#REF!,\"\")","v":""},{"$f":"IF($AG151=TRUE,#REF!,\"\")","v":""},{"$f":"IF($AG151=TRUE,#REF!,\"\")","v":""},""]
[{"$f":"IF(登録データ貼付!E148=\"\",\"\",登録データ貼付!E148)","v":""},{"$f":"IF(登録データ貼付!B148=\"\",\"\",登録データ貼付!B148)","v":""},{"$f":"IF(登録データ貼付!C148=\"\",\"\",CONCATENATE(登録データ貼付!C148,\"　\",登録データ貼付!D148))","v":""},"","","","",{"$f":"IF(登録データ貼付!V148=\"\",\"\",RIGHT(登録データ貼付!V148,1))","v":""},null,{"$f":"IF(登録データ貼付!F148=\"\",\"\",CONCATENATE(登録データ貼付!F148,\"　\",登録データ貼付!G148))","v":""},{"$f":"IF(登録データ貼付!H148=\"\",\"\",CONCATENATE(登録データ貼付!H148,\" \",登録データ貼付!I148))","v":""},{"$f":"IF(登録データ貼付!K148=\"\",\"\",LEFT(登録データ貼付!K148,1))","v":""},{"$f":"IF(登録データ貼付!S148=\"\",\"\",登録データ貼付!S148)","v":""},null,null,null,null,null,null,null,null,null,null,null,null,null,null,null,null,null,null,null,false,"","","","","",{"$f":"IF($AG152=TRUE,#REF!,\"\")","v":""},{"$f":"IF($AG152=TRUE,#REF!,\"\")","v":""},{"$f":"IF($AG152=TRUE,#REF!,\"\")","v":""},{"$f":"IF($AG152=TRUE,#REF!,\"\")","v":""},{"$f":"IF($AG152=TRUE,#REF!,\"\")","v":""},{"$f":"IF($AG152=TRUE,#REF!,\"\")","v":""},""]
[{"$f":"IF(登録データ貼付!E149=\"\",\"\",登録データ貼付!E149)","v":""},{"$f":"IF(登録データ貼付!B149=\"\",\"\",登録データ貼付!B149)","v":""},{"$f":"IF(登録データ貼付!C149=\"\",\"\",CONCATENATE(登録データ貼付!C149,\"　\",登録データ貼付!D149))","v":""},"","","","",{"$f":"IF(登録データ貼付!V149=\"\",\"\",RIGHT(登録データ貼付!V149,1))","v":""},null,{"$f":"IF(登録データ貼付!F149=\"\",\"\",CONCATENATE(登録データ貼付!F149,\"　\",登録データ貼付!G149))","v":""},{"$f":"IF(登録データ貼付!H149=\"\",\"\",CONCATENATE(登録データ貼付!H149,\" \",登録データ貼付!I149))","v":""},{"$f":"IF(登録データ貼付!K149=\"\",\"\",LEFT(登録データ貼付!K149,1))","v":""},{"$f":"IF(登録データ貼付!S149=\"\",\"\",登録データ貼付!S149)","v":""},null,null,null,null,null,null,null,null,null,null,null,null,null,null,null,null,null,null,null,false,"","","","","",{"$f":"IF($AG153=TRUE,#REF!,\"\")","v":""},{"$f":"IF($AG153=TRUE,#REF!,\"\")","v":""},{"$f":"IF($AG153=TRUE,#REF!,\"\")","v":""},{"$f":"IF($AG153=TRUE,#REF!,\"\")","v":""},{"$f":"IF($AG153=TRUE,#REF!,\"\")","v":""},{"$f":"IF($AG153=TRUE,#REF!,\"\")","v":""},""]
[{"$f":"IF(登録データ貼付!E150=\"\",\"\",登録データ貼付!E150)","v":""},{"$f":"IF(登録データ貼付!B150=\"\",\"\",登録データ貼付!B150)","v":""},{"$f":"IF(登録データ貼付!C150=\"\",\"\",CONCATENATE(登録データ貼付!C150,\"　\",登録データ貼付!D150))","v":""},"","","","",{"$f":"IF(登録データ貼付!V150=\"\",\"\",RIGHT(登録データ貼付!V150,1))","v":""},null,{"$f":"IF(登録データ貼付!F150=\"\",\"\",CONCATENATE(登録データ貼付!F150,\"　\",登録データ貼付!G150))","v":""},{"$f":"IF(登録データ貼付!H150=\"\",\"\",CONCATENATE(登録データ貼付!H150,\" \",登録データ貼付!I150))","v":""},{"$f":"IF(登録データ貼付!K150=\"\",\"\",LEFT(登録データ貼付!K150,1))","v":""},{"$f":"IF(登録データ貼付!S150=\"\",\"\",登録データ貼付!S150)","v":""},null,null,null,null,null,null,null,null,null,null,null,null,null,null,null,null,null,null,null,false,"","","","","",{"$f":"IF($AG154=TRUE,#REF!,\"\")","v":""},{"$f":"IF($AG154=TRUE,#REF!,\"\")","v":""},{"$f":"IF($AG154=TRUE,#REF!,\"\")","v":""},{"$f":"IF($AG154=TRUE,#REF!,\"\")","v":""},{"$f":"IF($AG154=TRUE,#REF!,\"\")","v":""},{"$f":"IF($AG154=TRUE,#REF!,\"\")","v":""},""]
[{"$f":"IF(登録データ貼付!E151=\"\",\"\",登録データ貼付!E151)","v":""},{"$f":"IF(登録データ貼付!B151=\"\",\"\",登録データ貼付!B151)","v":""},{"$f":"IF(登録データ貼付!C151=\"\",\"\",CONCATENATE(登録データ貼付!C151,\"　\",登録データ貼付!D151))","v":""},"","","","",{"$f":"IF(登録データ貼付!V151=\"\",\"\",RIGHT(登録データ貼付!V151,1))","v":""},null,{"$f":"IF(登録データ貼付!F151=\"\",\"\",CONCATENATE(登録データ貼付!F151,\"　\",登録データ貼付!G151))","v":""},{"$f":"IF(登録データ貼付!H151=\"\",\"\",CONCATENATE(登録データ貼付!H151,\" \",登録データ貼付!I151))","v":""},{"$f":"IF(登録データ貼付!K151=\"\",\"\",LEFT(登録データ貼付!K151,1))","v":""},{"$f":"IF(登録データ貼付!S151=\"\",\"\",登録データ貼付!S151)","v":""},null,null,null,null,null,null,null,null,null,null,null,null,null,null,null,null,null,null,null,false,"","","","","",{"$f":"IF($AG155=TRUE,#REF!,\"\")","v":""},{"$f":"IF($AG155=TRUE,#REF!,\"\")","v":""},{"$f":"IF($AG155=TRUE,#REF!,\"\")","v":""},{"$f":"IF($AG155=TRUE,#REF!,\"\")","v":""},{"$f":"IF($AG155=TRUE,#REF!,\"\")","v":""},{"$f":"IF($AG155=TRUE,#REF!,\"\")","v":""},""]

{"sheet":"登録データ貼付","index":7,"n_rows":1,"n_cols":43,"rows_kept":1,"cut":false,"hidden":false,"merged":[]}
["年度","JAAF ID","氏名（姓）","氏名（名）","登録番号","フリガナ（姓）","フリガナ（名）","英字（姓）","英字（名）","国籍","性別","登録都道府県番号","登録都道府県名","団体UID","団体ID","団体名","団体名略称1","団体名略称2","生年月日","旧団体コード","備考","学年","団体区分","承認団体名","郵便番号","住所","携帯電話番号","卒業高校名","卒業中学名","メールアドレス","E-mail配信希望","勤務先名","勤務先郵便番号","勤務先都道府県","勤務先市区町村 / 番地 / 建物名","在籍学校都道府県","障がいのクラス","実施している種目","興味がある種目","指導者チェック","役職名","管理者","状態"]

{"sheet":"種目コード一覧","index":8,"n_rows":54,"n_cols":2,"rows_kept":54,"cut":false,"hidden":false,"merged":[]}
["男子"]
["種目","コード番号"]
["１年１００ｍ",1]
["２年１００ｍ",2]
["３年１００ｍ",3]
["共通２００ｍ",4]
["共通４００ｍ",5]
["共通８００ｍ",6]
["１年１５００ｍ",7]
["２・３年１５００ｍ",8]
["２年１５００ｍ",9]
["共通３０００ｍ",10]
["共通１１０ｍＨ",11]
["共通１１０ｍ低H",12]
["共通走高跳",13]
["共通棒高跳",14]
["共通走幅跳",15]
["共通砲丸投",16]
["共通四種競技",17]
["ｵｰﾌﾟﾝ３０００ｍ",18]
[]
[]
[]
[]
[]
["低学年４×１００ｍＲ",20]
["共通４×１００ｍＲ",21]
["１年４×１００ｍＲ",22]
[]
[]
["女子"]
["種目","コード番号"]
["１年１００ｍ",31]
["２年１００ｍ",32]
["３年１００ｍ",33]
["共通２００ｍ",34]
["共通８００ｍ",35]
["１年１５００ｍ",36]
["２年１５００ｍ",37]
["共通１５００ｍ",38]
["共通１００ｍＨ",39]
["共通走高跳",40]
["共通走幅跳",41]
["共通砲丸投",42]
["共通四種競技",43]
["ｵｰﾌﾟﾝ３０００ｍ",44]
["２・３年１５００ｍ",45]
[]
[]
[]
[]
["低学年４×１００ｍＲ",51]
["共通４×１００ｍＲ",52]
["１年４×１００ｍＲ",53]

{"sheet":"学校コード","index":9,"n_rows":147,"n_cols":27,"rows_kept":147,"cut":false,"hidden":false,"merged":[]}
["秋田陸上競技協会　登録学校コード",null,null,null,null,null,null,null,null,null,null,null,null,null,null,null,null,null,null,null,null,null,null,null,"団体名","団体コード","カナ団体名"]
[null,"区分","学校名(略称)","学校\nコード","学校名(正式名称)",null,null,"区分","学校名(略称)","学校\nコード","学校名(正式名称)",null,null,"区分","学校名(略称)","学校\nコード","学校名(正式名称)",null,null,null,null,null,null,null,"合川中","055127","ｱｲｶﾜﾁｭｳ"]
[1,"国立","秋大附属",701,"秋田大学教育文化学部附属",null,34,"秋田","秋田東",734,"秋田市立秋田東",null,82,"大曲仙北","大曲",782,"大仙市立大曲",null,null,null,null,null,null,null,"秋大附属中"]
[2,"県立","大館国際情報",702,"秋田県立大館国際情報学院",null,35,null,"秋田南",735,"秋田市立秋田南",null,83,null,"大曲西",783,"大仙市立大曲西",null,null,null,null,null,null,null,"秋田北中"]
[3,null,"南高中等部",703,"秋田県立秋田南高等学校中等部",null,36,null,"山王",736,"秋田市立山王",null,84,null,"大曲南",784,"大仙市立大曲南",null,null,null,null,null,null,null,"秋田大附中","055001","ｱｷﾀﾀﾞｲﾌﾁｭｳ"]
[4,null,"横手清陵学院",704,"秋田県立横手清陵学院",null,37,null,"土崎",737,"秋田市立土崎",null,85,null,"平和",785,"大仙市立平和",null,null,null,null,null,null,null,"秋田西中"]
[5,"鹿角","花輪",705,"鹿角市立花輪",null,38,null,"秋田西",738,"秋田市立秋田西",null,86,null,"西仙北",786,"大仙市立西仙北",null,null,null,null,null,null,null,"秋田東中","055002","ｱｷﾀﾋｶﾞｼﾁｭｳ"]
[6,null,"十和田",706,"鹿角市立十和田",null,39,null,"太平",739,"秋田市立太平",null,87,null,"中仙",787,"大仙市立中仙",null,null,null,null,null,null,null,"秋田南中"]
[7,null,"尾去沢",707,"鹿角市立尾去沢",null,40,null,"外旭川",740,"秋田市立外旭川",null,88,null,"豊成",788,"大仙市立豊成",null,null,null,null,null,null,null,"秋田聾中"]
[8,null,"八幡平",708,"鹿角市立八幡平",null,41,null,"秋田北",741,"秋田市立秋田北",null,89,null,"協和",789,"大仙市立協和",null,null,null,null,null,null,null,"阿仁中"]
[9,null,"小坂",709,"小坂町立小坂",null,42,null,"豊岩",742,"秋田市立豊岩",null,90,null,"南外",790,"大仙市立南外",null,null,null,null,null,null,null,"飯島中","056001","ｲｲｼﾞﾏﾁｭｳ"]
[10,"大館北秋","大館第一",710,"大館市立第一",null,43,null,"城南",743,"秋田市立城南",null,91,null,"仙北",791,"大仙市立仙北",null,null,null,null,null,null,null,"井川中"]
[11,null,"北陽",711,"大館市立北陽",null,44,null,"下北手",744,"秋田市立下北手",null,92,null,"太田",792,"大仙市立太田",null,null,null,null,null,null,null,"石沢中"]
[12,null,"下川沿",712,"大館市立下川沿",null,45,null,"下浜",745,"秋田市立下浜",null,93,null,"角館",793,"仙北市立角館",null,null,null,null,null,null,null,"泉中"]
[13,null,"大館南",713,"大館市立南",null,46,null,"城東",746,"秋田市立城東",null,94,null,"生保内",794,"仙北市立生保内",null,null,null,null,null,null,null,"稲川中","055205","ｲﾅｶﾜﾁｭｳ"]
[14,null,"成章",714,"大館市立成章",null,47,null,"泉",747,"秋田市立泉",null,95,null,"神代",795,"仙北市立神代",null,null,null,null,null,null,null,"岩城中"]
[15,null,"大館東",715,"大館市立東",null,48,null,"将軍野",748,"秋田市立将軍野",null,96,null,"西明寺",796,"仙北市立西明寺",null,null,null,null,null,null,null,"岩見三内中"]
[16,null,"比内",716,"大館市立比内",null,49,null,"御野場",749,"秋田市立御野場",null,97,null,"桧木内",797,"仙北市立桧木内",null,null,null,null,null,null,null,"羽後中","055207","ｳｺﾞﾁｭｳ"]
[17,null,"田代",717,"大館市立田代",null,50,null,"勝平",750,"秋田市立勝平",null,98,null,"美郷",798,"美郷町立美郷",null,null,null,null,null,null,null,"羽城中","056013","ｳｼﾞｮｳﾁｭｳ"]
[18,null,"鷹巣",718,"北秋田市立鷹巣",null,51,null,"勝平千秋",751,"秋田市立勝平千秋分校",null,99,"横手平鹿","横手南",799,"横手市立横手南",null,null,null,null,null,null,null,"大内中"]
[19,null,"森吉",719,"北秋田市立森吉",null,52,null,"飯島",752,"秋田市立飯島",null,100,null,"横手北",800,"横手市立横手北",null,null,null,null,null,null,null,"大潟中"]
[20,null,"阿仁",720,"北秋田市立阿仁",null,53,null,"桜",753,"秋田市立桜",null,101,null,"増田",801,"横手市立増田",null,null,null,null,null,null,null,"太田中","055232","ｵｵﾀﾁｭｳ"]
[21,null,"合川",721,"北秋田市立合川",null,54,null,"御所野学院",754,"秋田市立御所野学院",null,102,null,"平鹿",802,"横手市立平鹿",null,null,null,null,null,null,null,"大館一中","055055","ｵｵﾀﾞﾃｲｯﾁｭｳ"]
[22,null,"上小阿仁",722,"上小阿仁村立上小阿仁",null,55,null,"岩見三内",755,"秋田市立岩見三内",null,103,null,"横手明峰",803,"横手市立横手明峰",null,null,null,null,null,null,null,"大館第一中"]
[23,"能代","能代第一",723,"能代市立能代第一",null,56,null,"河辺",756,"秋田市立河辺",null,104,null,"十文字",804,"横手市立十文字",null,null,null,null,null,null,null,"大館第二中"]
[24,null,"能代第二",724,"能代市立能代第二",null,57,null,"雄和",757,"秋田市立雄和",null,105,"湯沢雄勝","湯沢北",805,"湯沢市立湯沢北",null,null,null,null,null,null,null,"大館東中","055057","ｵｵﾀﾞﾃﾋｶﾞｼﾁｭｳ"]
[25,null,"能代東",725,"能代市立能代東",null,58,"男鹿","男鹿南",758,"男鹿市立男鹿南",null,106,null,"山田",806,"湯沢市立山田",null,null,null,null,null,null,null,"大館南中","055060","ｵｵﾀﾞﾃﾐﾅﾐﾁｭｳ"]
[26,null,"東雲",726,"能代市立東雲",null,59,null,"男鹿北",759,"男鹿市立男鹿北",null,107,null,"湯沢南",807,"湯沢市立湯沢南",null,null,null,null,null,null,null,"鳳中"]
[27,null,"能代南",727,"能代市立能代南",null,60,null,"男鹿東",760,"男鹿市立男鹿東",null,108,null,"稲川",808,"湯沢市立稲川",null,null,null,null,null,null,null,"大曲中","055100","ｵｵﾏｶﾞﾘﾁｭｳ"]
[28,null,"二ツ井",728,"能代市立二ツ井",null,61,null,"潟西",761,"男鹿市立潟西",null,109,null,"雄勝",809,"湯沢市立雄勝",null,null,null,null,null,null,null,"大曲西中"]
[29,"山本","藤里",729,"藤里町立藤里",null,62,"南秋","天王",762,"潟上市立天王",null,110,null,"皆瀬",810,"湯沢市立皆瀬",null,null,null,null,null,null,null,"大曲南中"]
[30,null,"琴丘",730,"三種町立琴丘",null,63,null,"天王南",763,"潟上市立天王南",null,111,null,"羽後",811,"羽後町立羽後",null,null,null,null,null,null,null,"大森中"]
[31,null,"山本",731,"三種町立山本",null,64,null,"羽城",764,"潟上市立羽城",null,112,null,"東成瀬",812,"東成瀬村立東成瀬",null,null,null,null,null,null,null,"男鹿北中"]
[32,null,"八竜",732,"三種町立八竜",null,65,null,"五城目第一",765,"五城目町立五城目第一",null,113,"県立特別支援","聴覚支援",813,"秋田県立聴覚支援",null,null,null,null,null,null,null,"雄勝中","055206","ｵｶﾞﾁﾁｭｳ"]
[33,null,"八峰",733,"八峰町立八峰",null,66,null,"八郎潟",766,"八郎潟町立八郎潟",null,null,null,null,null,null,null,null,null,null,null,null,null,"男鹿東中","055079","ｵｶﾞﾋｶﾞｼﾁｭｳ"]
[null,null,null,null,null,null,67,null,"井川",767,"井川町立井川",null,null,null,null,null,null,null,null,null,null,null,null,null,"男鹿南中","056006","ｵｶﾞﾐﾅﾐﾁｭｳ"]
[null,null,null,null,null,null,68,null,"大潟",768,"大潟村立大潟",null,null,null,null,null,null,null,null,null,null,null,null,null,"尾去沢中","055107","ｵｻﾘｻﾞﾜﾁｭｳ"]
[null,null,null,null,null,null,69,"本荘由利","本荘北",769,"由利本荘市立本荘北",null,null,null,null,null,null,null,null,null,null,null,null,null,"御野場中","055018","ｵﾉﾊﾞﾁｭｳ"]
[null,null,null,null,null,null,70,null,"本荘南",770,"由利本荘市立本荘南",null,null,null,null,null,null,null,null,null,null,null,null,null,"雄物川中","055139","ｵﾓﾉｶﾞﾜﾁｭｳ"]
[null,null,null,null,null,null,71,null,"本荘東",771,"由利本荘市立本荘東",null,null,null,null,null,null,null,null,null,null,null,null,null,"角館中"]
[null,null,null,null,null,null,72,null,"矢島",772,"由利本荘市立矢島",null,null,null,null,null,null,null,null,null,null,null,null,null,"潟西中"]
[null,null,null,null,null,null,73,null,"岩城",773,"由利本荘市立岩城",null,null,null,null,null,null,null,null,null,null,null,null,null,"鹿角市十和田中","055108","ｶﾂﾞﾉｼﾄﾜﾀﾞﾁｭｳ"]
[null,null,null,null,null,null,74,null,"由利",774,"由利本荘市立由利",null,null,null,null,null,null,null,null,null,null,null,null,null,"勝平中"]
[null,null,null,null,null,null,75,null,"西目",775,"由利本荘市立西目",null,null,null,null,null,null,null,null,null,null,null,null,null,"金沢中"]
[null,null,null,null,null,null,76,null,"鳥海",776,"由利本荘市立鳥海",null,null,null,null,null,null,null,null,null,null,null,null,null,"釜ヶ台中"]
[null,null,null,null,null,null,77,null,"東由利",777,"由利本荘市立東由利",null,null,null,null,null,null,null,null,null,null,null,null,null,"上小阿仁中","055128","ｶﾐｺｱﾆﾁｭｳ"]
[null,null,null,null,null,null,78,null,"大内",778,"由利本荘市立大内",null,null,null,null,null,null,null,null,null,null,null,null,null,"上新城中"]
[null,null,null,null,null,null,79,null,"仁賀保",779,"にかほ市立仁賀保",null,null,null,null,null,null,null,null,null,null,null,null,null,"河辺中"]
[null,null,null,null,null,null,80,null,"金浦",780,"にかほ市立金浦",null,null,null,null,null,null,null,null,null,null,null,null,null,"象潟中","055188","ｷｻｶﾀﾁｭｳ"]
[null,null,null,null,null,null,81,null,"象潟",781,"にかほ市立象潟",null,null,null,null,null,null,null,null,null,null,null,null,null,"協和中"]
[null,null,null,null,null,null,null,null,null,null,null,null,null,null,null,null,null,null,null,null,null,null,null,null,"小坂中"]
[null,null,null,null,null,null,null,null,null,null,null,null,null,null,null,null,null,null,null,null,null,null,null,null,"五城目第一中"]
[null,null,null,null,null,null,null,null,null,null,null,null,null,null,null,null,null,null,null,null,null,null,null,null,"御所野学院中"]
[null,null,null,null,null,null,null,null,null,null,null,null,null,null,null,null,null,null,null,null,null,null,null,null,"琴丘中"]
[null,null,null,null,null,null,null,null,null,null,null,null,null,null,null,null,null,null,null,null,null,null,null,null,"金浦中"]
[null,null,null,null,null,null,null,1,"鹿角",1,null,null,null,null,null,null,null,null,null,null,null,null,null,null,"五里合中"]
[null,null,null,null,null,null,null,2,"大館北秋",2,null,null,null,null,null,null,null,null,null,null,null,null,null,null,"西明寺中","055237","ｻｲﾐｮｳｼﾞﾁｭｳ"]
[null,null,null,null,null,null,null,3,"能代山本",3,null,null,null,null,null,null,null,null,null,null,null,null,null,null,"桜中","056010","ｻｸﾗﾁｭｳ"]
[null,null,null,null,null,null,null,4,"男鹿",4,null,null,null,null,null,null,null,null,null,null,null,null,null,null,"山内中"]
[null,null,null,null,null,null,null,5,"潟上南秋",5,null,null,null,null,null,null,null,null,null,null,null,null,null,null,"山王中"]
[null,null,null,null,null,null,null,6,"秋田",6,null,null,null,null,null,null,null,null,null,null,null,null,null,null,"下川沿中"]
[null,null,null,null,null,null,null,7,"河辺",7,null,null,null,null,null,null,null,null,null,null,null,null,null,null,"東雲中","055034","ｼﾉﾉﾒﾁｭｳ"]
[null,null,null,null,null,null,null,8,"本荘由利",8,null,null,null,null,null,null,null,null,null,null,null,null,null,null,"下北手中","055012","ｼﾓｷﾀﾃﾁｭｳ"]
[null,null,null,null,null,null,null,9,"大曲仙北",9,null,null,null,null,null,null,null,null,null,null,null,null,null,null,"下浜中"]
[null,null,null,null,null,null,null,10,"横手平鹿",10,null,null,null,null,null,null,null,null,null,null,null,null,null,null,"十文字中","055141","ｼﾞｭｳﾓﾝｼﾞﾁｭｳ"]
[null,null,null,null,null,null,null,11,"湯沢雄勝",11,null,null,null,null,null,null,null,null,null,null,null,null,null,null,"十文字西中","055142","ｼﾞｭｳﾓﾝｼﾞﾆｼﾁｭｳ"]
[null,null,null,null,null,null,null,12,null,12,null,null,null,null,null,null,null,null,null,null,null,null,null,null,"将軍野中","055017","ｼｮｳｸﾞﾝﾉﾁｭｳ"]
[null,null,null,null,null,null,null,null,null,null,null,null,null,null,null,null,null,null,null,null,null,null,null,null,"城東中","055011","ｼﾞｮｳﾄｳﾁｭｳ"]
[null,null,null,null,null,null,null,null,null,null,null,null,null,null,null,null,null,null,null,null,null,null,null,null,"城南中"]
[null,null,null,null,null,null,null,null,null,null,null,null,null,null,null,null,null,null,null,null,null,null,null,null,"市立十和田中"]
[null,null,null,null,null,null,null,null,null,null,null,null,null,null,null,null,null,null,null,null,null,null,null,null,"神代中","055230","ｼﾞﾝﾀﾞｲﾁｭｳ"]
[null,null,null,null,null,null,null,null,null,null,null,null,null,null,null,null,null,null,null,null,null,null,null,null,"須川中"]
[null,null,null,null,null,null,null,null,null,null,null,null,null,null,null,null,null,null,null,null,null,null,null,null,"成章中","055061","ｾｲｼｮｳﾁｭｳ"]
[null,null,null,null,null,null,null,null,null,null,null,null,null,null,null,null,null,null,null,null,null,null,null,null,"生保内中"]
[null,null,null,null,null,null,null,null,null,null,null,null,null,null,null,null,null,null,null,null,null,null,null,null,"聖霊中"]
[null,null,null,null,null,null,null,null,null,null,null,null,null,null,null,null,null,null,null,null,null,null,null,null,"仙南中","055239","ｾﾝﾅﾝﾁｭｳ"]
[null,null,null,null,null,null,null,null,null,null,null,null,null,null,null,null,null,null,null,null,null,null,null,null,"千畑中","055238","ｾﾝﾊﾀﾁｭｳ"]
[null,null,null,null,null,null,null,null,null,null,null,null,null,null,null,null,null,null,null,null,null,null,null,null,"仙北中","055233","ｾﾝﾎﾞｸﾁｭｳ"]
[null,null,null,null,null,null,null,null,null,null,null,null,null,null,null,null,null,null,null,null,null,null,null,null,"仙北西中","055222","ｾﾝﾎﾞｸﾆｼﾁｭｳ"]
[null,null,null,null,null,null,null,null,null,null,null,null,null,null,null,null,null,null,null,null,null,null,null,null,"外旭川中"]
[null,null,null,null,null,null,null,null,null,null,null,null,null,null,null,null,null,null,null,null,null,null,null,null,"大正寺中"]
[null,null,null,null,null,null,null,null,null,null,null,null,null,null,null,null,null,null,null,null,null,null,null,null,"太平中"]
[null,null,null,null,null,null,null,null,null,null,null,null,null,null,null,null,null,null,null,null,null,null,null,null,"大雄中","055143","ﾀｲﾕｳﾁｭｳ"]
[null,null,null,null,null,null,null,null,null,null,null,null,null,null,null,null,null,null,null,null,null,null,null,null,"高瀬中"]
[null,null,null,null,null,null,null,null,null,null,null,null,null,null,null,null,null,null,null,null,null,null,null,null,"鷹巣中","055120","ﾀｶﾉｽﾁｭｳ"]
[null,null,null,null,null,null,null,null,null,null,null,null,null,null,null,null,null,null,null,null,null,null,null,null,"鷹巣南中","055121","ﾀｶﾉｽﾐﾅﾐﾁｭｳ"]
[null,null,null,null,null,null,null,null,null,null,null,null,null,null,null,null,null,null,null,null,null,null,null,null,"田代中","056004","ﾀｼﾛﾁｮｳﾘﾂ ﾀｼﾛﾁｭｳ"]
[null,null,null,null,null,null,null,null,null,null,null,null,null,null,null,null,null,null,null,null,null,null,null,null,"鳥海中","056011","ﾁｮｳｶｲﾁｭｳ"]
[null,null,null,null,null,null,null,null,null,null,null,null,null,null,null,null,null,null,null,null,null,null,null,null,"町立十和田中"]
[null,null,null,null,null,null,null,null,null,null,null,null,null,null,null,null,null,null,null,null,null,null,null,null,"土崎中","055005","ﾂﾁｻﾞｷﾁｭｳ"]
[null,null,null,null,null,null,null,null,null,null,null,null,null,null,null,null,null,null,null,null,null,null,null,null,"出羽中"]
[null,null,null,null,null,null,null,null,null,null,null,null,null,null,null,null,null,null,null,null,null,null,null,null,"天王中"]
[null,null,null,null,null,null,null,null,null,null,null,null,null,null,null,null,null,null,null,null,null,null,null,null,"天王南中","056005","ﾃﾝﾉｳﾐﾅﾐﾁｭｳ"]
[null,null,null,null,null,null,null,null,null,null,null,null,null,null,null,null,null,null,null,null,null,null,null,null,"常盤中"]
[null,null,null,null,null,null,null,null,null,null,null,null,null,null,null,null,null,null,null,null,null,null,null,null,"豊岩中"]
[null,null,null,null,null,null,null,null,null,null,null,null,null,null,null,null,null,null,null,null,null,null,null,null,"中仙中"]
[null,null,null,null,null,null,null,null,null,null,null,null,null,null,null,null,null,null,null,null,null,null,null,null,"南外中","055234","ﾅﾝｶﾞｲﾁｭｳ"]
[null,null,null,null,null,null,null,null,null,null,null,null,null,null,null,null,null,null,null,null,null,null,null,null,"仁賀保中"]
[null,null,null,null,null,null,null,null,null,null,null,null,null,null,null,null,null,null,null,null,null,null,null,null,"西仙北西中"]
[null,null,null,null,null,null,null,null,null,null,null,null,null,null,null,null,null,null,null,null,null,null,null,null,"西仙北東中"]
[null,null,null,null,null,null,null,null,null,null,null,null,null,null,null,null,null,null,null,null,null,null,null,null,"西目中"]
[null,null,null,null,null,null,null,null,null,null,null,null,null,null,null,null,null,null,null,null,null,null,null,null,"二ツ井中"]
[null,null,null,null,null,null,null,null,null,null,null,null,null,null,null,null,null,null,null,null,null,null,null,null,"能代一中","055030","ﾉｼﾛｲｯﾁｭｳ"]
[null,null,null,null,null,null,null,null,null,null,null,null,null,null,null,null,null,null,null,null,null,null,null,null,"能代第一中"]
[null,null,null,null,null,null,null,null,null,null,null,null,null,null,null,null,null,null,null,null,null,null,null,null,"能代第二中"]
[null,null,null,null,null,null,null,null,null,null,null,null,null,null,null,null,null,null,null,null,null,null,null,null,"能代東中","055038","ﾉｼﾛﾋｶﾞｼﾁｭｳ"]
[null,null,null,null,null,null,null,null,null,null,null,null,null,null,null,null,null,null,null,null,null,null,null,null,"能代南中","055033","ﾉｼﾛﾐﾅﾐﾁｭｳ"]
[null,null,null,null,null,null,null,null,null,null,null,null,null,null,null,null,null,null,null,null,null,null,null,null,"八幡平中","055109","ﾊﾁﾏﾝﾀｲﾁｭｳ"]
[null,null,null,null,null,null,null,null,null,null,null,null,null,null,null,null,null,null,null,null,null,null,null,null,"八森中"]
[null,null,null,null,null,null,null,null,null,null,null,null,null,null,null,null,null,null,null,null,null,null,null,null,"八竜中"]
[null,null,null,null,null,null,null,null,null,null,null,null,null,null,null,null,null,null,null,null,null,null,null,null,"八郎潟中"]
[null,null,null,null,null,null,null,null,null,null,null,null,null,null,null,null,null,null,null,null,null,null,null,null,"花岡中"]
[null,null,null,null,null,null,null,null,null,null,null,null,null,null,null,null,null,null,null,null,null,null,null,null,"花輪一中","055105","ﾊﾅﾜｲｯﾁｭｳ"]
[null,null,null,null,null,null,null,null,null,null,null,null,null,null,null,null,null,null,null,null,null,null,null,null,"花輪第一中"]
[null,null,null,null,null,null,null,null,null,null,null,null,null,null,null,null,null,null,null,null,null,null,null,null,"花輪第二中"]
[null,null,null,null,null,null,null,null,null,null,null,null,null,null,null,null,null,null,null,null,null,null,null,null,"花輪二中","055106","ﾊﾅﾜﾆﾁｭｳ"]
[null,null,null,null,null,null,null,null,null,null,null,null,null,null,null,null,null,null,null,null,null,null,null,null,"払戸中"]
[null,null,null,null,null,null,null,null,null,null,null,null,null,null,null,null,null,null,null,null,null,null,null,null,"東成瀬中"]
[null,null,null,null,null,null,null,null,null,null,null,null,null,null,null,null,null,null,null,null,null,null,null,null,"東由利中","055193","ﾋｶﾞｼﾕﾘﾁｭｳ"]
[null,null,null,null,null,null,null,null,null,null,null,null,null,null,null,null,null,null,null,null,null,null,null,null,"比内中","055122","ﾋﾅｲﾁｭｳ"]
[null,null,null,null,null,null,null,null,null,null,null,null,null,null,null,null,null,null,null,null,null,null,null,null,"檜木内中","055235","ﾋﾉｷﾅｲﾁｭｳ"]
[null,null,null,null,null,null,null,null,null,null,null,null,null,null,null,null,null,null,null,null,null,null,null,null,"平鹿中","056009","ﾋﾗｶﾁｭｳ"]
[null,null,null,null,null,null,null,null,null,null,null,null,null,null,null,null,null,null,null,null,null,null,null,null,"藤里中"]
[null,null,null,null,null,null,null,null,null,null,null,null,null,null,null,null,null,null,null,null,null,null,null,null,"二ッ井中","055151","ﾌﾀﾂｲﾁｭｳ"]
[null,null,null,null,null,null,null,null,null,null,null,null,null,null,null,null,null,null,null,null,null,null,null,null,"平和中"]
[null,null,null,null,null,null,null,null,null,null,null,null,null,null,null,null,null,null,null,null,null,null,null,null,"豊成中","055226","ﾎｳｾｲﾁｭｳ"]
[null,null,null,null,null,null,null,null,null,null,null,null,null,null,null,null,null,null,null,null,null,null,null,null,"本荘北中"]
[null,null,null,null,null,null,null,null,null,null,null,null,null,null,null,null,null,null,null,null,null,null,null,null,"本荘南中"]
[null,null,null,null,null,null,null,null,null,null,null,null,null,null,null,null,null,null,null,null,null,null,null,null,"増田中","055135","ﾏｽﾀﾞﾁｭｳ"]
[null,null,null,null,null,null,null,null,null,null,null,null,null,null,null,null,null,null,null,null,null,null,null,null,"皆瀬中"]
[null,null,null,null,null,null,null,null,null,null,null,null,null,null,null,null,null,null,null,null,null,null,null,null,"峰浜中","055156","ﾐﾈﾊﾏﾁｭｳ"]
[null,null,null,null,null,null,null,null,null,null,null,null,null,null,null,null,null,null,null,null,null,null,null,null,"三輪中","055208","ﾐﾜﾁｭｳ"]
[null,null,null,null,null,null,null,null,null,null,null,null,null,null,null,null,null,null,null,null,null,null,null,null,"森吉中","055123","ﾓﾘﾖｼﾁｭｳ"]
[null,null,null,null,null,null,null,null,null,null,null,null,null,null,null,null,null,null,null,null,null,null,null,null,"矢島中","055189","ﾔｼﾏﾁｭｳ"]
[null,null,null,null,null,null,null,null,null,null,null,null,null,null,null,null,null,null,null,null,null,null,null,null,"矢立中"]
[null,null,null,null,null,null,null,null,null,null,null,null,null,null,null,null,null,null,null,null,null,null,null,null,"山田中"]
[null,null,null,null,null,null,null,null,null,null,null,null,null,null,null,null,null,null,null,null,null,null,null,null,"山本中","055154","ﾔﾏﾓﾄﾁｭｳ"]
[null,null,null,null,null,null,null,null,null,null,null,null,null,null,null,null,null,null,null,null,null,null,null,null,"雄和中"]
[null,null,null,null,null,null,null,null,null,null,null,null,null,null,null,null,null,null,null,null,null,null,null,null,"湯沢北中","055094","ﾕｻﾞﾜｷﾀﾁｭｳ"]
[null,null,null,null,null,null,null,null,null,null,null,null,null,null,null,null,null,null,null,null,null,null,null,null,"湯沢南中","055090","ﾕｻﾞﾜﾐﾅﾐﾁｭｳ"]
[null,null,null,null,null,null,null,null,null,null,null,null,null,null,null,null,null,null,null,null,null,null,null,null,"由利中","055192","ﾕﾘﾁｭｳ"]
[null,null,null,null,null,null,null,null,null,null,null,null,null,null,null,null,null,null,null,null,null,null,null,null,"横手清陵学院中"]
[null,null,null,null,null,null,null,null,null,null,null,null,null,null,null,null,null,null,null,null,null,null,null,null,"横手西中"]
[null,null,null,null,null,null,null,null,null,null,null,null,null,null,null,null,null,null,null,null,null,null,null,null,"横手南中","055045","ﾖｺﾃﾐﾅﾐﾁｭｳ"]
[null,null,null,null,null,null,null,null,null,null,null,null,null,null,null,null,null,null,null,null,null,null,null,null,"六郷中","055225","ﾛｸｺﾞｳﾁｭｳ"]
[null,null,null,null,null,null,null,null,null,null,null,null,null,null,null,null,null,null,null,null,null,null,null,null,"大館国際情報中"]
[null,null,null,null,null,null,null,null,null,null,null,null,null,null,null,null,null,null,null,null,null,null,null,null,"本荘東中"]